{"text_format":"1","workbook":"xlsx","n_sheets":16,"sheets":["Состав ВТК-ВРГ","Пр. №1","Пр. №1 конкурс","Пр. №1.1.","Пр. №1.2.","Пр. №1.3","Пр. №1.4","Пр. №2","Пр. №3","Пр. №4","Пр. №5","Пр. №6","Пр. №6.1","План-задание","План-задание по этапу","справочник"],"not_rendered":{"charts":0,"images":0,"macros":1,"external_links":1,"defined_names":29,"comments":10,"pivot_tables":0},"unopened":[],"bounds":{"document_bytes":16777216,"sheet_cells":100000,"rows_first":2000,"rows_last":500,"rows_between":2000,"halvings":0,"cell_chars":16384,"cell_head_chars":4096},"cells_cut":0,"cells_raw":0,"read":"whole","date_system":"1900"}

{"sheet":"Состав ВТК-ВРГ","index":0,"n_rows":103,"n_cols":5,"rows_kept":103,"cut":false,"hidden":false,"merged":[[1,0,1,4]]}
[]
["Состав членов ВТК/ВРГ"]
["№ п/п","ФИО/Наименование заказчика","Роль","Должность по ОСНОВНОМУ месту работы","Способ оплаты труда"]
[1]
[2]
[3]
[4]
[5]
[6]
[7]
[8]
[9]
[10]
[11]
[12]
[13]
[14]
[15]
[16]
[17]
[18]
[19]
[20]
[21]
[22]
[23]
[24]
[25]
[26]
[27]
[28]
[29]
[30]
[31]
[32]
[33]
[34]
[35]
[36]
[37]
[38]
[39]
[40]
[41]
[42]
[43]
[44]
[45]
[46]
[47]
[48]
[49]
[50]
[51]
[52]
[53]
[54]
[55]
[56]
[57]
[58]
[59]
[60]
[61]
[62]
[63]
[64]
[65]
[66]
[67]
[68]
[69]
[70]
[71]
[72]
[73]
[74]
[75]
[76]
[77]
[78]
[79]
[80]
[81]
[82]
[83]
[84]
[85]
[86]
[87]
[88]
[89]
[90]
[91]
[92]
[93]
[94]
[95]
[96]
[97]
[98]
[99]
[100]

{"sheet":"Пр. №1","index":1,"n_rows":47,"n_cols":17,"rows_kept":47,"cut":false,"hidden":false,"merged":[[36,5,36,6],[37,5,37,6],[1,1,1,6],[8,1,8,6],[3,3,3,6],[5,3,5,6],[4,3,4,6],[6,3,6,6],[7,3,7,6]]}
[null,null,null,null,null,null,"Приложение 1"]
[null,"Расчет цены выполнения научно-исследовательских работ, оказания услуг в научной сфере, консалтинга, экспертизы, аудита по хозяйственно-договорной деятельности."]
[]
[null,null,"Контракт/Договор"]
[null,null,"Наименование заказчика"," "]
[null,null,"Тема выполнения работ/услуг"]
[null,null,"Срок действия контракта/договора"]
[null,null,"Срок выполнения работ/услуг по контракту/договору"]
[]
[null,"№ п/п","Наименование статей расходов","КВР","КОСГУ","Всего, руб.","Этап 1","Этап 2","Этап 3","Этап 4","Этап 5","Этап 6","Этап 7","Этап 8","Этап 9","Этап 10","Этап 11"]
[null,"1.","Расходы на приобретение материалов и оборудования",null,null,{"$f":"SUM(G11:R11)","v":0},{"$f":"SUM(G12:G13)","v":0},0,0,0,0,0,0,0,0,0,0]
[null,"1.1.","Приобретение материальных запасов",244,340,{"$f":"SUM(G12:R12)","v":0},{"$f":"SUMIFS('Пр. №1.1.'!$K:$K,'Пр. №1.1.'!$C:$C,'Пр. №1'!$B12,'Пр. №1.1.'!$B:$B,'Пр. №1'!G$10)","v":0},{"$f":"SUMIFS('Пр. №1.1.'!$K:$K,'Пр. №1.1.'!$C:$C,'Пр. №1'!$B12,'Пр. №1.1.'!$B:$B,'Пр. №1'!H$10)","v":0},{"$f":"SUMIFS('Пр. №1.1.'!$K:$K,'Пр. №1.1.'!$C:$C,'Пр. №1'!$B12,'Пр. №1.1.'!$B:$B,'Пр. №1'!I$10)","v":0},{"$f":"SUMIFS('Пр. №1.1.'!$K:$K,'Пр. №1.1.'!$C:$C,'Пр. №1'!$B12,'Пр. №1.1.'!$B:$B,'Пр. №1'!J$10)","v":0},{"$f":"SUMIFS('Пр. №1.1.'!$K:$K,'Пр. №1.1.'!$C:$C,'Пр. №1'!$B12,'Пр. №1.1.'!$B:$B,'Пр. №1'!K$10)","v":0},{"$f":"SUMIFS('Пр. №1.1.'!$K:$K,'Пр. №1.1.'!$C:$C,'Пр. №1'!$B12,'Пр. №1.1.'!$B:$B,'Пр. №1'!L$10)","v":0},{"$f":"SUMIFS('Пр. №1.1.'!$K:$K,'Пр. №1.1.'!$C:$C,'Пр. №1'!$B12,'Пр. №1.1.'!$B:$B,'Пр. №1'!M$10)","v":0},{"$f":"SUMIFS('Пр. №1.1.'!$K:$K,'Пр. №1.1.'!$C:$C,'Пр. №1'!$B12,'Пр. №1.1.'!$B:$B,'Пр. №1'!N$10)","v":0},{"$f":"SUMIFS('Пр. №1.1.'!$K:$K,'Пр. №1.1.'!$C:$C,'Пр. №1'!$B12,'Пр. №1.1.'!$B:$B,'Пр. №1'!O$10)","v":0},{"$f":"SUMIFS('Пр. №1.1.'!$K:$K,'Пр. №1.1.'!$C:$C,'Пр. №1'!$B12,'Пр. №1.1.'!$B:$B,'Пр. №1'!P$10)","v":0},{"$f":"SUMIFS('Пр. №1.1.'!$K:$K,'Пр. №1.1.'!$C:$C,'Пр. №1'!$B12,'Пр. №1.1.'!$B:$B,'Пр. №1'!Q$10)","v":0}]
[null,"1.2.","Приобретение оборудования",244,310,0,{"$f":"SUMIFS('Пр. №1.1.'!$K:$K,'Пр. №1.1.'!$C:$C,'Пр. №1'!$B13,'Пр. №1.1.'!$B:$B,'Пр. №1'!G$10)","v":0},{"$f":"SUMIFS('Пр. №1.1.'!$K:$K,'Пр. №1.1.'!$C:$C,'Пр. №1'!$B13,'Пр. №1.1.'!$B:$B,'Пр. №1'!H$10)","v":0},{"$f":"SUMIFS('Пр. №1.1.'!$K:$K,'Пр. №1.1.'!$C:$C,'Пр. №1'!$B13,'Пр. №1.1.'!$B:$B,'Пр. №1'!I$10)","v":0},{"$f":"SUMIFS('Пр. №1.1.'!$K:$K,'Пр. №1.1.'!$C:$C,'Пр. №1'!$B13,'Пр. №1.1.'!$B:$B,'Пр. №1'!J$10)","v":0},{"$f":"SUMIFS('Пр. №1.1.'!$K:$K,'Пр. №1.1.'!$C:$C,'Пр. №1'!$B13,'Пр. №1.1.'!$B:$B,'Пр. №1'!K$10)","v":0},{"$f":"SUMIFS('Пр. №1.1.'!$K:$K,'Пр. №1.1.'!$C:$C,'Пр. №1'!$B13,'Пр. №1.1.'!$B:$B,'Пр. №1'!L$10)","v":0},{"$f":"SUMIFS('Пр. №1.1.'!$K:$K,'Пр. №1.1.'!$C:$C,'Пр. №1'!$B13,'Пр. №1.1.'!$B:$B,'Пр. №1'!M$10)","v":0},{"$f":"SUMIFS('Пр. №1.1.'!$K:$K,'Пр. №1.1.'!$C:$C,'Пр. №1'!$B13,'Пр. №1.1.'!$B:$B,'Пр. №1'!N$10)","v":0},{"$f":"SUMIFS('Пр. №1.1.'!$K:$K,'Пр. №1.1.'!$C:$C,'Пр. №1'!$B13,'Пр. №1.1.'!$B:$B,'Пр. №1'!O$10)","v":0},{"$f":"SUMIFS('Пр. №1.1.'!$K:$K,'Пр. №1.1.'!$C:$C,'Пр. №1'!$B13,'Пр. №1.1.'!$B:$B,'Пр. №1'!P$10)","v":0},{"$f":"SUMIFS('Пр. №1.1.'!$K:$K,'Пр. №1.1.'!$C:$C,'Пр. №1'!$B13,'Пр. №1.1.'!$B:$B,'Пр. №1'!Q$10)","v":0}]
[0.4,"2.","Оплата работ (услуг) сторонних организаций ","244/241",226,0,0]
[null,"3.","Затраты на оплату труда и оказание работ/услуг исполнителей НИР",null,null,0,{"$f":"SUM(G16,G20:G23)","v":0},{"$f":"SUM(H16,H20:H23)","v":0},0,0,0,0,0,0,0,0,0]
[null,"3.1.","Оплата труда сотрудников Финансового университета, выполняющих НИР",111,211,0,{"$f":"SUM(G17:G19)","v":0},0,0,0,0,0,0,0,0,0,0]
[null,"3.1.1.","Заработная плата",null,null,0,{"$f":"SUMIFS('Пр. №1.2.'!$M:$M,'Пр. №1.2.'!$C:$C,'Пр. №1'!$B17,'Пр. №1.2.'!$B:$B,'Пр. №1'!G$10)","v":0},{"$f":"SUMIFS('Пр. №1.2.'!$M:$M,'Пр. №1.2.'!$C:$C,'Пр. №1'!$B17,'Пр. №1.2.'!$B:$B,'Пр. №1'!H$10)","v":0},{"$f":"SUMIFS('Пр. №1.2.'!$M:$M,'Пр. №1.2.'!$C:$C,'Пр. №1'!$B17,'Пр. №1.2.'!$B:$B,'Пр. №1'!I$10)","v":0},{"$f":"SUMIFS('Пр. №1.2.'!$M:$M,'Пр. №1.2.'!$C:$C,'Пр. №1'!$B17,'Пр. №1.2.'!$B:$B,'Пр. №1'!J$10)","v":0},{"$f":"SUMIFS('Пр. №1.2.'!$M:$M,'Пр. №1.2.'!$C:$C,'Пр. №1'!$B17,'Пр. №1.2.'!$B:$B,'Пр. №1'!K$10)","v":0},{"$f":"SUMIFS('Пр. №1.2.'!$M:$M,'Пр. №1.2.'!$C:$C,'Пр. №1'!$B17,'Пр. №1.2.'!$B:$B,'Пр. №1'!L$10)","v":0},{"$f":"SUMIFS('Пр. №1.2.'!$M:$M,'Пр. №1.2.'!$C:$C,'Пр. №1'!$B17,'Пр. №1.2.'!$B:$B,'Пр. №1'!M$10)","v":0},{"$f":"SUMIFS('Пр. №1.2.'!$M:$M,'Пр. №1.2.'!$C:$C,'Пр. №1'!$B17,'Пр. №1.2.'!$B:$B,'Пр. №1'!N$10)","v":0},{"$f":"SUMIFS('Пр. №1.2.'!$M:$M,'Пр. №1.2.'!$C:$C,'Пр. №1'!$B17,'Пр. №1.2.'!$B:$B,'Пр. №1'!O$10)","v":0},{"$f":"SUMIFS('Пр. №1.2.'!$M:$M,'Пр. №1.2.'!$C:$C,'Пр. №1'!$B17,'Пр. №1.2.'!$B:$B,'Пр. №1'!P$10)","v":0},{"$f":"SUMIFS('Пр. №1.2.'!$M:$M,'Пр. №1.2.'!$C:$C,'Пр. №1'!$B17,'Пр. №1.2.'!$B:$B,'Пр. №1'!Q$10)","v":0}]
[null,"3.1.2.","Персональная надбавка",null,null,0,{"$f":"SUMIFS('Пр. №1.2.'!$M:$M,'Пр. №1.2.'!$C:$C,'Пр. №1'!$B18,'Пр. №1.2.'!$B:$B,'Пр. №1'!G$10)","v":0},{"$f":"SUMIFS('Пр. №1.2.'!$M:$M,'Пр. №1.2.'!$C:$C,'Пр. №1'!$B18,'Пр. №1.2.'!$B:$B,'Пр. №1'!H$10)","v":0},{"$f":"SUMIFS('Пр. №1.2.'!$M:$M,'Пр. №1.2.'!$C:$C,'Пр. №1'!$B18,'Пр. №1.2.'!$B:$B,'Пр. №1'!I$10)","v":0},{"$f":"SUMIFS('Пр. №1.2.'!$M:$M,'Пр. №1.2.'!$C:$C,'Пр. №1'!$B18,'Пр. №1.2.'!$B:$B,'Пр. №1'!J$10)","v":0},{"$f":"SUMIFS('Пр. №1.2.'!$M:$M,'Пр. №1.2.'!$C:$C,'Пр. №1'!$B18,'Пр. №1.2.'!$B:$B,'Пр. №1'!K$10)","v":0},{"$f":"SUMIFS('Пр. №1.2.'!$M:$M,'Пр. №1.2.'!$C:$C,'Пр. №1'!$B18,'Пр. №1.2.'!$B:$B,'Пр. №1'!L$10)","v":0},{"$f":"SUMIFS('Пр. №1.2.'!$M:$M,'Пр. №1.2.'!$C:$C,'Пр. №1'!$B18,'Пр. №1.2.'!$B:$B,'Пр. №1'!M$10)","v":0},{"$f":"SUMIFS('Пр. №1.2.'!$M:$M,'Пр. №1.2.'!$C:$C,'Пр. №1'!$B18,'Пр. №1.2.'!$B:$B,'Пр. №1'!N$10)","v":0},{"$f":"SUMIFS('Пр. №1.2.'!$M:$M,'Пр. №1.2.'!$C:$C,'Пр. №1'!$B18,'Пр. №1.2.'!$B:$B,'Пр. №1'!O$10)","v":0},{"$f":"SUMIFS('Пр. №1.2.'!$M:$M,'Пр. №1.2.'!$C:$C,'Пр. №1'!$B18,'Пр. №1.2.'!$B:$B,'Пр. №1'!P$10)","v":0},{"$f":"SUMIFS('Пр. №1.2.'!$M:$M,'Пр. №1.2.'!$C:$C,'Пр. №1'!$B18,'Пр. №1.2.'!$B:$B,'Пр. №1'!Q$10)","v":0}]
[null,"3.1.3.","Единоразовая выплата",null,null,0,{"$f":"SUMIFS('Пр. №1.2.'!$M:$M,'Пр. №1.2.'!$C:$C,'Пр. №1'!$B19,'Пр. №1.2.'!$B:$B,'Пр. №1'!G$10)","v":0},{"$f":"SUMIFS('Пр. №1.2.'!$M:$M,'Пр. №1.2.'!$C:$C,'Пр. №1'!$B19,'Пр. №1.2.'!$B:$B,'Пр. №1'!H$10)","v":0},{"$f":"SUMIFS('Пр. №1.2.'!$M:$M,'Пр. №1.2.'!$C:$C,'Пр. №1'!$B19,'Пр. №1.2.'!$B:$B,'Пр. №1'!I$10)","v":0},{"$f":"SUMIFS('Пр. №1.2.'!$M:$M,'Пр. №1.2.'!$C:$C,'Пр. №1'!$B19,'Пр. №1.2.'!$B:$B,'Пр. №1'!J$10)","v":0},{"$f":"SUMIFS('Пр. №1.2.'!$M:$M,'Пр. №1.2.'!$C:$C,'Пр. №1'!$B19,'Пр. №1.2.'!$B:$B,'Пр. №1'!K$10)","v":0},{"$f":"SUMIFS('Пр. №1.2.'!$M:$M,'Пр. №1.2.'!$C:$C,'Пр. №1'!$B19,'Пр. №1.2.'!$B:$B,'Пр. №1'!L$10)","v":0},{"$f":"SUMIFS('Пр. №1.2.'!$M:$M,'Пр. №1.2.'!$C:$C,'Пр. №1'!$B19,'Пр. №1.2.'!$B:$B,'Пр. №1'!M$10)","v":0},{"$f":"SUMIFS('Пр. №1.2.'!$M:$M,'Пр. №1.2.'!$C:$C,'Пр. №1'!$B19,'Пр. №1.2.'!$B:$B,'Пр. №1'!N$10)","v":0},{"$f":"SUMIFS('Пр. №1.2.'!$M:$M,'Пр. №1.2.'!$C:$C,'Пр. №1'!$B19,'Пр. №1.2.'!$B:$B,'Пр. №1'!O$10)","v":0},{"$f":"SUMIFS('Пр. №1.2.'!$M:$M,'Пр. №1.2.'!$C:$C,'Пр. №1'!$B19,'Пр. №1.2.'!$B:$B,'Пр. №1'!P$10)","v":0},{"$f":"SUMIFS('Пр. №1.2.'!$M:$M,'Пр. №1.2.'!$C:$C,'Пр. №1'!$B19,'Пр. №1.2.'!$B:$B,'Пр. №1'!Q$10)","v":0}]
[0.30199999999999999,"3.2.","Страховые взносы по обязательному социальному страхованию в государственные внебюджетные фонды на ФОТ сотрудников, выполняющих НИР",111,213,0,{"$f":"G$16*$A20","v":0},{"$f":"H$16*$A20","v":0},{"$f":"I$16*$A20","v":0},0,0,0,0,0,0,0,0]
[null,"3.3.","Расходы на оплату работ (услуг) исполнителям по договорам гражданско-правового характера ","244/241",226,0,{"$f":"SUMIFS('Пр. №1.2.'!$M:$M,'Пр. №1.2.'!$C:$C,'Пр. №1'!$B21,'Пр. №1.2.'!$B:$B,'Пр. №1'!G$10)","v":0},{"$f":"SUMIFS('Пр. №1.2.'!$M:$M,'Пр. №1.2.'!$C:$C,'Пр. №1'!$B21,'Пр. №1.2.'!$B:$B,'Пр. №1'!H$10)","v":0},{"$f":"SUMIFS('Пр. №1.2.'!$M:$M,'Пр. №1.2.'!$C:$C,'Пр. №1'!$B21,'Пр. №1.2.'!$B:$B,'Пр. №1'!I$10)","v":0},{"$f":"SUMIFS('Пр. №1.2.'!$M:$M,'Пр. №1.2.'!$C:$C,'Пр. №1'!$B21,'Пр. №1.2.'!$B:$B,'Пр. №1'!J$10)","v":0},{"$f":"SUMIFS('Пр. №1.2.'!$M:$M,'Пр. №1.2.'!$C:$C,'Пр. №1'!$B21,'Пр. №1.2.'!$B:$B,'Пр. №1'!K$10)","v":0},{"$f":"SUMIFS('Пр. №1.2.'!$M:$M,'Пр. №1.2.'!$C:$C,'Пр. №1'!$B21,'Пр. №1.2.'!$B:$B,'Пр. №1'!L$10)","v":0},{"$f":"SUMIFS('Пр. №1.2.'!$M:$M,'Пр. №1.2.'!$C:$C,'Пр. №1'!$B21,'Пр. №1.2.'!$B:$B,'Пр. №1'!M$10)","v":0},{"$f":"SUMIFS('Пр. №1.2.'!$M:$M,'Пр. №1.2.'!$C:$C,'Пр. №1'!$B21,'Пр. №1.2.'!$B:$B,'Пр. №1'!N$10)","v":0},{"$f":"SUMIFS('Пр. №1.2.'!$M:$M,'Пр. №1.2.'!$C:$C,'Пр. №1'!$B21,'Пр. №1.2.'!$B:$B,'Пр. №1'!O$10)","v":0},{"$f":"SUMIFS('Пр. №1.2.'!$M:$M,'Пр. №1.2.'!$C:$C,'Пр. №1'!$B21,'Пр. №1.2.'!$B:$B,'Пр. №1'!P$10)","v":0},{"$f":"SUMIFS('Пр. №1.2.'!$M:$M,'Пр. №1.2.'!$C:$C,'Пр. №1'!$B21,'Пр. №1.2.'!$B:$B,'Пр. №1'!Q$10)","v":0}]
[0.3,"3.4.","Страховые взносы по обязательному социальному страхованию в государственные внебюджетные фонды по договорам гражданско-правового характера","244/241",226,0,{"$f":"G$21*$A22","v":0},{"$f":"H$21*$A22","v":0},0,0,0,0,0,0,0,0,0]
[null,"3.5.","Премии обучающимся",350,296,0,{"$f":"SUMIFS('Пр. №1.2.'!$M:$M,'Пр. №1.2.'!$C:$C,'Пр. №1'!$B23,'Пр. №1.2.'!$B:$B,'Пр. №1'!G$10)","v":0},{"$f":"SUMIFS('Пр. №1.2.'!$M:$M,'Пр. №1.2.'!$C:$C,'Пр. №1'!$B23,'Пр. №1.2.'!$B:$B,'Пр. №1'!H$10)","v":0},{"$f":"SUMIFS('Пр. №1.2.'!$M:$M,'Пр. №1.2.'!$C:$C,'Пр. №1'!$B23,'Пр. №1.2.'!$B:$B,'Пр. №1'!I$10)","v":0},{"$f":"SUMIFS('Пр. №1.2.'!$M:$M,'Пр. №1.2.'!$C:$C,'Пр. №1'!$B23,'Пр. №1.2.'!$B:$B,'Пр. №1'!J$10)","v":0},{"$f":"SUMIFS('Пр. №1.2.'!$M:$M,'Пр. №1.2.'!$C:$C,'Пр. №1'!$B23,'Пр. №1.2.'!$B:$B,'Пр. №1'!K$10)","v":0},{"$f":"SUMIFS('Пр. №1.2.'!$M:$M,'Пр. №1.2.'!$C:$C,'Пр. №1'!$B23,'Пр. №1.2.'!$B:$B,'Пр. №1'!L$10)","v":0},{"$f":"SUMIFS('Пр. №1.2.'!$M:$M,'Пр. №1.2.'!$C:$C,'Пр. №1'!$B23,'Пр. №1.2.'!$B:$B,'Пр. №1'!M$10)","v":0},{"$f":"SUMIFS('Пр. №1.2.'!$M:$M,'Пр. №1.2.'!$C:$C,'Пр. №1'!$B23,'Пр. №1.2.'!$B:$B,'Пр. №1'!N$10)","v":0},{"$f":"SUMIFS('Пр. №1.2.'!$M:$M,'Пр. №1.2.'!$C:$C,'Пр. №1'!$B23,'Пр. №1.2.'!$B:$B,'Пр. №1'!O$10)","v":0},{"$f":"SUMIFS('Пр. №1.2.'!$M:$M,'Пр. №1.2.'!$C:$C,'Пр. №1'!$B23,'Пр. №1.2.'!$B:$B,'Пр. №1'!P$10)","v":0},{"$f":"SUMIFS('Пр. №1.2.'!$M:$M,'Пр. №1.2.'!$C:$C,'Пр. №1'!$B23,'Пр. №1.2.'!$B:$B,'Пр. №1'!Q$10)","v":0}]
[null,"4.","Прочие расходы, непосредственно связанные с выполнением НИР, всего",null,null,0,{"$f":"G25+G26","v":0},0,0,0,0,0,0,0,0,0,0]
[null,"4.1.","Командировочные расходы",112,"222, 226, 212",0,{"$f":"SUMIFS('Пр. №1.3'!$M:$M,'Пр. №1.3'!$C:$C,'Пр. №1'!$B25,'Пр. №1.3'!$B:$B,'Пр. №1'!G$10)","v":0},{"$f":"SUMIFS('Пр. №1.3'!$M:$M,'Пр. №1.3'!$C:$C,'Пр. №1'!$B25,'Пр. №1.3'!$B:$B,'Пр. №1'!H$10)","v":0},{"$f":"SUMIFS('Пр. №1.3'!$M:$M,'Пр. №1.3'!$C:$C,'Пр. №1'!$B25,'Пр. №1.3'!$B:$B,'Пр. №1'!I$10)","v":0},{"$f":"SUMIFS('Пр. №1.3'!$M:$M,'Пр. №1.3'!$C:$C,'Пр. №1'!$B25,'Пр. №1.3'!$B:$B,'Пр. №1'!J$10)","v":0},{"$f":"SUMIFS('Пр. №1.3'!$M:$M,'Пр. №1.3'!$C:$C,'Пр. №1'!$B25,'Пр. №1.3'!$B:$B,'Пр. №1'!K$10)","v":0},{"$f":"SUMIFS('Пр. №1.3'!$M:$M,'Пр. №1.3'!$C:$C,'Пр. №1'!$B25,'Пр. №1.3'!$B:$B,'Пр. №1'!L$10)","v":0},{"$f":"SUMIFS('Пр. №1.3'!$M:$M,'Пр. №1.3'!$C:$C,'Пр. №1'!$B25,'Пр. №1.3'!$B:$B,'Пр. №1'!M$10)","v":0},{"$f":"SUMIFS('Пр. №1.3'!$M:$M,'Пр. №1.3'!$C:$C,'Пр. №1'!$B25,'Пр. №1.3'!$B:$B,'Пр. №1'!N$10)","v":0},{"$f":"SUMIFS('Пр. №1.3'!$M:$M,'Пр. №1.3'!$C:$C,'Пр. №1'!$B25,'Пр. №1.3'!$B:$B,'Пр. №1'!O$10)","v":0},{"$f":"SUMIFS('Пр. №1.3'!$M:$M,'Пр. №1.3'!$C:$C,'Пр. №1'!$B25,'Пр. №1.3'!$B:$B,'Пр. №1'!P$10)","v":0},{"$f":"SUMIFS('Пр. №1.3'!$M:$M,'Пр. №1.3'!$C:$C,'Пр. №1'!$B25,'Пр. №1.3'!$B:$B,'Пр. №1'!Q$10)","v":0}]
[null,"4.2.","Прочие расходы",244,226,0,{"$f":"SUMIFS('Пр. №1.4'!$K:$K,'Пр. №1.4'!$C:$C,'Пр. №1'!$B26,'Пр. №1.4'!$B:$B,'Пр. №1'!G$10)","v":0},{"$f":"SUMIFS('Пр. №1.4'!$K:$K,'Пр. №1.4'!$C:$C,'Пр. №1'!$B26,'Пр. №1.4'!$B:$B,'Пр. №1'!H$10)","v":0},{"$f":"SUMIFS('Пр. №1.4'!$K:$K,'Пр. №1.4'!$C:$C,'Пр. №1'!$B26,'Пр. №1.4'!$B:$B,'Пр. №1'!I$10)","v":0},{"$f":"SUMIFS('Пр. №1.4'!$K:$K,'Пр. №1.4'!$C:$C,'Пр. №1'!$B26,'Пр. №1.4'!$B:$B,'Пр. №1'!J$10)","v":0},{"$f":"SUMIFS('Пр. №1.4'!$K:$K,'Пр. №1.4'!$C:$C,'Пр. №1'!$B26,'Пр. №1.4'!$B:$B,'Пр. №1'!K$10)","v":0},{"$f":"SUMIFS('Пр. №1.4'!$K:$K,'Пр. №1.4'!$C:$C,'Пр. №1'!$B26,'Пр. №1.4'!$B:$B,'Пр. №1'!L$10)","v":0},{"$f":"SUMIFS('Пр. №1.4'!$K:$K,'Пр. №1.4'!$C:$C,'Пр. №1'!$B26,'Пр. №1.4'!$B:$B,'Пр. №1'!M$10)","v":0},{"$f":"SUMIFS('Пр. №1.4'!$K:$K,'Пр. №1.4'!$C:$C,'Пр. №1'!$B26,'Пр. №1.4'!$B:$B,'Пр. №1'!N$10)","v":0},{"$f":"SUMIFS('Пр. №1.4'!$K:$K,'Пр. №1.4'!$C:$C,'Пр. №1'!$B26,'Пр. №1.4'!$B:$B,'Пр. №1'!O$10)","v":0},{"$f":"SUMIFS('Пр. №1.4'!$K:$K,'Пр. №1.4'!$C:$C,'Пр. №1'!$B26,'Пр. №1.4'!$B:$B,'Пр. №1'!P$10)","v":0},{"$f":"SUMIFS('Пр. №1.4'!$K:$K,'Пр. №1.4'!$C:$C,'Пр. №1'!$B26,'Пр. №1.4'!$B:$B,'Пр. №1'!Q$10)","v":0}]
[0.2,"5.","Накладные расходы (20%), в том числе:",null,null,0,{"$f":"IF(G$14>0,(G$34-G$33-G$14)*$A$27,(G$34-G$33)*$A$27)","v":0},{"$f":"IF(H$14>0,(H$34-H$33-H$14)*$A$27,(H$34-H$33)*$A$27)","v":0},0,0,0,0,0,0,0,0,0]
[0.05,"5.1.","Фонд НИСП",null,null,0,{"$f":"IF(G$14>0,(G$34-G$33-G$14)*$A$28,(G$34-G$33)*$A$28)","v":0},{"$f":"IF(H$14>0,(H$34-H$33-H$14)*$A$28,(H$34-H$33)*$A$28)","v":0},0,0,0,0,0,0,0,0,0]
[0.05,"5.2.","Фонд Дирекции",null,null,0,{"$f":"IF(G$14>0,(G$34-G$33-G$14)*$A$29,(G$34-G$33)*$A$29)","v":0},{"$f":"IF(H$14>0,(H$34-H$33-H$14)*$A$29,(H$34-H$33)*$A$29)","v":0},0,0,0,0,0,0,0,0,0]
[0.1,"5.3.","Фонд Университета",null,null,0,{"$f":"IF(G$14>0,(G$34-G$33-G$14)*$A$30,(G$34-G$33)*$A$30)","v":0},{"$f":"IF(H$14>0,(H$34-H$33-H$14)*$A$30,(H$34-H$33)*$A$30)","v":0},0,0,0,0,0,0,0,0,0]
[null,"6. ","Итого расходы",null,null,0,{"$f":"SUM(G11,G14,G15,G24,G27)","v":0},{"$f":"SUM(H11,H14,H15,H24,H27)","v":0},0,0,0,0,0,0,0,0,0]
[null,"7.","Прибыль",null,null,0,{"$f":"G34-G33-G27-G24-G15-G14-G11","v":0},{"$f":"H34-H33-H27-H24-H15-H14-H11","v":0},0,0,0,0,0,0,0,0,0]
[0,"8.","НДС",null,null,0,{"$f":"G34-G34/(1+$A$33)","v":0},{"$f":"H34-H34/(1+$A$33)","v":0},0,0,0,0,0,0,0,0,0]
[null,"9.","ИТОГО цена контракта/договора",null,null,0]
[]
[]
[null,null,"Руководитель проекта"]
[null,null,null,null,null,"(ФИО)"]
[]
[]
[]
[]
[null,"6.","Прибыль",null,null,{"$f":"F32","v":0},{"$f":"G32","v":0},{"$f":"H32","v":0},{"$f":"I32","v":0},{"$f":"J32","v":0},0,0,0,0,0,0,{"$f":"Q32","v":0}]
[null,null,0.2,null,null,{"$f":"SUM(G44:P44)","v":0},{"$f":"G43*0.2","v":0},{"$f":"H43*0.2","v":0},{"$f":"I43*0.2","v":0},{"$f":"J43*0.2","v":0},0,0,0,0,0,0,{"$f":"Q43*0.2","v":0}]
[null,null,"80%, в том числе:",null,null,{"$f":"F43-F44","v":0},{"$f":"G43-G44","v":0},{"$f":"H43-H44","v":0},{"$f":"I43-I44","v":0},{"$f":"J43-J44","v":0},0,0,0,0,0,0,{"$f":"Q43-Q44","v":0}]
[null,null,"страховые взносы 30,2%",null,null,{"$f":"F45-F47","v":0},{"$f":"G45-G47","v":0},0,0,0,0,0,0,0,0,0,{"$f":"Q45-Q47","v":0}]
[null,null,"сумма к начислению (сумма для выплаты премии)",null,null,{"$f":"F45/1.302","v":0},{"$f":"G45/1.302","v":0},0,0,0,0,0,0,0,0,0,{"$f":"Q45/1.302","v":0}]

{"sheet":"Пр. №1 конкурс","index":2,"n_rows":49,"n_cols":17,"rows_kept":49,"cut":false,"hidden":false,"merged":[[1,1,1,7],[8,1,8,7],[39,5,39,6],[40,5,40,6],[3,3,3,8],[4,3,4,8],[5,3,5,8]]}
[null,null,null,null,null,null,null,"Приложение 1"]
[null,"Расчет цены выполнения научно-исследовательских работ, оказания услуг в научной сфере, консалтинга, экспертизы, аудита по хозяйственно-договорной деятельности."]
[]
[null,null,"Контракт/Договор","Заявка на конкурсный отбор"]
[null,null,"Наименование заказчика"]
[null,null,"Тема выполнения работ/услуг"]
[null,null,"Срок действия контракта/договора"]
[null,null,"Срок выполнения работ/услуг по контракту/договору"]
[]
[null,"№ п/п","Наименование статей расходов","КВР","КОСГУ","Всего, руб.","Этап 1","Этап 2","Этап 3","Этап 4","Этап 5","Этап 6","Этап 7","Этап 8","Этап 9","Этап 10","Этап 11"]
[null,"1.","Расходы на приобретение материалов и оборудования",null,null,{"$f":"SUM(G11:R11)","v":0},{"$f":"SUM(G12:G13)","v":0},{"$f":"SUM(H12:H13)","v":0},0,0,0,0,0,0,0,0,{"$f":"SUM(Q12:Q13)","v":0}]
[null,"1.1.","Приобретение материальных запасов",244,340,{"$f":"SUM(G12:R12)","v":0},{"$f":"SUMIFS('Пр. №1.1.'!$K:$K,'Пр. №1.1.'!$C:$C,'Пр. №1'!$B12,'Пр. №1.1.'!$B:$B,'Пр. №1'!G$10)","v":0},{"$f":"SUMIFS('Пр. №1.1.'!$K:$K,'Пр. №1.1.'!$C:$C,'Пр. №1'!$B12,'Пр. №1.1.'!$B:$B,'Пр. №1'!H$10)","v":0},{"$f":"SUMIFS('Пр. №1.1.'!$K:$K,'Пр. №1.1.'!$C:$C,'Пр. №1'!$B12,'Пр. №1.1.'!$B:$B,'Пр. №1'!I$10)","v":0},{"$f":"SUMIFS('Пр. №1.1.'!$K:$K,'Пр. №1.1.'!$C:$C,'Пр. №1'!$B12,'Пр. №1.1.'!$B:$B,'Пр. №1'!J$10)","v":0},{"$f":"SUMIFS('Пр. №1.1.'!$K:$K,'Пр. №1.1.'!$C:$C,'Пр. №1'!$B12,'Пр. №1.1.'!$B:$B,'Пр. №1'!K$10)","v":0},{"$f":"SUMIFS('Пр. №1.1.'!$K:$K,'Пр. №1.1.'!$C:$C,'Пр. №1'!$B12,'Пр. №1.1.'!$B:$B,'Пр. №1'!L$10)","v":0},{"$f":"SUMIFS('Пр. №1.1.'!$K:$K,'Пр. №1.1.'!$C:$C,'Пр. №1'!$B12,'Пр. №1.1.'!$B:$B,'Пр. №1'!M$10)","v":0},{"$f":"SUMIFS('Пр. №1.1.'!$K:$K,'Пр. №1.1.'!$C:$C,'Пр. №1'!$B12,'Пр. №1.1.'!$B:$B,'Пр. №1'!N$10)","v":0},{"$f":"SUMIFS('Пр. №1.1.'!$K:$K,'Пр. №1.1.'!$C:$C,'Пр. №1'!$B12,'Пр. №1.1.'!$B:$B,'Пр. №1'!O$10)","v":0},{"$f":"SUMIFS('Пр. №1.1.'!$K:$K,'Пр. №1.1.'!$C:$C,'Пр. №1'!$B12,'Пр. №1.1.'!$B:$B,'Пр. №1'!P$10)","v":0},{"$f":"SUMIFS('Пр. №1.1.'!$K:$K,'Пр. №1.1.'!$C:$C,'Пр. №1'!$B12,'Пр. №1.1.'!$B:$B,'Пр. №1'!Q$10)","v":0}]
[null,"1.2.","Приобретение оборудования",244,310,0,{"$f":"SUMIFS('Пр. №1.1.'!$K:$K,'Пр. №1.1.'!$C:$C,'Пр. №1'!$B13,'Пр. №1.1.'!$B:$B,'Пр. №1'!G$10)","v":0},{"$f":"SUMIFS('Пр. №1.1.'!$K:$K,'Пр. №1.1.'!$C:$C,'Пр. №1'!$B13,'Пр. №1.1.'!$B:$B,'Пр. №1'!H$10)","v":0},{"$f":"SUMIFS('Пр. №1.1.'!$K:$K,'Пр. №1.1.'!$C:$C,'Пр. №1'!$B13,'Пр. №1.1.'!$B:$B,'Пр. №1'!I$10)","v":0},{"$f":"SUMIFS('Пр. №1.1.'!$K:$K,'Пр. №1.1.'!$C:$C,'Пр. №1'!$B13,'Пр. №1.1.'!$B:$B,'Пр. №1'!J$10)","v":0},{"$f":"SUMIFS('Пр. №1.1.'!$K:$K,'Пр. №1.1.'!$C:$C,'Пр. №1'!$B13,'Пр. №1.1.'!$B:$B,'Пр. №1'!K$10)","v":0},{"$f":"SUMIFS('Пр. №1.1.'!$K:$K,'Пр. №1.1.'!$C:$C,'Пр. №1'!$B13,'Пр. №1.1.'!$B:$B,'Пр. №1'!L$10)","v":0},{"$f":"SUMIFS('Пр. №1.1.'!$K:$K,'Пр. №1.1.'!$C:$C,'Пр. №1'!$B13,'Пр. №1.1.'!$B:$B,'Пр. №1'!M$10)","v":0},{"$f":"SUMIFS('Пр. №1.1.'!$K:$K,'Пр. №1.1.'!$C:$C,'Пр. №1'!$B13,'Пр. №1.1.'!$B:$B,'Пр. №1'!N$10)","v":0},{"$f":"SUMIFS('Пр. №1.1.'!$K:$K,'Пр. №1.1.'!$C:$C,'Пр. №1'!$B13,'Пр. №1.1.'!$B:$B,'Пр. №1'!O$10)","v":0},{"$f":"SUMIFS('Пр. №1.1.'!$K:$K,'Пр. №1.1.'!$C:$C,'Пр. №1'!$B13,'Пр. №1.1.'!$B:$B,'Пр. №1'!P$10)","v":0},{"$f":"SUMIFS('Пр. №1.1.'!$K:$K,'Пр. №1.1.'!$C:$C,'Пр. №1'!$B13,'Пр. №1.1.'!$B:$B,'Пр. №1'!Q$10)","v":0}]
[0.4,"2.","Оплата работ (услуг) сторонних организаций ","244/241",226,0]
[null,"3.","Затраты на оплату труда и оказание работ/услуг исполнителей НИР",null,null,0,{"$f":"G16+G20+G21+G22+G23","v":0},{"$f":"H16+H20+H21+H22+H23","v":0},0,0,0,0,0,0,0,0,0]
[null,"3.1.","Оплата труда сотрудников Финансового университета, выполняющих НИР",111,211,0,{"$f":"SUM(G17:G19)","v":0},{"$f":"SUM(H17:H19)","v":0},{"$f":"SUM(I17:I19)","v":0},0,0,0,0,0,0,0,{"$f":"SUM(Q17:Q19)","v":0}]
[null,"3.1.1.","Заработная плата",null,null,0,{"$f":"SUMIFS('Пр. №1.2.'!$M:$M,'Пр. №1.2.'!$C:$C,'Пр. №1'!$B17,'Пр. №1.2.'!$B:$B,'Пр. №1'!G$10)","v":0},{"$f":"SUMIFS('Пр. №1.2.'!$M:$M,'Пр. №1.2.'!$C:$C,'Пр. №1'!$B17,'Пр. №1.2.'!$B:$B,'Пр. №1'!H$10)","v":0},{"$f":"SUMIFS('Пр. №1.2.'!$M:$M,'Пр. №1.2.'!$C:$C,'Пр. №1'!$B17,'Пр. №1.2.'!$B:$B,'Пр. №1'!I$10)","v":0},{"$f":"SUMIFS('Пр. №1.2.'!$M:$M,'Пр. №1.2.'!$C:$C,'Пр. №1'!$B17,'Пр. №1.2.'!$B:$B,'Пр. №1'!J$10)","v":0},{"$f":"SUMIFS('Пр. №1.2.'!$M:$M,'Пр. №1.2.'!$C:$C,'Пр. №1'!$B17,'Пр. №1.2.'!$B:$B,'Пр. №1'!K$10)","v":0},{"$f":"SUMIFS('Пр. №1.2.'!$M:$M,'Пр. №1.2.'!$C:$C,'Пр. №1'!$B17,'Пр. №1.2.'!$B:$B,'Пр. №1'!L$10)","v":0},{"$f":"SUMIFS('Пр. №1.2.'!$M:$M,'Пр. №1.2.'!$C:$C,'Пр. №1'!$B17,'Пр. №1.2.'!$B:$B,'Пр. №1'!M$10)","v":0},{"$f":"SUMIFS('Пр. №1.2.'!$M:$M,'Пр. №1.2.'!$C:$C,'Пр. №1'!$B17,'Пр. №1.2.'!$B:$B,'Пр. №1'!N$10)","v":0},{"$f":"SUMIFS('Пр. №1.2.'!$M:$M,'Пр. №1.2.'!$C:$C,'Пр. №1'!$B17,'Пр. №1.2.'!$B:$B,'Пр. №1'!O$10)","v":0},{"$f":"SUMIFS('Пр. №1.2.'!$M:$M,'Пр. №1.2.'!$C:$C,'Пр. №1'!$B17,'Пр. №1.2.'!$B:$B,'Пр. №1'!P$10)","v":0},{"$f":"SUMIFS('Пр. №1.2.'!$M:$M,'Пр. №1.2.'!$C:$C,'Пр. №1'!$B17,'Пр. №1.2.'!$B:$B,'Пр. №1'!Q$10)","v":0}]
[null,"3.1.2.","Персональная надбавка",null,null,0,{"$f":"SUMIFS('Пр. №1.2.'!$M:$M,'Пр. №1.2.'!$C:$C,'Пр. №1'!$B18,'Пр. №1.2.'!$B:$B,'Пр. №1'!G$10)","v":0},{"$f":"SUMIFS('Пр. №1.2.'!$M:$M,'Пр. №1.2.'!$C:$C,'Пр. №1'!$B18,'Пр. №1.2.'!$B:$B,'Пр. №1'!H$10)","v":0},{"$f":"SUMIFS('Пр. №1.2.'!$M:$M,'Пр. №1.2.'!$C:$C,'Пр. №1'!$B18,'Пр. №1.2.'!$B:$B,'Пр. №1'!I$10)","v":0},{"$f":"SUMIFS('Пр. №1.2.'!$M:$M,'Пр. №1.2.'!$C:$C,'Пр. №1'!$B18,'Пр. №1.2.'!$B:$B,'Пр. №1'!J$10)","v":0},{"$f":"SUMIFS('Пр. №1.2.'!$M:$M,'Пр. №1.2.'!$C:$C,'Пр. №1'!$B18,'Пр. №1.2.'!$B:$B,'Пр. №1'!K$10)","v":0},{"$f":"SUMIFS('Пр. №1.2.'!$M:$M,'Пр. №1.2.'!$C:$C,'Пр. №1'!$B18,'Пр. №1.2.'!$B:$B,'Пр. №1'!L$10)","v":0},{"$f":"SUMIFS('Пр. №1.2.'!$M:$M,'Пр. №1.2.'!$C:$C,'Пр. №1'!$B18,'Пр. №1.2.'!$B:$B,'Пр. №1'!M$10)","v":0},{"$f":"SUMIFS('Пр. №1.2.'!$M:$M,'Пр. №1.2.'!$C:$C,'Пр. №1'!$B18,'Пр. №1.2.'!$B:$B,'Пр. №1'!N$10)","v":0},{"$f":"SUMIFS('Пр. №1.2.'!$M:$M,'Пр. №1.2.'!$C:$C,'Пр. №1'!$B18,'Пр. №1.2.'!$B:$B,'Пр. №1'!O$10)","v":0},{"$f":"SUMIFS('Пр. №1.2.'!$M:$M,'Пр. №1.2.'!$C:$C,'Пр. №1'!$B18,'Пр. №1.2.'!$B:$B,'Пр. №1'!P$10)","v":0},{"$f":"SUMIFS('Пр. №1.2.'!$M:$M,'Пр. №1.2.'!$C:$C,'Пр. №1'!$B18,'Пр. №1.2.'!$B:$B,'Пр. №1'!Q$10)","v":0}]
[null,"3.1.3.","Единоразовая выплата (премия)",null,null,0,{"$f":"SUMIFS('Пр. №1.2.'!$M:$M,'Пр. №1.2.'!$C:$C,'Пр. №1'!$B19,'Пр. №1.2.'!$B:$B,'Пр. №1'!G$10)","v":0},{"$f":"SUMIFS('Пр. №1.2.'!$M:$M,'Пр. №1.2.'!$C:$C,'Пр. №1'!$B19,'Пр. №1.2.'!$B:$B,'Пр. №1'!H$10)","v":0},{"$f":"SUMIFS('Пр. №1.2.'!$M:$M,'Пр. №1.2.'!$C:$C,'Пр. №1'!$B19,'Пр. №1.2.'!$B:$B,'Пр. №1'!I$10)","v":0},{"$f":"SUMIFS('Пр. №1.2.'!$M:$M,'Пр. №1.2.'!$C:$C,'Пр. №1'!$B19,'Пр. №1.2.'!$B:$B,'Пр. №1'!J$10)","v":0},{"$f":"SUMIFS('Пр. №1.2.'!$M:$M,'Пр. №1.2.'!$C:$C,'Пр. №1'!$B19,'Пр. №1.2.'!$B:$B,'Пр. №1'!K$10)","v":0},{"$f":"SUMIFS('Пр. №1.2.'!$M:$M,'Пр. №1.2.'!$C:$C,'Пр. №1'!$B19,'Пр. №1.2.'!$B:$B,'Пр. №1'!L$10)","v":0},{"$f":"SUMIFS('Пр. №1.2.'!$M:$M,'Пр. №1.2.'!$C:$C,'Пр. №1'!$B19,'Пр. №1.2.'!$B:$B,'Пр. №1'!M$10)","v":0},{"$f":"SUMIFS('Пр. №1.2.'!$M:$M,'Пр. №1.2.'!$C:$C,'Пр. №1'!$B19,'Пр. №1.2.'!$B:$B,'Пр. №1'!N$10)","v":0},{"$f":"SUMIFS('Пр. №1.2.'!$M:$M,'Пр. №1.2.'!$C:$C,'Пр. №1'!$B19,'Пр. №1.2.'!$B:$B,'Пр. №1'!O$10)","v":0},{"$f":"SUMIFS('Пр. №1.2.'!$M:$M,'Пр. №1.2.'!$C:$C,'Пр. №1'!$B19,'Пр. №1.2.'!$B:$B,'Пр. №1'!P$10)","v":0},{"$f":"SUMIFS('Пр. №1.2.'!$M:$M,'Пр. №1.2.'!$C:$C,'Пр. №1'!$B19,'Пр. №1.2.'!$B:$B,'Пр. №1'!Q$10)","v":0}]
[0.30199999999999999,"3.2.","Страховые взносы по обязательному социальному страхованию в государственные внебюджетные фонды на ФОТ сотрудников, выполняющих НИР",111,213,0,{"$f":"G$16*$A20","v":0},{"$f":"H$16*$A20","v":0},0,0,0,0,0,0,0,0,0]
[null,"3.3.","Расходы на оплату работ (услуг) исполнителям по договорам гражданско-правового характера ","244/241",226,0,{"$f":"SUMIFS('Пр. №1.2.'!$M:$M,'Пр. №1.2.'!$C:$C,'Пр. №1'!$B21,'Пр. №1.2.'!$B:$B,'Пр. №1'!G$10)","v":0},{"$f":"SUMIFS('Пр. №1.2.'!$M:$M,'Пр. №1.2.'!$C:$C,'Пр. №1'!$B21,'Пр. №1.2.'!$B:$B,'Пр. №1'!H$10)","v":0},{"$f":"SUMIFS('Пр. №1.2.'!$M:$M,'Пр. №1.2.'!$C:$C,'Пр. №1'!$B21,'Пр. №1.2.'!$B:$B,'Пр. №1'!I$10)","v":0},{"$f":"SUMIFS('Пр. №1.2.'!$M:$M,'Пр. №1.2.'!$C:$C,'Пр. №1'!$B21,'Пр. №1.2.'!$B:$B,'Пр. №1'!J$10)","v":0},{"$f":"SUMIFS('Пр. №1.2.'!$M:$M,'Пр. №1.2.'!$C:$C,'Пр. №1'!$B21,'Пр. №1.2.'!$B:$B,'Пр. №1'!K$10)","v":0},{"$f":"SUMIFS('Пр. №1.2.'!$M:$M,'Пр. №1.2.'!$C:$C,'Пр. №1'!$B21,'Пр. №1.2.'!$B:$B,'Пр. №1'!L$10)","v":0},{"$f":"SUMIFS('Пр. №1.2.'!$M:$M,'Пр. №1.2.'!$C:$C,'Пр. №1'!$B21,'Пр. №1.2.'!$B:$B,'Пр. №1'!M$10)","v":0},{"$f":"SUMIFS('Пр. №1.2.'!$M:$M,'Пр. №1.2.'!$C:$C,'Пр. №1'!$B21,'Пр. №1.2.'!$B:$B,'Пр. №1'!N$10)","v":0},{"$f":"SUMIFS('Пр. №1.2.'!$M:$M,'Пр. №1.2.'!$C:$C,'Пр. №1'!$B21,'Пр. №1.2.'!$B:$B,'Пр. №1'!O$10)","v":0},{"$f":"SUMIFS('Пр. №1.2.'!$M:$M,'Пр. №1.2.'!$C:$C,'Пр. №1'!$B21,'Пр. №1.2.'!$B:$B,'Пр. №1'!P$10)","v":0},{"$f":"SUMIFS('Пр. №1.2.'!$M:$M,'Пр. №1.2.'!$C:$C,'Пр. №1'!$B21,'Пр. №1.2.'!$B:$B,'Пр. №1'!Q$10)","v":0}]
[0.3,"3.4.","Страховые взносы по обязательному социальному страхованию в государственные внебюджетные фонды по договорам гражданско-правового характера","244/241",226,0,{"$f":"G$21*$A22","v":0},{"$f":"H$21*$A22","v":0},0,0,0,0,0,0,0,0,0]
[null,"3.5.","Премии обучающимся",350,296,0,{"$f":"SUMIFS('Пр. №1.2.'!$M:$M,'Пр. №1.2.'!$C:$C,'Пр. №1'!$B23,'Пр. №1.2.'!$B:$B,'Пр. №1'!G$10)","v":0},{"$f":"SUMIFS('Пр. №1.2.'!$M:$M,'Пр. №1.2.'!$C:$C,'Пр. №1'!$B23,'Пр. №1.2.'!$B:$B,'Пр. №1'!H$10)","v":0},{"$f":"SUMIFS('Пр. №1.2.'!$M:$M,'Пр. №1.2.'!$C:$C,'Пр. №1'!$B23,'Пр. №1.2.'!$B:$B,'Пр. №1'!I$10)","v":0},{"$f":"SUMIFS('Пр. №1.2.'!$M:$M,'Пр. №1.2.'!$C:$C,'Пр. №1'!$B23,'Пр. №1.2.'!$B:$B,'Пр. №1'!J$10)","v":0},{"$f":"SUMIFS('Пр. №1.2.'!$M:$M,'Пр. №1.2.'!$C:$C,'Пр. №1'!$B23,'Пр. №1.2.'!$B:$B,'Пр. №1'!K$10)","v":0},{"$f":"SUMIFS('Пр. №1.2.'!$M:$M,'Пр. №1.2.'!$C:$C,'Пр. №1'!$B23,'Пр. №1.2.'!$B:$B,'Пр. №1'!L$10)","v":0},{"$f":"SUMIFS('Пр. №1.2.'!$M:$M,'Пр. №1.2.'!$C:$C,'Пр. №1'!$B23,'Пр. №1.2.'!$B:$B,'Пр. №1'!M$10)","v":0},{"$f":"SUMIFS('Пр. №1.2.'!$M:$M,'Пр. №1.2.'!$C:$C,'Пр. №1'!$B23,'Пр. №1.2.'!$B:$B,'Пр. №1'!N$10)","v":0},{"$f":"SUMIFS('Пр. №1.2.'!$M:$M,'Пр. №1.2.'!$C:$C,'Пр. №1'!$B23,'Пр. №1.2.'!$B:$B,'Пр. №1'!O$10)","v":0},{"$f":"SUMIFS('Пр. №1.2.'!$M:$M,'Пр. №1.2.'!$C:$C,'Пр. №1'!$B23,'Пр. №1.2.'!$B:$B,'Пр. №1'!P$10)","v":0},{"$f":"SUMIFS('Пр. №1.2.'!$M:$M,'Пр. №1.2.'!$C:$C,'Пр. №1'!$B23,'Пр. №1.2.'!$B:$B,'Пр. №1'!Q$10)","v":0}]
[null,"4.","Прочие расходы, непосредственно связанные с выполнением НИР, всего",null,null,0,{"$f":"G25+G26","v":0},{"$f":"H25+H26","v":0},0,0,0,0,0,0,0,0,{"$f":"Q25+Q26","v":0}]
[null,"4.1.","Командировочные расходы",112,"222, 226, 212",0,{"$f":"SUMIFS('Пр. №1.3'!$M:$M,'Пр. №1.3'!$C:$C,'Пр. №1'!$B25,'Пр. №1.3'!$B:$B,'Пр. №1'!G$10)","v":0},{"$f":"SUMIFS('Пр. №1.3'!$M:$M,'Пр. №1.3'!$C:$C,'Пр. №1'!$B25,'Пр. №1.3'!$B:$B,'Пр. №1'!H$10)","v":0},{"$f":"SUMIFS('Пр. №1.3'!$M:$M,'Пр. №1.3'!$C:$C,'Пр. №1'!$B25,'Пр. №1.3'!$B:$B,'Пр. №1'!I$10)","v":0},{"$f":"SUMIFS('Пр. №1.3'!$M:$M,'Пр. №1.3'!$C:$C,'Пр. №1'!$B25,'Пр. №1.3'!$B:$B,'Пр. №1'!J$10)","v":0},{"$f":"SUMIFS('Пр. №1.3'!$M:$M,'Пр. №1.3'!$C:$C,'Пр. №1'!$B25,'Пр. №1.3'!$B:$B,'Пр. №1'!K$10)","v":0},{"$f":"SUMIFS('Пр. №1.3'!$M:$M,'Пр. №1.3'!$C:$C,'Пр. №1'!$B25,'Пр. №1.3'!$B:$B,'Пр. №1'!L$10)","v":0},{"$f":"SUMIFS('Пр. №1.3'!$M:$M,'Пр. №1.3'!$C:$C,'Пр. №1'!$B25,'Пр. №1.3'!$B:$B,'Пр. №1'!M$10)","v":0},{"$f":"SUMIFS('Пр. №1.3'!$M:$M,'Пр. №1.3'!$C:$C,'Пр. №1'!$B25,'Пр. №1.3'!$B:$B,'Пр. №1'!N$10)","v":0},{"$f":"SUMIFS('Пр. №1.3'!$M:$M,'Пр. №1.3'!$C:$C,'Пр. №1'!$B25,'Пр. №1.3'!$B:$B,'Пр. №1'!O$10)","v":0},{"$f":"SUMIFS('Пр. №1.3'!$M:$M,'Пр. №1.3'!$C:$C,'Пр. №1'!$B25,'Пр. №1.3'!$B:$B,'Пр. №1'!P$10)","v":0},{"$f":"SUMIFS('Пр. №1.3'!$M:$M,'Пр. №1.3'!$C:$C,'Пр. №1'!$B25,'Пр. №1.3'!$B:$B,'Пр. №1'!Q$10)","v":0}]
[null,"4.2.","Прочие расходы",244,226,0,{"$f":"SUMIFS('Пр. №1.4'!$K:$K,'Пр. №1.4'!$C:$C,'Пр. №1'!$B26,'Пр. №1.4'!$B:$B,'Пр. №1'!G$10)","v":0},{"$f":"SUMIFS('Пр. №1.4'!$K:$K,'Пр. №1.4'!$C:$C,'Пр. №1'!$B26,'Пр. №1.4'!$B:$B,'Пр. №1'!H$10)","v":0},{"$f":"SUMIFS('Пр. №1.4'!$K:$K,'Пр. №1.4'!$C:$C,'Пр. №1'!$B26,'Пр. №1.4'!$B:$B,'Пр. №1'!I$10)","v":0},{"$f":"SUMIFS('Пр. №1.4'!$K:$K,'Пр. №1.4'!$C:$C,'Пр. №1'!$B26,'Пр. №1.4'!$B:$B,'Пр. №1'!J$10)","v":0},{"$f":"SUMIFS('Пр. №1.4'!$K:$K,'Пр. №1.4'!$C:$C,'Пр. №1'!$B26,'Пр. №1.4'!$B:$B,'Пр. №1'!K$10)","v":0},{"$f":"SUMIFS('Пр. №1.4'!$K:$K,'Пр. №1.4'!$C:$C,'Пр. №1'!$B26,'Пр. №1.4'!$B:$B,'Пр. №1'!L$10)","v":0},{"$f":"SUMIFS('Пр. №1.4'!$K:$K,'Пр. №1.4'!$C:$C,'Пр. №1'!$B26,'Пр. №1.4'!$B:$B,'Пр. №1'!M$10)","v":0},{"$f":"SUMIFS('Пр. №1.4'!$K:$K,'Пр. №1.4'!$C:$C,'Пр. №1'!$B26,'Пр. №1.4'!$B:$B,'Пр. №1'!N$10)","v":0},{"$f":"SUMIFS('Пр. №1.4'!$K:$K,'Пр. №1.4'!$C:$C,'Пр. №1'!$B26,'Пр. №1.4'!$B:$B,'Пр. №1'!O$10)","v":0},{"$f":"SUMIFS('Пр. №1.4'!$K:$K,'Пр. №1.4'!$C:$C,'Пр. №1'!$B26,'Пр. №1.4'!$B:$B,'Пр. №1'!P$10)","v":0},{"$f":"SUMIFS('Пр. №1.4'!$K:$K,'Пр. №1.4'!$C:$C,'Пр. №1'!$B26,'Пр. №1.4'!$B:$B,'Пр. №1'!Q$10)","v":0}]
[null,"5.","Итого прямые расходы",null,null,0,{"$f":"SUM(G11,G14,G15,G24)","v":0},{"$f":"SUM(H11,H14,H15,H24)","v":0},0,0,0,0,0,0,0,0,0]
[0.2,"6.","Накладные расходы (20%), в том числе:",null,null,0,{"$f":"G35*A28","v":0},{"$f":"IF(H$14>0,(H$35-H$14)*$A$28,H$35*$A$28)","v":0},0,0,0,0,0,0,0,0,0]
[0.05,"6.1.","Фонд НИСП",null,null,0,{"$f":"IF(G$14>0,(G$35-G$14)*$A$29,G$35*$A$29)","v":0},0,0,0,0,0,0,0,0,0,0]
[0.05,"6.2.","Фонд Дирекции",null,null,0,{"$f":"IF(G$14>0,(G$35-G$14)*$A$30,G$35*$A$30)","v":0},0,0,0,0,0,0,0,0,0,0]
[0.1,"6.3.","Фонд Университета",null,null,0,{"$f":"IF(G$14>0,(G$35-G$14)*$A$31,G$35*$A$31)","v":0},0,0,0,0,0,0,0,0,0,0]
[null,"7.","Норма рентабельности",null,null,{"$f":"IFERROR((F35/F27)-100%,0)","v":0}]
[null,"8.","Прибыль",null,null,0,{"$f":"(G27)*G32","v":0},{"$f":"(H27)*H32","v":0},0,0,0,0,0,0,0,0,0]
[null,"8.1.","Максимальная сумма подения на торгах",null,null,0,{"$f":"G33-G28","v":0},{"$f":"H33-H28","v":0},0,0,0,0,0,0,0,0,0]
[null,"9.","Цена контракта (без НДС)",null,null,0,{"$f":"G27+G33","v":0},{"$f":"H27+H33","v":0},0,0,0,0,0,0,0,0,0]
[0.2,"10.","НДС",null,null,0,{"$f":"G35*$A$36","v":0},{"$f":"H35*$A$36","v":0},0,0,0,0,0,0,0,0,0]
[null,"11.","Цена контракта (с НДС)",null,null,0,{"$f":"G35+G36","v":0},{"$f":"H35+H36","v":0},0,0,0,0,0,0,0,0,0]
[]
[]
[null,null,"Руководитель проекта"]
[null,null,null,null,null,"(ФИО)"]
[]
[]
[]
[null,"6.","Прибыль",null,null,{"$f":"F35","v":0},0,0,0,0,0,0,0,0,0,0,0]
[null,null,0.2,null,null,{"$f":"SUM(G46:P46)","v":0},{"$f":"G45*0.2","v":0},{"$f":"H45*0.2","v":0},0,0,0,0,0,0,0,0,{"$f":"Q45*0.2","v":0}]
[null,null,"80%, в том числе:",null,null,{"$f":"F45-F46","v":0},{"$f":"G45-G46","v":0},0,0,0,0,0,0,0,0,0,{"$f":"Q45-Q46","v":0}]
[null,null,"страховые взносы 30,2%",null,null,{"$f":"F47-F49","v":0},{"$f":"G47-G49","v":0},0,0,0,0,0,0,0,0,0,{"$f":"Q47-Q49","v":0}]
[null,null,"сумма к начислению (сумма для выплаты премии)",null,null,{"$f":"F47/1.302","v":0},{"$f":"G47/1.302","v":0},0,0,0,0,0,0,0,0,0,{"$f":"Q47/1.302","v":0}]

{"sheet":"Пр. №1.1.","index":3,"n_rows":26,"n_cols":11,"rows_kept":26,"cut":false,"hidden":false,"merged":[[2,0,2,10]]}
[null,null,null,null,null,null,null,null,null,null,"Приложение 1.1."]
[]
["Расходы на приобретение оборудования, непосредственно связанные с выполнением НИР"]
[]
["№ п/п","Этап","№ статьи затрат","Статья затрат","Наименование закупки","КВР","КОСГУ","Ед. изм.","Кол-во","Цена за ед., руб.","Общая цена, руб."]
[null,"Итого по статье затрат","1.1.","Расходы на приобретение материальных запасов",null,244,340,null,null,null,{"$f":"SUMIFS(K$9:K$14,$C$9:$C$14,$C6)","v":0}]
[null,"Итого по статье затрат","1.2.","Расходы на приобретение оборудования",null,244,310,null,null,null,{"$f":"SUMIFS(K$9:K$14,$C$9:$C$14,$C7)","v":0}]
[]
[1,null,"1.1.","Расходы на приобретение материальных запасов",null,244,340,null,null,null,{"$f":"I9*J9","v":0}]
[2,null,"1.2.","Расходы на приобретение оборудования",null,244,310,null,null,null,0]
[3,null,null,null,null,null,null,null,null,null,0]
[4,null,null,null,null,null,null," ",null,null,0]
[5,null,null,null,null,null,null," ",null,null,0]
[6,null,null,null,null,null,null," ",null,null,0]
[]
[]
[]
[]
[]
[]
[]
[]
[null,"Пример заполнения:"]
[null,"Этап 1",null,null,"Бумага",null,null,"упак.",1,800]
[null,"Этап 2",null,null,"флешка",null,null,"шт.",1,5000]
[null,"Этап 1",null,null,"Презентационные материалы",null,null,"шт.",10,700]

{"sheet":"Пр. №1.2.","index":4,"n_rows":351,"n_cols":13,"rows_kept":351,"cut":false,"hidden":false,"merged":[]}
[null,"Расчет расходов на оплату труда и оплату работ/услуг членов ВТК/ВРГ",null,null,null,null,null,null,null,null,null,null,"Приложение 1.2."]
[]
[null,"Этап","№ статьи затрат","Статья затрат","ФИО","Роль","Способ оплаты труда","Вид оплаты","Должность по ОСНОВНОМУ месту работы",{"$f":"CONCATENATE(\"Трудозатраты, \",INDEX(справочник!$M$1:$N$3,MATCH('Пр. №3'!$D$5,справочник!$M$1:$M$3,0),2))","v":"Трудозатраты, Часов"},{"$f":"CONCATENATE(\"Ставка, человеко-\",INDEX(справочник!$M$1:$O$3,MATCH('Пр. №3'!$D$5,справочник!$M$1:$M$3,0),3))","v":"Ставка, человеко-час"},"Повышающий коэффициент (Коэфф1/Коэфф2)","Сумма, в руб."]
[null,"Итого по статье","3.1.1.","Заработная плата",null,null,null,null,null,{"$f":"SUMIFS(J$10:J$352,$C$10:$C$352,$C4)","v":0},null,null,{"$f":"SUMIFS(M$10:M$352,$C$10:$C$352,$C4)","v":0}]
[null,"Итого по статье","3.1.2.","Персональная надбавка",null,null,null,null,null,{"$f":"SUMIFS(J$10:J$352,$C$10:$C$352,$C5)","v":0},null,null,{"$f":"SUMIFS(M$10:M$352,$C$10:$C$352,$C5)","v":0}]
[null,"Итого по статье","3.1.3.","Единоразовая выплата",null,null,null,null,null,{"$f":"SUMIFS(J$10:J$352,$C$10:$C$352,$C6)","v":0},null,null,{"$f":"SUMIFS(M$10:M$352,$C$10:$C$352,$C6)","v":0}]
[null,"Итого по статье","3.3.","Расходы на оплату работ (услуг) исполнителям по договорам гражданско-правового характера ",null,null,null,null,null,{"$f":"SUMIFS(J$10:J$352,$C$10:$C$352,$C7)","v":0},null,null,{"$f":"SUMIFS(M$10:M$352,$C$10:$C$352,$C7)","v":0}]
[null,"Итого по статье","3.5.","Премии обучающимся",null,null,null,null,null,{"$f":"SUMIFS(J$10:J$352,$C$10:$C$352,$C8)","v":0},null,null,{"$f":"SUMIFS(M$10:M$352,$C$10:$C$352,$C8)","v":0}]
[]
[null,null,{"$f":"IFERROR(INDEX(справочник!$G$1:$I$7,MATCH('Пр. №1.2.'!$G10,справочник!$G$1:$G$7,0),3),\"---\")","v":"---"},{"$f":"IFERROR(INDEX('Пр. №1'!$B$11:$C$33,MATCH('Пр. №1.2.'!$C10,'Пр. №1'!$B$11:$B$33,0),2),\"---\")","v":"---"},null,{"$f":"IFERROR(INDEX('Состав ВТК-ВРГ'!$1:$1048576,MATCH('Пр. №1.2.'!$E10,'Состав ВТК-ВРГ'!$B:$B,0),MATCH('Пр. №1.2.'!F$3,'Состав ВТК-ВРГ'!$3:$3,0)),\"---\")","v":"---"},{"$f":"IFERROR(INDEX('Состав ВТК-ВРГ'!$1:$1048576,MATCH('Пр. №1.2.'!$E10,'Состав ВТК-ВРГ'!$B:$B,0),MATCH('Пр. №1.2.'!G$3,'Состав ВТК-ВРГ'!$3:$3,0)),\"---\")","v":"---"},{"$f":"IFERROR(INDEX(справочник!$G$1:$I$7,MATCH('Пр. №1.2.'!$G10,справочник!$G$1:$G$7,0),2),\"---\")","v":"---"},{"$f":"IFERROR(INDEX('Состав ВТК-ВРГ'!$1:$1048576,MATCH('Пр. №1.2.'!$E10,'Состав ВТК-ВРГ'!$B:$B,0),MATCH('Пр. №1.2.'!I$3,'Состав ВТК-ВРГ'!$3:$3,0)),\"---\")","v":"---"},{"$f":"SUMIFS('Пр. №3'!$BQ:$BQ,'Пр. №3'!$G:$G,'Пр. №1.2.'!$E10,'Пр. №3'!$D:$D,'Пр. №1.2.'!$B10)","v":0},{"$f":"IFERROR(INDEX('Пр. №4'!$1:$1048576,MATCH($I10,'Пр. №4'!$C:$C,0),MATCH('Пр. №3'!$D$5,'Пр. №4'!$9:$9,0)),\"---\")","v":"---"},null,{"$f":"IFERROR(J10*K10*L10,\"---\")","v":"---"}]
[null,null,{"$f":"IFERROR(INDEX(справочник!$G$1:$I$7,MATCH('Пр. №1.2.'!$G11,справочник!$G$1:$G$7,0),3),\"---\")","v":"---"},{"$f":"IFERROR(INDEX('Пр. №1'!$B$11:$C$33,MATCH('Пр. №1.2.'!$C11,'Пр. №1'!$B$11:$B$33,0),2),\"---\")","v":"---"},null,{"$f":"IFERROR(INDEX('Состав ВТК-ВРГ'!$1:$1048576,MATCH('Пр. №1.2.'!$E11,'Состав ВТК-ВРГ'!$B:$B,0),MATCH('Пр. №1.2.'!F$3,'Состав ВТК-ВРГ'!$3:$3,0)),\"---\")","v":"---"},{"$f":"IFERROR(INDEX('Состав ВТК-ВРГ'!$1:$1048576,MATCH('Пр. №1.2.'!$E11,'Состав ВТК-ВРГ'!$B:$B,0),MATCH('Пр. №1.2.'!G$3,'Состав ВТК-ВРГ'!$3:$3,0)),\"---\")","v":"---"},{"$f":"IFERROR(INDEX(справочник!$G$1:$I$7,MATCH('Пр. №1.2.'!$G11,справочник!$G$1:$G$7,0),2),\"---\")","v":"---"},{"$f":"IFERROR(INDEX('Состав ВТК-ВРГ'!$1:$1048576,MATCH('Пр. №1.2.'!$E11,'Состав ВТК-ВРГ'!$B:$B,0),MATCH('Пр. №1.2.'!I$3,'Состав ВТК-ВРГ'!$3:$3,0)),\"---\")","v":"---"},{"$f":"SUMIFS('Пр. №3'!$BQ:$BQ,'Пр. №3'!$G:$G,'Пр. №1.2.'!$E11,'Пр. №3'!$D:$D,'Пр. №1.2.'!$B11)","v":0},{"$f":"IFERROR(INDEX('Пр. №4'!$1:$1048576,MATCH($I11,'Пр. №4'!$C:$C,0),MATCH('Пр. №3'!$D$5,'Пр. №4'!$9:$9,0)),\"---\")","v":"---"},null,{"$f":"IFERROR(J11*K11*L11,\"---\")","v":"---"}]
[null,null,{"$f":"IFERROR(INDEX(справочник!$G$1:$I$7,MATCH('Пр. №1.2.'!$G12,справочник!$G$1:$G$7,0),3),\"---\")","v":"---"},{"$f":"IFERROR(INDEX('Пр. №1'!$B$11:$C$33,MATCH('Пр. №1.2.'!$C12,'Пр. №1'!$B$11:$B$33,0),2),\"---\")","v":"---"},null,{"$f":"IFERROR(INDEX('Состав ВТК-ВРГ'!$1:$1048576,MATCH('Пр. №1.2.'!$E12,'Состав ВТК-ВРГ'!$B:$B,0),MATCH('Пр. №1.2.'!F$3,'Состав ВТК-ВРГ'!$3:$3,0)),\"---\")","v":"---"},{"$f":"IFERROR(INDEX('Состав ВТК-ВРГ'!$1:$1048576,MATCH('Пр. №1.2.'!$E12,'Состав ВТК-ВРГ'!$B:$B,0),MATCH('Пр. №1.2.'!G$3,'Состав ВТК-ВРГ'!$3:$3,0)),\"---\")","v":"---"},{"$f":"IFERROR(INDEX(справочник!$G$1:$I$7,MATCH('Пр. №1.2.'!$G12,справочник!$G$1:$G$7,0),2),\"---\")","v":"---"},{"$f":"IFERROR(INDEX('Состав ВТК-ВРГ'!$1:$1048576,MATCH('Пр. №1.2.'!$E12,'Состав ВТК-ВРГ'!$B:$B,0),MATCH('Пр. №1.2.'!I$3,'Состав ВТК-ВРГ'!$3:$3,0)),\"---\")","v":"---"},{"$f":"SUMIFS('Пр. №3'!$BQ:$BQ,'Пр. №3'!$G:$G,'Пр. №1.2.'!$E12,'Пр. №3'!$D:$D,'Пр. №1.2.'!$B12)","v":0},{"$f":"IFERROR(INDEX('Пр. №4'!$1:$1048576,MATCH($I12,'Пр. №4'!$C:$C,0),MATCH('Пр. №3'!$D$5,'Пр. №4'!$9:$9,0)),\"---\")","v":"---"},null,{"$f":"IFERROR(J12*K12*L12,\"---\")","v":"---"}]
[null,null,{"$f":"IFERROR(INDEX(справочник!$G$1:$I$7,MATCH('Пр. №1.2.'!$G13,справочник!$G$1:$G$7,0),3),\"---\")","v":"---"},{"$f":"IFERROR(INDEX('Пр. №1'!$B$11:$C$33,MATCH('Пр. №1.2.'!$C13,'Пр. №1'!$B$11:$B$33,0),2),\"---\")","v":"---"},null,{"$f":"IFERROR(INDEX('Состав ВТК-ВРГ'!$1:$1048576,MATCH('Пр. №1.2.'!$E13,'Состав ВТК-ВРГ'!$B:$B,0),MATCH('Пр. №1.2.'!F$3,'Состав ВТК-ВРГ'!$3:$3,0)),\"---\")","v":"---"},{"$f":"IFERROR(INDEX('Состав ВТК-ВРГ'!$1:$1048576,MATCH('Пр. №1.2.'!$E13,'Состав ВТК-ВРГ'!$B:$B,0),MATCH('Пр. №1.2.'!G$3,'Состав ВТК-ВРГ'!$3:$3,0)),\"---\")","v":"---"},{"$f":"IFERROR(INDEX(справочник!$G$1:$I$7,MATCH('Пр. №1.2.'!$G13,справочник!$G$1:$G$7,0),2),\"---\")","v":"---"},{"$f":"IFERROR(INDEX('Состав ВТК-ВРГ'!$1:$1048576,MATCH('Пр. №1.2.'!$E13,'Состав ВТК-ВРГ'!$B:$B,0),MATCH('Пр. №1.2.'!I$3,'Состав ВТК-ВРГ'!$3:$3,0)),\"---\")","v":"---"},{"$f":"SUMIFS('Пр. №3'!$BQ:$BQ,'Пр. №3'!$G:$G,'Пр. №1.2.'!$E13,'Пр. №3'!$D:$D,'Пр. №1.2.'!$B13)","v":0},{"$f":"IFERROR(INDEX('Пр. №4'!$1:$1048576,MATCH($I13,'Пр. №4'!$C:$C,0),MATCH('Пр. №3'!$D$5,'Пр. №4'!$9:$9,0)),\"---\")","v":"---"},null,"---"]
[null,null,{"$f":"IFERROR(INDEX(справочник!$G$1:$I$7,MATCH('Пр. №1.2.'!$G14,справочник!$G$1:$G$7,0),3),\"---\")","v":"---"},{"$f":"IFERROR(INDEX('Пр. №1'!$B$11:$C$33,MATCH('Пр. №1.2.'!$C14,'Пр. №1'!$B$11:$B$33,0),2),\"---\")","v":"---"},null,{"$f":"IFERROR(INDEX('Состав ВТК-ВРГ'!$1:$1048576,MATCH('Пр. №1.2.'!$E14,'Состав ВТК-ВРГ'!$B:$B,0),MATCH('Пр. №1.2.'!F$3,'Состав ВТК-ВРГ'!$3:$3,0)),\"---\")","v":"---"},{"$f":"IFERROR(INDEX('Состав ВТК-ВРГ'!$1:$1048576,MATCH('Пр. №1.2.'!$E14,'Состав ВТК-ВРГ'!$B:$B,0),MATCH('Пр. №1.2.'!G$3,'Состав ВТК-ВРГ'!$3:$3,0)),\"---\")","v":"---"},{"$f":"IFERROR(INDEX(справочник!$G$1:$I$7,MATCH('Пр. №1.2.'!$G14,справочник!$G$1:$G$7,0),2),\"---\")","v":"---"},{"$f":"IFERROR(INDEX('Состав ВТК-ВРГ'!$1:$1048576,MATCH('Пр. №1.2.'!$E14,'Состав ВТК-ВРГ'!$B:$B,0),MATCH('Пр. №1.2.'!I$3,'Состав ВТК-ВРГ'!$3:$3,0)),\"---\")","v":"---"},{"$f":"SUMIFS('Пр. №3'!$BQ:$BQ,'Пр. №3'!$G:$G,'Пр. №1.2.'!$E14,'Пр. №3'!$D:$D,'Пр. №1.2.'!$B14)","v":0},{"$f":"IFERROR(INDEX('Пр. №4'!$1:$1048576,MATCH($I14,'Пр. №4'!$C:$C,0),MATCH('Пр. №3'!$D$5,'Пр. №4'!$9:$9,0)),\"---\")","v":"---"},null,"---"]
[null,null,{"$f":"IFERROR(INDEX(справочник!$G$1:$I$7,MATCH('Пр. №1.2.'!$G15,справочник!$G$1:$G$7,0),3),\"---\")","v":"---"},{"$f":"IFERROR(INDEX('Пр. №1'!$B$11:$C$33,MATCH('Пр. №1.2.'!$C15,'Пр. №1'!$B$11:$B$33,0),2),\"---\")","v":"---"},null,{"$f":"IFERROR(INDEX('Состав ВТК-ВРГ'!$1:$1048576,MATCH('Пр. №1.2.'!$E15,'Состав ВТК-ВРГ'!$B:$B,0),MATCH('Пр. №1.2.'!F$3,'Состав ВТК-ВРГ'!$3:$3,0)),\"---\")","v":"---"},{"$f":"IFERROR(INDEX('Состав ВТК-ВРГ'!$1:$1048576,MATCH('Пр. №1.2.'!$E15,'Состав ВТК-ВРГ'!$B:$B,0),MATCH('Пр. №1.2.'!G$3,'Состав ВТК-ВРГ'!$3:$3,0)),\"---\")","v":"---"},{"$f":"IFERROR(INDEX(справочник!$G$1:$I$7,MATCH('Пр. №1.2.'!$G15,справочник!$G$1:$G$7,0),2),\"---\")","v":"---"},{"$f":"IFERROR(INDEX('Состав ВТК-ВРГ'!$1:$1048576,MATCH('Пр. №1.2.'!$E15,'Состав ВТК-ВРГ'!$B:$B,0),MATCH('Пр. №1.2.'!I$3,'Состав ВТК-ВРГ'!$3:$3,0)),\"---\")","v":"---"},{"$f":"SUMIFS('Пр. №3'!$BQ:$BQ,'Пр. №3'!$G:$G,'Пр. №1.2.'!$E15,'Пр. №3'!$D:$D,'Пр. №1.2.'!$B15)","v":0},{"$f":"IFERROR(INDEX('Пр. №4'!$1:$1048576,MATCH($I15,'Пр. №4'!$C:$C,0),MATCH('Пр. №3'!$D$5,'Пр. №4'!$9:$9,0)),\"---\")","v":"---"},null,"---"]
[null,null,{"$f":"IFERROR(INDEX(справочник!$G$1:$I$7,MATCH('Пр. №1.2.'!$G16,справочник!$G$1:$G$7,0),3),\"---\")","v":"---"},{"$f":"IFERROR(INDEX('Пр. №1'!$B$11:$C$33,MATCH('Пр. №1.2.'!$C16,'Пр. №1'!$B$11:$B$33,0),2),\"---\")","v":"---"},null,{"$f":"IFERROR(INDEX('Состав ВТК-ВРГ'!$1:$1048576,MATCH('Пр. №1.2.'!$E16,'Состав ВТК-ВРГ'!$B:$B,0),MATCH('Пр. №1.2.'!F$3,'Состав ВТК-ВРГ'!$3:$3,0)),\"---\")","v":"---"},{"$f":"IFERROR(INDEX('Состав ВТК-ВРГ'!$1:$1048576,MATCH('Пр. №1.2.'!$E16,'Состав ВТК-ВРГ'!$B:$B,0),MATCH('Пр. №1.2.'!G$3,'Состав ВТК-ВРГ'!$3:$3,0)),\"---\")","v":"---"},{"$f":"IFERROR(INDEX(справочник!$G$1:$I$7,MATCH('Пр. №1.2.'!$G16,справочник!$G$1:$G$7,0),2),\"---\")","v":"---"},{"$f":"IFERROR(INDEX('Состав ВТК-ВРГ'!$1:$1048576,MATCH('Пр. №1.2.'!$E16,'Состав ВТК-ВРГ'!$B:$B,0),MATCH('Пр. №1.2.'!I$3,'Состав ВТК-ВРГ'!$3:$3,0)),\"---\")","v":"---"},{"$f":"SUMIFS('Пр. №3'!$BQ:$BQ,'Пр. №3'!$G:$G,'Пр. №1.2.'!$E16,'Пр. №3'!$D:$D,'Пр. №1.2.'!$B16)","v":0},{"$f":"IFERROR(INDEX('Пр. №4'!$1:$1048576,MATCH($I16,'Пр. №4'!$C:$C,0),MATCH('Пр. №3'!$D$5,'Пр. №4'!$9:$9,0)),\"---\")","v":"---"},null,"---"]
[null,null,{"$f":"IFERROR(INDEX(справочник!$G$1:$I$7,MATCH('Пр. №1.2.'!$G17,справочник!$G$1:$G$7,0),3),\"---\")","v":"---"},{"$f":"IFERROR(INDEX('Пр. №1'!$B$11:$C$33,MATCH('Пр. №1.2.'!$C17,'Пр. №1'!$B$11:$B$33,0),2),\"---\")","v":"---"},null,{"$f":"IFERROR(INDEX('Состав ВТК-ВРГ'!$1:$1048576,MATCH('Пр. №1.2.'!$E17,'Состав ВТК-ВРГ'!$B:$B,0),MATCH('Пр. №1.2.'!F$3,'Состав ВТК-ВРГ'!$3:$3,0)),\"---\")","v":"---"},{"$f":"IFERROR(INDEX('Состав ВТК-ВРГ'!$1:$1048576,MATCH('Пр. №1.2.'!$E17,'Состав ВТК-ВРГ'!$B:$B,0),MATCH('Пр. №1.2.'!G$3,'Состав ВТК-ВРГ'!$3:$3,0)),\"---\")","v":"---"},{"$f":"IFERROR(INDEX(справочник!$G$1:$I$7,MATCH('Пр. №1.2.'!$G17,справочник!$G$1:$G$7,0),2),\"---\")","v":"---"},{"$f":"IFERROR(INDEX('Состав ВТК-ВРГ'!$1:$1048576,MATCH('Пр. №1.2.'!$E17,'Состав ВТК-ВРГ'!$B:$B,0),MATCH('Пр. №1.2.'!I$3,'Состав ВТК-ВРГ'!$3:$3,0)),\"---\")","v":"---"},{"$f":"SUMIFS('Пр. №3'!$BQ:$BQ,'Пр. №3'!$G:$G,'Пр. №1.2.'!$E17,'Пр. №3'!$D:$D,'Пр. №1.2.'!$B17)","v":0},{"$f":"IFERROR(INDEX('Пр. №4'!$1:$1048576,MATCH($I17,'Пр. №4'!$C:$C,0),MATCH('Пр. №3'!$D$5,'Пр. №4'!$9:$9,0)),\"---\")","v":"---"},null,"---"]
[null,null,{"$f":"IFERROR(INDEX(справочник!$G$1:$I$7,MATCH('Пр. №1.2.'!$G18,справочник!$G$1:$G$7,0),3),\"---\")","v":"---"},{"$f":"IFERROR(INDEX('Пр. №1'!$B$11:$C$33,MATCH('Пр. №1.2.'!$C18,'Пр. №1'!$B$11:$B$33,0),2),\"---\")","v":"---"},null,{"$f":"IFERROR(INDEX('Состав ВТК-ВРГ'!$1:$1048576,MATCH('Пр. №1.2.'!$E18,'Состав ВТК-ВРГ'!$B:$B,0),MATCH('Пр. №1.2.'!F$3,'Состав ВТК-ВРГ'!$3:$3,0)),\"---\")","v":"---"},{"$f":"IFERROR(INDEX('Состав ВТК-ВРГ'!$1:$1048576,MATCH('Пр. №1.2.'!$E18,'Состав ВТК-ВРГ'!$B:$B,0),MATCH('Пр. №1.2.'!G$3,'Состав ВТК-ВРГ'!$3:$3,0)),\"---\")","v":"---"},{"$f":"IFERROR(INDEX(справочник!$G$1:$I$7,MATCH('Пр. №1.2.'!$G18,справочник!$G$1:$G$7,0),2),\"---\")","v":"---"},{"$f":"IFERROR(INDEX('Состав ВТК-ВРГ'!$1:$1048576,MATCH('Пр. №1.2.'!$E18,'Состав ВТК-ВРГ'!$B:$B,0),MATCH('Пр. №1.2.'!I$3,'Состав ВТК-ВРГ'!$3:$3,0)),\"---\")","v":"---"},{"$f":"SUMIFS('Пр. №3'!$BQ:$BQ,'Пр. №3'!$G:$G,'Пр. №1.2.'!$E18,'Пр. №3'!$D:$D,'Пр. №1.2.'!$B18)","v":0},{"$f":"IFERROR(INDEX('Пр. №4'!$1:$1048576,MATCH($I18,'Пр. №4'!$C:$C,0),MATCH('Пр. №3'!$D$5,'Пр. №4'!$9:$9,0)),\"---\")","v":"---"},null,"---"]
[null,null,{"$f":"IFERROR(INDEX(справочник!$G$1:$I$7,MATCH('Пр. №1.2.'!$G19,справочник!$G$1:$G$7,0),3),\"---\")","v":"---"},{"$f":"IFERROR(INDEX('Пр. №1'!$B$11:$C$33,MATCH('Пр. №1.2.'!$C19,'Пр. №1'!$B$11:$B$33,0),2),\"---\")","v":"---"},null,{"$f":"IFERROR(INDEX('Состав ВТК-ВРГ'!$1:$1048576,MATCH('Пр. №1.2.'!$E19,'Состав ВТК-ВРГ'!$B:$B,0),MATCH('Пр. №1.2.'!F$3,'Состав ВТК-ВРГ'!$3:$3,0)),\"---\")","v":"---"},{"$f":"IFERROR(INDEX('Состав ВТК-ВРГ'!$1:$1048576,MATCH('Пр. №1.2.'!$E19,'Состав ВТК-ВРГ'!$B:$B,0),MATCH('Пр. №1.2.'!G$3,'Состав ВТК-ВРГ'!$3:$3,0)),\"---\")","v":"---"},{"$f":"IFERROR(INDEX(справочник!$G$1:$I$7,MATCH('Пр. №1.2.'!$G19,справочник!$G$1:$G$7,0),2),\"---\")","v":"---"},{"$f":"IFERROR(INDEX('Состав ВТК-ВРГ'!$1:$1048576,MATCH('Пр. №1.2.'!$E19,'Состав ВТК-ВРГ'!$B:$B,0),MATCH('Пр. №1.2.'!I$3,'Состав ВТК-ВРГ'!$3:$3,0)),\"---\")","v":"---"},{"$f":"SUMIFS('Пр. №3'!$BQ:$BQ,'Пр. №3'!$G:$G,'Пр. №1.2.'!$E19,'Пр. №3'!$D:$D,'Пр. №1.2.'!$B19)","v":0},{"$f":"IFERROR(INDEX('Пр. №4'!$1:$1048576,MATCH($I19,'Пр. №4'!$C:$C,0),MATCH('Пр. №3'!$D$5,'Пр. №4'!$9:$9,0)),\"---\")","v":"---"},null,"---"]
[null,null,{"$f":"IFERROR(INDEX(справочник!$G$1:$I$7,MATCH('Пр. №1.2.'!$G20,справочник!$G$1:$G$7,0),3),\"---\")","v":"---"},{"$f":"IFERROR(INDEX('Пр. №1'!$B$11:$C$33,MATCH('Пр. №1.2.'!$C20,'Пр. №1'!$B$11:$B$33,0),2),\"---\")","v":"---"},null,{"$f":"IFERROR(INDEX('Состав ВТК-ВРГ'!$1:$1048576,MATCH('Пр. №1.2.'!$E20,'Состав ВТК-ВРГ'!$B:$B,0),MATCH('Пр. №1.2.'!F$3,'Состав ВТК-ВРГ'!$3:$3,0)),\"---\")","v":"---"},{"$f":"IFERROR(INDEX('Состав ВТК-ВРГ'!$1:$1048576,MATCH('Пр. №1.2.'!$E20,'Состав ВТК-ВРГ'!$B:$B,0),MATCH('Пр. №1.2.'!G$3,'Состав ВТК-ВРГ'!$3:$3,0)),\"---\")","v":"---"},{"$f":"IFERROR(INDEX(справочник!$G$1:$I$7,MATCH('Пр. №1.2.'!$G20,справочник!$G$1:$G$7,0),2),\"---\")","v":"---"},{"$f":"IFERROR(INDEX('Состав ВТК-ВРГ'!$1:$1048576,MATCH('Пр. №1.2.'!$E20,'Состав ВТК-ВРГ'!$B:$B,0),MATCH('Пр. №1.2.'!I$3,'Состав ВТК-ВРГ'!$3:$3,0)),\"---\")","v":"---"},{"$f":"SUMIFS('Пр. №3'!$BQ:$BQ,'Пр. №3'!$G:$G,'Пр. №1.2.'!$E20,'Пр. №3'!$D:$D,'Пр. №1.2.'!$B20)","v":0},{"$f":"IFERROR(INDEX('Пр. №4'!$1:$1048576,MATCH($I20,'Пр. №4'!$C:$C,0),MATCH('Пр. №3'!$D$5,'Пр. №4'!$9:$9,0)),\"---\")","v":"---"},null,"---"]
[null,null,{"$f":"IFERROR(INDEX(справочник!$G$1:$I$7,MATCH('Пр. №1.2.'!$G21,справочник!$G$1:$G$7,0),3),\"---\")","v":"---"},{"$f":"IFERROR(INDEX('Пр. №1'!$B$11:$C$33,MATCH('Пр. №1.2.'!$C21,'Пр. №1'!$B$11:$B$33,0),2),\"---\")","v":"---"},null,{"$f":"IFERROR(INDEX('Состав ВТК-ВРГ'!$1:$1048576,MATCH('Пр. №1.2.'!$E21,'Состав ВТК-ВРГ'!$B:$B,0),MATCH('Пр. №1.2.'!F$3,'Состав ВТК-ВРГ'!$3:$3,0)),\"---\")","v":"---"},{"$f":"IFERROR(INDEX('Состав ВТК-ВРГ'!$1:$1048576,MATCH('Пр. №1.2.'!$E21,'Состав ВТК-ВРГ'!$B:$B,0),MATCH('Пр. №1.2.'!G$3,'Состав ВТК-ВРГ'!$3:$3,0)),\"---\")","v":"---"},{"$f":"IFERROR(INDEX(справочник!$G$1:$I$7,MATCH('Пр. №1.2.'!$G21,справочник!$G$1:$G$7,0),2),\"---\")","v":"---"},{"$f":"IFERROR(INDEX('Состав ВТК-ВРГ'!$1:$1048576,MATCH('Пр. №1.2.'!$E21,'Состав ВТК-ВРГ'!$B:$B,0),MATCH('Пр. №1.2.'!I$3,'Состав ВТК-ВРГ'!$3:$3,0)),\"---\")","v":"---"},{"$f":"SUMIFS('Пр. №3'!$BQ:$BQ,'Пр. №3'!$G:$G,'Пр. №1.2.'!$E21,'Пр. №3'!$D:$D,'Пр. №1.2.'!$B21)","v":0},{"$f":"IFERROR(INDEX('Пр. №4'!$1:$1048576,MATCH($I21,'Пр. №4'!$C:$C,0),MATCH('Пр. №3'!$D$5,'Пр. №4'!$9:$9,0)),\"---\")","v":"---"},null,"---"]
[null,null,{"$f":"IFERROR(INDEX(справочник!$G$1:$I$7,MATCH('Пр. №1.2.'!$G22,справочник!$G$1:$G$7,0),3),\"---\")","v":"---"},{"$f":"IFERROR(INDEX('Пр. №1'!$B$11:$C$33,MATCH('Пр. №1.2.'!$C22,'Пр. №1'!$B$11:$B$33,0),2),\"---\")","v":"---"},null,{"$f":"IFERROR(INDEX('Состав ВТК-ВРГ'!$1:$1048576,MATCH('Пр. №1.2.'!$E22,'Состав ВТК-ВРГ'!$B:$B,0),MATCH('Пр. №1.2.'!F$3,'Состав ВТК-ВРГ'!$3:$3,0)),\"---\")","v":"---"},{"$f":"IFERROR(INDEX('Состав ВТК-ВРГ'!$1:$1048576,MATCH('Пр. №1.2.'!$E22,'Состав ВТК-ВРГ'!$B:$B,0),MATCH('Пр. №1.2.'!G$3,'Состав ВТК-ВРГ'!$3:$3,0)),\"---\")","v":"---"},{"$f":"IFERROR(INDEX(справочник!$G$1:$I$7,MATCH('Пр. №1.2.'!$G22,справочник!$G$1:$G$7,0),2),\"---\")","v":"---"},{"$f":"IFERROR(INDEX('Состав ВТК-ВРГ'!$1:$1048576,MATCH('Пр. №1.2.'!$E22,'Состав ВТК-ВРГ'!$B:$B,0),MATCH('Пр. №1.2.'!I$3,'Состав ВТК-ВРГ'!$3:$3,0)),\"---\")","v":"---"},{"$f":"SUMIFS('Пр. №3'!$BQ:$BQ,'Пр. №3'!$G:$G,'Пр. №1.2.'!$E22,'Пр. №3'!$D:$D,'Пр. №1.2.'!$B22)","v":0},{"$f":"IFERROR(INDEX('Пр. №4'!$1:$1048576,MATCH($I22,'Пр. №4'!$C:$C,0),MATCH('Пр. №3'!$D$5,'Пр. №4'!$9:$9,0)),\"---\")","v":"---"},null,"---"]
[null,null,{"$f":"IFERROR(INDEX(справочник!$G$1:$I$7,MATCH('Пр. №1.2.'!$G23,справочник!$G$1:$G$7,0),3),\"---\")","v":"---"},{"$f":"IFERROR(INDEX('Пр. №1'!$B$11:$C$33,MATCH('Пр. №1.2.'!$C23,'Пр. №1'!$B$11:$B$33,0),2),\"---\")","v":"---"},null,{"$f":"IFERROR(INDEX('Состав ВТК-ВРГ'!$1:$1048576,MATCH('Пр. №1.2.'!$E23,'Состав ВТК-ВРГ'!$B:$B,0),MATCH('Пр. №1.2.'!F$3,'Состав ВТК-ВРГ'!$3:$3,0)),\"---\")","v":"---"},{"$f":"IFERROR(INDEX('Состав ВТК-ВРГ'!$1:$1048576,MATCH('Пр. №1.2.'!$E23,'Состав ВТК-ВРГ'!$B:$B,0),MATCH('Пр. №1.2.'!G$3,'Состав ВТК-ВРГ'!$3:$3,0)),\"---\")","v":"---"},{"$f":"IFERROR(INDEX(справочник!$G$1:$I$7,MATCH('Пр. №1.2.'!$G23,справочник!$G$1:$G$7,0),2),\"---\")","v":"---"},{"$f":"IFERROR(INDEX('Состав ВТК-ВРГ'!$1:$1048576,MATCH('Пр. №1.2.'!$E23,'Состав ВТК-ВРГ'!$B:$B,0),MATCH('Пр. №1.2.'!I$3,'Состав ВТК-ВРГ'!$3:$3,0)),\"---\")","v":"---"},{"$f":"SUMIFS('Пр. №3'!$BQ:$BQ,'Пр. №3'!$G:$G,'Пр. №1.2.'!$E23,'Пр. №3'!$D:$D,'Пр. №1.2.'!$B23)","v":0},{"$f":"IFERROR(INDEX('Пр. №4'!$1:$1048576,MATCH($I23,'Пр. №4'!$C:$C,0),MATCH('Пр. №3'!$D$5,'Пр. №4'!$9:$9,0)),\"---\")","v":"---"},null,"---"]
[null,null,{"$f":"IFERROR(INDEX(справочник!$G$1:$I$7,MATCH('Пр. №1.2.'!$G24,справочник!$G$1:$G$7,0),3),\"---\")","v":"---"},{"$f":"IFERROR(INDEX('Пр. №1'!$B$11:$C$33,MATCH('Пр. №1.2.'!$C24,'Пр. №1'!$B$11:$B$33,0),2),\"---\")","v":"---"},null,{"$f":"IFERROR(INDEX('Состав ВТК-ВРГ'!$1:$1048576,MATCH('Пр. №1.2.'!$E24,'Состав ВТК-ВРГ'!$B:$B,0),MATCH('Пр. №1.2.'!F$3,'Состав ВТК-ВРГ'!$3:$3,0)),\"---\")","v":"---"},{"$f":"IFERROR(INDEX('Состав ВТК-ВРГ'!$1:$1048576,MATCH('Пр. №1.2.'!$E24,'Состав ВТК-ВРГ'!$B:$B,0),MATCH('Пр. №1.2.'!G$3,'Состав ВТК-ВРГ'!$3:$3,0)),\"---\")","v":"---"},{"$f":"IFERROR(INDEX(справочник!$G$1:$I$7,MATCH('Пр. №1.2.'!$G24,справочник!$G$1:$G$7,0),2),\"---\")","v":"---"},{"$f":"IFERROR(INDEX('Состав ВТК-ВРГ'!$1:$1048576,MATCH('Пр. №1.2.'!$E24,'Состав ВТК-ВРГ'!$B:$B,0),MATCH('Пр. №1.2.'!I$3,'Состав ВТК-ВРГ'!$3:$3,0)),\"---\")","v":"---"},{"$f":"SUMIFS('Пр. №3'!$BQ:$BQ,'Пр. №3'!$G:$G,'Пр. №1.2.'!$E24,'Пр. №3'!$D:$D,'Пр. №1.2.'!$B24)","v":0},{"$f":"IFERROR(INDEX('Пр. №4'!$1:$1048576,MATCH($I24,'Пр. №4'!$C:$C,0),MATCH('Пр. №3'!$D$5,'Пр. №4'!$9:$9,0)),\"---\")","v":"---"},null,"---"]
[null,null,{"$f":"IFERROR(INDEX(справочник!$G$1:$I$7,MATCH('Пр. №1.2.'!$G25,справочник!$G$1:$G$7,0),3),\"---\")","v":"---"},{"$f":"IFERROR(INDEX('Пр. №1'!$B$11:$C$33,MATCH('Пр. №1.2.'!$C25,'Пр. №1'!$B$11:$B$33,0),2),\"---\")","v":"---"},null,{"$f":"IFERROR(INDEX('Состав ВТК-ВРГ'!$1:$1048576,MATCH('Пр. №1.2.'!$E25,'Состав ВТК-ВРГ'!$B:$B,0),MATCH('Пр. №1.2.'!F$3,'Состав ВТК-ВРГ'!$3:$3,0)),\"---\")","v":"---"},{"$f":"IFERROR(INDEX('Состав ВТК-ВРГ'!$1:$1048576,MATCH('Пр. №1.2.'!$E25,'Состав ВТК-ВРГ'!$B:$B,0),MATCH('Пр. №1.2.'!G$3,'Состав ВТК-ВРГ'!$3:$3,0)),\"---\")","v":"---"},{"$f":"IFERROR(INDEX(справочник!$G$1:$I$7,MATCH('Пр. №1.2.'!$G25,справочник!$G$1:$G$7,0),2),\"---\")","v":"---"},{"$f":"IFERROR(INDEX('Состав ВТК-ВРГ'!$1:$1048576,MATCH('Пр. №1.2.'!$E25,'Состав ВТК-ВРГ'!$B:$B,0),MATCH('Пр. №1.2.'!I$3,'Состав ВТК-ВРГ'!$3:$3,0)),\"---\")","v":"---"},{"$f":"SUMIFS('Пр. №3'!$BQ:$BQ,'Пр. №3'!$G:$G,'Пр. №1.2.'!$E25,'Пр. №3'!$D:$D,'Пр. №1.2.'!$B25)","v":0},{"$f":"IFERROR(INDEX('Пр. №4'!$1:$1048576,MATCH($I25,'Пр. №4'!$C:$C,0),MATCH('Пр. №3'!$D$5,'Пр. №4'!$9:$9,0)),\"---\")","v":"---"},null,"---"]
[null,null,{"$f":"IFERROR(INDEX(справочник!$G$1:$I$7,MATCH('Пр. №1.2.'!$G26,справочник!$G$1:$G$7,0),3),\"---\")","v":"---"},{"$f":"IFERROR(INDEX('Пр. №1'!$B$11:$C$33,MATCH('Пр. №1.2.'!$C26,'Пр. №1'!$B$11:$B$33,0),2),\"---\")","v":"---"},null,{"$f":"IFERROR(INDEX('Состав ВТК-ВРГ'!$1:$1048576,MATCH('Пр. №1.2.'!$E26,'Состав ВТК-ВРГ'!$B:$B,0),MATCH('Пр. №1.2.'!F$3,'Состав ВТК-ВРГ'!$3:$3,0)),\"---\")","v":"---"},{"$f":"IFERROR(INDEX('Состав ВТК-ВРГ'!$1:$1048576,MATCH('Пр. №1.2.'!$E26,'Состав ВТК-ВРГ'!$B:$B,0),MATCH('Пр. №1.2.'!G$3,'Состав ВТК-ВРГ'!$3:$3,0)),\"---\")","v":"---"},{"$f":"IFERROR(INDEX(справочник!$G$1:$I$7,MATCH('Пр. №1.2.'!$G26,справочник!$G$1:$G$7,0),2),\"---\")","v":"---"},{"$f":"IFERROR(INDEX('Состав ВТК-ВРГ'!$1:$1048576,MATCH('Пр. №1.2.'!$E26,'Состав ВТК-ВРГ'!$B:$B,0),MATCH('Пр. №1.2.'!I$3,'Состав ВТК-ВРГ'!$3:$3,0)),\"---\")","v":"---"},{"$f":"SUMIFS('Пр. №3'!$BQ:$BQ,'Пр. №3'!$G:$G,'Пр. №1.2.'!$E26,'Пр. №3'!$D:$D,'Пр. №1.2.'!$B26)","v":0},{"$f":"IFERROR(INDEX('Пр. №4'!$1:$1048576,MATCH($I26,'Пр. №4'!$C:$C,0),MATCH('Пр. №3'!$D$5,'Пр. №4'!$9:$9,0)),\"---\")","v":"---"},null,"---"]
[null,null,{"$f":"IFERROR(INDEX(справочник!$G$1:$I$7,MATCH('Пр. №1.2.'!$G27,справочник!$G$1:$G$7,0),3),\"---\")","v":"---"},{"$f":"IFERROR(INDEX('Пр. №1'!$B$11:$C$33,MATCH('Пр. №1.2.'!$C27,'Пр. №1'!$B$11:$B$33,0),2),\"---\")","v":"---"},null,{"$f":"IFERROR(INDEX('Состав ВТК-ВРГ'!$1:$1048576,MATCH('Пр. №1.2.'!$E27,'Состав ВТК-ВРГ'!$B:$B,0),MATCH('Пр. №1.2.'!F$3,'Состав ВТК-ВРГ'!$3:$3,0)),\"---\")","v":"---"},{"$f":"IFERROR(INDEX('Состав ВТК-ВРГ'!$1:$1048576,MATCH('Пр. №1.2.'!$E27,'Состав ВТК-ВРГ'!$B:$B,0),MATCH('Пр. №1.2.'!G$3,'Состав ВТК-ВРГ'!$3:$3,0)),\"---\")","v":"---"},{"$f":"IFERROR(INDEX(справочник!$G$1:$I$7,MATCH('Пр. №1.2.'!$G27,справочник!$G$1:$G$7,0),2),\"---\")","v":"---"},{"$f":"IFERROR(INDEX('Состав ВТК-ВРГ'!$1:$1048576,MATCH('Пр. №1.2.'!$E27,'Состав ВТК-ВРГ'!$B:$B,0),MATCH('Пр. №1.2.'!I$3,'Состав ВТК-ВРГ'!$3:$3,0)),\"---\")","v":"---"},{"$f":"SUMIFS('Пр. №3'!$BQ:$BQ,'Пр. №3'!$G:$G,'Пр. №1.2.'!$E27,'Пр. №3'!$D:$D,'Пр. №1.2.'!$B27)","v":0},{"$f":"IFERROR(INDEX('Пр. №4'!$1:$1048576,MATCH($I27,'Пр. №4'!$C:$C,0),MATCH('Пр. №3'!$D$5,'Пр. №4'!$9:$9,0)),\"---\")","v":"---"},null,"---"]
[null,null,{"$f":"IFERROR(INDEX(справочник!$G$1:$I$7,MATCH('Пр. №1.2.'!$G28,справочник!$G$1:$G$7,0),3),\"---\")","v":"---"},{"$f":"IFERROR(INDEX('Пр. №1'!$B$11:$C$33,MATCH('Пр. №1.2.'!$C28,'Пр. №1'!$B$11:$B$33,0),2),\"---\")","v":"---"},null,{"$f":"IFERROR(INDEX('Состав ВТК-ВРГ'!$1:$1048576,MATCH('Пр. №1.2.'!$E28,'Состав ВТК-ВРГ'!$B:$B,0),MATCH('Пр. №1.2.'!F$3,'Состав ВТК-ВРГ'!$3:$3,0)),\"---\")","v":"---"},{"$f":"IFERROR(INDEX('Состав ВТК-ВРГ'!$1:$1048576,MATCH('Пр. №1.2.'!$E28,'Состав ВТК-ВРГ'!$B:$B,0),MATCH('Пр. №1.2.'!G$3,'Состав ВТК-ВРГ'!$3:$3,0)),\"---\")","v":"---"},{"$f":"IFERROR(INDEX(справочник!$G$1:$I$7,MATCH('Пр. №1.2.'!$G28,справочник!$G$1:$G$7,0),2),\"---\")","v":"---"},{"$f":"IFERROR(INDEX('Состав ВТК-ВРГ'!$1:$1048576,MATCH('Пр. №1.2.'!$E28,'Состав ВТК-ВРГ'!$B:$B,0),MATCH('Пр. №1.2.'!I$3,'Состав ВТК-ВРГ'!$3:$3,0)),\"---\")","v":"---"},{"$f":"SUMIFS('Пр. №3'!$BQ:$BQ,'Пр. №3'!$G:$G,'Пр. №1.2.'!$E28,'Пр. №3'!$D:$D,'Пр. №1.2.'!$B28)","v":0},{"$f":"IFERROR(INDEX('Пр. №4'!$1:$1048576,MATCH($I28,'Пр. №4'!$C:$C,0),MATCH('Пр. №3'!$D$5,'Пр. №4'!$9:$9,0)),\"---\")","v":"---"},null,"---"]
[null,null,{"$f":"IFERROR(INDEX(справочник!$G$1:$I$7,MATCH('Пр. №1.2.'!$G29,справочник!$G$1:$G$7,0),3),\"---\")","v":"---"},{"$f":"IFERROR(INDEX('Пр. №1'!$B$11:$C$33,MATCH('Пр. №1.2.'!$C29,'Пр. №1'!$B$11:$B$33,0),2),\"---\")","v":"---"},null,{"$f":"IFERROR(INDEX('Состав ВТК-ВРГ'!$1:$1048576,MATCH('Пр. №1.2.'!$E29,'Состав ВТК-ВРГ'!$B:$B,0),MATCH('Пр. №1.2.'!F$3,'Состав ВТК-ВРГ'!$3:$3,0)),\"---\")","v":"---"},{"$f":"IFERROR(INDEX('Состав ВТК-ВРГ'!$1:$1048576,MATCH('Пр. №1.2.'!$E29,'Состав ВТК-ВРГ'!$B:$B,0),MATCH('Пр. №1.2.'!G$3,'Состав ВТК-ВРГ'!$3:$3,0)),\"---\")","v":"---"},{"$f":"IFERROR(INDEX(справочник!$G$1:$I$7,MATCH('Пр. №1.2.'!$G29,справочник!$G$1:$G$7,0),2),\"---\")","v":"---"},{"$f":"IFERROR(INDEX('Состав ВТК-ВРГ'!$1:$1048576,MATCH('Пр. №1.2.'!$E29,'Состав ВТК-ВРГ'!$B:$B,0),MATCH('Пр. №1.2.'!I$3,'Состав ВТК-ВРГ'!$3:$3,0)),\"---\")","v":"---"},{"$f":"SUMIFS('Пр. №3'!$BQ:$BQ,'Пр. №3'!$G:$G,'Пр. №1.2.'!$E29,'Пр. №3'!$D:$D,'Пр. №1.2.'!$B29)","v":0},{"$f":"IFERROR(INDEX('Пр. №4'!$1:$1048576,MATCH($I29,'Пр. №4'!$C:$C,0),MATCH('Пр. №3'!$D$5,'Пр. №4'!$9:$9,0)),\"---\")","v":"---"},null,"---"]
[null,null,{"$f":"IFERROR(INDEX(справочник!$G$1:$I$7,MATCH('Пр. №1.2.'!$G30,справочник!$G$1:$G$7,0),3),\"---\")","v":"---"},{"$f":"IFERROR(INDEX('Пр. №1'!$B$11:$C$33,MATCH('Пр. №1.2.'!$C30,'Пр. №1'!$B$11:$B$33,0),2),\"---\")","v":"---"},null,{"$f":"IFERROR(INDEX('Состав ВТК-ВРГ'!$1:$1048576,MATCH('Пр. №1.2.'!$E30,'Состав ВТК-ВРГ'!$B:$B,0),MATCH('Пр. №1.2.'!F$3,'Состав ВТК-ВРГ'!$3:$3,0)),\"---\")","v":"---"},{"$f":"IFERROR(INDEX('Состав ВТК-ВРГ'!$1:$1048576,MATCH('Пр. №1.2.'!$E30,'Состав ВТК-ВРГ'!$B:$B,0),MATCH('Пр. №1.2.'!G$3,'Состав ВТК-ВРГ'!$3:$3,0)),\"---\")","v":"---"},{"$f":"IFERROR(INDEX(справочник!$G$1:$I$7,MATCH('Пр. №1.2.'!$G30,справочник!$G$1:$G$7,0),2),\"---\")","v":"---"},{"$f":"IFERROR(INDEX('Состав ВТК-ВРГ'!$1:$1048576,MATCH('Пр. №1.2.'!$E30,'Состав ВТК-ВРГ'!$B:$B,0),MATCH('Пр. №1.2.'!I$3,'Состав ВТК-ВРГ'!$3:$3,0)),\"---\")","v":"---"},{"$f":"SUMIFS('Пр. №3'!$BQ:$BQ,'Пр. №3'!$G:$G,'Пр. №1.2.'!$E30,'Пр. №3'!$D:$D,'Пр. №1.2.'!$B30)","v":0},{"$f":"IFERROR(INDEX('Пр. №4'!$1:$1048576,MATCH($I30,'Пр. №4'!$C:$C,0),MATCH('Пр. №3'!$D$5,'Пр. №4'!$9:$9,0)),\"---\")","v":"---"},null,"---"]
[null,null,{"$f":"IFERROR(INDEX(справочник!$G$1:$I$7,MATCH('Пр. №1.2.'!$G31,справочник!$G$1:$G$7,0),3),\"---\")","v":"---"},{"$f":"IFERROR(INDEX('Пр. №1'!$B$11:$C$33,MATCH('Пр. №1.2.'!$C31,'Пр. №1'!$B$11:$B$33,0),2),\"---\")","v":"---"},null,{"$f":"IFERROR(INDEX('Состав ВТК-ВРГ'!$1:$1048576,MATCH('Пр. №1.2.'!$E31,'Состав ВТК-ВРГ'!$B:$B,0),MATCH('Пр. №1.2.'!F$3,'Состав ВТК-ВРГ'!$3:$3,0)),\"---\")","v":"---"},{"$f":"IFERROR(INDEX('Состав ВТК-ВРГ'!$1:$1048576,MATCH('Пр. №1.2.'!$E31,'Состав ВТК-ВРГ'!$B:$B,0),MATCH('Пр. №1.2.'!G$3,'Состав ВТК-ВРГ'!$3:$3,0)),\"---\")","v":"---"},{"$f":"IFERROR(INDEX(справочник!$G$1:$I$7,MATCH('Пр. №1.2.'!$G31,справочник!$G$1:$G$7,0),2),\"---\")","v":"---"},{"$f":"IFERROR(INDEX('Состав ВТК-ВРГ'!$1:$1048576,MATCH('Пр. №1.2.'!$E31,'Состав ВТК-ВРГ'!$B:$B,0),MATCH('Пр. №1.2.'!I$3,'Состав ВТК-ВРГ'!$3:$3,0)),\"---\")","v":"---"},{"$f":"SUMIFS('Пр. №3'!$BQ:$BQ,'Пр. №3'!$G:$G,'Пр. №1.2.'!$E31,'Пр. №3'!$D:$D,'Пр. №1.2.'!$B31)","v":0},{"$f":"IFERROR(INDEX('Пр. №4'!$1:$1048576,MATCH($I31,'Пр. №4'!$C:$C,0),MATCH('Пр. №3'!$D$5,'Пр. №4'!$9:$9,0)),\"---\")","v":"---"},null,"---"]
[null,null,{"$f":"IFERROR(INDEX(справочник!$G$1:$I$7,MATCH('Пр. №1.2.'!$G32,справочник!$G$1:$G$7,0),3),\"---\")","v":"---"},{"$f":"IFERROR(INDEX('Пр. №1'!$B$11:$C$33,MATCH('Пр. №1.2.'!$C32,'Пр. №1'!$B$11:$B$33,0),2),\"---\")","v":"---"},null,{"$f":"IFERROR(INDEX('Состав ВТК-ВРГ'!$1:$1048576,MATCH('Пр. №1.2.'!$E32,'Состав ВТК-ВРГ'!$B:$B,0),MATCH('Пр. №1.2.'!F$3,'Состав ВТК-ВРГ'!$3:$3,0)),\"---\")","v":"---"},{"$f":"IFERROR(INDEX('Состав ВТК-ВРГ'!$1:$1048576,MATCH('Пр. №1.2.'!$E32,'Состав ВТК-ВРГ'!$B:$B,0),MATCH('Пр. №1.2.'!G$3,'Состав ВТК-ВРГ'!$3:$3,0)),\"---\")","v":"---"},{"$f":"IFERROR(INDEX(справочник!$G$1:$I$7,MATCH('Пр. №1.2.'!$G32,справочник!$G$1:$G$7,0),2),\"---\")","v":"---"},{"$f":"IFERROR(INDEX('Состав ВТК-ВРГ'!$1:$1048576,MATCH('Пр. №1.2.'!$E32,'Состав ВТК-ВРГ'!$B:$B,0),MATCH('Пр. №1.2.'!I$3,'Состав ВТК-ВРГ'!$3:$3,0)),\"---\")","v":"---"},{"$f":"SUMIFS('Пр. №3'!$BQ:$BQ,'Пр. №3'!$G:$G,'Пр. №1.2.'!$E32,'Пр. №3'!$D:$D,'Пр. №1.2.'!$B32)","v":0},{"$f":"IFERROR(INDEX('Пр. №4'!$1:$1048576,MATCH($I32,'Пр. №4'!$C:$C,0),MATCH('Пр. №3'!$D$5,'Пр. №4'!$9:$9,0)),\"---\")","v":"---"},null,"---"]
[null,null,{"$f":"IFERROR(INDEX(справочник!$G$1:$I$7,MATCH('Пр. №1.2.'!$G33,справочник!$G$1:$G$7,0),3),\"---\")","v":"---"},{"$f":"IFERROR(INDEX('Пр. №1'!$B$11:$C$33,MATCH('Пр. №1.2.'!$C33,'Пр. №1'!$B$11:$B$33,0),2),\"---\")","v":"---"},null,{"$f":"IFERROR(INDEX('Состав ВТК-ВРГ'!$1:$1048576,MATCH('Пр. №1.2.'!$E33,'Состав ВТК-ВРГ'!$B:$B,0),MATCH('Пр. №1.2.'!F$3,'Состав ВТК-ВРГ'!$3:$3,0)),\"---\")","v":"---"},{"$f":"IFERROR(INDEX('Состав ВТК-ВРГ'!$1:$1048576,MATCH('Пр. №1.2.'!$E33,'Состав ВТК-ВРГ'!$B:$B,0),MATCH('Пр. №1.2.'!G$3,'Состав ВТК-ВРГ'!$3:$3,0)),\"---\")","v":"---"},{"$f":"IFERROR(INDEX(справочник!$G$1:$I$7,MATCH('Пр. №1.2.'!$G33,справочник!$G$1:$G$7,0),2),\"---\")","v":"---"},{"$f":"IFERROR(INDEX('Состав ВТК-ВРГ'!$1:$1048576,MATCH('Пр. №1.2.'!$E33,'Состав ВТК-ВРГ'!$B:$B,0),MATCH('Пр. №1.2.'!I$3,'Состав ВТК-ВРГ'!$3:$3,0)),\"---\")","v":"---"},{"$f":"SUMIFS('Пр. №3'!$BQ:$BQ,'Пр. №3'!$G:$G,'Пр. №1.2.'!$E33,'Пр. №3'!$D:$D,'Пр. №1.2.'!$B33)","v":0},{"$f":"IFERROR(INDEX('Пр. №4'!$1:$1048576,MATCH($I33,'Пр. №4'!$C:$C,0),MATCH('Пр. №3'!$D$5,'Пр. №4'!$9:$9,0)),\"---\")","v":"---"},null,"---"]
[null,null,{"$f":"IFERROR(INDEX(справочник!$G$1:$I$7,MATCH('Пр. №1.2.'!$G34,справочник!$G$1:$G$7,0),3),\"---\")","v":"---"},{"$f":"IFERROR(INDEX('Пр. №1'!$B$11:$C$33,MATCH('Пр. №1.2.'!$C34,'Пр. №1'!$B$11:$B$33,0),2),\"---\")","v":"---"},null,{"$f":"IFERROR(INDEX('Состав ВТК-ВРГ'!$1:$1048576,MATCH('Пр. №1.2.'!$E34,'Состав ВТК-ВРГ'!$B:$B,0),MATCH('Пр. №1.2.'!F$3,'Состав ВТК-ВРГ'!$3:$3,0)),\"---\")","v":"---"},{"$f":"IFERROR(INDEX('Состав ВТК-ВРГ'!$1:$1048576,MATCH('Пр. №1.2.'!$E34,'Состав ВТК-ВРГ'!$B:$B,0),MATCH('Пр. №1.2.'!G$3,'Состав ВТК-ВРГ'!$3:$3,0)),\"---\")","v":"---"},{"$f":"IFERROR(INDEX(справочник!$G$1:$I$7,MATCH('Пр. №1.2.'!$G34,справочник!$G$1:$G$7,0),2),\"---\")","v":"---"},{"$f":"IFERROR(INDEX('Состав ВТК-ВРГ'!$1:$1048576,MATCH('Пр. №1.2.'!$E34,'Состав ВТК-ВРГ'!$B:$B,0),MATCH('Пр. №1.2.'!I$3,'Состав ВТК-ВРГ'!$3:$3,0)),\"---\")","v":"---"},{"$f":"SUMIFS('Пр. №3'!$BQ:$BQ,'Пр. №3'!$G:$G,'Пр. №1.2.'!$E34,'Пр. №3'!$D:$D,'Пр. №1.2.'!$B34)","v":0},{"$f":"IFERROR(INDEX('Пр. №4'!$1:$1048576,MATCH($I34,'Пр. №4'!$C:$C,0),MATCH('Пр. №3'!$D$5,'Пр. №4'!$9:$9,0)),\"---\")","v":"---"},null,"---"]
[null,null,{"$f":"IFERROR(INDEX(справочник!$G$1:$I$7,MATCH('Пр. №1.2.'!$G35,справочник!$G$1:$G$7,0),3),\"---\")","v":"---"},{"$f":"IFERROR(INDEX('Пр. №1'!$B$11:$C$33,MATCH('Пр. №1.2.'!$C35,'Пр. №1'!$B$11:$B$33,0),2),\"---\")","v":"---"},null,{"$f":"IFERROR(INDEX('Состав ВТК-ВРГ'!$1:$1048576,MATCH('Пр. №1.2.'!$E35,'Состав ВТК-ВРГ'!$B:$B,0),MATCH('Пр. №1.2.'!F$3,'Состав ВТК-ВРГ'!$3:$3,0)),\"---\")","v":"---"},{"$f":"IFERROR(INDEX('Состав ВТК-ВРГ'!$1:$1048576,MATCH('Пр. №1.2.'!$E35,'Состав ВТК-ВРГ'!$B:$B,0),MATCH('Пр. №1.2.'!G$3,'Состав ВТК-ВРГ'!$3:$3,0)),\"---\")","v":"---"},{"$f":"IFERROR(INDEX(справочник!$G$1:$I$7,MATCH('Пр. №1.2.'!$G35,справочник!$G$1:$G$7,0),2),\"---\")","v":"---"},{"$f":"IFERROR(INDEX('Состав ВТК-ВРГ'!$1:$1048576,MATCH('Пр. №1.2.'!$E35,'Состав ВТК-ВРГ'!$B:$B,0),MATCH('Пр. №1.2.'!I$3,'Состав ВТК-ВРГ'!$3:$3,0)),\"---\")","v":"---"},{"$f":"SUMIFS('Пр. №3'!$BQ:$BQ,'Пр. №3'!$G:$G,'Пр. №1.2.'!$E35,'Пр. №3'!$D:$D,'Пр. №1.2.'!$B35)","v":0},{"$f":"IFERROR(INDEX('Пр. №4'!$1:$1048576,MATCH($I35,'Пр. №4'!$C:$C,0),MATCH('Пр. №3'!$D$5,'Пр. №4'!$9:$9,0)),\"---\")","v":"---"},null,"---"]
[null,null,{"$f":"IFERROR(INDEX(справочник!$G$1:$I$7,MATCH('Пр. №1.2.'!$G36,справочник!$G$1:$G$7,0),3),\"---\")","v":"---"},{"$f":"IFERROR(INDEX('Пр. №1'!$B$11:$C$33,MATCH('Пр. №1.2.'!$C36,'Пр. №1'!$B$11:$B$33,0),2),\"---\")","v":"---"},null,{"$f":"IFERROR(INDEX('Состав ВТК-ВРГ'!$1:$1048576,MATCH('Пр. №1.2.'!$E36,'Состав ВТК-ВРГ'!$B:$B,0),MATCH('Пр. №1.2.'!F$3,'Состав ВТК-ВРГ'!$3:$3,0)),\"---\")","v":"---"},{"$f":"IFERROR(INDEX('Состав ВТК-ВРГ'!$1:$1048576,MATCH('Пр. №1.2.'!$E36,'Состав ВТК-ВРГ'!$B:$B,0),MATCH('Пр. №1.2.'!G$3,'Состав ВТК-ВРГ'!$3:$3,0)),\"---\")","v":"---"},{"$f":"IFERROR(INDEX(справочник!$G$1:$I$7,MATCH('Пр. №1.2.'!$G36,справочник!$G$1:$G$7,0),2),\"---\")","v":"---"},{"$f":"IFERROR(INDEX('Состав ВТК-ВРГ'!$1:$1048576,MATCH('Пр. №1.2.'!$E36,'Состав ВТК-ВРГ'!$B:$B,0),MATCH('Пр. №1.2.'!I$3,'Состав ВТК-ВРГ'!$3:$3,0)),\"---\")","v":"---"},{"$f":"SUMIFS('Пр. №3'!$BQ:$BQ,'Пр. №3'!$G:$G,'Пр. №1.2.'!$E36,'Пр. №3'!$D:$D,'Пр. №1.2.'!$B36)","v":0},{"$f":"IFERROR(INDEX('Пр. №4'!$1:$1048576,MATCH($I36,'Пр. №4'!$C:$C,0),MATCH('Пр. №3'!$D$5,'Пр. №4'!$9:$9,0)),\"---\")","v":"---"},null,"---"]
[null,null,{"$f":"IFERROR(INDEX(справочник!$G$1:$I$7,MATCH('Пр. №1.2.'!$G37,справочник!$G$1:$G$7,0),3),\"---\")","v":"---"},{"$f":"IFERROR(INDEX('Пр. №1'!$B$11:$C$33,MATCH('Пр. №1.2.'!$C37,'Пр. №1'!$B$11:$B$33,0),2),\"---\")","v":"---"},null,{"$f":"IFERROR(INDEX('Состав ВТК-ВРГ'!$1:$1048576,MATCH('Пр. №1.2.'!$E37,'Состав ВТК-ВРГ'!$B:$B,0),MATCH('Пр. №1.2.'!F$3,'Состав ВТК-ВРГ'!$3:$3,0)),\"---\")","v":"---"},{"$f":"IFERROR(INDEX('Состав ВТК-ВРГ'!$1:$1048576,MATCH('Пр. №1.2.'!$E37,'Состав ВТК-ВРГ'!$B:$B,0),MATCH('Пр. №1.2.'!G$3,'Состав ВТК-ВРГ'!$3:$3,0)),\"---\")","v":"---"},{"$f":"IFERROR(INDEX(справочник!$G$1:$I$7,MATCH('Пр. №1.2.'!$G37,справочник!$G$1:$G$7,0),2),\"---\")","v":"---"},{"$f":"IFERROR(INDEX('Состав ВТК-ВРГ'!$1:$1048576,MATCH('Пр. №1.2.'!$E37,'Состав ВТК-ВРГ'!$B:$B,0),MATCH('Пр. №1.2.'!I$3,'Состав ВТК-ВРГ'!$3:$3,0)),\"---\")","v":"---"},{"$f":"SUMIFS('Пр. №3'!$BQ:$BQ,'Пр. №3'!$G:$G,'Пр. №1.2.'!$E37,'Пр. №3'!$D:$D,'Пр. №1.2.'!$B37)","v":0},{"$f":"IFERROR(INDEX('Пр. №4'!$1:$1048576,MATCH($I37,'Пр. №4'!$C:$C,0),MATCH('Пр. №3'!$D$5,'Пр. №4'!$9:$9,0)),\"---\")","v":"---"},null,"---"]
[null,null,{"$f":"IFERROR(INDEX(справочник!$G$1:$I$7,MATCH('Пр. №1.2.'!$G38,справочник!$G$1:$G$7,0),3),\"---\")","v":"---"},{"$f":"IFERROR(INDEX('Пр. №1'!$B$11:$C$33,MATCH('Пр. №1.2.'!$C38,'Пр. №1'!$B$11:$B$33,0),2),\"---\")","v":"---"},null,{"$f":"IFERROR(INDEX('Состав ВТК-ВРГ'!$1:$1048576,MATCH('Пр. №1.2.'!$E38,'Состав ВТК-ВРГ'!$B:$B,0),MATCH('Пр. №1.2.'!F$3,'Состав ВТК-ВРГ'!$3:$3,0)),\"---\")","v":"---"},{"$f":"IFERROR(INDEX('Состав ВТК-ВРГ'!$1:$1048576,MATCH('Пр. №1.2.'!$E38,'Состав ВТК-ВРГ'!$B:$B,0),MATCH('Пр. №1.2.'!G$3,'Состав ВТК-ВРГ'!$3:$3,0)),\"---\")","v":"---"},{"$f":"IFERROR(INDEX(справочник!$G$1:$I$7,MATCH('Пр. №1.2.'!$G38,справочник!$G$1:$G$7,0),2),\"---\")","v":"---"},{"$f":"IFERROR(INDEX('Состав ВТК-ВРГ'!$1:$1048576,MATCH('Пр. №1.2.'!$E38,'Состав ВТК-ВРГ'!$B:$B,0),MATCH('Пр. №1.2.'!I$3,'Состав ВТК-ВРГ'!$3:$3,0)),\"---\")","v":"---"},{"$f":"SUMIFS('Пр. №3'!$BQ:$BQ,'Пр. №3'!$G:$G,'Пр. №1.2.'!$E38,'Пр. №3'!$D:$D,'Пр. №1.2.'!$B38)","v":0},{"$f":"IFERROR(INDEX('Пр. №4'!$1:$1048576,MATCH($I38,'Пр. №4'!$C:$C,0),MATCH('Пр. №3'!$D$5,'Пр. №4'!$9:$9,0)),\"---\")","v":"---"},null,"---"]
[null,null,{"$f":"IFERROR(INDEX(справочник!$G$1:$I$7,MATCH('Пр. №1.2.'!$G39,справочник!$G$1:$G$7,0),3),\"---\")","v":"---"},{"$f":"IFERROR(INDEX('Пр. №1'!$B$11:$C$33,MATCH('Пр. №1.2.'!$C39,'Пр. №1'!$B$11:$B$33,0),2),\"---\")","v":"---"},null,{"$f":"IFERROR(INDEX('Состав ВТК-ВРГ'!$1:$1048576,MATCH('Пр. №1.2.'!$E39,'Состав ВТК-ВРГ'!$B:$B,0),MATCH('Пр. №1.2.'!F$3,'Состав ВТК-ВРГ'!$3:$3,0)),\"---\")","v":"---"},{"$f":"IFERROR(INDEX('Состав ВТК-ВРГ'!$1:$1048576,MATCH('Пр. №1.2.'!$E39,'Состав ВТК-ВРГ'!$B:$B,0),MATCH('Пр. №1.2.'!G$3,'Состав ВТК-ВРГ'!$3:$3,0)),\"---\")","v":"---"},{"$f":"IFERROR(INDEX(справочник!$G$1:$I$7,MATCH('Пр. №1.2.'!$G39,справочник!$G$1:$G$7,0),2),\"---\")","v":"---"},{"$f":"IFERROR(INDEX('Состав ВТК-ВРГ'!$1:$1048576,MATCH('Пр. №1.2.'!$E39,'Состав ВТК-ВРГ'!$B:$B,0),MATCH('Пр. №1.2.'!I$3,'Состав ВТК-ВРГ'!$3:$3,0)),\"---\")","v":"---"},{"$f":"SUMIFS('Пр. №3'!$BQ:$BQ,'Пр. №3'!$G:$G,'Пр. №1.2.'!$E39,'Пр. №3'!$D:$D,'Пр. №1.2.'!$B39)","v":0},{"$f":"IFERROR(INDEX('Пр. №4'!$1:$1048576,MATCH($I39,'Пр. №4'!$C:$C,0),MATCH('Пр. №3'!$D$5,'Пр. №4'!$9:$9,0)),\"---\")","v":"---"},null,"---"]
[null,null,{"$f":"IFERROR(INDEX(справочник!$G$1:$I$7,MATCH('Пр. №1.2.'!$G40,справочник!$G$1:$G$7,0),3),\"---\")","v":"---"},{"$f":"IFERROR(INDEX('Пр. №1'!$B$11:$C$33,MATCH('Пр. №1.2.'!$C40,'Пр. №1'!$B$11:$B$33,0),2),\"---\")","v":"---"},null,{"$f":"IFERROR(INDEX('Состав ВТК-ВРГ'!$1:$1048576,MATCH('Пр. №1.2.'!$E40,'Состав ВТК-ВРГ'!$B:$B,0),MATCH('Пр. №1.2.'!F$3,'Состав ВТК-ВРГ'!$3:$3,0)),\"---\")","v":"---"},{"$f":"IFERROR(INDEX('Состав ВТК-ВРГ'!$1:$1048576,MATCH('Пр. №1.2.'!$E40,'Состав ВТК-ВРГ'!$B:$B,0),MATCH('Пр. №1.2.'!G$3,'Состав ВТК-ВРГ'!$3:$3,0)),\"---\")","v":"---"},{"$f":"IFERROR(INDEX(справочник!$G$1:$I$7,MATCH('Пр. №1.2.'!$G40,справочник!$G$1:$G$7,0),2),\"---\")","v":"---"},{"$f":"IFERROR(INDEX('Состав ВТК-ВРГ'!$1:$1048576,MATCH('Пр. №1.2.'!$E40,'Состав ВТК-ВРГ'!$B:$B,0),MATCH('Пр. №1.2.'!I$3,'Состав ВТК-ВРГ'!$3:$3,0)),\"---\")","v":"---"},{"$f":"SUMIFS('Пр. №3'!$BQ:$BQ,'Пр. №3'!$G:$G,'Пр. №1.2.'!$E40,'Пр. №3'!$D:$D,'Пр. №1.2.'!$B40)","v":0},{"$f":"IFERROR(INDEX('Пр. №4'!$1:$1048576,MATCH($I40,'Пр. №4'!$C:$C,0),MATCH('Пр. №3'!$D$5,'Пр. №4'!$9:$9,0)),\"---\")","v":"---"},null,"---"]
[null,null,{"$f":"IFERROR(INDEX(справочник!$G$1:$I$7,MATCH('Пр. №1.2.'!$G41,справочник!$G$1:$G$7,0),3),\"---\")","v":"---"},{"$f":"IFERROR(INDEX('Пр. №1'!$B$11:$C$33,MATCH('Пр. №1.2.'!$C41,'Пр. №1'!$B$11:$B$33,0),2),\"---\")","v":"---"},null,{"$f":"IFERROR(INDEX('Состав ВТК-ВРГ'!$1:$1048576,MATCH('Пр. №1.2.'!$E41,'Состав ВТК-ВРГ'!$B:$B,0),MATCH('Пр. №1.2.'!F$3,'Состав ВТК-ВРГ'!$3:$3,0)),\"---\")","v":"---"},{"$f":"IFERROR(INDEX('Состав ВТК-ВРГ'!$1:$1048576,MATCH('Пр. №1.2.'!$E41,'Состав ВТК-ВРГ'!$B:$B,0),MATCH('Пр. №1.2.'!G$3,'Состав ВТК-ВРГ'!$3:$3,0)),\"---\")","v":"---"},{"$f":"IFERROR(INDEX(справочник!$G$1:$I$7,MATCH('Пр. №1.2.'!$G41,справочник!$G$1:$G$7,0),2),\"---\")","v":"---"},{"$f":"IFERROR(INDEX('Состав ВТК-ВРГ'!$1:$1048576,MATCH('Пр. №1.2.'!$E41,'Состав ВТК-ВРГ'!$B:$B,0),MATCH('Пр. №1.2.'!I$3,'Состав ВТК-ВРГ'!$3:$3,0)),\"---\")","v":"---"},{"$f":"SUMIFS('Пр. №3'!$BQ:$BQ,'Пр. №3'!$G:$G,'Пр. №1.2.'!$E41,'Пр. №3'!$D:$D,'Пр. №1.2.'!$B41)","v":0},{"$f":"IFERROR(INDEX('Пр. №4'!$1:$1048576,MATCH($I41,'Пр. №4'!$C:$C,0),MATCH('Пр. №3'!$D$5,'Пр. №4'!$9:$9,0)),\"---\")","v":"---"},null,"---"]
[null,null,{"$f":"IFERROR(INDEX(справочник!$G$1:$I$7,MATCH('Пр. №1.2.'!$G42,справочник!$G$1:$G$7,0),3),\"---\")","v":"---"},{"$f":"IFERROR(INDEX('Пр. №1'!$B$11:$C$33,MATCH('Пр. №1.2.'!$C42,'Пр. №1'!$B$11:$B$33,0),2),\"---\")","v":"---"},null,{"$f":"IFERROR(INDEX('Состав ВТК-ВРГ'!$1:$1048576,MATCH('Пр. №1.2.'!$E42,'Состав ВТК-ВРГ'!$B:$B,0),MATCH('Пр. №1.2.'!F$3,'Состав ВТК-ВРГ'!$3:$3,0)),\"---\")","v":"---"},{"$f":"IFERROR(INDEX('Состав ВТК-ВРГ'!$1:$1048576,MATCH('Пр. №1.2.'!$E42,'Состав ВТК-ВРГ'!$B:$B,0),MATCH('Пр. №1.2.'!G$3,'Состав ВТК-ВРГ'!$3:$3,0)),\"---\")","v":"---"},{"$f":"IFERROR(INDEX(справочник!$G$1:$I$7,MATCH('Пр. №1.2.'!$G42,справочник!$G$1:$G$7,0),2),\"---\")","v":"---"},{"$f":"IFERROR(INDEX('Состав ВТК-ВРГ'!$1:$1048576,MATCH('Пр. №1.2.'!$E42,'Состав ВТК-ВРГ'!$B:$B,0),MATCH('Пр. №1.2.'!I$3,'Состав ВТК-ВРГ'!$3:$3,0)),\"---\")","v":"---"},{"$f":"SUMIFS('Пр. №3'!$BQ:$BQ,'Пр. №3'!$G:$G,'Пр. №1.2.'!$E42,'Пр. №3'!$D:$D,'Пр. №1.2.'!$B42)","v":0},{"$f":"IFERROR(INDEX('Пр. №4'!$1:$1048576,MATCH($I42,'Пр. №4'!$C:$C,0),MATCH('Пр. №3'!$D$5,'Пр. №4'!$9:$9,0)),\"---\")","v":"---"},null,"---"]
[null,null,{"$f":"IFERROR(INDEX(справочник!$G$1:$I$7,MATCH('Пр. №1.2.'!$G43,справочник!$G$1:$G$7,0),3),\"---\")","v":"---"},{"$f":"IFERROR(INDEX('Пр. №1'!$B$11:$C$33,MATCH('Пр. №1.2.'!$C43,'Пр. №1'!$B$11:$B$33,0),2),\"---\")","v":"---"},null,{"$f":"IFERROR(INDEX('Состав ВТК-ВРГ'!$1:$1048576,MATCH('Пр. №1.2.'!$E43,'Состав ВТК-ВРГ'!$B:$B,0),MATCH('Пр. №1.2.'!F$3,'Состав ВТК-ВРГ'!$3:$3,0)),\"---\")","v":"---"},{"$f":"IFERROR(INDEX('Состав ВТК-ВРГ'!$1:$1048576,MATCH('Пр. №1.2.'!$E43,'Состав ВТК-ВРГ'!$B:$B,0),MATCH('Пр. №1.2.'!G$3,'Состав ВТК-ВРГ'!$3:$3,0)),\"---\")","v":"---"},{"$f":"IFERROR(INDEX(справочник!$G$1:$I$7,MATCH('Пр. №1.2.'!$G43,справочник!$G$1:$G$7,0),2),\"---\")","v":"---"},{"$f":"IFERROR(INDEX('Состав ВТК-ВРГ'!$1:$1048576,MATCH('Пр. №1.2.'!$E43,'Состав ВТК-ВРГ'!$B:$B,0),MATCH('Пр. №1.2.'!I$3,'Состав ВТК-ВРГ'!$3:$3,0)),\"---\")","v":"---"},{"$f":"SUMIFS('Пр. №3'!$BQ:$BQ,'Пр. №3'!$G:$G,'Пр. №1.2.'!$E43,'Пр. №3'!$D:$D,'Пр. №1.2.'!$B43)","v":0},{"$f":"IFERROR(INDEX('Пр. №4'!$1:$1048576,MATCH($I43,'Пр. №4'!$C:$C,0),MATCH('Пр. №3'!$D$5,'Пр. №4'!$9:$9,0)),\"---\")","v":"---"},null,"---"]
[null,null,{"$f":"IFERROR(INDEX(справочник!$G$1:$I$7,MATCH('Пр. №1.2.'!$G44,справочник!$G$1:$G$7,0),3),\"---\")","v":"---"},{"$f":"IFERROR(INDEX('Пр. №1'!$B$11:$C$33,MATCH('Пр. №1.2.'!$C44,'Пр. №1'!$B$11:$B$33,0),2),\"---\")","v":"---"},null,{"$f":"IFERROR(INDEX('Состав ВТК-ВРГ'!$1:$1048576,MATCH('Пр. №1.2.'!$E44,'Состав ВТК-ВРГ'!$B:$B,0),MATCH('Пр. №1.2.'!F$3,'Состав ВТК-ВРГ'!$3:$3,0)),\"---\")","v":"---"},{"$f":"IFERROR(INDEX('Состав ВТК-ВРГ'!$1:$1048576,MATCH('Пр. №1.2.'!$E44,'Состав ВТК-ВРГ'!$B:$B,0),MATCH('Пр. №1.2.'!G$3,'Состав ВТК-ВРГ'!$3:$3,0)),\"---\")","v":"---"},{"$f":"IFERROR(INDEX(справочник!$G$1:$I$7,MATCH('Пр. №1.2.'!$G44,справочник!$G$1:$G$7,0),2),\"---\")","v":"---"},{"$f":"IFERROR(INDEX('Состав ВТК-ВРГ'!$1:$1048576,MATCH('Пр. №1.2.'!$E44,'Состав ВТК-ВРГ'!$B:$B,0),MATCH('Пр. №1.2.'!I$3,'Состав ВТК-ВРГ'!$3:$3,0)),\"---\")","v":"---"},{"$f":"SUMIFS('Пр. №3'!$BQ:$BQ,'Пр. №3'!$G:$G,'Пр. №1.2.'!$E44,'Пр. №3'!$D:$D,'Пр. №1.2.'!$B44)","v":0},{"$f":"IFERROR(INDEX('Пр. №4'!$1:$1048576,MATCH($I44,'Пр. №4'!$C:$C,0),MATCH('Пр. №3'!$D$5,'Пр. №4'!$9:$9,0)),\"---\")","v":"---"},null,"---"]
[null,null,{"$f":"IFERROR(INDEX(справочник!$G$1:$I$7,MATCH('Пр. №1.2.'!$G45,справочник!$G$1:$G$7,0),3),\"---\")","v":"---"},{"$f":"IFERROR(INDEX('Пр. №1'!$B$11:$C$33,MATCH('Пр. №1.2.'!$C45,'Пр. №1'!$B$11:$B$33,0),2),\"---\")","v":"---"},null,{"$f":"IFERROR(INDEX('Состав ВТК-ВРГ'!$1:$1048576,MATCH('Пр. №1.2.'!$E45,'Состав ВТК-ВРГ'!$B:$B,0),MATCH('Пр. №1.2.'!F$3,'Состав ВТК-ВРГ'!$3:$3,0)),\"---\")","v":"---"},{"$f":"IFERROR(INDEX('Состав ВТК-ВРГ'!$1:$1048576,MATCH('Пр. №1.2.'!$E45,'Состав ВТК-ВРГ'!$B:$B,0),MATCH('Пр. №1.2.'!G$3,'Состав ВТК-ВРГ'!$3:$3,0)),\"---\")","v":"---"},{"$f":"IFERROR(INDEX(справочник!$G$1:$I$7,MATCH('Пр. №1.2.'!$G45,справочник!$G$1:$G$7,0),2),\"---\")","v":"---"},{"$f":"IFERROR(INDEX('Состав ВТК-ВРГ'!$1:$1048576,MATCH('Пр. №1.2.'!$E45,'Состав ВТК-ВРГ'!$B:$B,0),MATCH('Пр. №1.2.'!I$3,'Состав ВТК-ВРГ'!$3:$3,0)),\"---\")","v":"---"},{"$f":"SUMIFS('Пр. №3'!$BQ:$BQ,'Пр. №3'!$G:$G,'Пр. №1.2.'!$E45,'Пр. №3'!$D:$D,'Пр. №1.2.'!$B45)","v":0},{"$f":"IFERROR(INDEX('Пр. №4'!$1:$1048576,MATCH($I45,'Пр. №4'!$C:$C,0),MATCH('Пр. №3'!$D$5,'Пр. №4'!$9:$9,0)),\"---\")","v":"---"},null,"---"]
[null,null,{"$f":"IFERROR(INDEX(справочник!$G$1:$I$7,MATCH('Пр. №1.2.'!$G46,справочник!$G$1:$G$7,0),3),\"---\")","v":"---"},{"$f":"IFERROR(INDEX('Пр. №1'!$B$11:$C$33,MATCH('Пр. №1.2.'!$C46,'Пр. №1'!$B$11:$B$33,0),2),\"---\")","v":"---"},null,{"$f":"IFERROR(INDEX('Состав ВТК-ВРГ'!$1:$1048576,MATCH('Пр. №1.2.'!$E46,'Состав ВТК-ВРГ'!$B:$B,0),MATCH('Пр. №1.2.'!F$3,'Состав ВТК-ВРГ'!$3:$3,0)),\"---\")","v":"---"},{"$f":"IFERROR(INDEX('Состав ВТК-ВРГ'!$1:$1048576,MATCH('Пр. №1.2.'!$E46,'Состав ВТК-ВРГ'!$B:$B,0),MATCH('Пр. №1.2.'!G$3,'Состав ВТК-ВРГ'!$3:$3,0)),\"---\")","v":"---"},{"$f":"IFERROR(INDEX(справочник!$G$1:$I$7,MATCH('Пр. №1.2.'!$G46,справочник!$G$1:$G$7,0),2),\"---\")","v":"---"},{"$f":"IFERROR(INDEX('Состав ВТК-ВРГ'!$1:$1048576,MATCH('Пр. №1.2.'!$E46,'Состав ВТК-ВРГ'!$B:$B,0),MATCH('Пр. №1.2.'!I$3,'Состав ВТК-ВРГ'!$3:$3,0)),\"---\")","v":"---"},{"$f":"SUMIFS('Пр. №3'!$BQ:$BQ,'Пр. №3'!$G:$G,'Пр. №1.2.'!$E46,'Пр. №3'!$D:$D,'Пр. №1.2.'!$B46)","v":0},{"$f":"IFERROR(INDEX('Пр. №4'!$1:$1048576,MATCH($I46,'Пр. №4'!$C:$C,0),MATCH('Пр. №3'!$D$5,'Пр. №4'!$9:$9,0)),\"---\")","v":"---"},null,"---"]
[null,null,{"$f":"IFERROR(INDEX(справочник!$G$1:$I$7,MATCH('Пр. №1.2.'!$G47,справочник!$G$1:$G$7,0),3),\"---\")","v":"---"},{"$f":"IFERROR(INDEX('Пр. №1'!$B$11:$C$33,MATCH('Пр. №1.2.'!$C47,'Пр. №1'!$B$11:$B$33,0),2),\"---\")","v":"---"},null,{"$f":"IFERROR(INDEX('Состав ВТК-ВРГ'!$1:$1048576,MATCH('Пр. №1.2.'!$E47,'Состав ВТК-ВРГ'!$B:$B,0),MATCH('Пр. №1.2.'!F$3,'Состав ВТК-ВРГ'!$3:$3,0)),\"---\")","v":"---"},{"$f":"IFERROR(INDEX('Состав ВТК-ВРГ'!$1:$1048576,MATCH('Пр. №1.2.'!$E47,'Состав ВТК-ВРГ'!$B:$B,0),MATCH('Пр. №1.2.'!G$3,'Состав ВТК-ВРГ'!$3:$3,0)),\"---\")","v":"---"},{"$f":"IFERROR(INDEX(справочник!$G$1:$I$7,MATCH('Пр. №1.2.'!$G47,справочник!$G$1:$G$7,0),2),\"---\")","v":"---"},{"$f":"IFERROR(INDEX('Состав ВТК-ВРГ'!$1:$1048576,MATCH('Пр. №1.2.'!$E47,'Состав ВТК-ВРГ'!$B:$B,0),MATCH('Пр. №1.2.'!I$3,'Состав ВТК-ВРГ'!$3:$3,0)),\"---\")","v":"---"},{"$f":"SUMIFS('Пр. №3'!$BQ:$BQ,'Пр. №3'!$G:$G,'Пр. №1.2.'!$E47,'Пр. №3'!$D:$D,'Пр. №1.2.'!$B47)","v":0},{"$f":"IFERROR(INDEX('Пр. №4'!$1:$1048576,MATCH($I47,'Пр. №4'!$C:$C,0),MATCH('Пр. №3'!$D$5,'Пр. №4'!$9:$9,0)),\"---\")","v":"---"},null,"---"]
[null,null,{"$f":"IFERROR(INDEX(справочник!$G$1:$I$7,MATCH('Пр. №1.2.'!$G48,справочник!$G$1:$G$7,0),3),\"---\")","v":"---"},{"$f":"IFERROR(INDEX('Пр. №1'!$B$11:$C$33,MATCH('Пр. №1.2.'!$C48,'Пр. №1'!$B$11:$B$33,0),2),\"---\")","v":"---"},null,{"$f":"IFERROR(INDEX('Состав ВТК-ВРГ'!$1:$1048576,MATCH('Пр. №1.2.'!$E48,'Состав ВТК-ВРГ'!$B:$B,0),MATCH('Пр. №1.2.'!F$3,'Состав ВТК-ВРГ'!$3:$3,0)),\"---\")","v":"---"},{"$f":"IFERROR(INDEX('Состав ВТК-ВРГ'!$1:$1048576,MATCH('Пр. №1.2.'!$E48,'Состав ВТК-ВРГ'!$B:$B,0),MATCH('Пр. №1.2.'!G$3,'Состав ВТК-ВРГ'!$3:$3,0)),\"---\")","v":"---"},{"$f":"IFERROR(INDEX(справочник!$G$1:$I$7,MATCH('Пр. №1.2.'!$G48,справочник!$G$1:$G$7,0),2),\"---\")","v":"---"},{"$f":"IFERROR(INDEX('Состав ВТК-ВРГ'!$1:$1048576,MATCH('Пр. №1.2.'!$E48,'Состав ВТК-ВРГ'!$B:$B,0),MATCH('Пр. №1.2.'!I$3,'Состав ВТК-ВРГ'!$3:$3,0)),\"---\")","v":"---"},{"$f":"SUMIFS('Пр. №3'!$BQ:$BQ,'Пр. №3'!$G:$G,'Пр. №1.2.'!$E48,'Пр. №3'!$D:$D,'Пр. №1.2.'!$B48)","v":0},{"$f":"IFERROR(INDEX('Пр. №4'!$1:$1048576,MATCH($I48,'Пр. №4'!$C:$C,0),MATCH('Пр. №3'!$D$5,'Пр. №4'!$9:$9,0)),\"---\")","v":"---"},null,"---"]
[null,null,{"$f":"IFERROR(INDEX(справочник!$G$1:$I$7,MATCH('Пр. №1.2.'!$G49,справочник!$G$1:$G$7,0),3),\"---\")","v":"---"},{"$f":"IFERROR(INDEX('Пр. №1'!$B$11:$C$33,MATCH('Пр. №1.2.'!$C49,'Пр. №1'!$B$11:$B$33,0),2),\"---\")","v":"---"},null,{"$f":"IFERROR(INDEX('Состав ВТК-ВРГ'!$1:$1048576,MATCH('Пр. №1.2.'!$E49,'Состав ВТК-ВРГ'!$B:$B,0),MATCH('Пр. №1.2.'!F$3,'Состав ВТК-ВРГ'!$3:$3,0)),\"---\")","v":"---"},{"$f":"IFERROR(INDEX('Состав ВТК-ВРГ'!$1:$1048576,MATCH('Пр. №1.2.'!$E49,'Состав ВТК-ВРГ'!$B:$B,0),MATCH('Пр. №1.2.'!G$3,'Состав ВТК-ВРГ'!$3:$3,0)),\"---\")","v":"---"},{"$f":"IFERROR(INDEX(справочник!$G$1:$I$7,MATCH('Пр. №1.2.'!$G49,справочник!$G$1:$G$7,0),2),\"---\")","v":"---"},{"$f":"IFERROR(INDEX('Состав ВТК-ВРГ'!$1:$1048576,MATCH('Пр. №1.2.'!$E49,'Состав ВТК-ВРГ'!$B:$B,0),MATCH('Пр. №1.2.'!I$3,'Состав ВТК-ВРГ'!$3:$3,0)),\"---\")","v":"---"},{"$f":"SUMIFS('Пр. №3'!$BQ:$BQ,'Пр. №3'!$G:$G,'Пр. №1.2.'!$E49,'Пр. №3'!$D:$D,'Пр. №1.2.'!$B49)","v":0},{"$f":"IFERROR(INDEX('Пр. №4'!$1:$1048576,MATCH($I49,'Пр. №4'!$C:$C,0),MATCH('Пр. №3'!$D$5,'Пр. №4'!$9:$9,0)),\"---\")","v":"---"},null,"---"]
[null,null,{"$f":"IFERROR(INDEX(справочник!$G$1:$I$7,MATCH('Пр. №1.2.'!$G50,справочник!$G$1:$G$7,0),3),\"---\")","v":"---"},{"$f":"IFERROR(INDEX('Пр. №1'!$B$11:$C$33,MATCH('Пр. №1.2.'!$C50,'Пр. №1'!$B$11:$B$33,0),2),\"---\")","v":"---"},null,{"$f":"IFERROR(INDEX('Состав ВТК-ВРГ'!$1:$1048576,MATCH('Пр. №1.2.'!$E50,'Состав ВТК-ВРГ'!$B:$B,0),MATCH('Пр. №1.2.'!F$3,'Состав ВТК-ВРГ'!$3:$3,0)),\"---\")","v":"---"},{"$f":"IFERROR(INDEX('Состав ВТК-ВРГ'!$1:$1048576,MATCH('Пр. №1.2.'!$E50,'Состав ВТК-ВРГ'!$B:$B,0),MATCH('Пр. №1.2.'!G$3,'Состав ВТК-ВРГ'!$3:$3,0)),\"---\")","v":"---"},{"$f":"IFERROR(INDEX(справочник!$G$1:$I$7,MATCH('Пр. №1.2.'!$G50,справочник!$G$1:$G$7,0),2),\"---\")","v":"---"},{"$f":"IFERROR(INDEX('Состав ВТК-ВРГ'!$1:$1048576,MATCH('Пр. №1.2.'!$E50,'Состав ВТК-ВРГ'!$B:$B,0),MATCH('Пр. №1.2.'!I$3,'Состав ВТК-ВРГ'!$3:$3,0)),\"---\")","v":"---"},{"$f":"SUMIFS('Пр. №3'!$BQ:$BQ,'Пр. №3'!$G:$G,'Пр. №1.2.'!$E50,'Пр. №3'!$D:$D,'Пр. №1.2.'!$B50)","v":0},{"$f":"IFERROR(INDEX('Пр. №4'!$1:$1048576,MATCH($I50,'Пр. №4'!$C:$C,0),MATCH('Пр. №3'!$D$5,'Пр. №4'!$9:$9,0)),\"---\")","v":"---"},null,"---"]
[null,null,{"$f":"IFERROR(INDEX(справочник!$G$1:$I$7,MATCH('Пр. №1.2.'!$G51,справочник!$G$1:$G$7,0),3),\"---\")","v":"---"},{"$f":"IFERROR(INDEX('Пр. №1'!$B$11:$C$33,MATCH('Пр. №1.2.'!$C51,'Пр. №1'!$B$11:$B$33,0),2),\"---\")","v":"---"},null,{"$f":"IFERROR(INDEX('Состав ВТК-ВРГ'!$1:$1048576,MATCH('Пр. №1.2.'!$E51,'Состав ВТК-ВРГ'!$B:$B,0),MATCH('Пр. №1.2.'!F$3,'Состав ВТК-ВРГ'!$3:$3,0)),\"---\")","v":"---"},{"$f":"IFERROR(INDEX('Состав ВТК-ВРГ'!$1:$1048576,MATCH('Пр. №1.2.'!$E51,'Состав ВТК-ВРГ'!$B:$B,0),MATCH('Пр. №1.2.'!G$3,'Состав ВТК-ВРГ'!$3:$3,0)),\"---\")","v":"---"},{"$f":"IFERROR(INDEX(справочник!$G$1:$I$7,MATCH('Пр. №1.2.'!$G51,справочник!$G$1:$G$7,0),2),\"---\")","v":"---"},{"$f":"IFERROR(INDEX('Состав ВТК-ВРГ'!$1:$1048576,MATCH('Пр. №1.2.'!$E51,'Состав ВТК-ВРГ'!$B:$B,0),MATCH('Пр. №1.2.'!I$3,'Состав ВТК-ВРГ'!$3:$3,0)),\"---\")","v":"---"},{"$f":"SUMIFS('Пр. №3'!$BQ:$BQ,'Пр. №3'!$G:$G,'Пр. №1.2.'!$E51,'Пр. №3'!$D:$D,'Пр. №1.2.'!$B51)","v":0},{"$f":"IFERROR(INDEX('Пр. №4'!$1:$1048576,MATCH($I51,'Пр. №4'!$C:$C,0),MATCH('Пр. №3'!$D$5,'Пр. №4'!$9:$9,0)),\"---\")","v":"---"},null,"---"]
[null,null,{"$f":"IFERROR(INDEX(справочник!$G$1:$I$7,MATCH('Пр. №1.2.'!$G52,справочник!$G$1:$G$7,0),3),\"---\")","v":"---"},{"$f":"IFERROR(INDEX('Пр. №1'!$B$11:$C$33,MATCH('Пр. №1.2.'!$C52,'Пр. №1'!$B$11:$B$33,0),2),\"---\")","v":"---"},null,{"$f":"IFERROR(INDEX('Состав ВТК-ВРГ'!$1:$1048576,MATCH('Пр. №1.2.'!$E52,'Состав ВТК-ВРГ'!$B:$B,0),MATCH('Пр. №1.2.'!F$3,'Состав ВТК-ВРГ'!$3:$3,0)),\"---\")","v":"---"},{"$f":"IFERROR(INDEX('Состав ВТК-ВРГ'!$1:$1048576,MATCH('Пр. №1.2.'!$E52,'Состав ВТК-ВРГ'!$B:$B,0),MATCH('Пр. №1.2.'!G$3,'Состав ВТК-ВРГ'!$3:$3,0)),\"---\")","v":"---"},{"$f":"IFERROR(INDEX(справочник!$G$1:$I$7,MATCH('Пр. №1.2.'!$G52,справочник!$G$1:$G$7,0),2),\"---\")","v":"---"},{"$f":"IFERROR(INDEX('Состав ВТК-ВРГ'!$1:$1048576,MATCH('Пр. №1.2.'!$E52,'Состав ВТК-ВРГ'!$B:$B,0),MATCH('Пр. №1.2.'!I$3,'Состав ВТК-ВРГ'!$3:$3,0)),\"---\")","v":"---"},{"$f":"SUMIFS('Пр. №3'!$BQ:$BQ,'Пр. №3'!$G:$G,'Пр. №1.2.'!$E52,'Пр. №3'!$D:$D,'Пр. №1.2.'!$B52)","v":0},{"$f":"IFERROR(INDEX('Пр. №4'!$1:$1048576,MATCH($I52,'Пр. №4'!$C:$C,0),MATCH('Пр. №3'!$D$5,'Пр. №4'!$9:$9,0)),\"---\")","v":"---"},null,"---"]
[null,null,{"$f":"IFERROR(INDEX(справочник!$G$1:$I$7,MATCH('Пр. №1.2.'!$G53,справочник!$G$1:$G$7,0),3),\"---\")","v":"---"},{"$f":"IFERROR(INDEX('Пр. №1'!$B$11:$C$33,MATCH('Пр. №1.2.'!$C53,'Пр. №1'!$B$11:$B$33,0),2),\"---\")","v":"---"},null,{"$f":"IFERROR(INDEX('Состав ВТК-ВРГ'!$1:$1048576,MATCH('Пр. №1.2.'!$E53,'Состав ВТК-ВРГ'!$B:$B,0),MATCH('Пр. №1.2.'!F$3,'Состав ВТК-ВРГ'!$3:$3,0)),\"---\")","v":"---"},{"$f":"IFERROR(INDEX('Состав ВТК-ВРГ'!$1:$1048576,MATCH('Пр. №1.2.'!$E53,'Состав ВТК-ВРГ'!$B:$B,0),MATCH('Пр. №1.2.'!G$3,'Состав ВТК-ВРГ'!$3:$3,0)),\"---\")","v":"---"},{"$f":"IFERROR(INDEX(справочник!$G$1:$I$7,MATCH('Пр. №1.2.'!$G53,справочник!$G$1:$G$7,0),2),\"---\")","v":"---"},{"$f":"IFERROR(INDEX('Состав ВТК-ВРГ'!$1:$1048576,MATCH('Пр. №1.2.'!$E53,'Состав ВТК-ВРГ'!$B:$B,0),MATCH('Пр. №1.2.'!I$3,'Состав ВТК-ВРГ'!$3:$3,0)),\"---\")","v":"---"},{"$f":"SUMIFS('Пр. №3'!$BQ:$BQ,'Пр. №3'!$G:$G,'Пр. №1.2.'!$E53,'Пр. №3'!$D:$D,'Пр. №1.2.'!$B53)","v":0},{"$f":"IFERROR(INDEX('Пр. №4'!$1:$1048576,MATCH($I53,'Пр. №4'!$C:$C,0),MATCH('Пр. №3'!$D$5,'Пр. №4'!$9:$9,0)),\"---\")","v":"---"},null,"---"]
[null,null,{"$f":"IFERROR(INDEX(справочник!$G$1:$I$7,MATCH('Пр. №1.2.'!$G54,справочник!$G$1:$G$7,0),3),\"---\")","v":"---"},{"$f":"IFERROR(INDEX('Пр. №1'!$B$11:$C$33,MATCH('Пр. №1.2.'!$C54,'Пр. №1'!$B$11:$B$33,0),2),\"---\")","v":"---"},null,{"$f":"IFERROR(INDEX('Состав ВТК-ВРГ'!$1:$1048576,MATCH('Пр. №1.2.'!$E54,'Состав ВТК-ВРГ'!$B:$B,0),MATCH('Пр. №1.2.'!F$3,'Состав ВТК-ВРГ'!$3:$3,0)),\"---\")","v":"---"},{"$f":"IFERROR(INDEX('Состав ВТК-ВРГ'!$1:$1048576,MATCH('Пр. №1.2.'!$E54,'Состав ВТК-ВРГ'!$B:$B,0),MATCH('Пр. №1.2.'!G$3,'Состав ВТК-ВРГ'!$3:$3,0)),\"---\")","v":"---"},{"$f":"IFERROR(INDEX(справочник!$G$1:$I$7,MATCH('Пр. №1.2.'!$G54,справочник!$G$1:$G$7,0),2),\"---\")","v":"---"},{"$f":"IFERROR(INDEX('Состав ВТК-ВРГ'!$1:$1048576,MATCH('Пр. №1.2.'!$E54,'Состав ВТК-ВРГ'!$B:$B,0),MATCH('Пр. №1.2.'!I$3,'Состав ВТК-ВРГ'!$3:$3,0)),\"---\")","v":"---"},{"$f":"SUMIFS('Пр. №3'!$BQ:$BQ,'Пр. №3'!$G:$G,'Пр. №1.2.'!$E54,'Пр. №3'!$D:$D,'Пр. №1.2.'!$B54)","v":0},{"$f":"IFERROR(INDEX('Пр. №4'!$1:$1048576,MATCH($I54,'Пр. №4'!$C:$C,0),MATCH('Пр. №3'!$D$5,'Пр. №4'!$9:$9,0)),\"---\")","v":"---"},null,"---"]
[null,null,{"$f":"IFERROR(INDEX(справочник!$G$1:$I$7,MATCH('Пр. №1.2.'!$G55,справочник!$G$1:$G$7,0),3),\"---\")","v":"---"},{"$f":"IFERROR(INDEX('Пр. №1'!$B$11:$C$33,MATCH('Пр. №1.2.'!$C55,'Пр. №1'!$B$11:$B$33,0),2),\"---\")","v":"---"},null,{"$f":"IFERROR(INDEX('Состав ВТК-ВРГ'!$1:$1048576,MATCH('Пр. №1.2.'!$E55,'Состав ВТК-ВРГ'!$B:$B,0),MATCH('Пр. №1.2.'!F$3,'Состав ВТК-ВРГ'!$3:$3,0)),\"---\")","v":"---"},{"$f":"IFERROR(INDEX('Состав ВТК-ВРГ'!$1:$1048576,MATCH('Пр. №1.2.'!$E55,'Состав ВТК-ВРГ'!$B:$B,0),MATCH('Пр. №1.2.'!G$3,'Состав ВТК-ВРГ'!$3:$3,0)),\"---\")","v":"---"},{"$f":"IFERROR(INDEX(справочник!$G$1:$I$7,MATCH('Пр. №1.2.'!$G55,справочник!$G$1:$G$7,0),2),\"---\")","v":"---"},{"$f":"IFERROR(INDEX('Состав ВТК-ВРГ'!$1:$1048576,MATCH('Пр. №1.2.'!$E55,'Состав ВТК-ВРГ'!$B:$B,0),MATCH('Пр. №1.2.'!I$3,'Состав ВТК-ВРГ'!$3:$3,0)),\"---\")","v":"---"},{"$f":"SUMIFS('Пр. №3'!$BQ:$BQ,'Пр. №3'!$G:$G,'Пр. №1.2.'!$E55,'Пр. №3'!$D:$D,'Пр. №1.2.'!$B55)","v":0},{"$f":"IFERROR(INDEX('Пр. №4'!$1:$1048576,MATCH($I55,'Пр. №4'!$C:$C,0),MATCH('Пр. №3'!$D$5,'Пр. №4'!$9:$9,0)),\"---\")","v":"---"},null,"---"]
[null,null,{"$f":"IFERROR(INDEX(справочник!$G$1:$I$7,MATCH('Пр. №1.2.'!$G56,справочник!$G$1:$G$7,0),3),\"---\")","v":"---"},{"$f":"IFERROR(INDEX('Пр. №1'!$B$11:$C$33,MATCH('Пр. №1.2.'!$C56,'Пр. №1'!$B$11:$B$33,0),2),\"---\")","v":"---"},null,{"$f":"IFERROR(INDEX('Состав ВТК-ВРГ'!$1:$1048576,MATCH('Пр. №1.2.'!$E56,'Состав ВТК-ВРГ'!$B:$B,0),MATCH('Пр. №1.2.'!F$3,'Состав ВТК-ВРГ'!$3:$3,0)),\"---\")","v":"---"},{"$f":"IFERROR(INDEX('Состав ВТК-ВРГ'!$1:$1048576,MATCH('Пр. №1.2.'!$E56,'Состав ВТК-ВРГ'!$B:$B,0),MATCH('Пр. №1.2.'!G$3,'Состав ВТК-ВРГ'!$3:$3,0)),\"---\")","v":"---"},{"$f":"IFERROR(INDEX(справочник!$G$1:$I$7,MATCH('Пр. №1.2.'!$G56,справочник!$G$1:$G$7,0),2),\"---\")","v":"---"},{"$f":"IFERROR(INDEX('Состав ВТК-ВРГ'!$1:$1048576,MATCH('Пр. №1.2.'!$E56,'Состав ВТК-ВРГ'!$B:$B,0),MATCH('Пр. №1.2.'!I$3,'Состав ВТК-ВРГ'!$3:$3,0)),\"---\")","v":"---"},{"$f":"SUMIFS('Пр. №3'!$BQ:$BQ,'Пр. №3'!$G:$G,'Пр. №1.2.'!$E56,'Пр. №3'!$D:$D,'Пр. №1.2.'!$B56)","v":0},{"$f":"IFERROR(INDEX('Пр. №4'!$1:$1048576,MATCH($I56,'Пр. №4'!$C:$C,0),MATCH('Пр. №3'!$D$5,'Пр. №4'!$9:$9,0)),\"---\")","v":"---"},null,"---"]
[null,null,{"$f":"IFERROR(INDEX(справочник!$G$1:$I$7,MATCH('Пр. №1.2.'!$G57,справочник!$G$1:$G$7,0),3),\"---\")","v":"---"},{"$f":"IFERROR(INDEX('Пр. №1'!$B$11:$C$33,MATCH('Пр. №1.2.'!$C57,'Пр. №1'!$B$11:$B$33,0),2),\"---\")","v":"---"},null,{"$f":"IFERROR(INDEX('Состав ВТК-ВРГ'!$1:$1048576,MATCH('Пр. №1.2.'!$E57,'Состав ВТК-ВРГ'!$B:$B,0),MATCH('Пр. №1.2.'!F$3,'Состав ВТК-ВРГ'!$3:$3,0)),\"---\")","v":"---"},{"$f":"IFERROR(INDEX('Состав ВТК-ВРГ'!$1:$1048576,MATCH('Пр. №1.2.'!$E57,'Состав ВТК-ВРГ'!$B:$B,0),MATCH('Пр. №1.2.'!G$3,'Состав ВТК-ВРГ'!$3:$3,0)),\"---\")","v":"---"},{"$f":"IFERROR(INDEX(справочник!$G$1:$I$7,MATCH('Пр. №1.2.'!$G57,справочник!$G$1:$G$7,0),2),\"---\")","v":"---"},{"$f":"IFERROR(INDEX('Состав ВТК-ВРГ'!$1:$1048576,MATCH('Пр. №1.2.'!$E57,'Состав ВТК-ВРГ'!$B:$B,0),MATCH('Пр. №1.2.'!I$3,'Состав ВТК-ВРГ'!$3:$3,0)),\"---\")","v":"---"},{"$f":"SUMIFS('Пр. №3'!$BQ:$BQ,'Пр. №3'!$G:$G,'Пр. №1.2.'!$E57,'Пр. №3'!$D:$D,'Пр. №1.2.'!$B57)","v":0},{"$f":"IFERROR(INDEX('Пр. №4'!$1:$1048576,MATCH($I57,'Пр. №4'!$C:$C,0),MATCH('Пр. №3'!$D$5,'Пр. №4'!$9:$9,0)),\"---\")","v":"---"},null,"---"]
[null,null,{"$f":"IFERROR(INDEX(справочник!$G$1:$I$7,MATCH('Пр. №1.2.'!$G58,справочник!$G$1:$G$7,0),3),\"---\")","v":"---"},{"$f":"IFERROR(INDEX('Пр. №1'!$B$11:$C$33,MATCH('Пр. №1.2.'!$C58,'Пр. №1'!$B$11:$B$33,0),2),\"---\")","v":"---"},null,{"$f":"IFERROR(INDEX('Состав ВТК-ВРГ'!$1:$1048576,MATCH('Пр. №1.2.'!$E58,'Состав ВТК-ВРГ'!$B:$B,0),MATCH('Пр. №1.2.'!F$3,'Состав ВТК-ВРГ'!$3:$3,0)),\"---\")","v":"---"},{"$f":"IFERROR(INDEX('Состав ВТК-ВРГ'!$1:$1048576,MATCH('Пр. №1.2.'!$E58,'Состав ВТК-ВРГ'!$B:$B,0),MATCH('Пр. №1.2.'!G$3,'Состав ВТК-ВРГ'!$3:$3,0)),\"---\")","v":"---"},{"$f":"IFERROR(INDEX(справочник!$G$1:$I$7,MATCH('Пр. №1.2.'!$G58,справочник!$G$1:$G$7,0),2),\"---\")","v":"---"},{"$f":"IFERROR(INDEX('Состав ВТК-ВРГ'!$1:$1048576,MATCH('Пр. №1.2.'!$E58,'Состав ВТК-ВРГ'!$B:$B,0),MATCH('Пр. №1.2.'!I$3,'Состав ВТК-ВРГ'!$3:$3,0)),\"---\")","v":"---"},{"$f":"SUMIFS('Пр. №3'!$BQ:$BQ,'Пр. №3'!$G:$G,'Пр. №1.2.'!$E58,'Пр. №3'!$D:$D,'Пр. №1.2.'!$B58)","v":0},{"$f":"IFERROR(INDEX('Пр. №4'!$1:$1048576,MATCH($I58,'Пр. №4'!$C:$C,0),MATCH('Пр. №3'!$D$5,'Пр. №4'!$9:$9,0)),\"---\")","v":"---"},null,"---"]
[null,null,{"$f":"IFERROR(INDEX(справочник!$G$1:$I$7,MATCH('Пр. №1.2.'!$G59,справочник!$G$1:$G$7,0),3),\"---\")","v":"---"},{"$f":"IFERROR(INDEX('Пр. №1'!$B$11:$C$33,MATCH('Пр. №1.2.'!$C59,'Пр. №1'!$B$11:$B$33,0),2),\"---\")","v":"---"},null,{"$f":"IFERROR(INDEX('Состав ВТК-ВРГ'!$1:$1048576,MATCH('Пр. №1.2.'!$E59,'Состав ВТК-ВРГ'!$B:$B,0),MATCH('Пр. №1.2.'!F$3,'Состав ВТК-ВРГ'!$3:$3,0)),\"---\")","v":"---"},{"$f":"IFERROR(INDEX('Состав ВТК-ВРГ'!$1:$1048576,MATCH('Пр. №1.2.'!$E59,'Состав ВТК-ВРГ'!$B:$B,0),MATCH('Пр. №1.2.'!G$3,'Состав ВТК-ВРГ'!$3:$3,0)),\"---\")","v":"---"},{"$f":"IFERROR(INDEX(справочник!$G$1:$I$7,MATCH('Пр. №1.2.'!$G59,справочник!$G$1:$G$7,0),2),\"---\")","v":"---"},{"$f":"IFERROR(INDEX('Состав ВТК-ВРГ'!$1:$1048576,MATCH('Пр. №1.2.'!$E59,'Состав ВТК-ВРГ'!$B:$B,0),MATCH('Пр. №1.2.'!I$3,'Состав ВТК-ВРГ'!$3:$3,0)),\"---\")","v":"---"},{"$f":"SUMIFS('Пр. №3'!$BQ:$BQ,'Пр. №3'!$G:$G,'Пр. №1.2.'!$E59,'Пр. №3'!$D:$D,'Пр. №1.2.'!$B59)","v":0},{"$f":"IFERROR(INDEX('Пр. №4'!$1:$1048576,MATCH($I59,'Пр. №4'!$C:$C,0),MATCH('Пр. №3'!$D$5,'Пр. №4'!$9:$9,0)),\"---\")","v":"---"},null,"---"]
[null,null,{"$f":"IFERROR(INDEX(справочник!$G$1:$I$7,MATCH('Пр. №1.2.'!$G60,справочник!$G$1:$G$7,0),3),\"---\")","v":"---"},{"$f":"IFERROR(INDEX('Пр. №1'!$B$11:$C$33,MATCH('Пр. №1.2.'!$C60,'Пр. №1'!$B$11:$B$33,0),2),\"---\")","v":"---"},null,{"$f":"IFERROR(INDEX('Состав ВТК-ВРГ'!$1:$1048576,MATCH('Пр. №1.2.'!$E60,'Состав ВТК-ВРГ'!$B:$B,0),MATCH('Пр. №1.2.'!F$3,'Состав ВТК-ВРГ'!$3:$3,0)),\"---\")","v":"---"},{"$f":"IFERROR(INDEX('Состав ВТК-ВРГ'!$1:$1048576,MATCH('Пр. №1.2.'!$E60,'Состав ВТК-ВРГ'!$B:$B,0),MATCH('Пр. №1.2.'!G$3,'Состав ВТК-ВРГ'!$3:$3,0)),\"---\")","v":"---"},{"$f":"IFERROR(INDEX(справочник!$G$1:$I$7,MATCH('Пр. №1.2.'!$G60,справочник!$G$1:$G$7,0),2),\"---\")","v":"---"},{"$f":"IFERROR(INDEX('Состав ВТК-ВРГ'!$1:$1048576,MATCH('Пр. №1.2.'!$E60,'Состав ВТК-ВРГ'!$B:$B,0),MATCH('Пр. №1.2.'!I$3,'Состав ВТК-ВРГ'!$3:$3,0)),\"---\")","v":"---"},{"$f":"SUMIFS('Пр. №3'!$BQ:$BQ,'Пр. №3'!$G:$G,'Пр. №1.2.'!$E60,'Пр. №3'!$D:$D,'Пр. №1.2.'!$B60)","v":0},{"$f":"IFERROR(INDEX('Пр. №4'!$1:$1048576,MATCH($I60,'Пр. №4'!$C:$C,0),MATCH('Пр. №3'!$D$5,'Пр. №4'!$9:$9,0)),\"---\")","v":"---"},null,"---"]
[null,null,{"$f":"IFERROR(INDEX(справочник!$G$1:$I$7,MATCH('Пр. №1.2.'!$G61,справочник!$G$1:$G$7,0),3),\"---\")","v":"---"},{"$f":"IFERROR(INDEX('Пр. №1'!$B$11:$C$33,MATCH('Пр. №1.2.'!$C61,'Пр. №1'!$B$11:$B$33,0),2),\"---\")","v":"---"},null,{"$f":"IFERROR(INDEX('Состав ВТК-ВРГ'!$1:$1048576,MATCH('Пр. №1.2.'!$E61,'Состав ВТК-ВРГ'!$B:$B,0),MATCH('Пр. №1.2.'!F$3,'Состав ВТК-ВРГ'!$3:$3,0)),\"---\")","v":"---"},{"$f":"IFERROR(INDEX('Состав ВТК-ВРГ'!$1:$1048576,MATCH('Пр. №1.2.'!$E61,'Состав ВТК-ВРГ'!$B:$B,0),MATCH('Пр. №1.2.'!G$3,'Состав ВТК-ВРГ'!$3:$3,0)),\"---\")","v":"---"},{"$f":"IFERROR(INDEX(справочник!$G$1:$I$7,MATCH('Пр. №1.2.'!$G61,справочник!$G$1:$G$7,0),2),\"---\")","v":"---"},{"$f":"IFERROR(INDEX('Состав ВТК-ВРГ'!$1:$1048576,MATCH('Пр. №1.2.'!$E61,'Состав ВТК-ВРГ'!$B:$B,0),MATCH('Пр. №1.2.'!I$3,'Состав ВТК-ВРГ'!$3:$3,0)),\"---\")","v":"---"},{"$f":"SUMIFS('Пр. №3'!$BQ:$BQ,'Пр. №3'!$G:$G,'Пр. №1.2.'!$E61,'Пр. №3'!$D:$D,'Пр. №1.2.'!$B61)","v":0},{"$f":"IFERROR(INDEX('Пр. №4'!$1:$1048576,MATCH($I61,'Пр. №4'!$C:$C,0),MATCH('Пр. №3'!$D$5,'Пр. №4'!$9:$9,0)),\"---\")","v":"---"},null,"---"]
[null,null,{"$f":"IFERROR(INDEX(справочник!$G$1:$I$7,MATCH('Пр. №1.2.'!$G62,справочник!$G$1:$G$7,0),3),\"---\")","v":"---"},{"$f":"IFERROR(INDEX('Пр. №1'!$B$11:$C$33,MATCH('Пр. №1.2.'!$C62,'Пр. №1'!$B$11:$B$33,0),2),\"---\")","v":"---"},null,{"$f":"IFERROR(INDEX('Состав ВТК-ВРГ'!$1:$1048576,MATCH('Пр. №1.2.'!$E62,'Состав ВТК-ВРГ'!$B:$B,0),MATCH('Пр. №1.2.'!F$3,'Состав ВТК-ВРГ'!$3:$3,0)),\"---\")","v":"---"},{"$f":"IFERROR(INDEX('Состав ВТК-ВРГ'!$1:$1048576,MATCH('Пр. №1.2.'!$E62,'Состав ВТК-ВРГ'!$B:$B,0),MATCH('Пр. №1.2.'!G$3,'Состав ВТК-ВРГ'!$3:$3,0)),\"---\")","v":"---"},{"$f":"IFERROR(INDEX(справочник!$G$1:$I$7,MATCH('Пр. №1.2.'!$G62,справочник!$G$1:$G$7,0),2),\"---\")","v":"---"},{"$f":"IFERROR(INDEX('Состав ВТК-ВРГ'!$1:$1048576,MATCH('Пр. №1.2.'!$E62,'Состав ВТК-ВРГ'!$B:$B,0),MATCH('Пр. №1.2.'!I$3,'Состав ВТК-ВРГ'!$3:$3,0)),\"---\")","v":"---"},{"$f":"SUMIFS('Пр. №3'!$BQ:$BQ,'Пр. №3'!$G:$G,'Пр. №1.2.'!$E62,'Пр. №3'!$D:$D,'Пр. №1.2.'!$B62)","v":0},{"$f":"IFERROR(INDEX('Пр. №4'!$1:$1048576,MATCH($I62,'Пр. №4'!$C:$C,0),MATCH('Пр. №3'!$D$5,'Пр. №4'!$9:$9,0)),\"---\")","v":"---"},null,"---"]
[null,null,{"$f":"IFERROR(INDEX(справочник!$G$1:$I$7,MATCH('Пр. №1.2.'!$G63,справочник!$G$1:$G$7,0),3),\"---\")","v":"---"},{"$f":"IFERROR(INDEX('Пр. №1'!$B$11:$C$33,MATCH('Пр. №1.2.'!$C63,'Пр. №1'!$B$11:$B$33,0),2),\"---\")","v":"---"},null,{"$f":"IFERROR(INDEX('Состав ВТК-ВРГ'!$1:$1048576,MATCH('Пр. №1.2.'!$E63,'Состав ВТК-ВРГ'!$B:$B,0),MATCH('Пр. №1.2.'!F$3,'Состав ВТК-ВРГ'!$3:$3,0)),\"---\")","v":"---"},{"$f":"IFERROR(INDEX('Состав ВТК-ВРГ'!$1:$1048576,MATCH('Пр. №1.2.'!$E63,'Состав ВТК-ВРГ'!$B:$B,0),MATCH('Пр. №1.2.'!G$3,'Состав ВТК-ВРГ'!$3:$3,0)),\"---\")","v":"---"},{"$f":"IFERROR(INDEX(справочник!$G$1:$I$7,MATCH('Пр. №1.2.'!$G63,справочник!$G$1:$G$7,0),2),\"---\")","v":"---"},{"$f":"IFERROR(INDEX('Состав ВТК-ВРГ'!$1:$1048576,MATCH('Пр. №1.2.'!$E63,'Состав ВТК-ВРГ'!$B:$B,0),MATCH('Пр. №1.2.'!I$3,'Состав ВТК-ВРГ'!$3:$3,0)),\"---\")","v":"---"},{"$f":"SUMIFS('Пр. №3'!$BQ:$BQ,'Пр. №3'!$G:$G,'Пр. №1.2.'!$E63,'Пр. №3'!$D:$D,'Пр. №1.2.'!$B63)","v":0},{"$f":"IFERROR(INDEX('Пр. №4'!$1:$1048576,MATCH($I63,'Пр. №4'!$C:$C,0),MATCH('Пр. №3'!$D$5,'Пр. №4'!$9:$9,0)),\"---\")","v":"---"},null,"---"]
[null,null,{"$f":"IFERROR(INDEX(справочник!$G$1:$I$7,MATCH('Пр. №1.2.'!$G64,справочник!$G$1:$G$7,0),3),\"---\")","v":"---"},{"$f":"IFERROR(INDEX('Пр. №1'!$B$11:$C$33,MATCH('Пр. №1.2.'!$C64,'Пр. №1'!$B$11:$B$33,0),2),\"---\")","v":"---"},null,{"$f":"IFERROR(INDEX('Состав ВТК-ВРГ'!$1:$1048576,MATCH('Пр. №1.2.'!$E64,'Состав ВТК-ВРГ'!$B:$B,0),MATCH('Пр. №1.2.'!F$3,'Состав ВТК-ВРГ'!$3:$3,0)),\"---\")","v":"---"},{"$f":"IFERROR(INDEX('Состав ВТК-ВРГ'!$1:$1048576,MATCH('Пр. №1.2.'!$E64,'Состав ВТК-ВРГ'!$B:$B,0),MATCH('Пр. №1.2.'!G$3,'Состав ВТК-ВРГ'!$3:$3,0)),\"---\")","v":"---"},{"$f":"IFERROR(INDEX(справочник!$G$1:$I$7,MATCH('Пр. №1.2.'!$G64,справочник!$G$1:$G$7,0),2),\"---\")","v":"---"},{"$f":"IFERROR(INDEX('Состав ВТК-ВРГ'!$1:$1048576,MATCH('Пр. №1.2.'!$E64,'Состав ВТК-ВРГ'!$B:$B,0),MATCH('Пр. №1.2.'!I$3,'Состав ВТК-ВРГ'!$3:$3,0)),\"---\")","v":"---"},{"$f":"SUMIFS('Пр. №3'!$BQ:$BQ,'Пр. №3'!$G:$G,'Пр. №1.2.'!$E64,'Пр. №3'!$D:$D,'Пр. №1.2.'!$B64)","v":0},{"$f":"IFERROR(INDEX('Пр. №4'!$1:$1048576,MATCH($I64,'Пр. №4'!$C:$C,0),MATCH('Пр. №3'!$D$5,'Пр. №4'!$9:$9,0)),\"---\")","v":"---"},null,"---"]
[null,null,{"$f":"IFERROR(INDEX(справочник!$G$1:$I$7,MATCH('Пр. №1.2.'!$G65,справочник!$G$1:$G$7,0),3),\"---\")","v":"---"},{"$f":"IFERROR(INDEX('Пр. №1'!$B$11:$C$33,MATCH('Пр. №1.2.'!$C65,'Пр. №1'!$B$11:$B$33,0),2),\"---\")","v":"---"},null,{"$f":"IFERROR(INDEX('Состав ВТК-ВРГ'!$1:$1048576,MATCH('Пр. №1.2.'!$E65,'Состав ВТК-ВРГ'!$B:$B,0),MATCH('Пр. №1.2.'!F$3,'Состав ВТК-ВРГ'!$3:$3,0)),\"---\")","v":"---"},{"$f":"IFERROR(INDEX('Состав ВТК-ВРГ'!$1:$1048576,MATCH('Пр. №1.2.'!$E65,'Состав ВТК-ВРГ'!$B:$B,0),MATCH('Пр. №1.2.'!G$3,'Состав ВТК-ВРГ'!$3:$3,0)),\"---\")","v":"---"},{"$f":"IFERROR(INDEX(справочник!$G$1:$I$7,MATCH('Пр. №1.2.'!$G65,справочник!$G$1:$G$7,0),2),\"---\")","v":"---"},{"$f":"IFERROR(INDEX('Состав ВТК-ВРГ'!$1:$1048576,MATCH('Пр. №1.2.'!$E65,'Состав ВТК-ВРГ'!$B:$B,0),MATCH('Пр. №1.2.'!I$3,'Состав ВТК-ВРГ'!$3:$3,0)),\"---\")","v":"---"},{"$f":"SUMIFS('Пр. №3'!$BQ:$BQ,'Пр. №3'!$G:$G,'Пр. №1.2.'!$E65,'Пр. №3'!$D:$D,'Пр. №1.2.'!$B65)","v":0},{"$f":"IFERROR(INDEX('Пр. №4'!$1:$1048576,MATCH($I65,'Пр. №4'!$C:$C,0),MATCH('Пр. №3'!$D$5,'Пр. №4'!$9:$9,0)),\"---\")","v":"---"},null,"---"]
[null,null,{"$f":"IFERROR(INDEX(справочник!$G$1:$I$7,MATCH('Пр. №1.2.'!$G66,справочник!$G$1:$G$7,0),3),\"---\")","v":"---"},{"$f":"IFERROR(INDEX('Пр. №1'!$B$11:$C$33,MATCH('Пр. №1.2.'!$C66,'Пр. №1'!$B$11:$B$33,0),2),\"---\")","v":"---"},null,{"$f":"IFERROR(INDEX('Состав ВТК-ВРГ'!$1:$1048576,MATCH('Пр. №1.2.'!$E66,'Состав ВТК-ВРГ'!$B:$B,0),MATCH('Пр. №1.2.'!F$3,'Состав ВТК-ВРГ'!$3:$3,0)),\"---\")","v":"---"},{"$f":"IFERROR(INDEX('Состав ВТК-ВРГ'!$1:$1048576,MATCH('Пр. №1.2.'!$E66,'Состав ВТК-ВРГ'!$B:$B,0),MATCH('Пр. №1.2.'!G$3,'Состав ВТК-ВРГ'!$3:$3,0)),\"---\")","v":"---"},{"$f":"IFERROR(INDEX(справочник!$G$1:$I$7,MATCH('Пр. №1.2.'!$G66,справочник!$G$1:$G$7,0),2),\"---\")","v":"---"},{"$f":"IFERROR(INDEX('Состав ВТК-ВРГ'!$1:$1048576,MATCH('Пр. №1.2.'!$E66,'Состав ВТК-ВРГ'!$B:$B,0),MATCH('Пр. №1.2.'!I$3,'Состав ВТК-ВРГ'!$3:$3,0)),\"---\")","v":"---"},{"$f":"SUMIFS('Пр. №3'!$BQ:$BQ,'Пр. №3'!$G:$G,'Пр. №1.2.'!$E66,'Пр. №3'!$D:$D,'Пр. №1.2.'!$B66)","v":0},{"$f":"IFERROR(INDEX('Пр. №4'!$1:$1048576,MATCH($I66,'Пр. №4'!$C:$C,0),MATCH('Пр. №3'!$D$5,'Пр. №4'!$9:$9,0)),\"---\")","v":"---"},null,"---"]
[null,null,{"$f":"IFERROR(INDEX(справочник!$G$1:$I$7,MATCH('Пр. №1.2.'!$G67,справочник!$G$1:$G$7,0),3),\"---\")","v":"---"},{"$f":"IFERROR(INDEX('Пр. №1'!$B$11:$C$33,MATCH('Пр. №1.2.'!$C67,'Пр. №1'!$B$11:$B$33,0),2),\"---\")","v":"---"},null,{"$f":"IFERROR(INDEX('Состав ВТК-ВРГ'!$1:$1048576,MATCH('Пр. №1.2.'!$E67,'Состав ВТК-ВРГ'!$B:$B,0),MATCH('Пр. №1.2.'!F$3,'Состав ВТК-ВРГ'!$3:$3,0)),\"---\")","v":"---"},{"$f":"IFERROR(INDEX('Состав ВТК-ВРГ'!$1:$1048576,MATCH('Пр. №1.2.'!$E67,'Состав ВТК-ВРГ'!$B:$B,0),MATCH('Пр. №1.2.'!G$3,'Состав ВТК-ВРГ'!$3:$3,0)),\"---\")","v":"---"},{"$f":"IFERROR(INDEX(справочник!$G$1:$I$7,MATCH('Пр. №1.2.'!$G67,справочник!$G$1:$G$7,0),2),\"---\")","v":"---"},{"$f":"IFERROR(INDEX('Состав ВТК-ВРГ'!$1:$1048576,MATCH('Пр. №1.2.'!$E67,'Состав ВТК-ВРГ'!$B:$B,0),MATCH('Пр. №1.2.'!I$3,'Состав ВТК-ВРГ'!$3:$3,0)),\"---\")","v":"---"},{"$f":"SUMIFS('Пр. №3'!$BQ:$BQ,'Пр. №3'!$G:$G,'Пр. №1.2.'!$E67,'Пр. №3'!$D:$D,'Пр. №1.2.'!$B67)","v":0},{"$f":"IFERROR(INDEX('Пр. №4'!$1:$1048576,MATCH($I67,'Пр. №4'!$C:$C,0),MATCH('Пр. №3'!$D$5,'Пр. №4'!$9:$9,0)),\"---\")","v":"---"},null,"---"]
[null,null,{"$f":"IFERROR(INDEX(справочник!$G$1:$I$7,MATCH('Пр. №1.2.'!$G68,справочник!$G$1:$G$7,0),3),\"---\")","v":"---"},{"$f":"IFERROR(INDEX('Пр. №1'!$B$11:$C$33,MATCH('Пр. №1.2.'!$C68,'Пр. №1'!$B$11:$B$33,0),2),\"---\")","v":"---"},null,{"$f":"IFERROR(INDEX('Состав ВТК-ВРГ'!$1:$1048576,MATCH('Пр. №1.2.'!$E68,'Состав ВТК-ВРГ'!$B:$B,0),MATCH('Пр. №1.2.'!F$3,'Состав ВТК-ВРГ'!$3:$3,0)),\"---\")","v":"---"},{"$f":"IFERROR(INDEX('Состав ВТК-ВРГ'!$1:$1048576,MATCH('Пр. №1.2.'!$E68,'Состав ВТК-ВРГ'!$B:$B,0),MATCH('Пр. №1.2.'!G$3,'Состав ВТК-ВРГ'!$3:$3,0)),\"---\")","v":"---"},{"$f":"IFERROR(INDEX(справочник!$G$1:$I$7,MATCH('Пр. №1.2.'!$G68,справочник!$G$1:$G$7,0),2),\"---\")","v":"---"},{"$f":"IFERROR(INDEX('Состав ВТК-ВРГ'!$1:$1048576,MATCH('Пр. №1.2.'!$E68,'Состав ВТК-ВРГ'!$B:$B,0),MATCH('Пр. №1.2.'!I$3,'Состав ВТК-ВРГ'!$3:$3,0)),\"---\")","v":"---"},{"$f":"SUMIFS('Пр. №3'!$BQ:$BQ,'Пр. №3'!$G:$G,'Пр. №1.2.'!$E68,'Пр. №3'!$D:$D,'Пр. №1.2.'!$B68)","v":0},{"$f":"IFERROR(INDEX('Пр. №4'!$1:$1048576,MATCH($I68,'Пр. №4'!$C:$C,0),MATCH('Пр. №3'!$D$5,'Пр. №4'!$9:$9,0)),\"---\")","v":"---"},null,"---"]
[null,null,{"$f":"IFERROR(INDEX(справочник!$G$1:$I$7,MATCH('Пр. №1.2.'!$G69,справочник!$G$1:$G$7,0),3),\"---\")","v":"---"},{"$f":"IFERROR(INDEX('Пр. №1'!$B$11:$C$33,MATCH('Пр. №1.2.'!$C69,'Пр. №1'!$B$11:$B$33,0),2),\"---\")","v":"---"},null,{"$f":"IFERROR(INDEX('Состав ВТК-ВРГ'!$1:$1048576,MATCH('Пр. №1.2.'!$E69,'Состав ВТК-ВРГ'!$B:$B,0),MATCH('Пр. №1.2.'!F$3,'Состав ВТК-ВРГ'!$3:$3,0)),\"---\")","v":"---"},{"$f":"IFERROR(INDEX('Состав ВТК-ВРГ'!$1:$1048576,MATCH('Пр. №1.2.'!$E69,'Состав ВТК-ВРГ'!$B:$B,0),MATCH('Пр. №1.2.'!G$3,'Состав ВТК-ВРГ'!$3:$3,0)),\"---\")","v":"---"},{"$f":"IFERROR(INDEX(справочник!$G$1:$I$7,MATCH('Пр. №1.2.'!$G69,справочник!$G$1:$G$7,0),2),\"---\")","v":"---"},{"$f":"IFERROR(INDEX('Состав ВТК-ВРГ'!$1:$1048576,MATCH('Пр. №1.2.'!$E69,'Состав ВТК-ВРГ'!$B:$B,0),MATCH('Пр. №1.2.'!I$3,'Состав ВТК-ВРГ'!$3:$3,0)),\"---\")","v":"---"},{"$f":"SUMIFS('Пр. №3'!$BQ:$BQ,'Пр. №3'!$G:$G,'Пр. №1.2.'!$E69,'Пр. №3'!$D:$D,'Пр. №1.2.'!$B69)","v":0},{"$f":"IFERROR(INDEX('Пр. №4'!$1:$1048576,MATCH($I69,'Пр. №4'!$C:$C,0),MATCH('Пр. №3'!$D$5,'Пр. №4'!$9:$9,0)),\"---\")","v":"---"},null,"---"]
[null,null,{"$f":"IFERROR(INDEX(справочник!$G$1:$I$7,MATCH('Пр. №1.2.'!$G70,справочник!$G$1:$G$7,0),3),\"---\")","v":"---"},{"$f":"IFERROR(INDEX('Пр. №1'!$B$11:$C$33,MATCH('Пр. №1.2.'!$C70,'Пр. №1'!$B$11:$B$33,0),2),\"---\")","v":"---"},null,{"$f":"IFERROR(INDEX('Состав ВТК-ВРГ'!$1:$1048576,MATCH('Пр. №1.2.'!$E70,'Состав ВТК-ВРГ'!$B:$B,0),MATCH('Пр. №1.2.'!F$3,'Состав ВТК-ВРГ'!$3:$3,0)),\"---\")","v":"---"},{"$f":"IFERROR(INDEX('Состав ВТК-ВРГ'!$1:$1048576,MATCH('Пр. №1.2.'!$E70,'Состав ВТК-ВРГ'!$B:$B,0),MATCH('Пр. №1.2.'!G$3,'Состав ВТК-ВРГ'!$3:$3,0)),\"---\")","v":"---"},{"$f":"IFERROR(INDEX(справочник!$G$1:$I$7,MATCH('Пр. №1.2.'!$G70,справочник!$G$1:$G$7,0),2),\"---\")","v":"---"},{"$f":"IFERROR(INDEX('Состав ВТК-ВРГ'!$1:$1048576,MATCH('Пр. №1.2.'!$E70,'Состав ВТК-ВРГ'!$B:$B,0),MATCH('Пр. №1.2.'!I$3,'Состав ВТК-ВРГ'!$3:$3,0)),\"---\")","v":"---"},{"$f":"SUMIFS('Пр. №3'!$BQ:$BQ,'Пр. №3'!$G:$G,'Пр. №1.2.'!$E70,'Пр. №3'!$D:$D,'Пр. №1.2.'!$B70)","v":0},{"$f":"IFERROR(INDEX('Пр. №4'!$1:$1048576,MATCH($I70,'Пр. №4'!$C:$C,0),MATCH('Пр. №3'!$D$5,'Пр. №4'!$9:$9,0)),\"---\")","v":"---"},null,"---"]
[null,null,{"$f":"IFERROR(INDEX(справочник!$G$1:$I$7,MATCH('Пр. №1.2.'!$G71,справочник!$G$1:$G$7,0),3),\"---\")","v":"---"},{"$f":"IFERROR(INDEX('Пр. №1'!$B$11:$C$33,MATCH('Пр. №1.2.'!$C71,'Пр. №1'!$B$11:$B$33,0),2),\"---\")","v":"---"},null,{"$f":"IFERROR(INDEX('Состав ВТК-ВРГ'!$1:$1048576,MATCH('Пр. №1.2.'!$E71,'Состав ВТК-ВРГ'!$B:$B,0),MATCH('Пр. №1.2.'!F$3,'Состав ВТК-ВРГ'!$3:$3,0)),\"---\")","v":"---"},{"$f":"IFERROR(INDEX('Состав ВТК-ВРГ'!$1:$1048576,MATCH('Пр. №1.2.'!$E71,'Состав ВТК-ВРГ'!$B:$B,0),MATCH('Пр. №1.2.'!G$3,'Состав ВТК-ВРГ'!$3:$3,0)),\"---\")","v":"---"},{"$f":"IFERROR(INDEX(справочник!$G$1:$I$7,MATCH('Пр. №1.2.'!$G71,справочник!$G$1:$G$7,0),2),\"---\")","v":"---"},{"$f":"IFERROR(INDEX('Состав ВТК-ВРГ'!$1:$1048576,MATCH('Пр. №1.2.'!$E71,'Состав ВТК-ВРГ'!$B:$B,0),MATCH('Пр. №1.2.'!I$3,'Состав ВТК-ВРГ'!$3:$3,0)),\"---\")","v":"---"},{"$f":"SUMIFS('Пр. №3'!$BQ:$BQ,'Пр. №3'!$G:$G,'Пр. №1.2.'!$E71,'Пр. №3'!$D:$D,'Пр. №1.2.'!$B71)","v":0},{"$f":"IFERROR(INDEX('Пр. №4'!$1:$1048576,MATCH($I71,'Пр. №4'!$C:$C,0),MATCH('Пр. №3'!$D$5,'Пр. №4'!$9:$9,0)),\"---\")","v":"---"},null,"---"]
[null,null,{"$f":"IFERROR(INDEX(справочник!$G$1:$I$7,MATCH('Пр. №1.2.'!$G72,справочник!$G$1:$G$7,0),3),\"---\")","v":"---"},{"$f":"IFERROR(INDEX('Пр. №1'!$B$11:$C$33,MATCH('Пр. №1.2.'!$C72,'Пр. №1'!$B$11:$B$33,0),2),\"---\")","v":"---"},null,{"$f":"IFERROR(INDEX('Состав ВТК-ВРГ'!$1:$1048576,MATCH('Пр. №1.2.'!$E72,'Состав ВТК-ВРГ'!$B:$B,0),MATCH('Пр. №1.2.'!F$3,'Состав ВТК-ВРГ'!$3:$3,0)),\"---\")","v":"---"},{"$f":"IFERROR(INDEX('Состав ВТК-ВРГ'!$1:$1048576,MATCH('Пр. №1.2.'!$E72,'Состав ВТК-ВРГ'!$B:$B,0),MATCH('Пр. №1.2.'!G$3,'Состав ВТК-ВРГ'!$3:$3,0)),\"---\")","v":"---"},{"$f":"IFERROR(INDEX(справочник!$G$1:$I$7,MATCH('Пр. №1.2.'!$G72,справочник!$G$1:$G$7,0),2),\"---\")","v":"---"},{"$f":"IFERROR(INDEX('Состав ВТК-ВРГ'!$1:$1048576,MATCH('Пр. №1.2.'!$E72,'Состав ВТК-ВРГ'!$B:$B,0),MATCH('Пр. №1.2.'!I$3,'Состав ВТК-ВРГ'!$3:$3,0)),\"---\")","v":"---"},{"$f":"SUMIFS('Пр. №3'!$BQ:$BQ,'Пр. №3'!$G:$G,'Пр. №1.2.'!$E72,'Пр. №3'!$D:$D,'Пр. №1.2.'!$B72)","v":0},{"$f":"IFERROR(INDEX('Пр. №4'!$1:$1048576,MATCH($I72,'Пр. №4'!$C:$C,0),MATCH('Пр. №3'!$D$5,'Пр. №4'!$9:$9,0)),\"---\")","v":"---"},null,"---"]
[null,null,{"$f":"IFERROR(INDEX(справочник!$G$1:$I$7,MATCH('Пр. №1.2.'!$G73,справочник!$G$1:$G$7,0),3),\"---\")","v":"---"},{"$f":"IFERROR(INDEX('Пр. №1'!$B$11:$C$33,MATCH('Пр. №1.2.'!$C73,'Пр. №1'!$B$11:$B$33,0),2),\"---\")","v":"---"},null,{"$f":"IFERROR(INDEX('Состав ВТК-ВРГ'!$1:$1048576,MATCH('Пр. №1.2.'!$E73,'Состав ВТК-ВРГ'!$B:$B,0),MATCH('Пр. №1.2.'!F$3,'Состав ВТК-ВРГ'!$3:$3,0)),\"---\")","v":"---"},{"$f":"IFERROR(INDEX('Состав ВТК-ВРГ'!$1:$1048576,MATCH('Пр. №1.2.'!$E73,'Состав ВТК-ВРГ'!$B:$B,0),MATCH('Пр. №1.2.'!G$3,'Состав ВТК-ВРГ'!$3:$3,0)),\"---\")","v":"---"},{"$f":"IFERROR(INDEX(справочник!$G$1:$I$7,MATCH('Пр. №1.2.'!$G73,справочник!$G$1:$G$7,0),2),\"---\")","v":"---"},{"$f":"IFERROR(INDEX('Состав ВТК-ВРГ'!$1:$1048576,MATCH('Пр. №1.2.'!$E73,'Состав ВТК-ВРГ'!$B:$B,0),MATCH('Пр. №1.2.'!I$3,'Состав ВТК-ВРГ'!$3:$3,0)),\"---\")","v":"---"},{"$f":"SUMIFS('Пр. №3'!$BQ:$BQ,'Пр. №3'!$G:$G,'Пр. №1.2.'!$E73,'Пр. №3'!$D:$D,'Пр. №1.2.'!$B73)","v":0},{"$f":"IFERROR(INDEX('Пр. №4'!$1:$1048576,MATCH($I73,'Пр. №4'!$C:$C,0),MATCH('Пр. №3'!$D$5,'Пр. №4'!$9:$9,0)),\"---\")","v":"---"},null,"---"]
[null,null,{"$f":"IFERROR(INDEX(справочник!$G$1:$I$7,MATCH('Пр. №1.2.'!$G74,справочник!$G$1:$G$7,0),3),\"---\")","v":"---"},{"$f":"IFERROR(INDEX('Пр. №1'!$B$11:$C$33,MATCH('Пр. №1.2.'!$C74,'Пр. №1'!$B$11:$B$33,0),2),\"---\")","v":"---"},null,{"$f":"IFERROR(INDEX('Состав ВТК-ВРГ'!$1:$1048576,MATCH('Пр. №1.2.'!$E74,'Состав ВТК-ВРГ'!$B:$B,0),MATCH('Пр. №1.2.'!F$3,'Состав ВТК-ВРГ'!$3:$3,0)),\"---\")","v":"---"},{"$f":"IFERROR(INDEX('Состав ВТК-ВРГ'!$1:$1048576,MATCH('Пр. №1.2.'!$E74,'Состав ВТК-ВРГ'!$B:$B,0),MATCH('Пр. №1.2.'!G$3,'Состав ВТК-ВРГ'!$3:$3,0)),\"---\")","v":"---"},{"$f":"IFERROR(INDEX(справочник!$G$1:$I$7,MATCH('Пр. №1.2.'!$G74,справочник!$G$1:$G$7,0),2),\"---\")","v":"---"},{"$f":"IFERROR(INDEX('Состав ВТК-ВРГ'!$1:$1048576,MATCH('Пр. №1.2.'!$E74,'Состав ВТК-ВРГ'!$B:$B,0),MATCH('Пр. №1.2.'!I$3,'Состав ВТК-ВРГ'!$3:$3,0)),\"---\")","v":"---"},{"$f":"SUMIFS('Пр. №3'!$BQ:$BQ,'Пр. №3'!$G:$G,'Пр. №1.2.'!$E74,'Пр. №3'!$D:$D,'Пр. №1.2.'!$B74)","v":0},{"$f":"IFERROR(INDEX('Пр. №4'!$1:$1048576,MATCH($I74,'Пр. №4'!$C:$C,0),MATCH('Пр. №3'!$D$5,'Пр. №4'!$9:$9,0)),\"---\")","v":"---"},null,"---"]
[null,null,{"$f":"IFERROR(INDEX(справочник!$G$1:$I$7,MATCH('Пр. №1.2.'!$G75,справочник!$G$1:$G$7,0),3),\"---\")","v":"---"},{"$f":"IFERROR(INDEX('Пр. №1'!$B$11:$C$33,MATCH('Пр. №1.2.'!$C75,'Пр. №1'!$B$11:$B$33,0),2),\"---\")","v":"---"},null,{"$f":"IFERROR(INDEX('Состав ВТК-ВРГ'!$1:$1048576,MATCH('Пр. №1.2.'!$E75,'Состав ВТК-ВРГ'!$B:$B,0),MATCH('Пр. №1.2.'!F$3,'Состав ВТК-ВРГ'!$3:$3,0)),\"---\")","v":"---"},{"$f":"IFERROR(INDEX('Состав ВТК-ВРГ'!$1:$1048576,MATCH('Пр. №1.2.'!$E75,'Состав ВТК-ВРГ'!$B:$B,0),MATCH('Пр. №1.2.'!G$3,'Состав ВТК-ВРГ'!$3:$3,0)),\"---\")","v":"---"},{"$f":"IFERROR(INDEX(справочник!$G$1:$I$7,MATCH('Пр. №1.2.'!$G75,справочник!$G$1:$G$7,0),2),\"---\")","v":"---"},{"$f":"IFERROR(INDEX('Состав ВТК-ВРГ'!$1:$1048576,MATCH('Пр. №1.2.'!$E75,'Состав ВТК-ВРГ'!$B:$B,0),MATCH('Пр. №1.2.'!I$3,'Состав ВТК-ВРГ'!$3:$3,0)),\"---\")","v":"---"},{"$f":"SUMIFS('Пр. №3'!$BQ:$BQ,'Пр. №3'!$G:$G,'Пр. №1.2.'!$E75,'Пр. №3'!$D:$D,'Пр. №1.2.'!$B75)","v":0},{"$f":"IFERROR(INDEX('Пр. №4'!$1:$1048576,MATCH($I75,'Пр. №4'!$C:$C,0),MATCH('Пр. №3'!$D$5,'Пр. №4'!$9:$9,0)),\"---\")","v":"---"},null,"---"]
[null,null,{"$f":"IFERROR(INDEX(справочник!$G$1:$I$7,MATCH('Пр. №1.2.'!$G76,справочник!$G$1:$G$7,0),3),\"---\")","v":"---"},{"$f":"IFERROR(INDEX('Пр. №1'!$B$11:$C$33,MATCH('Пр. №1.2.'!$C76,'Пр. №1'!$B$11:$B$33,0),2),\"---\")","v":"---"},null,{"$f":"IFERROR(INDEX('Состав ВТК-ВРГ'!$1:$1048576,MATCH('Пр. №1.2.'!$E76,'Состав ВТК-ВРГ'!$B:$B,0),MATCH('Пр. №1.2.'!F$3,'Состав ВТК-ВРГ'!$3:$3,0)),\"---\")","v":"---"},{"$f":"IFERROR(INDEX('Состав ВТК-ВРГ'!$1:$1048576,MATCH('Пр. №1.2.'!$E76,'Состав ВТК-ВРГ'!$B:$B,0),MATCH('Пр. №1.2.'!G$3,'Состав ВТК-ВРГ'!$3:$3,0)),\"---\")","v":"---"},{"$f":"IFERROR(INDEX(справочник!$G$1:$I$7,MATCH('Пр. №1.2.'!$G76,справочник!$G$1:$G$7,0),2),\"---\")","v":"---"},{"$f":"IFERROR(INDEX('Состав ВТК-ВРГ'!$1:$1048576,MATCH('Пр. №1.2.'!$E76,'Состав ВТК-ВРГ'!$B:$B,0),MATCH('Пр. №1.2.'!I$3,'Состав ВТК-ВРГ'!$3:$3,0)),\"---\")","v":"---"},{"$f":"SUMIFS('Пр. №3'!$BQ:$BQ,'Пр. №3'!$G:$G,'Пр. №1.2.'!$E76,'Пр. №3'!$D:$D,'Пр. №1.2.'!$B76)","v":0},{"$f":"IFERROR(INDEX('Пр. №4'!$1:$1048576,MATCH($I76,'Пр. №4'!$C:$C,0),MATCH('Пр. №3'!$D$5,'Пр. №4'!$9:$9,0)),\"---\")","v":"---"},null,{"$f":"IFERROR(J76*K76*L76,\"---\")","v":"---"}]
[null,null,{"$f":"IFERROR(INDEX(справочник!$G$1:$I$7,MATCH('Пр. №1.2.'!$G77,справочник!$G$1:$G$7,0),3),\"---\")","v":"---"},{"$f":"IFERROR(INDEX('Пр. №1'!$B$11:$C$33,MATCH('Пр. №1.2.'!$C77,'Пр. №1'!$B$11:$B$33,0),2),\"---\")","v":"---"},null,{"$f":"IFERROR(INDEX('Состав ВТК-ВРГ'!$1:$1048576,MATCH('Пр. №1.2.'!$E77,'Состав ВТК-ВРГ'!$B:$B,0),MATCH('Пр. №1.2.'!F$3,'Состав ВТК-ВРГ'!$3:$3,0)),\"---\")","v":"---"},{"$f":"IFERROR(INDEX('Состав ВТК-ВРГ'!$1:$1048576,MATCH('Пр. №1.2.'!$E77,'Состав ВТК-ВРГ'!$B:$B,0),MATCH('Пр. №1.2.'!G$3,'Состав ВТК-ВРГ'!$3:$3,0)),\"---\")","v":"---"},{"$f":"IFERROR(INDEX(справочник!$G$1:$I$7,MATCH('Пр. №1.2.'!$G77,справочник!$G$1:$G$7,0),2),\"---\")","v":"---"},{"$f":"IFERROR(INDEX('Состав ВТК-ВРГ'!$1:$1048576,MATCH('Пр. №1.2.'!$E77,'Состав ВТК-ВРГ'!$B:$B,0),MATCH('Пр. №1.2.'!I$3,'Состав ВТК-ВРГ'!$3:$3,0)),\"---\")","v":"---"},{"$f":"SUMIFS('Пр. №3'!$BQ:$BQ,'Пр. №3'!$G:$G,'Пр. №1.2.'!$E77,'Пр. №3'!$D:$D,'Пр. №1.2.'!$B77)","v":0},{"$f":"IFERROR(INDEX('Пр. №4'!$1:$1048576,MATCH($I77,'Пр. №4'!$C:$C,0),MATCH('Пр. №3'!$D$5,'Пр. №4'!$9:$9,0)),\"---\")","v":"---"},null,"---"]
[null,null,{"$f":"IFERROR(INDEX(справочник!$G$1:$I$7,MATCH('Пр. №1.2.'!$G78,справочник!$G$1:$G$7,0),3),\"---\")","v":"---"},{"$f":"IFERROR(INDEX('Пр. №1'!$B$11:$C$33,MATCH('Пр. №1.2.'!$C78,'Пр. №1'!$B$11:$B$33,0),2),\"---\")","v":"---"},null,{"$f":"IFERROR(INDEX('Состав ВТК-ВРГ'!$1:$1048576,MATCH('Пр. №1.2.'!$E78,'Состав ВТК-ВРГ'!$B:$B,0),MATCH('Пр. №1.2.'!F$3,'Состав ВТК-ВРГ'!$3:$3,0)),\"---\")","v":"---"},{"$f":"IFERROR(INDEX('Состав ВТК-ВРГ'!$1:$1048576,MATCH('Пр. №1.2.'!$E78,'Состав ВТК-ВРГ'!$B:$B,0),MATCH('Пр. №1.2.'!G$3,'Состав ВТК-ВРГ'!$3:$3,0)),\"---\")","v":"---"},{"$f":"IFERROR(INDEX(справочник!$G$1:$I$7,MATCH('Пр. №1.2.'!$G78,справочник!$G$1:$G$7,0),2),\"---\")","v":"---"},{"$f":"IFERROR(INDEX('Состав ВТК-ВРГ'!$1:$1048576,MATCH('Пр. №1.2.'!$E78,'Состав ВТК-ВРГ'!$B:$B,0),MATCH('Пр. №1.2.'!I$3,'Состав ВТК-ВРГ'!$3:$3,0)),\"---\")","v":"---"},{"$f":"SUMIFS('Пр. №3'!$BQ:$BQ,'Пр. №3'!$G:$G,'Пр. №1.2.'!$E78,'Пр. №3'!$D:$D,'Пр. №1.2.'!$B78)","v":0},{"$f":"IFERROR(INDEX('Пр. №4'!$1:$1048576,MATCH($I78,'Пр. №4'!$C:$C,0),MATCH('Пр. №3'!$D$5,'Пр. №4'!$9:$9,0)),\"---\")","v":"---"},null,"---"]
[null,null,{"$f":"IFERROR(INDEX(справочник!$G$1:$I$7,MATCH('Пр. №1.2.'!$G79,справочник!$G$1:$G$7,0),3),\"---\")","v":"---"},{"$f":"IFERROR(INDEX('Пр. №1'!$B$11:$C$33,MATCH('Пр. №1.2.'!$C79,'Пр. №1'!$B$11:$B$33,0),2),\"---\")","v":"---"},null,{"$f":"IFERROR(INDEX('Состав ВТК-ВРГ'!$1:$1048576,MATCH('Пр. №1.2.'!$E79,'Состав ВТК-ВРГ'!$B:$B,0),MATCH('Пр. №1.2.'!F$3,'Состав ВТК-ВРГ'!$3:$3,0)),\"---\")","v":"---"},{"$f":"IFERROR(INDEX('Состав ВТК-ВРГ'!$1:$1048576,MATCH('Пр. №1.2.'!$E79,'Состав ВТК-ВРГ'!$B:$B,0),MATCH('Пр. №1.2.'!G$3,'Состав ВТК-ВРГ'!$3:$3,0)),\"---\")","v":"---"},{"$f":"IFERROR(INDEX(справочник!$G$1:$I$7,MATCH('Пр. №1.2.'!$G79,справочник!$G$1:$G$7,0),2),\"---\")","v":"---"},{"$f":"IFERROR(INDEX('Состав ВТК-ВРГ'!$1:$1048576,MATCH('Пр. №1.2.'!$E79,'Состав ВТК-ВРГ'!$B:$B,0),MATCH('Пр. №1.2.'!I$3,'Состав ВТК-ВРГ'!$3:$3,0)),\"---\")","v":"---"},{"$f":"SUMIFS('Пр. №3'!$BQ:$BQ,'Пр. №3'!$G:$G,'Пр. №1.2.'!$E79,'Пр. №3'!$D:$D,'Пр. №1.2.'!$B79)","v":0},{"$f":"IFERROR(INDEX('Пр. №4'!$1:$1048576,MATCH($I79,'Пр. №4'!$C:$C,0),MATCH('Пр. №3'!$D$5,'Пр. №4'!$9:$9,0)),\"---\")","v":"---"},null,"---"]
[null,null,{"$f":"IFERROR(INDEX(справочник!$G$1:$I$7,MATCH('Пр. №1.2.'!$G80,справочник!$G$1:$G$7,0),3),\"---\")","v":"---"},{"$f":"IFERROR(INDEX('Пр. №1'!$B$11:$C$33,MATCH('Пр. №1.2.'!$C80,'Пр. №1'!$B$11:$B$33,0),2),\"---\")","v":"---"},null,{"$f":"IFERROR(INDEX('Состав ВТК-ВРГ'!$1:$1048576,MATCH('Пр. №1.2.'!$E80,'Состав ВТК-ВРГ'!$B:$B,0),MATCH('Пр. №1.2.'!F$3,'Состав ВТК-ВРГ'!$3:$3,0)),\"---\")","v":"---"},{"$f":"IFERROR(INDEX('Состав ВТК-ВРГ'!$1:$1048576,MATCH('Пр. №1.2.'!$E80,'Состав ВТК-ВРГ'!$B:$B,0),MATCH('Пр. №1.2.'!G$3,'Состав ВТК-ВРГ'!$3:$3,0)),\"---\")","v":"---"},{"$f":"IFERROR(INDEX(справочник!$G$1:$I$7,MATCH('Пр. №1.2.'!$G80,справочник!$G$1:$G$7,0),2),\"---\")","v":"---"},{"$f":"IFERROR(INDEX('Состав ВТК-ВРГ'!$1:$1048576,MATCH('Пр. №1.2.'!$E80,'Состав ВТК-ВРГ'!$B:$B,0),MATCH('Пр. №1.2.'!I$3,'Состав ВТК-ВРГ'!$3:$3,0)),\"---\")","v":"---"},{"$f":"SUMIFS('Пр. №3'!$BQ:$BQ,'Пр. №3'!$G:$G,'Пр. №1.2.'!$E80,'Пр. №3'!$D:$D,'Пр. №1.2.'!$B80)","v":0},{"$f":"IFERROR(INDEX('Пр. №4'!$1:$1048576,MATCH($I80,'Пр. №4'!$C:$C,0),MATCH('Пр. №3'!$D$5,'Пр. №4'!$9:$9,0)),\"---\")","v":"---"},null,"---"]
[null,null,{"$f":"IFERROR(INDEX(справочник!$G$1:$I$7,MATCH('Пр. №1.2.'!$G81,справочник!$G$1:$G$7,0),3),\"---\")","v":"---"},{"$f":"IFERROR(INDEX('Пр. №1'!$B$11:$C$33,MATCH('Пр. №1.2.'!$C81,'Пр. №1'!$B$11:$B$33,0),2),\"---\")","v":"---"},null,{"$f":"IFERROR(INDEX('Состав ВТК-ВРГ'!$1:$1048576,MATCH('Пр. №1.2.'!$E81,'Состав ВТК-ВРГ'!$B:$B,0),MATCH('Пр. №1.2.'!F$3,'Состав ВТК-ВРГ'!$3:$3,0)),\"---\")","v":"---"},{"$f":"IFERROR(INDEX('Состав ВТК-ВРГ'!$1:$1048576,MATCH('Пр. №1.2.'!$E81,'Состав ВТК-ВРГ'!$B:$B,0),MATCH('Пр. №1.2.'!G$3,'Состав ВТК-ВРГ'!$3:$3,0)),\"---\")","v":"---"},{"$f":"IFERROR(INDEX(справочник!$G$1:$I$7,MATCH('Пр. №1.2.'!$G81,справочник!$G$1:$G$7,0),2),\"---\")","v":"---"},{"$f":"IFERROR(INDEX('Состав ВТК-ВРГ'!$1:$1048576,MATCH('Пр. №1.2.'!$E81,'Состав ВТК-ВРГ'!$B:$B,0),MATCH('Пр. №1.2.'!I$3,'Состав ВТК-ВРГ'!$3:$3,0)),\"---\")","v":"---"},{"$f":"SUMIFS('Пр. №3'!$BQ:$BQ,'Пр. №3'!$G:$G,'Пр. №1.2.'!$E81,'Пр. №3'!$D:$D,'Пр. №1.2.'!$B81)","v":0},{"$f":"IFERROR(INDEX('Пр. №4'!$1:$1048576,MATCH($I81,'Пр. №4'!$C:$C,0),MATCH('Пр. №3'!$D$5,'Пр. №4'!$9:$9,0)),\"---\")","v":"---"},null,"---"]
[null,null,{"$f":"IFERROR(INDEX(справочник!$G$1:$I$7,MATCH('Пр. №1.2.'!$G82,справочник!$G$1:$G$7,0),3),\"---\")","v":"---"},{"$f":"IFERROR(INDEX('Пр. №1'!$B$11:$C$33,MATCH('Пр. №1.2.'!$C82,'Пр. №1'!$B$11:$B$33,0),2),\"---\")","v":"---"},null,{"$f":"IFERROR(INDEX('Состав ВТК-ВРГ'!$1:$1048576,MATCH('Пр. №1.2.'!$E82,'Состав ВТК-ВРГ'!$B:$B,0),MATCH('Пр. №1.2.'!F$3,'Состав ВТК-ВРГ'!$3:$3,0)),\"---\")","v":"---"},{"$f":"IFERROR(INDEX('Состав ВТК-ВРГ'!$1:$1048576,MATCH('Пр. №1.2.'!$E82,'Состав ВТК-ВРГ'!$B:$B,0),MATCH('Пр. №1.2.'!G$3,'Состав ВТК-ВРГ'!$3:$3,0)),\"---\")","v":"---"},{"$f":"IFERROR(INDEX(справочник!$G$1:$I$7,MATCH('Пр. №1.2.'!$G82,справочник!$G$1:$G$7,0),2),\"---\")","v":"---"},{"$f":"IFERROR(INDEX('Состав ВТК-ВРГ'!$1:$1048576,MATCH('Пр. №1.2.'!$E82,'Состав ВТК-ВРГ'!$B:$B,0),MATCH('Пр. №1.2.'!I$3,'Состав ВТК-ВРГ'!$3:$3,0)),\"---\")","v":"---"},{"$f":"SUMIFS('Пр. №3'!$BQ:$BQ,'Пр. №3'!$G:$G,'Пр. №1.2.'!$E82,'Пр. №3'!$D:$D,'Пр. №1.2.'!$B82)","v":0},{"$f":"IFERROR(INDEX('Пр. №4'!$1:$1048576,MATCH($I82,'Пр. №4'!$C:$C,0),MATCH('Пр. №3'!$D$5,'Пр. №4'!$9:$9,0)),\"---\")","v":"---"},null,"---"]
[null,null,{"$f":"IFERROR(INDEX(справочник!$G$1:$I$7,MATCH('Пр. №1.2.'!$G83,справочник!$G$1:$G$7,0),3),\"---\")","v":"---"},{"$f":"IFERROR(INDEX('Пр. №1'!$B$11:$C$33,MATCH('Пр. №1.2.'!$C83,'Пр. №1'!$B$11:$B$33,0),2),\"---\")","v":"---"},null,{"$f":"IFERROR(INDEX('Состав ВТК-ВРГ'!$1:$1048576,MATCH('Пр. №1.2.'!$E83,'Состав ВТК-ВРГ'!$B:$B,0),MATCH('Пр. №1.2.'!F$3,'Состав ВТК-ВРГ'!$3:$3,0)),\"---\")","v":"---"},{"$f":"IFERROR(INDEX('Состав ВТК-ВРГ'!$1:$1048576,MATCH('Пр. №1.2.'!$E83,'Состав ВТК-ВРГ'!$B:$B,0),MATCH('Пр. №1.2.'!G$3,'Состав ВТК-ВРГ'!$3:$3,0)),\"---\")","v":"---"},{"$f":"IFERROR(INDEX(справочник!$G$1:$I$7,MATCH('Пр. №1.2.'!$G83,справочник!$G$1:$G$7,0),2),\"---\")","v":"---"},{"$f":"IFERROR(INDEX('Состав ВТК-ВРГ'!$1:$1048576,MATCH('Пр. №1.2.'!$E83,'Состав ВТК-ВРГ'!$B:$B,0),MATCH('Пр. №1.2.'!I$3,'Состав ВТК-ВРГ'!$3:$3,0)),\"---\")","v":"---"},{"$f":"SUMIFS('Пр. №3'!$BQ:$BQ,'Пр. №3'!$G:$G,'Пр. №1.2.'!$E83,'Пр. №3'!$D:$D,'Пр. №1.2.'!$B83)","v":0},{"$f":"IFERROR(INDEX('Пр. №4'!$1:$1048576,MATCH($I83,'Пр. №4'!$C:$C,0),MATCH('Пр. №3'!$D$5,'Пр. №4'!$9:$9,0)),\"---\")","v":"---"},null,"---"]
[null,null,{"$f":"IFERROR(INDEX(справочник!$G$1:$I$7,MATCH('Пр. №1.2.'!$G84,справочник!$G$1:$G$7,0),3),\"---\")","v":"---"},{"$f":"IFERROR(INDEX('Пр. №1'!$B$11:$C$33,MATCH('Пр. №1.2.'!$C84,'Пр. №1'!$B$11:$B$33,0),2),\"---\")","v":"---"},null,{"$f":"IFERROR(INDEX('Состав ВТК-ВРГ'!$1:$1048576,MATCH('Пр. №1.2.'!$E84,'Состав ВТК-ВРГ'!$B:$B,0),MATCH('Пр. №1.2.'!F$3,'Состав ВТК-ВРГ'!$3:$3,0)),\"---\")","v":"---"},{"$f":"IFERROR(INDEX('Состав ВТК-ВРГ'!$1:$1048576,MATCH('Пр. №1.2.'!$E84,'Состав ВТК-ВРГ'!$B:$B,0),MATCH('Пр. №1.2.'!G$3,'Состав ВТК-ВРГ'!$3:$3,0)),\"---\")","v":"---"},{"$f":"IFERROR(INDEX(справочник!$G$1:$I$7,MATCH('Пр. №1.2.'!$G84,справочник!$G$1:$G$7,0),2),\"---\")","v":"---"},{"$f":"IFERROR(INDEX('Состав ВТК-ВРГ'!$1:$1048576,MATCH('Пр. №1.2.'!$E84,'Состав ВТК-ВРГ'!$B:$B,0),MATCH('Пр. №1.2.'!I$3,'Состав ВТК-ВРГ'!$3:$3,0)),\"---\")","v":"---"},{"$f":"SUMIFS('Пр. №3'!$BQ:$BQ,'Пр. №3'!$G:$G,'Пр. №1.2.'!$E84,'Пр. №3'!$D:$D,'Пр. №1.2.'!$B84)","v":0},{"$f":"IFERROR(INDEX('Пр. №4'!$1:$1048576,MATCH($I84,'Пр. №4'!$C:$C,0),MATCH('Пр. №3'!$D$5,'Пр. №4'!$9:$9,0)),\"---\")","v":"---"},null,"---"]
[null,null,{"$f":"IFERROR(INDEX(справочник!$G$1:$I$7,MATCH('Пр. №1.2.'!$G85,справочник!$G$1:$G$7,0),3),\"---\")","v":"---"},{"$f":"IFERROR(INDEX('Пр. №1'!$B$11:$C$33,MATCH('Пр. №1.2.'!$C85,'Пр. №1'!$B$11:$B$33,0),2),\"---\")","v":"---"},null,{"$f":"IFERROR(INDEX('Состав ВТК-ВРГ'!$1:$1048576,MATCH('Пр. №1.2.'!$E85,'Состав ВТК-ВРГ'!$B:$B,0),MATCH('Пр. №1.2.'!F$3,'Состав ВТК-ВРГ'!$3:$3,0)),\"---\")","v":"---"},{"$f":"IFERROR(INDEX('Состав ВТК-ВРГ'!$1:$1048576,MATCH('Пр. №1.2.'!$E85,'Состав ВТК-ВРГ'!$B:$B,0),MATCH('Пр. №1.2.'!G$3,'Состав ВТК-ВРГ'!$3:$3,0)),\"---\")","v":"---"},{"$f":"IFERROR(INDEX(справочник!$G$1:$I$7,MATCH('Пр. №1.2.'!$G85,справочник!$G$1:$G$7,0),2),\"---\")","v":"---"},{"$f":"IFERROR(INDEX('Состав ВТК-ВРГ'!$1:$1048576,MATCH('Пр. №1.2.'!$E85,'Состав ВТК-ВРГ'!$B:$B,0),MATCH('Пр. №1.2.'!I$3,'Состав ВТК-ВРГ'!$3:$3,0)),\"---\")","v":"---"},{"$f":"SUMIFS('Пр. №3'!$BQ:$BQ,'Пр. №3'!$G:$G,'Пр. №1.2.'!$E85,'Пр. №3'!$D:$D,'Пр. №1.2.'!$B85)","v":0},{"$f":"IFERROR(INDEX('Пр. №4'!$1:$1048576,MATCH($I85,'Пр. №4'!$C:$C,0),MATCH('Пр. №3'!$D$5,'Пр. №4'!$9:$9,0)),\"---\")","v":"---"},null,"---"]
[null,null,{"$f":"IFERROR(INDEX(справочник!$G$1:$I$7,MATCH('Пр. №1.2.'!$G86,справочник!$G$1:$G$7,0),3),\"---\")","v":"---"},{"$f":"IFERROR(INDEX('Пр. №1'!$B$11:$C$33,MATCH('Пр. №1.2.'!$C86,'Пр. №1'!$B$11:$B$33,0),2),\"---\")","v":"---"},null,{"$f":"IFERROR(INDEX('Состав ВТК-ВРГ'!$1:$1048576,MATCH('Пр. №1.2.'!$E86,'Состав ВТК-ВРГ'!$B:$B,0),MATCH('Пр. №1.2.'!F$3,'Состав ВТК-ВРГ'!$3:$3,0)),\"---\")","v":"---"},{"$f":"IFERROR(INDEX('Состав ВТК-ВРГ'!$1:$1048576,MATCH('Пр. №1.2.'!$E86,'Состав ВТК-ВРГ'!$B:$B,0),MATCH('Пр. №1.2.'!G$3,'Состав ВТК-ВРГ'!$3:$3,0)),\"---\")","v":"---"},{"$f":"IFERROR(INDEX(справочник!$G$1:$I$7,MATCH('Пр. №1.2.'!$G86,справочник!$G$1:$G$7,0),2),\"---\")","v":"---"},{"$f":"IFERROR(INDEX('Состав ВТК-ВРГ'!$1:$1048576,MATCH('Пр. №1.2.'!$E86,'Состав ВТК-ВРГ'!$B:$B,0),MATCH('Пр. №1.2.'!I$3,'Состав ВТК-ВРГ'!$3:$3,0)),\"---\")","v":"---"},{"$f":"SUMIFS('Пр. №3'!$BQ:$BQ,'Пр. №3'!$G:$G,'Пр. №1.2.'!$E86,'Пр. №3'!$D:$D,'Пр. №1.2.'!$B86)","v":0},{"$f":"IFERROR(INDEX('Пр. №4'!$1:$1048576,MATCH($I86,'Пр. №4'!$C:$C,0),MATCH('Пр. №3'!$D$5,'Пр. №4'!$9:$9,0)),\"---\")","v":"---"},null,"---"]
[null,null,{"$f":"IFERROR(INDEX(справочник!$G$1:$I$7,MATCH('Пр. №1.2.'!$G87,справочник!$G$1:$G$7,0),3),\"---\")","v":"---"},{"$f":"IFERROR(INDEX('Пр. №1'!$B$11:$C$33,MATCH('Пр. №1.2.'!$C87,'Пр. №1'!$B$11:$B$33,0),2),\"---\")","v":"---"},null,{"$f":"IFERROR(INDEX('Состав ВТК-ВРГ'!$1:$1048576,MATCH('Пр. №1.2.'!$E87,'Состав ВТК-ВРГ'!$B:$B,0),MATCH('Пр. №1.2.'!F$3,'Состав ВТК-ВРГ'!$3:$3,0)),\"---\")","v":"---"},{"$f":"IFERROR(INDEX('Состав ВТК-ВРГ'!$1:$1048576,MATCH('Пр. №1.2.'!$E87,'Состав ВТК-ВРГ'!$B:$B,0),MATCH('Пр. №1.2.'!G$3,'Состав ВТК-ВРГ'!$3:$3,0)),\"---\")","v":"---"},{"$f":"IFERROR(INDEX(справочник!$G$1:$I$7,MATCH('Пр. №1.2.'!$G87,справочник!$G$1:$G$7,0),2),\"---\")","v":"---"},{"$f":"IFERROR(INDEX('Состав ВТК-ВРГ'!$1:$1048576,MATCH('Пр. №1.2.'!$E87,'Состав ВТК-ВРГ'!$B:$B,0),MATCH('Пр. №1.2.'!I$3,'Состав ВТК-ВРГ'!$3:$3,0)),\"---\")","v":"---"},{"$f":"SUMIFS('Пр. №3'!$BQ:$BQ,'Пр. №3'!$G:$G,'Пр. №1.2.'!$E87,'Пр. №3'!$D:$D,'Пр. №1.2.'!$B87)","v":0},{"$f":"IFERROR(INDEX('Пр. №4'!$1:$1048576,MATCH($I87,'Пр. №4'!$C:$C,0),MATCH('Пр. №3'!$D$5,'Пр. №4'!$9:$9,0)),\"---\")","v":"---"},null,"---"]
[null,null,{"$f":"IFERROR(INDEX(справочник!$G$1:$I$7,MATCH('Пр. №1.2.'!$G88,справочник!$G$1:$G$7,0),3),\"---\")","v":"---"},{"$f":"IFERROR(INDEX('Пр. №1'!$B$11:$C$33,MATCH('Пр. №1.2.'!$C88,'Пр. №1'!$B$11:$B$33,0),2),\"---\")","v":"---"},null,{"$f":"IFERROR(INDEX('Состав ВТК-ВРГ'!$1:$1048576,MATCH('Пр. №1.2.'!$E88,'Состав ВТК-ВРГ'!$B:$B,0),MATCH('Пр. №1.2.'!F$3,'Состав ВТК-ВРГ'!$3:$3,0)),\"---\")","v":"---"},{"$f":"IFERROR(INDEX('Состав ВТК-ВРГ'!$1:$1048576,MATCH('Пр. №1.2.'!$E88,'Состав ВТК-ВРГ'!$B:$B,0),MATCH('Пр. №1.2.'!G$3,'Состав ВТК-ВРГ'!$3:$3,0)),\"---\")","v":"---"},{"$f":"IFERROR(INDEX(справочник!$G$1:$I$7,MATCH('Пр. №1.2.'!$G88,справочник!$G$1:$G$7,0),2),\"---\")","v":"---"},{"$f":"IFERROR(INDEX('Состав ВТК-ВРГ'!$1:$1048576,MATCH('Пр. №1.2.'!$E88,'Состав ВТК-ВРГ'!$B:$B,0),MATCH('Пр. №1.2.'!I$3,'Состав ВТК-ВРГ'!$3:$3,0)),\"---\")","v":"---"},{"$f":"SUMIFS('Пр. №3'!$BQ:$BQ,'Пр. №3'!$G:$G,'Пр. №1.2.'!$E88,'Пр. №3'!$D:$D,'Пр. №1.2.'!$B88)","v":0},{"$f":"IFERROR(INDEX('Пр. №4'!$1:$1048576,MATCH($I88,'Пр. №4'!$C:$C,0),MATCH('Пр. №3'!$D$5,'Пр. №4'!$9:$9,0)),\"---\")","v":"---"},null,"---"]
[null,null,{"$f":"IFERROR(INDEX(справочник!$G$1:$I$7,MATCH('Пр. №1.2.'!$G89,справочник!$G$1:$G$7,0),3),\"---\")","v":"---"},{"$f":"IFERROR(INDEX('Пр. №1'!$B$11:$C$33,MATCH('Пр. №1.2.'!$C89,'Пр. №1'!$B$11:$B$33,0),2),\"---\")","v":"---"},null,{"$f":"IFERROR(INDEX('Состав ВТК-ВРГ'!$1:$1048576,MATCH('Пр. №1.2.'!$E89,'Состав ВТК-ВРГ'!$B:$B,0),MATCH('Пр. №1.2.'!F$3,'Состав ВТК-ВРГ'!$3:$3,0)),\"---\")","v":"---"},{"$f":"IFERROR(INDEX('Состав ВТК-ВРГ'!$1:$1048576,MATCH('Пр. №1.2.'!$E89,'Состав ВТК-ВРГ'!$B:$B,0),MATCH('Пр. №1.2.'!G$3,'Состав ВТК-ВРГ'!$3:$3,0)),\"---\")","v":"---"},{"$f":"IFERROR(INDEX(справочник!$G$1:$I$7,MATCH('Пр. №1.2.'!$G89,справочник!$G$1:$G$7,0),2),\"---\")","v":"---"},{"$f":"IFERROR(INDEX('Состав ВТК-ВРГ'!$1:$1048576,MATCH('Пр. №1.2.'!$E89,'Состав ВТК-ВРГ'!$B:$B,0),MATCH('Пр. №1.2.'!I$3,'Состав ВТК-ВРГ'!$3:$3,0)),\"---\")","v":"---"},{"$f":"SUMIFS('Пр. №3'!$BQ:$BQ,'Пр. №3'!$G:$G,'Пр. №1.2.'!$E89,'Пр. №3'!$D:$D,'Пр. №1.2.'!$B89)","v":0},{"$f":"IFERROR(INDEX('Пр. №4'!$1:$1048576,MATCH($I89,'Пр. №4'!$C:$C,0),MATCH('Пр. №3'!$D$5,'Пр. №4'!$9:$9,0)),\"---\")","v":"---"},null,"---"]
[null,null,{"$f":"IFERROR(INDEX(справочник!$G$1:$I$7,MATCH('Пр. №1.2.'!$G90,справочник!$G$1:$G$7,0),3),\"---\")","v":"---"},{"$f":"IFERROR(INDEX('Пр. №1'!$B$11:$C$33,MATCH('Пр. №1.2.'!$C90,'Пр. №1'!$B$11:$B$33,0),2),\"---\")","v":"---"},null,{"$f":"IFERROR(INDEX('Состав ВТК-ВРГ'!$1:$1048576,MATCH('Пр. №1.2.'!$E90,'Состав ВТК-ВРГ'!$B:$B,0),MATCH('Пр. №1.2.'!F$3,'Состав ВТК-ВРГ'!$3:$3,0)),\"---\")","v":"---"},{"$f":"IFERROR(INDEX('Состав ВТК-ВРГ'!$1:$1048576,MATCH('Пр. №1.2.'!$E90,'Состав ВТК-ВРГ'!$B:$B,0),MATCH('Пр. №1.2.'!G$3,'Состав ВТК-ВРГ'!$3:$3,0)),\"---\")","v":"---"},{"$f":"IFERROR(INDEX(справочник!$G$1:$I$7,MATCH('Пр. №1.2.'!$G90,справочник!$G$1:$G$7,0),2),\"---\")","v":"---"},{"$f":"IFERROR(INDEX('Состав ВТК-ВРГ'!$1:$1048576,MATCH('Пр. №1.2.'!$E90,'Состав ВТК-ВРГ'!$B:$B,0),MATCH('Пр. №1.2.'!I$3,'Состав ВТК-ВРГ'!$3:$3,0)),\"---\")","v":"---"},{"$f":"SUMIFS('Пр. №3'!$BQ:$BQ,'Пр. №3'!$G:$G,'Пр. №1.2.'!$E90,'Пр. №3'!$D:$D,'Пр. №1.2.'!$B90)","v":0},{"$f":"IFERROR(INDEX('Пр. №4'!$1:$1048576,MATCH($I90,'Пр. №4'!$C:$C,0),MATCH('Пр. №3'!$D$5,'Пр. №4'!$9:$9,0)),\"---\")","v":"---"},null,"---"]
[null,null,{"$f":"IFERROR(INDEX(справочник!$G$1:$I$7,MATCH('Пр. №1.2.'!$G91,справочник!$G$1:$G$7,0),3),\"---\")","v":"---"},{"$f":"IFERROR(INDEX('Пр. №1'!$B$11:$C$33,MATCH('Пр. №1.2.'!$C91,'Пр. №1'!$B$11:$B$33,0),2),\"---\")","v":"---"},null,{"$f":"IFERROR(INDEX('Состав ВТК-ВРГ'!$1:$1048576,MATCH('Пр. №1.2.'!$E91,'Состав ВТК-ВРГ'!$B:$B,0),MATCH('Пр. №1.2.'!F$3,'Состав ВТК-ВРГ'!$3:$3,0)),\"---\")","v":"---"},{"$f":"IFERROR(INDEX('Состав ВТК-ВРГ'!$1:$1048576,MATCH('Пр. №1.2.'!$E91,'Состав ВТК-ВРГ'!$B:$B,0),MATCH('Пр. №1.2.'!G$3,'Состав ВТК-ВРГ'!$3:$3,0)),\"---\")","v":"---"},{"$f":"IFERROR(INDEX(справочник!$G$1:$I$7,MATCH('Пр. №1.2.'!$G91,справочник!$G$1:$G$7,0),2),\"---\")","v":"---"},{"$f":"IFERROR(INDEX('Состав ВТК-ВРГ'!$1:$1048576,MATCH('Пр. №1.2.'!$E91,'Состав ВТК-ВРГ'!$B:$B,0),MATCH('Пр. №1.2.'!I$3,'Состав ВТК-ВРГ'!$3:$3,0)),\"---\")","v":"---"},{"$f":"SUMIFS('Пр. №3'!$BQ:$BQ,'Пр. №3'!$G:$G,'Пр. №1.2.'!$E91,'Пр. №3'!$D:$D,'Пр. №1.2.'!$B91)","v":0},{"$f":"IFERROR(INDEX('Пр. №4'!$1:$1048576,MATCH($I91,'Пр. №4'!$C:$C,0),MATCH('Пр. №3'!$D$5,'Пр. №4'!$9:$9,0)),\"---\")","v":"---"},null,"---"]
[null,null,{"$f":"IFERROR(INDEX(справочник!$G$1:$I$7,MATCH('Пр. №1.2.'!$G92,справочник!$G$1:$G$7,0),3),\"---\")","v":"---"},{"$f":"IFERROR(INDEX('Пр. №1'!$B$11:$C$33,MATCH('Пр. №1.2.'!$C92,'Пр. №1'!$B$11:$B$33,0),2),\"---\")","v":"---"},null,{"$f":"IFERROR(INDEX('Состав ВТК-ВРГ'!$1:$1048576,MATCH('Пр. №1.2.'!$E92,'Состав ВТК-ВРГ'!$B:$B,0),MATCH('Пр. №1.2.'!F$3,'Состав ВТК-ВРГ'!$3:$3,0)),\"---\")","v":"---"},{"$f":"IFERROR(INDEX('Состав ВТК-ВРГ'!$1:$1048576,MATCH('Пр. №1.2.'!$E92,'Состав ВТК-ВРГ'!$B:$B,0),MATCH('Пр. №1.2.'!G$3,'Состав ВТК-ВРГ'!$3:$3,0)),\"---\")","v":"---"},{"$f":"IFERROR(INDEX(справочник!$G$1:$I$7,MATCH('Пр. №1.2.'!$G92,справочник!$G$1:$G$7,0),2),\"---\")","v":"---"},{"$f":"IFERROR(INDEX('Состав ВТК-ВРГ'!$1:$1048576,MATCH('Пр. №1.2.'!$E92,'Состав ВТК-ВРГ'!$B:$B,0),MATCH('Пр. №1.2.'!I$3,'Состав ВТК-ВРГ'!$3:$3,0)),\"---\")","v":"---"},{"$f":"SUMIFS('Пр. №3'!$BQ:$BQ,'Пр. №3'!$G:$G,'Пр. №1.2.'!$E92,'Пр. №3'!$D:$D,'Пр. №1.2.'!$B92)","v":0},{"$f":"IFERROR(INDEX('Пр. №4'!$1:$1048576,MATCH($I92,'Пр. №4'!$C:$C,0),MATCH('Пр. №3'!$D$5,'Пр. №4'!$9:$9,0)),\"---\")","v":"---"},null,"---"]
[null,null,{"$f":"IFERROR(INDEX(справочник!$G$1:$I$7,MATCH('Пр. №1.2.'!$G93,справочник!$G$1:$G$7,0),3),\"---\")","v":"---"},{"$f":"IFERROR(INDEX('Пр. №1'!$B$11:$C$33,MATCH('Пр. №1.2.'!$C93,'Пр. №1'!$B$11:$B$33,0),2),\"---\")","v":"---"},null,{"$f":"IFERROR(INDEX('Состав ВТК-ВРГ'!$1:$1048576,MATCH('Пр. №1.2.'!$E93,'Состав ВТК-ВРГ'!$B:$B,0),MATCH('Пр. №1.2.'!F$3,'Состав ВТК-ВРГ'!$3:$3,0)),\"---\")","v":"---"},{"$f":"IFERROR(INDEX('Состав ВТК-ВРГ'!$1:$1048576,MATCH('Пр. №1.2.'!$E93,'Состав ВТК-ВРГ'!$B:$B,0),MATCH('Пр. №1.2.'!G$3,'Состав ВТК-ВРГ'!$3:$3,0)),\"---\")","v":"---"},{"$f":"IFERROR(INDEX(справочник!$G$1:$I$7,MATCH('Пр. №1.2.'!$G93,справочник!$G$1:$G$7,0),2),\"---\")","v":"---"},{"$f":"IFERROR(INDEX('Состав ВТК-ВРГ'!$1:$1048576,MATCH('Пр. №1.2.'!$E93,'Состав ВТК-ВРГ'!$B:$B,0),MATCH('Пр. №1.2.'!I$3,'Состав ВТК-ВРГ'!$3:$3,0)),\"---\")","v":"---"},{"$f":"SUMIFS('Пр. №3'!$BQ:$BQ,'Пр. №3'!$G:$G,'Пр. №1.2.'!$E93,'Пр. №3'!$D:$D,'Пр. №1.2.'!$B93)","v":0},{"$f":"IFERROR(INDEX('Пр. №4'!$1:$1048576,MATCH($I93,'Пр. №4'!$C:$C,0),MATCH('Пр. №3'!$D$5,'Пр. №4'!$9:$9,0)),\"---\")","v":"---"},null,"---"]
[null,null,{"$f":"IFERROR(INDEX(справочник!$G$1:$I$7,MATCH('Пр. №1.2.'!$G94,справочник!$G$1:$G$7,0),3),\"---\")","v":"---"},{"$f":"IFERROR(INDEX('Пр. №1'!$B$11:$C$33,MATCH('Пр. №1.2.'!$C94,'Пр. №1'!$B$11:$B$33,0),2),\"---\")","v":"---"},null,{"$f":"IFERROR(INDEX('Состав ВТК-ВРГ'!$1:$1048576,MATCH('Пр. №1.2.'!$E94,'Состав ВТК-ВРГ'!$B:$B,0),MATCH('Пр. №1.2.'!F$3,'Состав ВТК-ВРГ'!$3:$3,0)),\"---\")","v":"---"},{"$f":"IFERROR(INDEX('Состав ВТК-ВРГ'!$1:$1048576,MATCH('Пр. №1.2.'!$E94,'Состав ВТК-ВРГ'!$B:$B,0),MATCH('Пр. №1.2.'!G$3,'Состав ВТК-ВРГ'!$3:$3,0)),\"---\")","v":"---"},{"$f":"IFERROR(INDEX(справочник!$G$1:$I$7,MATCH('Пр. №1.2.'!$G94,справочник!$G$1:$G$7,0),2),\"---\")","v":"---"},{"$f":"IFERROR(INDEX('Состав ВТК-ВРГ'!$1:$1048576,MATCH('Пр. №1.2.'!$E94,'Состав ВТК-ВРГ'!$B:$B,0),MATCH('Пр. №1.2.'!I$3,'Состав ВТК-ВРГ'!$3:$3,0)),\"---\")","v":"---"},{"$f":"SUMIFS('Пр. №3'!$BQ:$BQ,'Пр. №3'!$G:$G,'Пр. №1.2.'!$E94,'Пр. №3'!$D:$D,'Пр. №1.2.'!$B94)","v":0},{"$f":"IFERROR(INDEX('Пр. №4'!$1:$1048576,MATCH($I94,'Пр. №4'!$C:$C,0),MATCH('Пр. №3'!$D$5,'Пр. №4'!$9:$9,0)),\"---\")","v":"---"},null,"---"]
[null,null,{"$f":"IFERROR(INDEX(справочник!$G$1:$I$7,MATCH('Пр. №1.2.'!$G95,справочник!$G$1:$G$7,0),3),\"---\")","v":"---"},{"$f":"IFERROR(INDEX('Пр. №1'!$B$11:$C$33,MATCH('Пр. №1.2.'!$C95,'Пр. №1'!$B$11:$B$33,0),2),\"---\")","v":"---"},null,{"$f":"IFERROR(INDEX('Состав ВТК-ВРГ'!$1:$1048576,MATCH('Пр. №1.2.'!$E95,'Состав ВТК-ВРГ'!$B:$B,0),MATCH('Пр. №1.2.'!F$3,'Состав ВТК-ВРГ'!$3:$3,0)),\"---\")","v":"---"},{"$f":"IFERROR(INDEX('Состав ВТК-ВРГ'!$1:$1048576,MATCH('Пр. №1.2.'!$E95,'Состав ВТК-ВРГ'!$B:$B,0),MATCH('Пр. №1.2.'!G$3,'Состав ВТК-ВРГ'!$3:$3,0)),\"---\")","v":"---"},{"$f":"IFERROR(INDEX(справочник!$G$1:$I$7,MATCH('Пр. №1.2.'!$G95,справочник!$G$1:$G$7,0),2),\"---\")","v":"---"},{"$f":"IFERROR(INDEX('Состав ВТК-ВРГ'!$1:$1048576,MATCH('Пр. №1.2.'!$E95,'Состав ВТК-ВРГ'!$B:$B,0),MATCH('Пр. №1.2.'!I$3,'Состав ВТК-ВРГ'!$3:$3,0)),\"---\")","v":"---"},{"$f":"SUMIFS('Пр. №3'!$BQ:$BQ,'Пр. №3'!$G:$G,'Пр. №1.2.'!$E95,'Пр. №3'!$D:$D,'Пр. №1.2.'!$B95)","v":0},{"$f":"IFERROR(INDEX('Пр. №4'!$1:$1048576,MATCH($I95,'Пр. №4'!$C:$C,0),MATCH('Пр. №3'!$D$5,'Пр. №4'!$9:$9,0)),\"---\")","v":"---"},null,"---"]
[null,null,{"$f":"IFERROR(INDEX(справочник!$G$1:$I$7,MATCH('Пр. №1.2.'!$G96,справочник!$G$1:$G$7,0),3),\"---\")","v":"---"},{"$f":"IFERROR(INDEX('Пр. №1'!$B$11:$C$33,MATCH('Пр. №1.2.'!$C96,'Пр. №1'!$B$11:$B$33,0),2),\"---\")","v":"---"},null,{"$f":"IFERROR(INDEX('Состав ВТК-ВРГ'!$1:$1048576,MATCH('Пр. №1.2.'!$E96,'Состав ВТК-ВРГ'!$B:$B,0),MATCH('Пр. №1.2.'!F$3,'Состав ВТК-ВРГ'!$3:$3,0)),\"---\")","v":"---"},{"$f":"IFERROR(INDEX('Состав ВТК-ВРГ'!$1:$1048576,MATCH('Пр. №1.2.'!$E96,'Состав ВТК-ВРГ'!$B:$B,0),MATCH('Пр. №1.2.'!G$3,'Состав ВТК-ВРГ'!$3:$3,0)),\"---\")","v":"---"},{"$f":"IFERROR(INDEX(справочник!$G$1:$I$7,MATCH('Пр. №1.2.'!$G96,справочник!$G$1:$G$7,0),2),\"---\")","v":"---"},{"$f":"IFERROR(INDEX('Состав ВТК-ВРГ'!$1:$1048576,MATCH('Пр. №1.2.'!$E96,'Состав ВТК-ВРГ'!$B:$B,0),MATCH('Пр. №1.2.'!I$3,'Состав ВТК-ВРГ'!$3:$3,0)),\"---\")","v":"---"},{"$f":"SUMIFS('Пр. №3'!$BQ:$BQ,'Пр. №3'!$G:$G,'Пр. №1.2.'!$E96,'Пр. №3'!$D:$D,'Пр. №1.2.'!$B96)","v":0},{"$f":"IFERROR(INDEX('Пр. №4'!$1:$1048576,MATCH($I96,'Пр. №4'!$C:$C,0),MATCH('Пр. №3'!$D$5,'Пр. №4'!$9:$9,0)),\"---\")","v":"---"},null,"---"]
[null,null,{"$f":"IFERROR(INDEX(справочник!$G$1:$I$7,MATCH('Пр. №1.2.'!$G97,справочник!$G$1:$G$7,0),3),\"---\")","v":"---"},{"$f":"IFERROR(INDEX('Пр. №1'!$B$11:$C$33,MATCH('Пр. №1.2.'!$C97,'Пр. №1'!$B$11:$B$33,0),2),\"---\")","v":"---"},null,{"$f":"IFERROR(INDEX('Состав ВТК-ВРГ'!$1:$1048576,MATCH('Пр. №1.2.'!$E97,'Состав ВТК-ВРГ'!$B:$B,0),MATCH('Пр. №1.2.'!F$3,'Состав ВТК-ВРГ'!$3:$3,0)),\"---\")","v":"---"},{"$f":"IFERROR(INDEX('Состав ВТК-ВРГ'!$1:$1048576,MATCH('Пр. №1.2.'!$E97,'Состав ВТК-ВРГ'!$B:$B,0),MATCH('Пр. №1.2.'!G$3,'Состав ВТК-ВРГ'!$3:$3,0)),\"---\")","v":"---"},{"$f":"IFERROR(INDEX(справочник!$G$1:$I$7,MATCH('Пр. №1.2.'!$G97,справочник!$G$1:$G$7,0),2),\"---\")","v":"---"},{"$f":"IFERROR(INDEX('Состав ВТК-ВРГ'!$1:$1048576,MATCH('Пр. №1.2.'!$E97,'Состав ВТК-ВРГ'!$B:$B,0),MATCH('Пр. №1.2.'!I$3,'Состав ВТК-ВРГ'!$3:$3,0)),\"---\")","v":"---"},{"$f":"SUMIFS('Пр. №3'!$BQ:$BQ,'Пр. №3'!$G:$G,'Пр. №1.2.'!$E97,'Пр. №3'!$D:$D,'Пр. №1.2.'!$B97)","v":0},{"$f":"IFERROR(INDEX('Пр. №4'!$1:$1048576,MATCH($I97,'Пр. №4'!$C:$C,0),MATCH('Пр. №3'!$D$5,'Пр. №4'!$9:$9,0)),\"---\")","v":"---"},null,"---"]
[null,null,{"$f":"IFERROR(INDEX(справочник!$G$1:$I$7,MATCH('Пр. №1.2.'!$G98,справочник!$G$1:$G$7,0),3),\"---\")","v":"---"},{"$f":"IFERROR(INDEX('Пр. №1'!$B$11:$C$33,MATCH('Пр. №1.2.'!$C98,'Пр. №1'!$B$11:$B$33,0),2),\"---\")","v":"---"},null,{"$f":"IFERROR(INDEX('Состав ВТК-ВРГ'!$1:$1048576,MATCH('Пр. №1.2.'!$E98,'Состав ВТК-ВРГ'!$B:$B,0),MATCH('Пр. №1.2.'!F$3,'Состав ВТК-ВРГ'!$3:$3,0)),\"---\")","v":"---"},{"$f":"IFERROR(INDEX('Состав ВТК-ВРГ'!$1:$1048576,MATCH('Пр. №1.2.'!$E98,'Состав ВТК-ВРГ'!$B:$B,0),MATCH('Пр. №1.2.'!G$3,'Состав ВТК-ВРГ'!$3:$3,0)),\"---\")","v":"---"},{"$f":"IFERROR(INDEX(справочник!$G$1:$I$7,MATCH('Пр. №1.2.'!$G98,справочник!$G$1:$G$7,0),2),\"---\")","v":"---"},{"$f":"IFERROR(INDEX('Состав ВТК-ВРГ'!$1:$1048576,MATCH('Пр. №1.2.'!$E98,'Состав ВТК-ВРГ'!$B:$B,0),MATCH('Пр. №1.2.'!I$3,'Состав ВТК-ВРГ'!$3:$3,0)),\"---\")","v":"---"},{"$f":"SUMIFS('Пр. №3'!$BQ:$BQ,'Пр. №3'!$G:$G,'Пр. №1.2.'!$E98,'Пр. №3'!$D:$D,'Пр. №1.2.'!$B98)","v":0},{"$f":"IFERROR(INDEX('Пр. №4'!$1:$1048576,MATCH($I98,'Пр. №4'!$C:$C,0),MATCH('Пр. №3'!$D$5,'Пр. №4'!$9:$9,0)),\"---\")","v":"---"},null,"---"]
[null,null,{"$f":"IFERROR(INDEX(справочник!$G$1:$I$7,MATCH('Пр. №1.2.'!$G99,справочник!$G$1:$G$7,0),3),\"---\")","v":"---"},{"$f":"IFERROR(INDEX('Пр. №1'!$B$11:$C$33,MATCH('Пр. №1.2.'!$C99,'Пр. №1'!$B$11:$B$33,0),2),\"---\")","v":"---"},null,{"$f":"IFERROR(INDEX('Состав ВТК-ВРГ'!$1:$1048576,MATCH('Пр. №1.2.'!$E99,'Состав ВТК-ВРГ'!$B:$B,0),MATCH('Пр. №1.2.'!F$3,'Состав ВТК-ВРГ'!$3:$3,0)),\"---\")","v":"---"},{"$f":"IFERROR(INDEX('Состав ВТК-ВРГ'!$1:$1048576,MATCH('Пр. №1.2.'!$E99,'Состав ВТК-ВРГ'!$B:$B,0),MATCH('Пр. №1.2.'!G$3,'Состав ВТК-ВРГ'!$3:$3,0)),\"---\")","v":"---"},{"$f":"IFERROR(INDEX(справочник!$G$1:$I$7,MATCH('Пр. №1.2.'!$G99,справочник!$G$1:$G$7,0),2),\"---\")","v":"---"},{"$f":"IFERROR(INDEX('Состав ВТК-ВРГ'!$1:$1048576,MATCH('Пр. №1.2.'!$E99,'Состав ВТК-ВРГ'!$B:$B,0),MATCH('Пр. №1.2.'!I$3,'Состав ВТК-ВРГ'!$3:$3,0)),\"---\")","v":"---"},{"$f":"SUMIFS('Пр. №3'!$BQ:$BQ,'Пр. №3'!$G:$G,'Пр. №1.2.'!$E99,'Пр. №3'!$D:$D,'Пр. №1.2.'!$B99)","v":0},{"$f":"IFERROR(INDEX('Пр. №4'!$1:$1048576,MATCH($I99,'Пр. №4'!$C:$C,0),MATCH('Пр. №3'!$D$5,'Пр. №4'!$9:$9,0)),\"---\")","v":"---"},null,"---"]
[null,null,{"$f":"IFERROR(INDEX(справочник!$G$1:$I$7,MATCH('Пр. №1.2.'!$G100,справочник!$G$1:$G$7,0),3),\"---\")","v":"---"},{"$f":"IFERROR(INDEX('Пр. №1'!$B$11:$C$33,MATCH('Пр. №1.2.'!$C100,'Пр. №1'!$B$11:$B$33,0),2),\"---\")","v":"---"},null,{"$f":"IFERROR(INDEX('Состав ВТК-ВРГ'!$1:$1048576,MATCH('Пр. №1.2.'!$E100,'Состав ВТК-ВРГ'!$B:$B,0),MATCH('Пр. №1.2.'!F$3,'Состав ВТК-ВРГ'!$3:$3,0)),\"---\")","v":"---"},{"$f":"IFERROR(INDEX('Состав ВТК-ВРГ'!$1:$1048576,MATCH('Пр. №1.2.'!$E100,'Состав ВТК-ВРГ'!$B:$B,0),MATCH('Пр. №1.2.'!G$3,'Состав ВТК-ВРГ'!$3:$3,0)),\"---\")","v":"---"},{"$f":"IFERROR(INDEX(справочник!$G$1:$I$7,MATCH('Пр. №1.2.'!$G100,справочник!$G$1:$G$7,0),2),\"---\")","v":"---"},{"$f":"IFERROR(INDEX('Состав ВТК-ВРГ'!$1:$1048576,MATCH('Пр. №1.2.'!$E100,'Состав ВТК-ВРГ'!$B:$B,0),MATCH('Пр. №1.2.'!I$3,'Состав ВТК-ВРГ'!$3:$3,0)),\"---\")","v":"---"},{"$f":"SUMIFS('Пр. №3'!$BQ:$BQ,'Пр. №3'!$G:$G,'Пр. №1.2.'!$E100,'Пр. №3'!$D:$D,'Пр. №1.2.'!$B100)","v":0},{"$f":"IFERROR(INDEX('Пр. №4'!$1:$1048576,MATCH($I100,'Пр. №4'!$C:$C,0),MATCH('Пр. №3'!$D$5,'Пр. №4'!$9:$9,0)),\"---\")","v":"---"},null,"---"]
[null,null,{"$f":"IFERROR(INDEX(справочник!$G$1:$I$7,MATCH('Пр. №1.2.'!$G101,справочник!$G$1:$G$7,0),3),\"---\")","v":"---"},{"$f":"IFERROR(INDEX('Пр. №1'!$B$11:$C$33,MATCH('Пр. №1.2.'!$C101,'Пр. №1'!$B$11:$B$33,0),2),\"---\")","v":"---"},null,{"$f":"IFERROR(INDEX('Состав ВТК-ВРГ'!$1:$1048576,MATCH('Пр. №1.2.'!$E101,'Состав ВТК-ВРГ'!$B:$B,0),MATCH('Пр. №1.2.'!F$3,'Состав ВТК-ВРГ'!$3:$3,0)),\"---\")","v":"---"},{"$f":"IFERROR(INDEX('Состав ВТК-ВРГ'!$1:$1048576,MATCH('Пр. №1.2.'!$E101,'Состав ВТК-ВРГ'!$B:$B,0),MATCH('Пр. №1.2.'!G$3,'Состав ВТК-ВРГ'!$3:$3,0)),\"---\")","v":"---"},{"$f":"IFERROR(INDEX(справочник!$G$1:$I$7,MATCH('Пр. №1.2.'!$G101,справочник!$G$1:$G$7,0),2),\"---\")","v":"---"},{"$f":"IFERROR(INDEX('Состав ВТК-ВРГ'!$1:$1048576,MATCH('Пр. №1.2.'!$E101,'Состав ВТК-ВРГ'!$B:$B,0),MATCH('Пр. №1.2.'!I$3,'Состав ВТК-ВРГ'!$3:$3,0)),\"---\")","v":"---"},{"$f":"SUMIFS('Пр. №3'!$BQ:$BQ,'Пр. №3'!$G:$G,'Пр. №1.2.'!$E101,'Пр. №3'!$D:$D,'Пр. №1.2.'!$B101)","v":0},{"$f":"IFERROR(INDEX('Пр. №4'!$1:$1048576,MATCH($I101,'Пр. №4'!$C:$C,0),MATCH('Пр. №3'!$D$5,'Пр. №4'!$9:$9,0)),\"---\")","v":"---"},null,"---"]
[null,null,{"$f":"IFERROR(INDEX(справочник!$G$1:$I$7,MATCH('Пр. №1.2.'!$G102,справочник!$G$1:$G$7,0),3),\"---\")","v":"---"},{"$f":"IFERROR(INDEX('Пр. №1'!$B$11:$C$33,MATCH('Пр. №1.2.'!$C102,'Пр. №1'!$B$11:$B$33,0),2),\"---\")","v":"---"},null,{"$f":"IFERROR(INDEX('Состав ВТК-ВРГ'!$1:$1048576,MATCH('Пр. №1.2.'!$E102,'Состав ВТК-ВРГ'!$B:$B,0),MATCH('Пр. №1.2.'!F$3,'Состав ВТК-ВРГ'!$3:$3,0)),\"---\")","v":"---"},{"$f":"IFERROR(INDEX('Состав ВТК-ВРГ'!$1:$1048576,MATCH('Пр. №1.2.'!$E102,'Состав ВТК-ВРГ'!$B:$B,0),MATCH('Пр. №1.2.'!G$3,'Состав ВТК-ВРГ'!$3:$3,0)),\"---\")","v":"---"},{"$f":"IFERROR(INDEX(справочник!$G$1:$I$7,MATCH('Пр. №1.2.'!$G102,справочник!$G$1:$G$7,0),2),\"---\")","v":"---"},{"$f":"IFERROR(INDEX('Состав ВТК-ВРГ'!$1:$1048576,MATCH('Пр. №1.2.'!$E102,'Состав ВТК-ВРГ'!$B:$B,0),MATCH('Пр. №1.2.'!I$3,'Состав ВТК-ВРГ'!$3:$3,0)),\"---\")","v":"---"},{"$f":"SUMIFS('Пр. №3'!$BQ:$BQ,'Пр. №3'!$G:$G,'Пр. №1.2.'!$E102,'Пр. №3'!$D:$D,'Пр. №1.2.'!$B102)","v":0},{"$f":"IFERROR(INDEX('Пр. №4'!$1:$1048576,MATCH($I102,'Пр. №4'!$C:$C,0),MATCH('Пр. №3'!$D$5,'Пр. №4'!$9:$9,0)),\"---\")","v":"---"},null,"---"]
[null,null,{"$f":"IFERROR(INDEX(справочник!$G$1:$I$7,MATCH('Пр. №1.2.'!$G103,справочник!$G$1:$G$7,0),3),\"---\")","v":"---"},{"$f":"IFERROR(INDEX('Пр. №1'!$B$11:$C$33,MATCH('Пр. №1.2.'!$C103,'Пр. №1'!$B$11:$B$33,0),2),\"---\")","v":"---"},null,{"$f":"IFERROR(INDEX('Состав ВТК-ВРГ'!$1:$1048576,MATCH('Пр. №1.2.'!$E103,'Состав ВТК-ВРГ'!$B:$B,0),MATCH('Пр. №1.2.'!F$3,'Состав ВТК-ВРГ'!$3:$3,0)),\"---\")","v":"---"},{"$f":"IFERROR(INDEX('Состав ВТК-ВРГ'!$1:$1048576,MATCH('Пр. №1.2.'!$E103,'Состав ВТК-ВРГ'!$B:$B,0),MATCH('Пр. №1.2.'!G$3,'Состав ВТК-ВРГ'!$3:$3,0)),\"---\")","v":"---"},{"$f":"IFERROR(INDEX(справочник!$G$1:$I$7,MATCH('Пр. №1.2.'!$G103,справочник!$G$1:$G$7,0),2),\"---\")","v":"---"},{"$f":"IFERROR(INDEX('Состав ВТК-ВРГ'!$1:$1048576,MATCH('Пр. №1.2.'!$E103,'Состав ВТК-ВРГ'!$B:$B,0),MATCH('Пр. №1.2.'!I$3,'Состав ВТК-ВРГ'!$3:$3,0)),\"---\")","v":"---"},{"$f":"SUMIFS('Пр. №3'!$BQ:$BQ,'Пр. №3'!$G:$G,'Пр. №1.2.'!$E103,'Пр. №3'!$D:$D,'Пр. №1.2.'!$B103)","v":0},{"$f":"IFERROR(INDEX('Пр. №4'!$1:$1048576,MATCH($I103,'Пр. №4'!$C:$C,0),MATCH('Пр. №3'!$D$5,'Пр. №4'!$9:$9,0)),\"---\")","v":"---"},null,"---"]
[null,null,{"$f":"IFERROR(INDEX(справочник!$G$1:$I$7,MATCH('Пр. №1.2.'!$G104,справочник!$G$1:$G$7,0),3),\"---\")","v":"---"},{"$f":"IFERROR(INDEX('Пр. №1'!$B$11:$C$33,MATCH('Пр. №1.2.'!$C104,'Пр. №1'!$B$11:$B$33,0),2),\"---\")","v":"---"},null,{"$f":"IFERROR(INDEX('Состав ВТК-ВРГ'!$1:$1048576,MATCH('Пр. №1.2.'!$E104,'Состав ВТК-ВРГ'!$B:$B,0),MATCH('Пр. №1.2.'!F$3,'Состав ВТК-ВРГ'!$3:$3,0)),\"---\")","v":"---"},{"$f":"IFERROR(INDEX('Состав ВТК-ВРГ'!$1:$1048576,MATCH('Пр. №1.2.'!$E104,'Состав ВТК-ВРГ'!$B:$B,0),MATCH('Пр. №1.2.'!G$3,'Состав ВТК-ВРГ'!$3:$3,0)),\"---\")","v":"---"},{"$f":"IFERROR(INDEX(справочник!$G$1:$I$7,MATCH('Пр. №1.2.'!$G104,справочник!$G$1:$G$7,0),2),\"---\")","v":"---"},{"$f":"IFERROR(INDEX('Состав ВТК-ВРГ'!$1:$1048576,MATCH('Пр. №1.2.'!$E104,'Состав ВТК-ВРГ'!$B:$B,0),MATCH('Пр. №1.2.'!I$3,'Состав ВТК-ВРГ'!$3:$3,0)),\"---\")","v":"---"},{"$f":"SUMIFS('Пр. №3'!$BQ:$BQ,'Пр. №3'!$G:$G,'Пр. №1.2.'!$E104,'Пр. №3'!$D:$D,'Пр. №1.2.'!$B104)","v":0},{"$f":"IFERROR(INDEX('Пр. №4'!$1:$1048576,MATCH($I104,'Пр. №4'!$C:$C,0),MATCH('Пр. №3'!$D$5,'Пр. №4'!$9:$9,0)),\"---\")","v":"---"},null,"---"]
[null,null,{"$f":"IFERROR(INDEX(справочник!$G$1:$I$7,MATCH('Пр. №1.2.'!$G105,справочник!$G$1:$G$7,0),3),\"---\")","v":"---"},{"$f":"IFERROR(INDEX('Пр. №1'!$B$11:$C$33,MATCH('Пр. №1.2.'!$C105,'Пр. №1'!$B$11:$B$33,0),2),\"---\")","v":"---"},null,{"$f":"IFERROR(INDEX('Состав ВТК-ВРГ'!$1:$1048576,MATCH('Пр. №1.2.'!$E105,'Состав ВТК-ВРГ'!$B:$B,0),MATCH('Пр. №1.2.'!F$3,'Состав ВТК-ВРГ'!$3:$3,0)),\"---\")","v":"---"},{"$f":"IFERROR(INDEX('Состав ВТК-ВРГ'!$1:$1048576,MATCH('Пр. №1.2.'!$E105,'Состав ВТК-ВРГ'!$B:$B,0),MATCH('Пр. №1.2.'!G$3,'Состав ВТК-ВРГ'!$3:$3,0)),\"---\")","v":"---"},{"$f":"IFERROR(INDEX(справочник!$G$1:$I$7,MATCH('Пр. №1.2.'!$G105,справочник!$G$1:$G$7,0),2),\"---\")","v":"---"},{"$f":"IFERROR(INDEX('Состав ВТК-ВРГ'!$1:$1048576,MATCH('Пр. №1.2.'!$E105,'Состав ВТК-ВРГ'!$B:$B,0),MATCH('Пр. №1.2.'!I$3,'Состав ВТК-ВРГ'!$3:$3,0)),\"---\")","v":"---"},{"$f":"SUMIFS('Пр. №3'!$BQ:$BQ,'Пр. №3'!$G:$G,'Пр. №1.2.'!$E105,'Пр. №3'!$D:$D,'Пр. №1.2.'!$B105)","v":0},{"$f":"IFERROR(INDEX('Пр. №4'!$1:$1048576,MATCH($I105,'Пр. №4'!$C:$C,0),MATCH('Пр. №3'!$D$5,'Пр. №4'!$9:$9,0)),\"---\")","v":"---"},null,"---"]
[null,null,{"$f":"IFERROR(INDEX(справочник!$G$1:$I$7,MATCH('Пр. №1.2.'!$G106,справочник!$G$1:$G$7,0),3),\"---\")","v":"---"},{"$f":"IFERROR(INDEX('Пр. №1'!$B$11:$C$33,MATCH('Пр. №1.2.'!$C106,'Пр. №1'!$B$11:$B$33,0),2),\"---\")","v":"---"},null,{"$f":"IFERROR(INDEX('Состав ВТК-ВРГ'!$1:$1048576,MATCH('Пр. №1.2.'!$E106,'Состав ВТК-ВРГ'!$B:$B,0),MATCH('Пр. №1.2.'!F$3,'Состав ВТК-ВРГ'!$3:$3,0)),\"---\")","v":"---"},{"$f":"IFERROR(INDEX('Состав ВТК-ВРГ'!$1:$1048576,MATCH('Пр. №1.2.'!$E106,'Состав ВТК-ВРГ'!$B:$B,0),MATCH('Пр. №1.2.'!G$3,'Состав ВТК-ВРГ'!$3:$3,0)),\"---\")","v":"---"},{"$f":"IFERROR(INDEX(справочник!$G$1:$I$7,MATCH('Пр. №1.2.'!$G106,справочник!$G$1:$G$7,0),2),\"---\")","v":"---"},{"$f":"IFERROR(INDEX('Состав ВТК-ВРГ'!$1:$1048576,MATCH('Пр. №1.2.'!$E106,'Состав ВТК-ВРГ'!$B:$B,0),MATCH('Пр. №1.2.'!I$3,'Состав ВТК-ВРГ'!$3:$3,0)),\"---\")","v":"---"},{"$f":"SUMIFS('Пр. №3'!$BQ:$BQ,'Пр. №3'!$G:$G,'Пр. №1.2.'!$E106,'Пр. №3'!$D:$D,'Пр. №1.2.'!$B106)","v":0},{"$f":"IFERROR(INDEX('Пр. №4'!$1:$1048576,MATCH($I106,'Пр. №4'!$C:$C,0),MATCH('Пр. №3'!$D$5,'Пр. №4'!$9:$9,0)),\"---\")","v":"---"},null,"---"]
[null,null,{"$f":"IFERROR(INDEX(справочник!$G$1:$I$7,MATCH('Пр. №1.2.'!$G107,справочник!$G$1:$G$7,0),3),\"---\")","v":"---"},{"$f":"IFERROR(INDEX('Пр. №1'!$B$11:$C$33,MATCH('Пр. №1.2.'!$C107,'Пр. №1'!$B$11:$B$33,0),2),\"---\")","v":"---"},null,{"$f":"IFERROR(INDEX('Состав ВТК-ВРГ'!$1:$1048576,MATCH('Пр. №1.2.'!$E107,'Состав ВТК-ВРГ'!$B:$B,0),MATCH('Пр. №1.2.'!F$3,'Состав ВТК-ВРГ'!$3:$3,0)),\"---\")","v":"---"},{"$f":"IFERROR(INDEX('Состав ВТК-ВРГ'!$1:$1048576,MATCH('Пр. №1.2.'!$E107,'Состав ВТК-ВРГ'!$B:$B,0),MATCH('Пр. №1.2.'!G$3,'Состав ВТК-ВРГ'!$3:$3,0)),\"---\")","v":"---"},{"$f":"IFERROR(INDEX(справочник!$G$1:$I$7,MATCH('Пр. №1.2.'!$G107,справочник!$G$1:$G$7,0),2),\"---\")","v":"---"},{"$f":"IFERROR(INDEX('Состав ВТК-ВРГ'!$1:$1048576,MATCH('Пр. №1.2.'!$E107,'Состав ВТК-ВРГ'!$B:$B,0),MATCH('Пр. №1.2.'!I$3,'Состав ВТК-ВРГ'!$3:$3,0)),\"---\")","v":"---"},{"$f":"SUMIFS('Пр. №3'!$BQ:$BQ,'Пр. №3'!$G:$G,'Пр. №1.2.'!$E107,'Пр. №3'!$D:$D,'Пр. №1.2.'!$B107)","v":0},{"$f":"IFERROR(INDEX('Пр. №4'!$1:$1048576,MATCH($I107,'Пр. №4'!$C:$C,0),MATCH('Пр. №3'!$D$5,'Пр. №4'!$9:$9,0)),\"---\")","v":"---"},null,"---"]
[null,null,{"$f":"IFERROR(INDEX(справочник!$G$1:$I$7,MATCH('Пр. №1.2.'!$G108,справочник!$G$1:$G$7,0),3),\"---\")","v":"---"},{"$f":"IFERROR(INDEX('Пр. №1'!$B$11:$C$33,MATCH('Пр. №1.2.'!$C108,'Пр. №1'!$B$11:$B$33,0),2),\"---\")","v":"---"},null,{"$f":"IFERROR(INDEX('Состав ВТК-ВРГ'!$1:$1048576,MATCH('Пр. №1.2.'!$E108,'Состав ВТК-ВРГ'!$B:$B,0),MATCH('Пр. №1.2.'!F$3,'Состав ВТК-ВРГ'!$3:$3,0)),\"---\")","v":"---"},{"$f":"IFERROR(INDEX('Состав ВТК-ВРГ'!$1:$1048576,MATCH('Пр. №1.2.'!$E108,'Состав ВТК-ВРГ'!$B:$B,0),MATCH('Пр. №1.2.'!G$3,'Состав ВТК-ВРГ'!$3:$3,0)),\"---\")","v":"---"},{"$f":"IFERROR(INDEX(справочник!$G$1:$I$7,MATCH('Пр. №1.2.'!$G108,справочник!$G$1:$G$7,0),2),\"---\")","v":"---"},{"$f":"IFERROR(INDEX('Состав ВТК-ВРГ'!$1:$1048576,MATCH('Пр. №1.2.'!$E108,'Состав ВТК-ВРГ'!$B:$B,0),MATCH('Пр. №1.2.'!I$3,'Состав ВТК-ВРГ'!$3:$3,0)),\"---\")","v":"---"},{"$f":"SUMIFS('Пр. №3'!$BQ:$BQ,'Пр. №3'!$G:$G,'Пр. №1.2.'!$E108,'Пр. №3'!$D:$D,'Пр. №1.2.'!$B108)","v":0},{"$f":"IFERROR(INDEX('Пр. №4'!$1:$1048576,MATCH($I108,'Пр. №4'!$C:$C,0),MATCH('Пр. №3'!$D$5,'Пр. №4'!$9:$9,0)),\"---\")","v":"---"},null,{"$f":"IFERROR(J108*K108*L108,\"---\")","v":"---"}]
[null,null,{"$f":"IFERROR(INDEX(справочник!$G$1:$I$7,MATCH('Пр. №1.2.'!$G109,справочник!$G$1:$G$7,0),3),\"---\")","v":"---"},{"$f":"IFERROR(INDEX('Пр. №1'!$B$11:$C$33,MATCH('Пр. №1.2.'!$C109,'Пр. №1'!$B$11:$B$33,0),2),\"---\")","v":"---"},null,{"$f":"IFERROR(INDEX('Состав ВТК-ВРГ'!$1:$1048576,MATCH('Пр. №1.2.'!$E109,'Состав ВТК-ВРГ'!$B:$B,0),MATCH('Пр. №1.2.'!F$3,'Состав ВТК-ВРГ'!$3:$3,0)),\"---\")","v":"---"},{"$f":"IFERROR(INDEX('Состав ВТК-ВРГ'!$1:$1048576,MATCH('Пр. №1.2.'!$E109,'Состав ВТК-ВРГ'!$B:$B,0),MATCH('Пр. №1.2.'!G$3,'Состав ВТК-ВРГ'!$3:$3,0)),\"---\")","v":"---"},{"$f":"IFERROR(INDEX(справочник!$G$1:$I$7,MATCH('Пр. №1.2.'!$G109,справочник!$G$1:$G$7,0),2),\"---\")","v":"---"},{"$f":"IFERROR(INDEX('Состав ВТК-ВРГ'!$1:$1048576,MATCH('Пр. №1.2.'!$E109,'Состав ВТК-ВРГ'!$B:$B,0),MATCH('Пр. №1.2.'!I$3,'Состав ВТК-ВРГ'!$3:$3,0)),\"---\")","v":"---"},{"$f":"SUMIFS('Пр. №3'!$BQ:$BQ,'Пр. №3'!$G:$G,'Пр. №1.2.'!$E109,'Пр. №3'!$D:$D,'Пр. №1.2.'!$B109)","v":0},{"$f":"IFERROR(INDEX('Пр. №4'!$1:$1048576,MATCH($I109,'Пр. №4'!$C:$C,0),MATCH('Пр. №3'!$D$5,'Пр. №4'!$9:$9,0)),\"---\")","v":"---"},null,"---"]
[null,null,{"$f":"IFERROR(INDEX(справочник!$G$1:$I$7,MATCH('Пр. №1.2.'!$G110,справочник!$G$1:$G$7,0),3),\"---\")","v":"---"},{"$f":"IFERROR(INDEX('Пр. №1'!$B$11:$C$33,MATCH('Пр. №1.2.'!$C110,'Пр. №1'!$B$11:$B$33,0),2),\"---\")","v":"---"},null,{"$f":"IFERROR(INDEX('Состав ВТК-ВРГ'!$1:$1048576,MATCH('Пр. №1.2.'!$E110,'Состав ВТК-ВРГ'!$B:$B,0),MATCH('Пр. №1.2.'!F$3,'Состав ВТК-ВРГ'!$3:$3,0)),\"---\")","v":"---"},{"$f":"IFERROR(INDEX('Состав ВТК-ВРГ'!$1:$1048576,MATCH('Пр. №1.2.'!$E110,'Состав ВТК-ВРГ'!$B:$B,0),MATCH('Пр. №1.2.'!G$3,'Состав ВТК-ВРГ'!$3:$3,0)),\"---\")","v":"---"},{"$f":"IFERROR(INDEX(справочник!$G$1:$I$7,MATCH('Пр. №1.2.'!$G110,справочник!$G$1:$G$7,0),2),\"---\")","v":"---"},{"$f":"IFERROR(INDEX('Состав ВТК-ВРГ'!$1:$1048576,MATCH('Пр. №1.2.'!$E110,'Состав ВТК-ВРГ'!$B:$B,0),MATCH('Пр. №1.2.'!I$3,'Состав ВТК-ВРГ'!$3:$3,0)),\"---\")","v":"---"},{"$f":"SUMIFS('Пр. №3'!$BQ:$BQ,'Пр. №3'!$G:$G,'Пр. №1.2.'!$E110,'Пр. №3'!$D:$D,'Пр. №1.2.'!$B110)","v":0},{"$f":"IFERROR(INDEX('Пр. №4'!$1:$1048576,MATCH($I110,'Пр. №4'!$C:$C,0),MATCH('Пр. №3'!$D$5,'Пр. №4'!$9:$9,0)),\"---\")","v":"---"},null,"---"]
[null,null,{"$f":"IFERROR(INDEX(справочник!$G$1:$I$7,MATCH('Пр. №1.2.'!$G111,справочник!$G$1:$G$7,0),3),\"---\")","v":"---"},{"$f":"IFERROR(INDEX('Пр. №1'!$B$11:$C$33,MATCH('Пр. №1.2.'!$C111,'Пр. №1'!$B$11:$B$33,0),2),\"---\")","v":"---"},null,{"$f":"IFERROR(INDEX('Состав ВТК-ВРГ'!$1:$1048576,MATCH('Пр. №1.2.'!$E111,'Состав ВТК-ВРГ'!$B:$B,0),MATCH('Пр. №1.2.'!F$3,'Состав ВТК-ВРГ'!$3:$3,0)),\"---\")","v":"---"},{"$f":"IFERROR(INDEX('Состав ВТК-ВРГ'!$1:$1048576,MATCH('Пр. №1.2.'!$E111,'Состав ВТК-ВРГ'!$B:$B,0),MATCH('Пр. №1.2.'!G$3,'Состав ВТК-ВРГ'!$3:$3,0)),\"---\")","v":"---"},{"$f":"IFERROR(INDEX(справочник!$G$1:$I$7,MATCH('Пр. №1.2.'!$G111,справочник!$G$1:$G$7,0),2),\"---\")","v":"---"},{"$f":"IFERROR(INDEX('Состав ВТК-ВРГ'!$1:$1048576,MATCH('Пр. №1.2.'!$E111,'Состав ВТК-ВРГ'!$B:$B,0),MATCH('Пр. №1.2.'!I$3,'Состав ВТК-ВРГ'!$3:$3,0)),\"---\")","v":"---"},{"$f":"SUMIFS('Пр. №3'!$BQ:$BQ,'Пр. №3'!$G:$G,'Пр. №1.2.'!$E111,'Пр. №3'!$D:$D,'Пр. №1.2.'!$B111)","v":0},{"$f":"IFERROR(INDEX('Пр. №4'!$1:$1048576,MATCH($I111,'Пр. №4'!$C:$C,0),MATCH('Пр. №3'!$D$5,'Пр. №4'!$9:$9,0)),\"---\")","v":"---"},null,"---"]
[null,null,{"$f":"IFERROR(INDEX(справочник!$G$1:$I$7,MATCH('Пр. №1.2.'!$G112,справочник!$G$1:$G$7,0),3),\"---\")","v":"---"},{"$f":"IFERROR(INDEX('Пр. №1'!$B$11:$C$33,MATCH('Пр. №1.2.'!$C112,'Пр. №1'!$B$11:$B$33,0),2),\"---\")","v":"---"},null,{"$f":"IFERROR(INDEX('Состав ВТК-ВРГ'!$1:$1048576,MATCH('Пр. №1.2.'!$E112,'Состав ВТК-ВРГ'!$B:$B,0),MATCH('Пр. №1.2.'!F$3,'Состав ВТК-ВРГ'!$3:$3,0)),\"---\")","v":"---"},{"$f":"IFERROR(INDEX('Состав ВТК-ВРГ'!$1:$1048576,MATCH('Пр. №1.2.'!$E112,'Состав ВТК-ВРГ'!$B:$B,0),MATCH('Пр. №1.2.'!G$3,'Состав ВТК-ВРГ'!$3:$3,0)),\"---\")","v":"---"},{"$f":"IFERROR(INDEX(справочник!$G$1:$I$7,MATCH('Пр. №1.2.'!$G112,справочник!$G$1:$G$7,0),2),\"---\")","v":"---"},{"$f":"IFERROR(INDEX('Состав ВТК-ВРГ'!$1:$1048576,MATCH('Пр. №1.2.'!$E112,'Состав ВТК-ВРГ'!$B:$B,0),MATCH('Пр. №1.2.'!I$3,'Состав ВТК-ВРГ'!$3:$3,0)),\"---\")","v":"---"},{"$f":"SUMIFS('Пр. №3'!$BQ:$BQ,'Пр. №3'!$G:$G,'Пр. №1.2.'!$E112,'Пр. №3'!$D:$D,'Пр. №1.2.'!$B112)","v":0},{"$f":"IFERROR(INDEX('Пр. №4'!$1:$1048576,MATCH($I112,'Пр. №4'!$C:$C,0),MATCH('Пр. №3'!$D$5,'Пр. №4'!$9:$9,0)),\"---\")","v":"---"},null,"---"]
[null,null,{"$f":"IFERROR(INDEX(справочник!$G$1:$I$7,MATCH('Пр. №1.2.'!$G113,справочник!$G$1:$G$7,0),3),\"---\")","v":"---"},{"$f":"IFERROR(INDEX('Пр. №1'!$B$11:$C$33,MATCH('Пр. №1.2.'!$C113,'Пр. №1'!$B$11:$B$33,0),2),\"---\")","v":"---"},null,{"$f":"IFERROR(INDEX('Состав ВТК-ВРГ'!$1:$1048576,MATCH('Пр. №1.2.'!$E113,'Состав ВТК-ВРГ'!$B:$B,0),MATCH('Пр. №1.2.'!F$3,'Состав ВТК-ВРГ'!$3:$3,0)),\"---\")","v":"---"},{"$f":"IFERROR(INDEX('Состав ВТК-ВРГ'!$1:$1048576,MATCH('Пр. №1.2.'!$E113,'Состав ВТК-ВРГ'!$B:$B,0),MATCH('Пр. №1.2.'!G$3,'Состав ВТК-ВРГ'!$3:$3,0)),\"---\")","v":"---"},{"$f":"IFERROR(INDEX(справочник!$G$1:$I$7,MATCH('Пр. №1.2.'!$G113,справочник!$G$1:$G$7,0),2),\"---\")","v":"---"},{"$f":"IFERROR(INDEX('Состав ВТК-ВРГ'!$1:$1048576,MATCH('Пр. №1.2.'!$E113,'Состав ВТК-ВРГ'!$B:$B,0),MATCH('Пр. №1.2.'!I$3,'Состав ВТК-ВРГ'!$3:$3,0)),\"---\")","v":"---"},{"$f":"SUMIFS('Пр. №3'!$BQ:$BQ,'Пр. №3'!$G:$G,'Пр. №1.2.'!$E113,'Пр. №3'!$D:$D,'Пр. №1.2.'!$B113)","v":0},{"$f":"IFERROR(INDEX('Пр. №4'!$1:$1048576,MATCH($I113,'Пр. №4'!$C:$C,0),MATCH('Пр. №3'!$D$5,'Пр. №4'!$9:$9,0)),\"---\")","v":"---"},null,"---"]
[null,null,{"$f":"IFERROR(INDEX(справочник!$G$1:$I$7,MATCH('Пр. №1.2.'!$G114,справочник!$G$1:$G$7,0),3),\"---\")","v":"---"},{"$f":"IFERROR(INDEX('Пр. №1'!$B$11:$C$33,MATCH('Пр. №1.2.'!$C114,'Пр. №1'!$B$11:$B$33,0),2),\"---\")","v":"---"},null,{"$f":"IFERROR(INDEX('Состав ВТК-ВРГ'!$1:$1048576,MATCH('Пр. №1.2.'!$E114,'Состав ВТК-ВРГ'!$B:$B,0),MATCH('Пр. №1.2.'!F$3,'Состав ВТК-ВРГ'!$3:$3,0)),\"---\")","v":"---"},{"$f":"IFERROR(INDEX('Состав ВТК-ВРГ'!$1:$1048576,MATCH('Пр. №1.2.'!$E114,'Состав ВТК-ВРГ'!$B:$B,0),MATCH('Пр. №1.2.'!G$3,'Состав ВТК-ВРГ'!$3:$3,0)),\"---\")","v":"---"},{"$f":"IFERROR(INDEX(справочник!$G$1:$I$7,MATCH('Пр. №1.2.'!$G114,справочник!$G$1:$G$7,0),2),\"---\")","v":"---"},{"$f":"IFERROR(INDEX('Состав ВТК-ВРГ'!$1:$1048576,MATCH('Пр. №1.2.'!$E114,'Состав ВТК-ВРГ'!$B:$B,0),MATCH('Пр. №1.2.'!I$3,'Состав ВТК-ВРГ'!$3:$3,0)),\"---\")","v":"---"},{"$f":"SUMIFS('Пр. №3'!$BQ:$BQ,'Пр. №3'!$G:$G,'Пр. №1.2.'!$E114,'Пр. №3'!$D:$D,'Пр. №1.2.'!$B114)","v":0},{"$f":"IFERROR(INDEX('Пр. №4'!$1:$1048576,MATCH($I114,'Пр. №4'!$C:$C,0),MATCH('Пр. №3'!$D$5,'Пр. №4'!$9:$9,0)),\"---\")","v":"---"},null,"---"]
[null,null,{"$f":"IFERROR(INDEX(справочник!$G$1:$I$7,MATCH('Пр. №1.2.'!$G115,справочник!$G$1:$G$7,0),3),\"---\")","v":"---"},{"$f":"IFERROR(INDEX('Пр. №1'!$B$11:$C$33,MATCH('Пр. №1.2.'!$C115,'Пр. №1'!$B$11:$B$33,0),2),\"---\")","v":"---"},null,{"$f":"IFERROR(INDEX('Состав ВТК-ВРГ'!$1:$1048576,MATCH('Пр. №1.2.'!$E115,'Состав ВТК-ВРГ'!$B:$B,0),MATCH('Пр. №1.2.'!F$3,'Состав ВТК-ВРГ'!$3:$3,0)),\"---\")","v":"---"},{"$f":"IFERROR(INDEX('Состав ВТК-ВРГ'!$1:$1048576,MATCH('Пр. №1.2.'!$E115,'Состав ВТК-ВРГ'!$B:$B,0),MATCH('Пр. №1.2.'!G$3,'Состав ВТК-ВРГ'!$3:$3,0)),\"---\")","v":"---"},{"$f":"IFERROR(INDEX(справочник!$G$1:$I$7,MATCH('Пр. №1.2.'!$G115,справочник!$G$1:$G$7,0),2),\"---\")","v":"---"},{"$f":"IFERROR(INDEX('Состав ВТК-ВРГ'!$1:$1048576,MATCH('Пр. №1.2.'!$E115,'Состав ВТК-ВРГ'!$B:$B,0),MATCH('Пр. №1.2.'!I$3,'Состав ВТК-ВРГ'!$3:$3,0)),\"---\")","v":"---"},{"$f":"SUMIFS('Пр. №3'!$BQ:$BQ,'Пр. №3'!$G:$G,'Пр. №1.2.'!$E115,'Пр. №3'!$D:$D,'Пр. №1.2.'!$B115)","v":0},{"$f":"IFERROR(INDEX('Пр. №4'!$1:$1048576,MATCH($I115,'Пр. №4'!$C:$C,0),MATCH('Пр. №3'!$D$5,'Пр. №4'!$9:$9,0)),\"---\")","v":"---"},null,"---"]
[null,null,{"$f":"IFERROR(INDEX(справочник!$G$1:$I$7,MATCH('Пр. №1.2.'!$G116,справочник!$G$1:$G$7,0),3),\"---\")","v":"---"},{"$f":"IFERROR(INDEX('Пр. №1'!$B$11:$C$33,MATCH('Пр. №1.2.'!$C116,'Пр. №1'!$B$11:$B$33,0),2),\"---\")","v":"---"},null,{"$f":"IFERROR(INDEX('Состав ВТК-ВРГ'!$1:$1048576,MATCH('Пр. №1.2.'!$E116,'Состав ВТК-ВРГ'!$B:$B,0),MATCH('Пр. №1.2.'!F$3,'Состав ВТК-ВРГ'!$3:$3,0)),\"---\")","v":"---"},{"$f":"IFERROR(INDEX('Состав ВТК-ВРГ'!$1:$1048576,MATCH('Пр. №1.2.'!$E116,'Состав ВТК-ВРГ'!$B:$B,0),MATCH('Пр. №1.2.'!G$3,'Состав ВТК-ВРГ'!$3:$3,0)),\"---\")","v":"---"},{"$f":"IFERROR(INDEX(справочник!$G$1:$I$7,MATCH('Пр. №1.2.'!$G116,справочник!$G$1:$G$7,0),2),\"---\")","v":"---"},{"$f":"IFERROR(INDEX('Состав ВТК-ВРГ'!$1:$1048576,MATCH('Пр. №1.2.'!$E116,'Состав ВТК-ВРГ'!$B:$B,0),MATCH('Пр. №1.2.'!I$3,'Состав ВТК-ВРГ'!$3:$3,0)),\"---\")","v":"---"},{"$f":"SUMIFS('Пр. №3'!$BQ:$BQ,'Пр. №3'!$G:$G,'Пр. №1.2.'!$E116,'Пр. №3'!$D:$D,'Пр. №1.2.'!$B116)","v":0},{"$f":"IFERROR(INDEX('Пр. №4'!$1:$1048576,MATCH($I116,'Пр. №4'!$C:$C,0),MATCH('Пр. №3'!$D$5,'Пр. №4'!$9:$9,0)),\"---\")","v":"---"},null,"---"]
[null,null,{"$f":"IFERROR(INDEX(справочник!$G$1:$I$7,MATCH('Пр. №1.2.'!$G117,справочник!$G$1:$G$7,0),3),\"---\")","v":"---"},{"$f":"IFERROR(INDEX('Пр. №1'!$B$11:$C$33,MATCH('Пр. №1.2.'!$C117,'Пр. №1'!$B$11:$B$33,0),2),\"---\")","v":"---"},null,{"$f":"IFERROR(INDEX('Состав ВТК-ВРГ'!$1:$1048576,MATCH('Пр. №1.2.'!$E117,'Состав ВТК-ВРГ'!$B:$B,0),MATCH('Пр. №1.2.'!F$3,'Состав ВТК-ВРГ'!$3:$3,0)),\"---\")","v":"---"},{"$f":"IFERROR(INDEX('Состав ВТК-ВРГ'!$1:$1048576,MATCH('Пр. №1.2.'!$E117,'Состав ВТК-ВРГ'!$B:$B,0),MATCH('Пр. №1.2.'!G$3,'Состав ВТК-ВРГ'!$3:$3,0)),\"---\")","v":"---"},{"$f":"IFERROR(INDEX(справочник!$G$1:$I$7,MATCH('Пр. №1.2.'!$G117,справочник!$G$1:$G$7,0),2),\"---\")","v":"---"},{"$f":"IFERROR(INDEX('Состав ВТК-ВРГ'!$1:$1048576,MATCH('Пр. №1.2.'!$E117,'Состав ВТК-ВРГ'!$B:$B,0),MATCH('Пр. №1.2.'!I$3,'Состав ВТК-ВРГ'!$3:$3,0)),\"---\")","v":"---"},{"$f":"SUMIFS('Пр. №3'!$BQ:$BQ,'Пр. №3'!$G:$G,'Пр. №1.2.'!$E117,'Пр. №3'!$D:$D,'Пр. №1.2.'!$B117)","v":0},{"$f":"IFERROR(INDEX('Пр. №4'!$1:$1048576,MATCH($I117,'Пр. №4'!$C:$C,0),MATCH('Пр. №3'!$D$5,'Пр. №4'!$9:$9,0)),\"---\")","v":"---"},null,"---"]
[null,null,{"$f":"IFERROR(INDEX(справочник!$G$1:$I$7,MATCH('Пр. №1.2.'!$G118,справочник!$G$1:$G$7,0),3),\"---\")","v":"---"},{"$f":"IFERROR(INDEX('Пр. №1'!$B$11:$C$33,MATCH('Пр. №1.2.'!$C118,'Пр. №1'!$B$11:$B$33,0),2),\"---\")","v":"---"},null,{"$f":"IFERROR(INDEX('Состав ВТК-ВРГ'!$1:$1048576,MATCH('Пр. №1.2.'!$E118,'Состав ВТК-ВРГ'!$B:$B,0),MATCH('Пр. №1.2.'!F$3,'Состав ВТК-ВРГ'!$3:$3,0)),\"---\")","v":"---"},{"$f":"IFERROR(INDEX('Состав ВТК-ВРГ'!$1:$1048576,MATCH('Пр. №1.2.'!$E118,'Состав ВТК-ВРГ'!$B:$B,0),MATCH('Пр. №1.2.'!G$3,'Состав ВТК-ВРГ'!$3:$3,0)),\"---\")","v":"---"},{"$f":"IFERROR(INDEX(справочник!$G$1:$I$7,MATCH('Пр. №1.2.'!$G118,справочник!$G$1:$G$7,0),2),\"---\")","v":"---"},{"$f":"IFERROR(INDEX('Состав ВТК-ВРГ'!$1:$1048576,MATCH('Пр. №1.2.'!$E118,'Состав ВТК-ВРГ'!$B:$B,0),MATCH('Пр. №1.2.'!I$3,'Состав ВТК-ВРГ'!$3:$3,0)),\"---\")","v":"---"},{"$f":"SUMIFS('Пр. №3'!$BQ:$BQ,'Пр. №3'!$G:$G,'Пр. №1.2.'!$E118,'Пр. №3'!$D:$D,'Пр. №1.2.'!$B118)","v":0},{"$f":"IFERROR(INDEX('Пр. №4'!$1:$1048576,MATCH($I118,'Пр. №4'!$C:$C,0),MATCH('Пр. №3'!$D$5,'Пр. №4'!$9:$9,0)),\"---\")","v":"---"},null,"---"]
[null,null,{"$f":"IFERROR(INDEX(справочник!$G$1:$I$7,MATCH('Пр. №1.2.'!$G119,справочник!$G$1:$G$7,0),3),\"---\")","v":"---"},{"$f":"IFERROR(INDEX('Пр. №1'!$B$11:$C$33,MATCH('Пр. №1.2.'!$C119,'Пр. №1'!$B$11:$B$33,0),2),\"---\")","v":"---"},null,{"$f":"IFERROR(INDEX('Состав ВТК-ВРГ'!$1:$1048576,MATCH('Пр. №1.2.'!$E119,'Состав ВТК-ВРГ'!$B:$B,0),MATCH('Пр. №1.2.'!F$3,'Состав ВТК-ВРГ'!$3:$3,0)),\"---\")","v":"---"},{"$f":"IFERROR(INDEX('Состав ВТК-ВРГ'!$1:$1048576,MATCH('Пр. №1.2.'!$E119,'Состав ВТК-ВРГ'!$B:$B,0),MATCH('Пр. №1.2.'!G$3,'Состав ВТК-ВРГ'!$3:$3,0)),\"---\")","v":"---"},{"$f":"IFERROR(INDEX(справочник!$G$1:$I$7,MATCH('Пр. №1.2.'!$G119,справочник!$G$1:$G$7,0),2),\"---\")","v":"---"},{"$f":"IFERROR(INDEX('Состав ВТК-ВРГ'!$1:$1048576,MATCH('Пр. №1.2.'!$E119,'Состав ВТК-ВРГ'!$B:$B,0),MATCH('Пр. №1.2.'!I$3,'Состав ВТК-ВРГ'!$3:$3,0)),\"---\")","v":"---"},{"$f":"SUMIFS('Пр. №3'!$BQ:$BQ,'Пр. №3'!$G:$G,'Пр. №1.2.'!$E119,'Пр. №3'!$D:$D,'Пр. №1.2.'!$B119)","v":0},{"$f":"IFERROR(INDEX('Пр. №4'!$1:$1048576,MATCH($I119,'Пр. №4'!$C:$C,0),MATCH('Пр. №3'!$D$5,'Пр. №4'!$9:$9,0)),\"---\")","v":"---"},null,"---"]
[null,null,{"$f":"IFERROR(INDEX(справочник!$G$1:$I$7,MATCH('Пр. №1.2.'!$G120,справочник!$G$1:$G$7,0),3),\"---\")","v":"---"},{"$f":"IFERROR(INDEX('Пр. №1'!$B$11:$C$33,MATCH('Пр. №1.2.'!$C120,'Пр. №1'!$B$11:$B$33,0),2),\"---\")","v":"---"},null,{"$f":"IFERROR(INDEX('Состав ВТК-ВРГ'!$1:$1048576,MATCH('Пр. №1.2.'!$E120,'Состав ВТК-ВРГ'!$B:$B,0),MATCH('Пр. №1.2.'!F$3,'Состав ВТК-ВРГ'!$3:$3,0)),\"---\")","v":"---"},{"$f":"IFERROR(INDEX('Состав ВТК-ВРГ'!$1:$1048576,MATCH('Пр. №1.2.'!$E120,'Состав ВТК-ВРГ'!$B:$B,0),MATCH('Пр. №1.2.'!G$3,'Состав ВТК-ВРГ'!$3:$3,0)),\"---\")","v":"---"},{"$f":"IFERROR(INDEX(справочник!$G$1:$I$7,MATCH('Пр. №1.2.'!$G120,справочник!$G$1:$G$7,0),2),\"---\")","v":"---"},{"$f":"IFERROR(INDEX('Состав ВТК-ВРГ'!$1:$1048576,MATCH('Пр. №1.2.'!$E120,'Состав ВТК-ВРГ'!$B:$B,0),MATCH('Пр. №1.2.'!I$3,'Состав ВТК-ВРГ'!$3:$3,0)),\"---\")","v":"---"},{"$f":"SUMIFS('Пр. №3'!$BQ:$BQ,'Пр. №3'!$G:$G,'Пр. №1.2.'!$E120,'Пр. №3'!$D:$D,'Пр. №1.2.'!$B120)","v":0},{"$f":"IFERROR(INDEX('Пр. №4'!$1:$1048576,MATCH($I120,'Пр. №4'!$C:$C,0),MATCH('Пр. №3'!$D$5,'Пр. №4'!$9:$9,0)),\"---\")","v":"---"},null,"---"]
[null,null,{"$f":"IFERROR(INDEX(справочник!$G$1:$I$7,MATCH('Пр. №1.2.'!$G121,справочник!$G$1:$G$7,0),3),\"---\")","v":"---"},{"$f":"IFERROR(INDEX('Пр. №1'!$B$11:$C$33,MATCH('Пр. №1.2.'!$C121,'Пр. №1'!$B$11:$B$33,0),2),\"---\")","v":"---"},null,{"$f":"IFERROR(INDEX('Состав ВТК-ВРГ'!$1:$1048576,MATCH('Пр. №1.2.'!$E121,'Состав ВТК-ВРГ'!$B:$B,0),MATCH('Пр. №1.2.'!F$3,'Состав ВТК-ВРГ'!$3:$3,0)),\"---\")","v":"---"},{"$f":"IFERROR(INDEX('Состав ВТК-ВРГ'!$1:$1048576,MATCH('Пр. №1.2.'!$E121,'Состав ВТК-ВРГ'!$B:$B,0),MATCH('Пр. №1.2.'!G$3,'Состав ВТК-ВРГ'!$3:$3,0)),\"---\")","v":"---"},{"$f":"IFERROR(INDEX(справочник!$G$1:$I$7,MATCH('Пр. №1.2.'!$G121,справочник!$G$1:$G$7,0),2),\"---\")","v":"---"},{"$f":"IFERROR(INDEX('Состав ВТК-ВРГ'!$1:$1048576,MATCH('Пр. №1.2.'!$E121,'Состав ВТК-ВРГ'!$B:$B,0),MATCH('Пр. №1.2.'!I$3,'Состав ВТК-ВРГ'!$3:$3,0)),\"---\")","v":"---"},{"$f":"SUMIFS('Пр. №3'!$BQ:$BQ,'Пр. №3'!$G:$G,'Пр. №1.2.'!$E121,'Пр. №3'!$D:$D,'Пр. №1.2.'!$B121)","v":0},{"$f":"IFERROR(INDEX('Пр. №4'!$1:$1048576,MATCH($I121,'Пр. №4'!$C:$C,0),MATCH('Пр. №3'!$D$5,'Пр. №4'!$9:$9,0)),\"---\")","v":"---"},null,"---"]
[null,null,{"$f":"IFERROR(INDEX(справочник!$G$1:$I$7,MATCH('Пр. №1.2.'!$G122,справочник!$G$1:$G$7,0),3),\"---\")","v":"---"},{"$f":"IFERROR(INDEX('Пр. №1'!$B$11:$C$33,MATCH('Пр. №1.2.'!$C122,'Пр. №1'!$B$11:$B$33,0),2),\"---\")","v":"---"},null,{"$f":"IFERROR(INDEX('Состав ВТК-ВРГ'!$1:$1048576,MATCH('Пр. №1.2.'!$E122,'Состав ВТК-ВРГ'!$B:$B,0),MATCH('Пр. №1.2.'!F$3,'Состав ВТК-ВРГ'!$3:$3,0)),\"---\")","v":"---"},{"$f":"IFERROR(INDEX('Состав ВТК-ВРГ'!$1:$1048576,MATCH('Пр. №1.2.'!$E122,'Состав ВТК-ВРГ'!$B:$B,0),MATCH('Пр. №1.2.'!G$3,'Состав ВТК-ВРГ'!$3:$3,0)),\"---\")","v":"---"},{"$f":"IFERROR(INDEX(справочник!$G$1:$I$7,MATCH('Пр. №1.2.'!$G122,справочник!$G$1:$G$7,0),2),\"---\")","v":"---"},{"$f":"IFERROR(INDEX('Состав ВТК-ВРГ'!$1:$1048576,MATCH('Пр. №1.2.'!$E122,'Состав ВТК-ВРГ'!$B:$B,0),MATCH('Пр. №1.2.'!I$3,'Состав ВТК-ВРГ'!$3:$3,0)),\"---\")","v":"---"},{"$f":"SUMIFS('Пр. №3'!$BQ:$BQ,'Пр. №3'!$G:$G,'Пр. №1.2.'!$E122,'Пр. №3'!$D:$D,'Пр. №1.2.'!$B122)","v":0},{"$f":"IFERROR(INDEX('Пр. №4'!$1:$1048576,MATCH($I122,'Пр. №4'!$C:$C,0),MATCH('Пр. №3'!$D$5,'Пр. №4'!$9:$9,0)),\"---\")","v":"---"},null,"---"]
[null,null,{"$f":"IFERROR(INDEX(справочник!$G$1:$I$7,MATCH('Пр. №1.2.'!$G123,справочник!$G$1:$G$7,0),3),\"---\")","v":"---"},{"$f":"IFERROR(INDEX('Пр. №1'!$B$11:$C$33,MATCH('Пр. №1.2.'!$C123,'Пр. №1'!$B$11:$B$33,0),2),\"---\")","v":"---"},null,{"$f":"IFERROR(INDEX('Состав ВТК-ВРГ'!$1:$1048576,MATCH('Пр. №1.2.'!$E123,'Состав ВТК-ВРГ'!$B:$B,0),MATCH('Пр. №1.2.'!F$3,'Состав ВТК-ВРГ'!$3:$3,0)),\"---\")","v":"---"},{"$f":"IFERROR(INDEX('Состав ВТК-ВРГ'!$1:$1048576,MATCH('Пр. №1.2.'!$E123,'Состав ВТК-ВРГ'!$B:$B,0),MATCH('Пр. №1.2.'!G$3,'Состав ВТК-ВРГ'!$3:$3,0)),\"---\")","v":"---"},{"$f":"IFERROR(INDEX(справочник!$G$1:$I$7,MATCH('Пр. №1.2.'!$G123,справочник!$G$1:$G$7,0),2),\"---\")","v":"---"},{"$f":"IFERROR(INDEX('Состав ВТК-ВРГ'!$1:$1048576,MATCH('Пр. №1.2.'!$E123,'Состав ВТК-ВРГ'!$B:$B,0),MATCH('Пр. №1.2.'!I$3,'Состав ВТК-ВРГ'!$3:$3,0)),\"---\")","v":"---"},{"$f":"SUMIFS('Пр. №3'!$BQ:$BQ,'Пр. №3'!$G:$G,'Пр. №1.2.'!$E123,'Пр. №3'!$D:$D,'Пр. №1.2.'!$B123)","v":0},{"$f":"IFERROR(INDEX('Пр. №4'!$1:$1048576,MATCH($I123,'Пр. №4'!$C:$C,0),MATCH('Пр. №3'!$D$5,'Пр. №4'!$9:$9,0)),\"---\")","v":"---"},null,"---"]
[null,null,{"$f":"IFERROR(INDEX(справочник!$G$1:$I$7,MATCH('Пр. №1.2.'!$G124,справочник!$G$1:$G$7,0),3),\"---\")","v":"---"},{"$f":"IFERROR(INDEX('Пр. №1'!$B$11:$C$33,MATCH('Пр. №1.2.'!$C124,'Пр. №1'!$B$11:$B$33,0),2),\"---\")","v":"---"},null,{"$f":"IFERROR(INDEX('Состав ВТК-ВРГ'!$1:$1048576,MATCH('Пр. №1.2.'!$E124,'Состав ВТК-ВРГ'!$B:$B,0),MATCH('Пр. №1.2.'!F$3,'Состав ВТК-ВРГ'!$3:$3,0)),\"---\")","v":"---"},{"$f":"IFERROR(INDEX('Состав ВТК-ВРГ'!$1:$1048576,MATCH('Пр. №1.2.'!$E124,'Состав ВТК-ВРГ'!$B:$B,0),MATCH('Пр. №1.2.'!G$3,'Состав ВТК-ВРГ'!$3:$3,0)),\"---\")","v":"---"},{"$f":"IFERROR(INDEX(справочник!$G$1:$I$7,MATCH('Пр. №1.2.'!$G124,справочник!$G$1:$G$7,0),2),\"---\")","v":"---"},{"$f":"IFERROR(INDEX('Состав ВТК-ВРГ'!$1:$1048576,MATCH('Пр. №1.2.'!$E124,'Состав ВТК-ВРГ'!$B:$B,0),MATCH('Пр. №1.2.'!I$3,'Состав ВТК-ВРГ'!$3:$3,0)),\"---\")","v":"---"},{"$f":"SUMIFS('Пр. №3'!$BQ:$BQ,'Пр. №3'!$G:$G,'Пр. №1.2.'!$E124,'Пр. №3'!$D:$D,'Пр. №1.2.'!$B124)","v":0},{"$f":"IFERROR(INDEX('Пр. №4'!$1:$1048576,MATCH($I124,'Пр. №4'!$C:$C,0),MATCH('Пр. №3'!$D$5,'Пр. №4'!$9:$9,0)),\"---\")","v":"---"},null,"---"]
[null,null,{"$f":"IFERROR(INDEX(справочник!$G$1:$I$7,MATCH('Пр. №1.2.'!$G125,справочник!$G$1:$G$7,0),3),\"---\")","v":"---"},{"$f":"IFERROR(INDEX('Пр. №1'!$B$11:$C$33,MATCH('Пр. №1.2.'!$C125,'Пр. №1'!$B$11:$B$33,0),2),\"---\")","v":"---"},null,{"$f":"IFERROR(INDEX('Состав ВТК-ВРГ'!$1:$1048576,MATCH('Пр. №1.2.'!$E125,'Состав ВТК-ВРГ'!$B:$B,0),MATCH('Пр. №1.2.'!F$3,'Состав ВТК-ВРГ'!$3:$3,0)),\"---\")","v":"---"},{"$f":"IFERROR(INDEX('Состав ВТК-ВРГ'!$1:$1048576,MATCH('Пр. №1.2.'!$E125,'Состав ВТК-ВРГ'!$B:$B,0),MATCH('Пр. №1.2.'!G$3,'Состав ВТК-ВРГ'!$3:$3,0)),\"---\")","v":"---"},{"$f":"IFERROR(INDEX(справочник!$G$1:$I$7,MATCH('Пр. №1.2.'!$G125,справочник!$G$1:$G$7,0),2),\"---\")","v":"---"},{"$f":"IFERROR(INDEX('Состав ВТК-ВРГ'!$1:$1048576,MATCH('Пр. №1.2.'!$E125,'Состав ВТК-ВРГ'!$B:$B,0),MATCH('Пр. №1.2.'!I$3,'Состав ВТК-ВРГ'!$3:$3,0)),\"---\")","v":"---"},{"$f":"SUMIFS('Пр. №3'!$BQ:$BQ,'Пр. №3'!$G:$G,'Пр. №1.2.'!$E125,'Пр. №3'!$D:$D,'Пр. №1.2.'!$B125)","v":0},{"$f":"IFERROR(INDEX('Пр. №4'!$1:$1048576,MATCH($I125,'Пр. №4'!$C:$C,0),MATCH('Пр. №3'!$D$5,'Пр. №4'!$9:$9,0)),\"---\")","v":"---"},null,"---"]
[null,null,{"$f":"IFERROR(INDEX(справочник!$G$1:$I$7,MATCH('Пр. №1.2.'!$G126,справочник!$G$1:$G$7,0),3),\"---\")","v":"---"},{"$f":"IFERROR(INDEX('Пр. №1'!$B$11:$C$33,MATCH('Пр. №1.2.'!$C126,'Пр. №1'!$B$11:$B$33,0),2),\"---\")","v":"---"},null,{"$f":"IFERROR(INDEX('Состав ВТК-ВРГ'!$1:$1048576,MATCH('Пр. №1.2.'!$E126,'Состав ВТК-ВРГ'!$B:$B,0),MATCH('Пр. №1.2.'!F$3,'Состав ВТК-ВРГ'!$3:$3,0)),\"---\")","v":"---"},{"$f":"IFERROR(INDEX('Состав ВТК-ВРГ'!$1:$1048576,MATCH('Пр. №1.2.'!$E126,'Состав ВТК-ВРГ'!$B:$B,0),MATCH('Пр. №1.2.'!G$3,'Состав ВТК-ВРГ'!$3:$3,0)),\"---\")","v":"---"},{"$f":"IFERROR(INDEX(справочник!$G$1:$I$7,MATCH('Пр. №1.2.'!$G126,справочник!$G$1:$G$7,0),2),\"---\")","v":"---"},{"$f":"IFERROR(INDEX('Состав ВТК-ВРГ'!$1:$1048576,MATCH('Пр. №1.2.'!$E126,'Состав ВТК-ВРГ'!$B:$B,0),MATCH('Пр. №1.2.'!I$3,'Состав ВТК-ВРГ'!$3:$3,0)),\"---\")","v":"---"},{"$f":"SUMIFS('Пр. №3'!$BQ:$BQ,'Пр. №3'!$G:$G,'Пр. №1.2.'!$E126,'Пр. №3'!$D:$D,'Пр. №1.2.'!$B126)","v":0},{"$f":"IFERROR(INDEX('Пр. №4'!$1:$1048576,MATCH($I126,'Пр. №4'!$C:$C,0),MATCH('Пр. №3'!$D$5,'Пр. №4'!$9:$9,0)),\"---\")","v":"---"},null,"---"]
[null,null,{"$f":"IFERROR(INDEX(справочник!$G$1:$I$7,MATCH('Пр. №1.2.'!$G127,справочник!$G$1:$G$7,0),3),\"---\")","v":"---"},{"$f":"IFERROR(INDEX('Пр. №1'!$B$11:$C$33,MATCH('Пр. №1.2.'!$C127,'Пр. №1'!$B$11:$B$33,0),2),\"---\")","v":"---"},null,{"$f":"IFERROR(INDEX('Состав ВТК-ВРГ'!$1:$1048576,MATCH('Пр. №1.2.'!$E127,'Состав ВТК-ВРГ'!$B:$B,0),MATCH('Пр. №1.2.'!F$3,'Состав ВТК-ВРГ'!$3:$3,0)),\"---\")","v":"---"},{"$f":"IFERROR(INDEX('Состав ВТК-ВРГ'!$1:$1048576,MATCH('Пр. №1.2.'!$E127,'Состав ВТК-ВРГ'!$B:$B,0),MATCH('Пр. №1.2.'!G$3,'Состав ВТК-ВРГ'!$3:$3,0)),\"---\")","v":"---"},{"$f":"IFERROR(INDEX(справочник!$G$1:$I$7,MATCH('Пр. №1.2.'!$G127,справочник!$G$1:$G$7,0),2),\"---\")","v":"---"},{"$f":"IFERROR(INDEX('Состав ВТК-ВРГ'!$1:$1048576,MATCH('Пр. №1.2.'!$E127,'Состав ВТК-ВРГ'!$B:$B,0),MATCH('Пр. №1.2.'!I$3,'Состав ВТК-ВРГ'!$3:$3,0)),\"---\")","v":"---"},{"$f":"SUMIFS('Пр. №3'!$BQ:$BQ,'Пр. №3'!$G:$G,'Пр. №1.2.'!$E127,'Пр. №3'!$D:$D,'Пр. №1.2.'!$B127)","v":0},{"$f":"IFERROR(INDEX('Пр. №4'!$1:$1048576,MATCH($I127,'Пр. №4'!$C:$C,0),MATCH('Пр. №3'!$D$5,'Пр. №4'!$9:$9,0)),\"---\")","v":"---"},null,"---"]
[null,null,{"$f":"IFERROR(INDEX(справочник!$G$1:$I$7,MATCH('Пр. №1.2.'!$G128,справочник!$G$1:$G$7,0),3),\"---\")","v":"---"},{"$f":"IFERROR(INDEX('Пр. №1'!$B$11:$C$33,MATCH('Пр. №1.2.'!$C128,'Пр. №1'!$B$11:$B$33,0),2),\"---\")","v":"---"},null,{"$f":"IFERROR(INDEX('Состав ВТК-ВРГ'!$1:$1048576,MATCH('Пр. №1.2.'!$E128,'Состав ВТК-ВРГ'!$B:$B,0),MATCH('Пр. №1.2.'!F$3,'Состав ВТК-ВРГ'!$3:$3,0)),\"---\")","v":"---"},{"$f":"IFERROR(INDEX('Состав ВТК-ВРГ'!$1:$1048576,MATCH('Пр. №1.2.'!$E128,'Состав ВТК-ВРГ'!$B:$B,0),MATCH('Пр. №1.2.'!G$3,'Состав ВТК-ВРГ'!$3:$3,0)),\"---\")","v":"---"},{"$f":"IFERROR(INDEX(справочник!$G$1:$I$7,MATCH('Пр. №1.2.'!$G128,справочник!$G$1:$G$7,0),2),\"---\")","v":"---"},{"$f":"IFERROR(INDEX('Состав ВТК-ВРГ'!$1:$1048576,MATCH('Пр. №1.2.'!$E128,'Состав ВТК-ВРГ'!$B:$B,0),MATCH('Пр. №1.2.'!I$3,'Состав ВТК-ВРГ'!$3:$3,0)),\"---\")","v":"---"},{"$f":"SUMIFS('Пр. №3'!$BQ:$BQ,'Пр. №3'!$G:$G,'Пр. №1.2.'!$E128,'Пр. №3'!$D:$D,'Пр. №1.2.'!$B128)","v":0},{"$f":"IFERROR(INDEX('Пр. №4'!$1:$1048576,MATCH($I128,'Пр. №4'!$C:$C,0),MATCH('Пр. №3'!$D$5,'Пр. №4'!$9:$9,0)),\"---\")","v":"---"},null,"---"]
[null,null,{"$f":"IFERROR(INDEX(справочник!$G$1:$I$7,MATCH('Пр. №1.2.'!$G129,справочник!$G$1:$G$7,0),3),\"---\")","v":"---"},{"$f":"IFERROR(INDEX('Пр. №1'!$B$11:$C$33,MATCH('Пр. №1.2.'!$C129,'Пр. №1'!$B$11:$B$33,0),2),\"---\")","v":"---"},null,{"$f":"IFERROR(INDEX('Состав ВТК-ВРГ'!$1:$1048576,MATCH('Пр. №1.2.'!$E129,'Состав ВТК-ВРГ'!$B:$B,0),MATCH('Пр. №1.2.'!F$3,'Состав ВТК-ВРГ'!$3:$3,0)),\"---\")","v":"---"},{"$f":"IFERROR(INDEX('Состав ВТК-ВРГ'!$1:$1048576,MATCH('Пр. №1.2.'!$E129,'Состав ВТК-ВРГ'!$B:$B,0),MATCH('Пр. №1.2.'!G$3,'Состав ВТК-ВРГ'!$3:$3,0)),\"---\")","v":"---"},{"$f":"IFERROR(INDEX(справочник!$G$1:$I$7,MATCH('Пр. №1.2.'!$G129,справочник!$G$1:$G$7,0),2),\"---\")","v":"---"},{"$f":"IFERROR(INDEX('Состав ВТК-ВРГ'!$1:$1048576,MATCH('Пр. №1.2.'!$E129,'Состав ВТК-ВРГ'!$B:$B,0),MATCH('Пр. №1.2.'!I$3,'Состав ВТК-ВРГ'!$3:$3,0)),\"---\")","v":"---"},{"$f":"SUMIFS('Пр. №3'!$BQ:$BQ,'Пр. №3'!$G:$G,'Пр. №1.2.'!$E129,'Пр. №3'!$D:$D,'Пр. №1.2.'!$B129)","v":0},{"$f":"IFERROR(INDEX('Пр. №4'!$1:$1048576,MATCH($I129,'Пр. №4'!$C:$C,0),MATCH('Пр. №3'!$D$5,'Пр. №4'!$9:$9,0)),\"---\")","v":"---"},null,"---"]
[null,null,{"$f":"IFERROR(INDEX(справочник!$G$1:$I$7,MATCH('Пр. №1.2.'!$G130,справочник!$G$1:$G$7,0),3),\"---\")","v":"---"},{"$f":"IFERROR(INDEX('Пр. №1'!$B$11:$C$33,MATCH('Пр. №1.2.'!$C130,'Пр. №1'!$B$11:$B$33,0),2),\"---\")","v":"---"},null,{"$f":"IFERROR(INDEX('Состав ВТК-ВРГ'!$1:$1048576,MATCH('Пр. №1.2.'!$E130,'Состав ВТК-ВРГ'!$B:$B,0),MATCH('Пр. №1.2.'!F$3,'Состав ВТК-ВРГ'!$3:$3,0)),\"---\")","v":"---"},{"$f":"IFERROR(INDEX('Состав ВТК-ВРГ'!$1:$1048576,MATCH('Пр. №1.2.'!$E130,'Состав ВТК-ВРГ'!$B:$B,0),MATCH('Пр. №1.2.'!G$3,'Состав ВТК-ВРГ'!$3:$3,0)),\"---\")","v":"---"},{"$f":"IFERROR(INDEX(справочник!$G$1:$I$7,MATCH('Пр. №1.2.'!$G130,справочник!$G$1:$G$7,0),2),\"---\")","v":"---"},{"$f":"IFERROR(INDEX('Состав ВТК-ВРГ'!$1:$1048576,MATCH('Пр. №1.2.'!$E130,'Состав ВТК-ВРГ'!$B:$B,0),MATCH('Пр. №1.2.'!I$3,'Состав ВТК-ВРГ'!$3:$3,0)),\"---\")","v":"---"},{"$f":"SUMIFS('Пр. №3'!$BQ:$BQ,'Пр. №3'!$G:$G,'Пр. №1.2.'!$E130,'Пр. №3'!$D:$D,'Пр. №1.2.'!$B130)","v":0},{"$f":"IFERROR(INDEX('Пр. №4'!$1:$1048576,MATCH($I130,'Пр. №4'!$C:$C,0),MATCH('Пр. №3'!$D$5,'Пр. №4'!$9:$9,0)),\"---\")","v":"---"},null,"---"]
[null,null,{"$f":"IFERROR(INDEX(справочник!$G$1:$I$7,MATCH('Пр. №1.2.'!$G131,справочник!$G$1:$G$7,0),3),\"---\")","v":"---"},{"$f":"IFERROR(INDEX('Пр. №1'!$B$11:$C$33,MATCH('Пр. №1.2.'!$C131,'Пр. №1'!$B$11:$B$33,0),2),\"---\")","v":"---"},null,{"$f":"IFERROR(INDEX('Состав ВТК-ВРГ'!$1:$1048576,MATCH('Пр. №1.2.'!$E131,'Состав ВТК-ВРГ'!$B:$B,0),MATCH('Пр. №1.2.'!F$3,'Состав ВТК-ВРГ'!$3:$3,0)),\"---\")","v":"---"},{"$f":"IFERROR(INDEX('Состав ВТК-ВРГ'!$1:$1048576,MATCH('Пр. №1.2.'!$E131,'Состав ВТК-ВРГ'!$B:$B,0),MATCH('Пр. №1.2.'!G$3,'Состав ВТК-ВРГ'!$3:$3,0)),\"---\")","v":"---"},{"$f":"IFERROR(INDEX(справочник!$G$1:$I$7,MATCH('Пр. №1.2.'!$G131,справочник!$G$1:$G$7,0),2),\"---\")","v":"---"},{"$f":"IFERROR(INDEX('Состав ВТК-ВРГ'!$1:$1048576,MATCH('Пр. №1.2.'!$E131,'Состав ВТК-ВРГ'!$B:$B,0),MATCH('Пр. №1.2.'!I$3,'Состав ВТК-ВРГ'!$3:$3,0)),\"---\")","v":"---"},{"$f":"SUMIFS('Пр. №3'!$BQ:$BQ,'Пр. №3'!$G:$G,'Пр. №1.2.'!$E131,'Пр. №3'!$D:$D,'Пр. №1.2.'!$B131)","v":0},{"$f":"IFERROR(INDEX('Пр. №4'!$1:$1048576,MATCH($I131,'Пр. №4'!$C:$C,0),MATCH('Пр. №3'!$D$5,'Пр. №4'!$9:$9,0)),\"---\")","v":"---"},null,"---"]
[null,null,{"$f":"IFERROR(INDEX(справочник!$G$1:$I$7,MATCH('Пр. №1.2.'!$G132,справочник!$G$1:$G$7,0),3),\"---\")","v":"---"},{"$f":"IFERROR(INDEX('Пр. №1'!$B$11:$C$33,MATCH('Пр. №1.2.'!$C132,'Пр. №1'!$B$11:$B$33,0),2),\"---\")","v":"---"},null,{"$f":"IFERROR(INDEX('Состав ВТК-ВРГ'!$1:$1048576,MATCH('Пр. №1.2.'!$E132,'Состав ВТК-ВРГ'!$B:$B,0),MATCH('Пр. №1.2.'!F$3,'Состав ВТК-ВРГ'!$3:$3,0)),\"---\")","v":"---"},{"$f":"IFERROR(INDEX('Состав ВТК-ВРГ'!$1:$1048576,MATCH('Пр. №1.2.'!$E132,'Состав ВТК-ВРГ'!$B:$B,0),MATCH('Пр. №1.2.'!G$3,'Состав ВТК-ВРГ'!$3:$3,0)),\"---\")","v":"---"},{"$f":"IFERROR(INDEX(справочник!$G$1:$I$7,MATCH('Пр. №1.2.'!$G132,справочник!$G$1:$G$7,0),2),\"---\")","v":"---"},{"$f":"IFERROR(INDEX('Состав ВТК-ВРГ'!$1:$1048576,MATCH('Пр. №1.2.'!$E132,'Состав ВТК-ВРГ'!$B:$B,0),MATCH('Пр. №1.2.'!I$3,'Состав ВТК-ВРГ'!$3:$3,0)),\"---\")","v":"---"},{"$f":"SUMIFS('Пр. №3'!$BQ:$BQ,'Пр. №3'!$G:$G,'Пр. №1.2.'!$E132,'Пр. №3'!$D:$D,'Пр. №1.2.'!$B132)","v":0},{"$f":"IFERROR(INDEX('Пр. №4'!$1:$1048576,MATCH($I132,'Пр. №4'!$C:$C,0),MATCH('Пр. №3'!$D$5,'Пр. №4'!$9:$9,0)),\"---\")","v":"---"},null,"---"]
[null,null,{"$f":"IFERROR(INDEX(справочник!$G$1:$I$7,MATCH('Пр. №1.2.'!$G133,справочник!$G$1:$G$7,0),3),\"---\")","v":"---"},{"$f":"IFERROR(INDEX('Пр. №1'!$B$11:$C$33,MATCH('Пр. №1.2.'!$C133,'Пр. №1'!$B$11:$B$33,0),2),\"---\")","v":"---"},null,{"$f":"IFERROR(INDEX('Состав ВТК-ВРГ'!$1:$1048576,MATCH('Пр. №1.2.'!$E133,'Состав ВТК-ВРГ'!$B:$B,0),MATCH('Пр. №1.2.'!F$3,'Состав ВТК-ВРГ'!$3:$3,0)),\"---\")","v":"---"},{"$f":"IFERROR(INDEX('Состав ВТК-ВРГ'!$1:$1048576,MATCH('Пр. №1.2.'!$E133,'Состав ВТК-ВРГ'!$B:$B,0),MATCH('Пр. №1.2.'!G$3,'Состав ВТК-ВРГ'!$3:$3,0)),\"---\")","v":"---"},{"$f":"IFERROR(INDEX(справочник!$G$1:$I$7,MATCH('Пр. №1.2.'!$G133,справочник!$G$1:$G$7,0),2),\"---\")","v":"---"},{"$f":"IFERROR(INDEX('Состав ВТК-ВРГ'!$1:$1048576,MATCH('Пр. №1.2.'!$E133,'Состав ВТК-ВРГ'!$B:$B,0),MATCH('Пр. №1.2.'!I$3,'Состав ВТК-ВРГ'!$3:$3,0)),\"---\")","v":"---"},{"$f":"SUMIFS('Пр. №3'!$BQ:$BQ,'Пр. №3'!$G:$G,'Пр. №1.2.'!$E133,'Пр. №3'!$D:$D,'Пр. №1.2.'!$B133)","v":0},{"$f":"IFERROR(INDEX('Пр. №4'!$1:$1048576,MATCH($I133,'Пр. №4'!$C:$C,0),MATCH('Пр. №3'!$D$5,'Пр. №4'!$9:$9,0)),\"---\")","v":"---"},null,"---"]
[null,null,{"$f":"IFERROR(INDEX(справочник!$G$1:$I$7,MATCH('Пр. №1.2.'!$G134,справочник!$G$1:$G$7,0),3),\"---\")","v":"---"},{"$f":"IFERROR(INDEX('Пр. №1'!$B$11:$C$33,MATCH('Пр. №1.2.'!$C134,'Пр. №1'!$B$11:$B$33,0),2),\"---\")","v":"---"},null,{"$f":"IFERROR(INDEX('Состав ВТК-ВРГ'!$1:$1048576,MATCH('Пр. №1.2.'!$E134,'Состав ВТК-ВРГ'!$B:$B,0),MATCH('Пр. №1.2.'!F$3,'Состав ВТК-ВРГ'!$3:$3,0)),\"---\")","v":"---"},{"$f":"IFERROR(INDEX('Состав ВТК-ВРГ'!$1:$1048576,MATCH('Пр. №1.2.'!$E134,'Состав ВТК-ВРГ'!$B:$B,0),MATCH('Пр. №1.2.'!G$3,'Состав ВТК-ВРГ'!$3:$3,0)),\"---\")","v":"---"},{"$f":"IFERROR(INDEX(справочник!$G$1:$I$7,MATCH('Пр. №1.2.'!$G134,справочник!$G$1:$G$7,0),2),\"---\")","v":"---"},{"$f":"IFERROR(INDEX('Состав ВТК-ВРГ'!$1:$1048576,MATCH('Пр. №1.2.'!$E134,'Состав ВТК-ВРГ'!$B:$B,0),MATCH('Пр. №1.2.'!I$3,'Состав ВТК-ВРГ'!$3:$3,0)),\"---\")","v":"---"},{"$f":"SUMIFS('Пр. №3'!$BQ:$BQ,'Пр. №3'!$G:$G,'Пр. №1.2.'!$E134,'Пр. №3'!$D:$D,'Пр. №1.2.'!$B134)","v":0},{"$f":"IFERROR(INDEX('Пр. №4'!$1:$1048576,MATCH($I134,'Пр. №4'!$C:$C,0),MATCH('Пр. №3'!$D$5,'Пр. №4'!$9:$9,0)),\"---\")","v":"---"},null,"---"]
[null,null,{"$f":"IFERROR(INDEX(справочник!$G$1:$I$7,MATCH('Пр. №1.2.'!$G135,справочник!$G$1:$G$7,0),3),\"---\")","v":"---"},{"$f":"IFERROR(INDEX('Пр. №1'!$B$11:$C$33,MATCH('Пр. №1.2.'!$C135,'Пр. №1'!$B$11:$B$33,0),2),\"---\")","v":"---"},null,{"$f":"IFERROR(INDEX('Состав ВТК-ВРГ'!$1:$1048576,MATCH('Пр. №1.2.'!$E135,'Состав ВТК-ВРГ'!$B:$B,0),MATCH('Пр. №1.2.'!F$3,'Состав ВТК-ВРГ'!$3:$3,0)),\"---\")","v":"---"},{"$f":"IFERROR(INDEX('Состав ВТК-ВРГ'!$1:$1048576,MATCH('Пр. №1.2.'!$E135,'Состав ВТК-ВРГ'!$B:$B,0),MATCH('Пр. №1.2.'!G$3,'Состав ВТК-ВРГ'!$3:$3,0)),\"---\")","v":"---"},{"$f":"IFERROR(INDEX(справочник!$G$1:$I$7,MATCH('Пр. №1.2.'!$G135,справочник!$G$1:$G$7,0),2),\"---\")","v":"---"},{"$f":"IFERROR(INDEX('Состав ВТК-ВРГ'!$1:$1048576,MATCH('Пр. №1.2.'!$E135,'Состав ВТК-ВРГ'!$B:$B,0),MATCH('Пр. №1.2.'!I$3,'Состав ВТК-ВРГ'!$3:$3,0)),\"---\")","v":"---"},{"$f":"SUMIFS('Пр. №3'!$BQ:$BQ,'Пр. №3'!$G:$G,'Пр. №1.2.'!$E135,'Пр. №3'!$D:$D,'Пр. №1.2.'!$B135)","v":0},{"$f":"IFERROR(INDEX('Пр. №4'!$1:$1048576,MATCH($I135,'Пр. №4'!$C:$C,0),MATCH('Пр. №3'!$D$5,'Пр. №4'!$9:$9,0)),\"---\")","v":"---"},null,"---"]
[null,null,{"$f":"IFERROR(INDEX(справочник!$G$1:$I$7,MATCH('Пр. №1.2.'!$G136,справочник!$G$1:$G$7,0),3),\"---\")","v":"---"},{"$f":"IFERROR(INDEX('Пр. №1'!$B$11:$C$33,MATCH('Пр. №1.2.'!$C136,'Пр. №1'!$B$11:$B$33,0),2),\"---\")","v":"---"},null,{"$f":"IFERROR(INDEX('Состав ВТК-ВРГ'!$1:$1048576,MATCH('Пр. №1.2.'!$E136,'Состав ВТК-ВРГ'!$B:$B,0),MATCH('Пр. №1.2.'!F$3,'Состав ВТК-ВРГ'!$3:$3,0)),\"---\")","v":"---"},{"$f":"IFERROR(INDEX('Состав ВТК-ВРГ'!$1:$1048576,MATCH('Пр. №1.2.'!$E136,'Состав ВТК-ВРГ'!$B:$B,0),MATCH('Пр. №1.2.'!G$3,'Состав ВТК-ВРГ'!$3:$3,0)),\"---\")","v":"---"},{"$f":"IFERROR(INDEX(справочник!$G$1:$I$7,MATCH('Пр. №1.2.'!$G136,справочник!$G$1:$G$7,0),2),\"---\")","v":"---"},{"$f":"IFERROR(INDEX('Состав ВТК-ВРГ'!$1:$1048576,MATCH('Пр. №1.2.'!$E136,'Состав ВТК-ВРГ'!$B:$B,0),MATCH('Пр. №1.2.'!I$3,'Состав ВТК-ВРГ'!$3:$3,0)),\"---\")","v":"---"},{"$f":"SUMIFS('Пр. №3'!$BQ:$BQ,'Пр. №3'!$G:$G,'Пр. №1.2.'!$E136,'Пр. №3'!$D:$D,'Пр. №1.2.'!$B136)","v":0},{"$f":"IFERROR(INDEX('Пр. №4'!$1:$1048576,MATCH($I136,'Пр. №4'!$C:$C,0),MATCH('Пр. №3'!$D$5,'Пр. №4'!$9:$9,0)),\"---\")","v":"---"},null,"---"]
[null,null,{"$f":"IFERROR(INDEX(справочник!$G$1:$I$7,MATCH('Пр. №1.2.'!$G137,справочник!$G$1:$G$7,0),3),\"---\")","v":"---"},{"$f":"IFERROR(INDEX('Пр. №1'!$B$11:$C$33,MATCH('Пр. №1.2.'!$C137,'Пр. №1'!$B$11:$B$33,0),2),\"---\")","v":"---"},null,{"$f":"IFERROR(INDEX('Состав ВТК-ВРГ'!$1:$1048576,MATCH('Пр. №1.2.'!$E137,'Состав ВТК-ВРГ'!$B:$B,0),MATCH('Пр. №1.2.'!F$3,'Состав ВТК-ВРГ'!$3:$3,0)),\"---\")","v":"---"},{"$f":"IFERROR(INDEX('Состав ВТК-ВРГ'!$1:$1048576,MATCH('Пр. №1.2.'!$E137,'Состав ВТК-ВРГ'!$B:$B,0),MATCH('Пр. №1.2.'!G$3,'Состав ВТК-ВРГ'!$3:$3,0)),\"---\")","v":"---"},{"$f":"IFERROR(INDEX(справочник!$G$1:$I$7,MATCH('Пр. №1.2.'!$G137,справочник!$G$1:$G$7,0),2),\"---\")","v":"---"},{"$f":"IFERROR(INDEX('Состав ВТК-ВРГ'!$1:$1048576,MATCH('Пр. №1.2.'!$E137,'Состав ВТК-ВРГ'!$B:$B,0),MATCH('Пр. №1.2.'!I$3,'Состав ВТК-ВРГ'!$3:$3,0)),\"---\")","v":"---"},{"$f":"SUMIFS('Пр. №3'!$BQ:$BQ,'Пр. №3'!$G:$G,'Пр. №1.2.'!$E137,'Пр. №3'!$D:$D,'Пр. №1.2.'!$B137)","v":0},{"$f":"IFERROR(INDEX('Пр. №4'!$1:$1048576,MATCH($I137,'Пр. №4'!$C:$C,0),MATCH('Пр. №3'!$D$5,'Пр. №4'!$9:$9,0)),\"---\")","v":"---"},null,"---"]
[null,null,{"$f":"IFERROR(INDEX(справочник!$G$1:$I$7,MATCH('Пр. №1.2.'!$G138,справочник!$G$1:$G$7,0),3),\"---\")","v":"---"},{"$f":"IFERROR(INDEX('Пр. №1'!$B$11:$C$33,MATCH('Пр. №1.2.'!$C138,'Пр. №1'!$B$11:$B$33,0),2),\"---\")","v":"---"},null,{"$f":"IFERROR(INDEX('Состав ВТК-ВРГ'!$1:$1048576,MATCH('Пр. №1.2.'!$E138,'Состав ВТК-ВРГ'!$B:$B,0),MATCH('Пр. №1.2.'!F$3,'Состав ВТК-ВРГ'!$3:$3,0)),\"---\")","v":"---"},{"$f":"IFERROR(INDEX('Состав ВТК-ВРГ'!$1:$1048576,MATCH('Пр. №1.2.'!$E138,'Состав ВТК-ВРГ'!$B:$B,0),MATCH('Пр. №1.2.'!G$3,'Состав ВТК-ВРГ'!$3:$3,0)),\"---\")","v":"---"},{"$f":"IFERROR(INDEX(справочник!$G$1:$I$7,MATCH('Пр. №1.2.'!$G138,справочник!$G$1:$G$7,0),2),\"---\")","v":"---"},{"$f":"IFERROR(INDEX('Состав ВТК-ВРГ'!$1:$1048576,MATCH('Пр. №1.2.'!$E138,'Состав ВТК-ВРГ'!$B:$B,0),MATCH('Пр. №1.2.'!I$3,'Состав ВТК-ВРГ'!$3:$3,0)),\"---\")","v":"---"},{"$f":"SUMIFS('Пр. №3'!$BQ:$BQ,'Пр. №3'!$G:$G,'Пр. №1.2.'!$E138,'Пр. №3'!$D:$D,'Пр. №1.2.'!$B138)","v":0},{"$f":"IFERROR(INDEX('Пр. №4'!$1:$1048576,MATCH($I138,'Пр. №4'!$C:$C,0),MATCH('Пр. №3'!$D$5,'Пр. №4'!$9:$9,0)),\"---\")","v":"---"},null,"---"]
[null,null,{"$f":"IFERROR(INDEX(справочник!$G$1:$I$7,MATCH('Пр. №1.2.'!$G139,справочник!$G$1:$G$7,0),3),\"---\")","v":"---"},{"$f":"IFERROR(INDEX('Пр. №1'!$B$11:$C$33,MATCH('Пр. №1.2.'!$C139,'Пр. №1'!$B$11:$B$33,0),2),\"---\")","v":"---"},null,{"$f":"IFERROR(INDEX('Состав ВТК-ВРГ'!$1:$1048576,MATCH('Пр. №1.2.'!$E139,'Состав ВТК-ВРГ'!$B:$B,0),MATCH('Пр. №1.2.'!F$3,'Состав ВТК-ВРГ'!$3:$3,0)),\"---\")","v":"---"},{"$f":"IFERROR(INDEX('Состав ВТК-ВРГ'!$1:$1048576,MATCH('Пр. №1.2.'!$E139,'Состав ВТК-ВРГ'!$B:$B,0),MATCH('Пр. №1.2.'!G$3,'Состав ВТК-ВРГ'!$3:$3,0)),\"---\")","v":"---"},{"$f":"IFERROR(INDEX(справочник!$G$1:$I$7,MATCH('Пр. №1.2.'!$G139,справочник!$G$1:$G$7,0),2),\"---\")","v":"---"},{"$f":"IFERROR(INDEX('Состав ВТК-ВРГ'!$1:$1048576,MATCH('Пр. №1.2.'!$E139,'Состав ВТК-ВРГ'!$B:$B,0),MATCH('Пр. №1.2.'!I$3,'Состав ВТК-ВРГ'!$3:$3,0)),\"---\")","v":"---"},{"$f":"SUMIFS('Пр. №3'!$BQ:$BQ,'Пр. №3'!$G:$G,'Пр. №1.2.'!$E139,'Пр. №3'!$D:$D,'Пр. №1.2.'!$B139)","v":0},{"$f":"IFERROR(INDEX('Пр. №4'!$1:$1048576,MATCH($I139,'Пр. №4'!$C:$C,0),MATCH('Пр. №3'!$D$5,'Пр. №4'!$9:$9,0)),\"---\")","v":"---"},null,"---"]
[null,null,{"$f":"IFERROR(INDEX(справочник!$G$1:$I$7,MATCH('Пр. №1.2.'!$G140,справочник!$G$1:$G$7,0),3),\"---\")","v":"---"},{"$f":"IFERROR(INDEX('Пр. №1'!$B$11:$C$33,MATCH('Пр. №1.2.'!$C140,'Пр. №1'!$B$11:$B$33,0),2),\"---\")","v":"---"},null,{"$f":"IFERROR(INDEX('Состав ВТК-ВРГ'!$1:$1048576,MATCH('Пр. №1.2.'!$E140,'Состав ВТК-ВРГ'!$B:$B,0),MATCH('Пр. №1.2.'!F$3,'Состав ВТК-ВРГ'!$3:$3,0)),\"---\")","v":"---"},{"$f":"IFERROR(INDEX('Состав ВТК-ВРГ'!$1:$1048576,MATCH('Пр. №1.2.'!$E140,'Состав ВТК-ВРГ'!$B:$B,0),MATCH('Пр. №1.2.'!G$3,'Состав ВТК-ВРГ'!$3:$3,0)),\"---\")","v":"---"},{"$f":"IFERROR(INDEX(справочник!$G$1:$I$7,MATCH('Пр. №1.2.'!$G140,справочник!$G$1:$G$7,0),2),\"---\")","v":"---"},{"$f":"IFERROR(INDEX('Состав ВТК-ВРГ'!$1:$1048576,MATCH('Пр. №1.2.'!$E140,'Состав ВТК-ВРГ'!$B:$B,0),MATCH('Пр. №1.2.'!I$3,'Состав ВТК-ВРГ'!$3:$3,0)),\"---\")","v":"---"},{"$f":"SUMIFS('Пр. №3'!$BQ:$BQ,'Пр. №3'!$G:$G,'Пр. №1.2.'!$E140,'Пр. №3'!$D:$D,'Пр. №1.2.'!$B140)","v":0},{"$f":"IFERROR(INDEX('Пр. №4'!$1:$1048576,MATCH($I140,'Пр. №4'!$C:$C,0),MATCH('Пр. №3'!$D$5,'Пр. №4'!$9:$9,0)),\"---\")","v":"---"},null,"---"]
[null,null,{"$f":"IFERROR(INDEX(справочник!$G$1:$I$7,MATCH('Пр. №1.2.'!$G141,справочник!$G$1:$G$7,0),3),\"---\")","v":"---"},{"$f":"IFERROR(INDEX('Пр. №1'!$B$11:$C$33,MATCH('Пр. №1.2.'!$C141,'Пр. №1'!$B$11:$B$33,0),2),\"---\")","v":"---"},null,{"$f":"IFERROR(INDEX('Состав ВТК-ВРГ'!$1:$1048576,MATCH('Пр. №1.2.'!$E141,'Состав ВТК-ВРГ'!$B:$B,0),MATCH('Пр. №1.2.'!F$3,'Состав ВТК-ВРГ'!$3:$3,0)),\"---\")","v":"---"},{"$f":"IFERROR(INDEX('Состав ВТК-ВРГ'!$1:$1048576,MATCH('Пр. №1.2.'!$E141,'Состав ВТК-ВРГ'!$B:$B,0),MATCH('Пр. №1.2.'!G$3,'Состав ВТК-ВРГ'!$3:$3,0)),\"---\")","v":"---"},{"$f":"IFERROR(INDEX(справочник!$G$1:$I$7,MATCH('Пр. №1.2.'!$G141,справочник!$G$1:$G$7,0),2),\"---\")","v":"---"},{"$f":"IFERROR(INDEX('Состав ВТК-ВРГ'!$1:$1048576,MATCH('Пр. №1.2.'!$E141,'Состав ВТК-ВРГ'!$B:$B,0),MATCH('Пр. №1.2.'!I$3,'Состав ВТК-ВРГ'!$3:$3,0)),\"---\")","v":"---"},{"$f":"SUMIFS('Пр. №3'!$BQ:$BQ,'Пр. №3'!$G:$G,'Пр. №1.2.'!$E141,'Пр. №3'!$D:$D,'Пр. №1.2.'!$B141)","v":0},{"$f":"IFERROR(INDEX('Пр. №4'!$1:$1048576,MATCH($I141,'Пр. №4'!$C:$C,0),MATCH('Пр. №3'!$D$5,'Пр. №4'!$9:$9,0)),\"---\")","v":"---"},null,"---"]
[null,null,{"$f":"IFERROR(INDEX(справочник!$G$1:$I$7,MATCH('Пр. №1.2.'!$G142,справочник!$G$1:$G$7,0),3),\"---\")","v":"---"},{"$f":"IFERROR(INDEX('Пр. №1'!$B$11:$C$33,MATCH('Пр. №1.2.'!$C142,'Пр. №1'!$B$11:$B$33,0),2),\"---\")","v":"---"},null,{"$f":"IFERROR(INDEX('Состав ВТК-ВРГ'!$1:$1048576,MATCH('Пр. №1.2.'!$E142,'Состав ВТК-ВРГ'!$B:$B,0),MATCH('Пр. №1.2.'!F$3,'Состав ВТК-ВРГ'!$3:$3,0)),\"---\")","v":"---"},{"$f":"IFERROR(INDEX('Состав ВТК-ВРГ'!$1:$1048576,MATCH('Пр. №1.2.'!$E142,'Состав ВТК-ВРГ'!$B:$B,0),MATCH('Пр. №1.2.'!G$3,'Состав ВТК-ВРГ'!$3:$3,0)),\"---\")","v":"---"},{"$f":"IFERROR(INDEX(справочник!$G$1:$I$7,MATCH('Пр. №1.2.'!$G142,справочник!$G$1:$G$7,0),2),\"---\")","v":"---"},{"$f":"IFERROR(INDEX('Состав ВТК-ВРГ'!$1:$1048576,MATCH('Пр. №1.2.'!$E142,'Состав ВТК-ВРГ'!$B:$B,0),MATCH('Пр. №1.2.'!I$3,'Состав ВТК-ВРГ'!$3:$3,0)),\"---\")","v":"---"},{"$f":"SUMIFS('Пр. №3'!$BQ:$BQ,'Пр. №3'!$G:$G,'Пр. №1.2.'!$E142,'Пр. №3'!$D:$D,'Пр. №1.2.'!$B142)","v":0},{"$f":"IFERROR(INDEX('Пр. №4'!$1:$1048576,MATCH($I142,'Пр. №4'!$C:$C,0),MATCH('Пр. №3'!$D$5,'Пр. №4'!$9:$9,0)),\"---\")","v":"---"},null,"---"]
[null,null,{"$f":"IFERROR(INDEX(справочник!$G$1:$I$7,MATCH('Пр. №1.2.'!$G143,справочник!$G$1:$G$7,0),3),\"---\")","v":"---"},{"$f":"IFERROR(INDEX('Пр. №1'!$B$11:$C$33,MATCH('Пр. №1.2.'!$C143,'Пр. №1'!$B$11:$B$33,0),2),\"---\")","v":"---"},null,{"$f":"IFERROR(INDEX('Состав ВТК-ВРГ'!$1:$1048576,MATCH('Пр. №1.2.'!$E143,'Состав ВТК-ВРГ'!$B:$B,0),MATCH('Пр. №1.2.'!F$3,'Состав ВТК-ВРГ'!$3:$3,0)),\"---\")","v":"---"},{"$f":"IFERROR(INDEX('Состав ВТК-ВРГ'!$1:$1048576,MATCH('Пр. №1.2.'!$E143,'Состав ВТК-ВРГ'!$B:$B,0),MATCH('Пр. №1.2.'!G$3,'Состав ВТК-ВРГ'!$3:$3,0)),\"---\")","v":"---"},{"$f":"IFERROR(INDEX(справочник!$G$1:$I$7,MATCH('Пр. №1.2.'!$G143,справочник!$G$1:$G$7,0),2),\"---\")","v":"---"},{"$f":"IFERROR(INDEX('Состав ВТК-ВРГ'!$1:$1048576,MATCH('Пр. №1.2.'!$E143,'Состав ВТК-ВРГ'!$B:$B,0),MATCH('Пр. №1.2.'!I$3,'Состав ВТК-ВРГ'!$3:$3,0)),\"---\")","v":"---"},{"$f":"SUMIFS('Пр. №3'!$BQ:$BQ,'Пр. №3'!$G:$G,'Пр. №1.2.'!$E143,'Пр. №3'!$D:$D,'Пр. №1.2.'!$B143)","v":0},{"$f":"IFERROR(INDEX('Пр. №4'!$1:$1048576,MATCH($I143,'Пр. №4'!$C:$C,0),MATCH('Пр. №3'!$D$5,'Пр. №4'!$9:$9,0)),\"---\")","v":"---"},null,"---"]
[null,null,{"$f":"IFERROR(INDEX(справочник!$G$1:$I$7,MATCH('Пр. №1.2.'!$G144,справочник!$G$1:$G$7,0),3),\"---\")","v":"---"},{"$f":"IFERROR(INDEX('Пр. №1'!$B$11:$C$33,MATCH('Пр. №1.2.'!$C144,'Пр. №1'!$B$11:$B$33,0),2),\"---\")","v":"---"},null,{"$f":"IFERROR(INDEX('Состав ВТК-ВРГ'!$1:$1048576,MATCH('Пр. №1.2.'!$E144,'Состав ВТК-ВРГ'!$B:$B,0),MATCH('Пр. №1.2.'!F$3,'Состав ВТК-ВРГ'!$3:$3,0)),\"---\")","v":"---"},{"$f":"IFERROR(INDEX('Состав ВТК-ВРГ'!$1:$1048576,MATCH('Пр. №1.2.'!$E144,'Состав ВТК-ВРГ'!$B:$B,0),MATCH('Пр. №1.2.'!G$3,'Состав ВТК-ВРГ'!$3:$3,0)),\"---\")","v":"---"},{"$f":"IFERROR(INDEX(справочник!$G$1:$I$7,MATCH('Пр. №1.2.'!$G144,справочник!$G$1:$G$7,0),2),\"---\")","v":"---"},{"$f":"IFERROR(INDEX('Состав ВТК-ВРГ'!$1:$1048576,MATCH('Пр. №1.2.'!$E144,'Состав ВТК-ВРГ'!$B:$B,0),MATCH('Пр. №1.2.'!I$3,'Состав ВТК-ВРГ'!$3:$3,0)),\"---\")","v":"---"},{"$f":"SUMIFS('Пр. №3'!$BQ:$BQ,'Пр. №3'!$G:$G,'Пр. №1.2.'!$E144,'Пр. №3'!$D:$D,'Пр. №1.2.'!$B144)","v":0},{"$f":"IFERROR(INDEX('Пр. №4'!$1:$1048576,MATCH($I144,'Пр. №4'!$C:$C,0),MATCH('Пр. №3'!$D$5,'Пр. №4'!$9:$9,0)),\"---\")","v":"---"},null,"---"]
[null,null,{"$f":"IFERROR(INDEX(справочник!$G$1:$I$7,MATCH('Пр. №1.2.'!$G145,справочник!$G$1:$G$7,0),3),\"---\")","v":"---"},{"$f":"IFERROR(INDEX('Пр. №1'!$B$11:$C$33,MATCH('Пр. №1.2.'!$C145,'Пр. №1'!$B$11:$B$33,0),2),\"---\")","v":"---"},null,{"$f":"IFERROR(INDEX('Состав ВТК-ВРГ'!$1:$1048576,MATCH('Пр. №1.2.'!$E145,'Состав ВТК-ВРГ'!$B:$B,0),MATCH('Пр. №1.2.'!F$3,'Состав ВТК-ВРГ'!$3:$3,0)),\"---\")","v":"---"},{"$f":"IFERROR(INDEX('Состав ВТК-ВРГ'!$1:$1048576,MATCH('Пр. №1.2.'!$E145,'Состав ВТК-ВРГ'!$B:$B,0),MATCH('Пр. №1.2.'!G$3,'Состав ВТК-ВРГ'!$3:$3,0)),\"---\")","v":"---"},{"$f":"IFERROR(INDEX(справочник!$G$1:$I$7,MATCH('Пр. №1.2.'!$G145,справочник!$G$1:$G$7,0),2),\"---\")","v":"---"},{"$f":"IFERROR(INDEX('Состав ВТК-ВРГ'!$1:$1048576,MATCH('Пр. №1.2.'!$E145,'Состав ВТК-ВРГ'!$B:$B,0),MATCH('Пр. №1.2.'!I$3,'Состав ВТК-ВРГ'!$3:$3,0)),\"---\")","v":"---"},{"$f":"SUMIFS('Пр. №3'!$BQ:$BQ,'Пр. №3'!$G:$G,'Пр. №1.2.'!$E145,'Пр. №3'!$D:$D,'Пр. №1.2.'!$B145)","v":0},{"$f":"IFERROR(INDEX('Пр. №4'!$1:$1048576,MATCH($I145,'Пр. №4'!$C:$C,0),MATCH('Пр. №3'!$D$5,'Пр. №4'!$9:$9,0)),\"---\")","v":"---"},null,"---"]
[null,null,{"$f":"IFERROR(INDEX(справочник!$G$1:$I$7,MATCH('Пр. №1.2.'!$G146,справочник!$G$1:$G$7,0),3),\"---\")","v":"---"},{"$f":"IFERROR(INDEX('Пр. №1'!$B$11:$C$33,MATCH('Пр. №1.2.'!$C146,'Пр. №1'!$B$11:$B$33,0),2),\"---\")","v":"---"},null,{"$f":"IFERROR(INDEX('Состав ВТК-ВРГ'!$1:$1048576,MATCH('Пр. №1.2.'!$E146,'Состав ВТК-ВРГ'!$B:$B,0),MATCH('Пр. №1.2.'!F$3,'Состав ВТК-ВРГ'!$3:$3,0)),\"---\")","v":"---"},{"$f":"IFERROR(INDEX('Состав ВТК-ВРГ'!$1:$1048576,MATCH('Пр. №1.2.'!$E146,'Состав ВТК-ВРГ'!$B:$B,0),MATCH('Пр. №1.2.'!G$3,'Состав ВТК-ВРГ'!$3:$3,0)),\"---\")","v":"---"},{"$f":"IFERROR(INDEX(справочник!$G$1:$I$7,MATCH('Пр. №1.2.'!$G146,справочник!$G$1:$G$7,0),2),\"---\")","v":"---"},{"$f":"IFERROR(INDEX('Состав ВТК-ВРГ'!$1:$1048576,MATCH('Пр. №1.2.'!$E146,'Состав ВТК-ВРГ'!$B:$B,0),MATCH('Пр. №1.2.'!I$3,'Состав ВТК-ВРГ'!$3:$3,0)),\"---\")","v":"---"},{"$f":"SUMIFS('Пр. №3'!$BQ:$BQ,'Пр. №3'!$G:$G,'Пр. №1.2.'!$E146,'Пр. №3'!$D:$D,'Пр. №1.2.'!$B146)","v":0},{"$f":"IFERROR(INDEX('Пр. №4'!$1:$1048576,MATCH($I146,'Пр. №4'!$C:$C,0),MATCH('Пр. №3'!$D$5,'Пр. №4'!$9:$9,0)),\"---\")","v":"---"},null,"---"]
[null,null,{"$f":"IFERROR(INDEX(справочник!$G$1:$I$7,MATCH('Пр. №1.2.'!$G147,справочник!$G$1:$G$7,0),3),\"---\")","v":"---"},{"$f":"IFERROR(INDEX('Пр. №1'!$B$11:$C$33,MATCH('Пр. №1.2.'!$C147,'Пр. №1'!$B$11:$B$33,0),2),\"---\")","v":"---"},null,{"$f":"IFERROR(INDEX('Состав ВТК-ВРГ'!$1:$1048576,MATCH('Пр. №1.2.'!$E147,'Состав ВТК-ВРГ'!$B:$B,0),MATCH('Пр. №1.2.'!F$3,'Состав ВТК-ВРГ'!$3:$3,0)),\"---\")","v":"---"},{"$f":"IFERROR(INDEX('Состав ВТК-ВРГ'!$1:$1048576,MATCH('Пр. №1.2.'!$E147,'Состав ВТК-ВРГ'!$B:$B,0),MATCH('Пр. №1.2.'!G$3,'Состав ВТК-ВРГ'!$3:$3,0)),\"---\")","v":"---"},{"$f":"IFERROR(INDEX(справочник!$G$1:$I$7,MATCH('Пр. №1.2.'!$G147,справочник!$G$1:$G$7,0),2),\"---\")","v":"---"},{"$f":"IFERROR(INDEX('Состав ВТК-ВРГ'!$1:$1048576,MATCH('Пр. №1.2.'!$E147,'Состав ВТК-ВРГ'!$B:$B,0),MATCH('Пр. №1.2.'!I$3,'Состав ВТК-ВРГ'!$3:$3,0)),\"---\")","v":"---"},{"$f":"SUMIFS('Пр. №3'!$BQ:$BQ,'Пр. №3'!$G:$G,'Пр. №1.2.'!$E147,'Пр. №3'!$D:$D,'Пр. №1.2.'!$B147)","v":0},{"$f":"IFERROR(INDEX('Пр. №4'!$1:$1048576,MATCH($I147,'Пр. №4'!$C:$C,0),MATCH('Пр. №3'!$D$5,'Пр. №4'!$9:$9,0)),\"---\")","v":"---"},null,"---"]
[null,null,{"$f":"IFERROR(INDEX(справочник!$G$1:$I$7,MATCH('Пр. №1.2.'!$G148,справочник!$G$1:$G$7,0),3),\"---\")","v":"---"},{"$f":"IFERROR(INDEX('Пр. №1'!$B$11:$C$33,MATCH('Пр. №1.2.'!$C148,'Пр. №1'!$B$11:$B$33,0),2),\"---\")","v":"---"},null,{"$f":"IFERROR(INDEX('Состав ВТК-ВРГ'!$1:$1048576,MATCH('Пр. №1.2.'!$E148,'Состав ВТК-ВРГ'!$B:$B,0),MATCH('Пр. №1.2.'!F$3,'Состав ВТК-ВРГ'!$3:$3,0)),\"---\")","v":"---"},{"$f":"IFERROR(INDEX('Состав ВТК-ВРГ'!$1:$1048576,MATCH('Пр. №1.2.'!$E148,'Состав ВТК-ВРГ'!$B:$B,0),MATCH('Пр. №1.2.'!G$3,'Состав ВТК-ВРГ'!$3:$3,0)),\"---\")","v":"---"},{"$f":"IFERROR(INDEX(справочник!$G$1:$I$7,MATCH('Пр. №1.2.'!$G148,справочник!$G$1:$G$7,0),2),\"---\")","v":"---"},{"$f":"IFERROR(INDEX('Состав ВТК-ВРГ'!$1:$1048576,MATCH('Пр. №1.2.'!$E148,'Состав ВТК-ВРГ'!$B:$B,0),MATCH('Пр. №1.2.'!I$3,'Состав ВТК-ВРГ'!$3:$3,0)),\"---\")","v":"---"},{"$f":"SUMIFS('Пр. №3'!$BQ:$BQ,'Пр. №3'!$G:$G,'Пр. №1.2.'!$E148,'Пр. №3'!$D:$D,'Пр. №1.2.'!$B148)","v":0},{"$f":"IFERROR(INDEX('Пр. №4'!$1:$1048576,MATCH($I148,'Пр. №4'!$C:$C,0),MATCH('Пр. №3'!$D$5,'Пр. №4'!$9:$9,0)),\"---\")","v":"---"},null,"---"]
[null,null,{"$f":"IFERROR(INDEX(справочник!$G$1:$I$7,MATCH('Пр. №1.2.'!$G149,справочник!$G$1:$G$7,0),3),\"---\")","v":"---"},{"$f":"IFERROR(INDEX('Пр. №1'!$B$11:$C$33,MATCH('Пр. №1.2.'!$C149,'Пр. №1'!$B$11:$B$33,0),2),\"---\")","v":"---"},null,{"$f":"IFERROR(INDEX('Состав ВТК-ВРГ'!$1:$1048576,MATCH('Пр. №1.2.'!$E149,'Состав ВТК-ВРГ'!$B:$B,0),MATCH('Пр. №1.2.'!F$3,'Состав ВТК-ВРГ'!$3:$3,0)),\"---\")","v":"---"},{"$f":"IFERROR(INDEX('Состав ВТК-ВРГ'!$1:$1048576,MATCH('Пр. №1.2.'!$E149,'Состав ВТК-ВРГ'!$B:$B,0),MATCH('Пр. №1.2.'!G$3,'Состав ВТК-ВРГ'!$3:$3,0)),\"---\")","v":"---"},{"$f":"IFERROR(INDEX(справочник!$G$1:$I$7,MATCH('Пр. №1.2.'!$G149,справочник!$G$1:$G$7,0),2),\"---\")","v":"---"},{"$f":"IFERROR(INDEX('Состав ВТК-ВРГ'!$1:$1048576,MATCH('Пр. №1.2.'!$E149,'Состав ВТК-ВРГ'!$B:$B,0),MATCH('Пр. №1.2.'!I$3,'Состав ВТК-ВРГ'!$3:$3,0)),\"---\")","v":"---"},{"$f":"SUMIFS('Пр. №3'!$BQ:$BQ,'Пр. №3'!$G:$G,'Пр. №1.2.'!$E149,'Пр. №3'!$D:$D,'Пр. №1.2.'!$B149)","v":0},{"$f":"IFERROR(INDEX('Пр. №4'!$1:$1048576,MATCH($I149,'Пр. №4'!$C:$C,0),MATCH('Пр. №3'!$D$5,'Пр. №4'!$9:$9,0)),\"---\")","v":"---"},null,"---"]
[null,null,{"$f":"IFERROR(INDEX(справочник!$G$1:$I$7,MATCH('Пр. №1.2.'!$G150,справочник!$G$1:$G$7,0),3),\"---\")","v":"---"},{"$f":"IFERROR(INDEX('Пр. №1'!$B$11:$C$33,MATCH('Пр. №1.2.'!$C150,'Пр. №1'!$B$11:$B$33,0),2),\"---\")","v":"---"},null,{"$f":"IFERROR(INDEX('Состав ВТК-ВРГ'!$1:$1048576,MATCH('Пр. №1.2.'!$E150,'Состав ВТК-ВРГ'!$B:$B,0),MATCH('Пр. №1.2.'!F$3,'Состав ВТК-ВРГ'!$3:$3,0)),\"---\")","v":"---"},{"$f":"IFERROR(INDEX('Состав ВТК-ВРГ'!$1:$1048576,MATCH('Пр. №1.2.'!$E150,'Состав ВТК-ВРГ'!$B:$B,0),MATCH('Пр. №1.2.'!G$3,'Состав ВТК-ВРГ'!$3:$3,0)),\"---\")","v":"---"},{"$f":"IFERROR(INDEX(справочник!$G$1:$I$7,MATCH('Пр. №1.2.'!$G150,справочник!$G$1:$G$7,0),2),\"---\")","v":"---"},{"$f":"IFERROR(INDEX('Состав ВТК-ВРГ'!$1:$1048576,MATCH('Пр. №1.2.'!$E150,'Состав ВТК-ВРГ'!$B:$B,0),MATCH('Пр. №1.2.'!I$3,'Состав ВТК-ВРГ'!$3:$3,0)),\"---\")","v":"---"},{"$f":"SUMIFS('Пр. №3'!$BQ:$BQ,'Пр. №3'!$G:$G,'Пр. №1.2.'!$E150,'Пр. №3'!$D:$D,'Пр. №1.2.'!$B150)","v":0},{"$f":"IFERROR(INDEX('Пр. №4'!$1:$1048576,MATCH($I150,'Пр. №4'!$C:$C,0),MATCH('Пр. №3'!$D$5,'Пр. №4'!$9:$9,0)),\"---\")","v":"---"},null,"---"]
[null,null,{"$f":"IFERROR(INDEX(справочник!$G$1:$I$7,MATCH('Пр. №1.2.'!$G151,справочник!$G$1:$G$7,0),3),\"---\")","v":"---"},{"$f":"IFERROR(INDEX('Пр. №1'!$B$11:$C$33,MATCH('Пр. №1.2.'!$C151,'Пр. №1'!$B$11:$B$33,0),2),\"---\")","v":"---"},null,{"$f":"IFERROR(INDEX('Состав ВТК-ВРГ'!$1:$1048576,MATCH('Пр. №1.2.'!$E151,'Состав ВТК-ВРГ'!$B:$B,0),MATCH('Пр. №1.2.'!F$3,'Состав ВТК-ВРГ'!$3:$3,0)),\"---\")","v":"---"},{"$f":"IFERROR(INDEX('Состав ВТК-ВРГ'!$1:$1048576,MATCH('Пр. №1.2.'!$E151,'Состав ВТК-ВРГ'!$B:$B,0),MATCH('Пр. №1.2.'!G$3,'Состав ВТК-ВРГ'!$3:$3,0)),\"---\")","v":"---"},{"$f":"IFERROR(INDEX(справочник!$G$1:$I$7,MATCH('Пр. №1.2.'!$G151,справочник!$G$1:$G$7,0),2),\"---\")","v":"---"},{"$f":"IFERROR(INDEX('Состав ВТК-ВРГ'!$1:$1048576,MATCH('Пр. №1.2.'!$E151,'Состав ВТК-ВРГ'!$B:$B,0),MATCH('Пр. №1.2.'!I$3,'Состав ВТК-ВРГ'!$3:$3,0)),\"---\")","v":"---"},{"$f":"SUMIFS('Пр. №3'!$BQ:$BQ,'Пр. №3'!$G:$G,'Пр. №1.2.'!$E151,'Пр. №3'!$D:$D,'Пр. №1.2.'!$B151)","v":0},{"$f":"IFERROR(INDEX('Пр. №4'!$1:$1048576,MATCH($I151,'Пр. №4'!$C:$C,0),MATCH('Пр. №3'!$D$5,'Пр. №4'!$9:$9,0)),\"---\")","v":"---"},null,"---"]
[null,null,{"$f":"IFERROR(INDEX(справочник!$G$1:$I$7,MATCH('Пр. №1.2.'!$G152,справочник!$G$1:$G$7,0),3),\"---\")","v":"---"},{"$f":"IFERROR(INDEX('Пр. №1'!$B$11:$C$33,MATCH('Пр. №1.2.'!$C152,'Пр. №1'!$B$11:$B$33,0),2),\"---\")","v":"---"},null,{"$f":"IFERROR(INDEX('Состав ВТК-ВРГ'!$1:$1048576,MATCH('Пр. №1.2.'!$E152,'Состав ВТК-ВРГ'!$B:$B,0),MATCH('Пр. №1.2.'!F$3,'Состав ВТК-ВРГ'!$3:$3,0)),\"---\")","v":"---"},{"$f":"IFERROR(INDEX('Состав ВТК-ВРГ'!$1:$1048576,MATCH('Пр. №1.2.'!$E152,'Состав ВТК-ВРГ'!$B:$B,0),MATCH('Пр. №1.2.'!G$3,'Состав ВТК-ВРГ'!$3:$3,0)),\"---\")","v":"---"},{"$f":"IFERROR(INDEX(справочник!$G$1:$I$7,MATCH('Пр. №1.2.'!$G152,справочник!$G$1:$G$7,0),2),\"---\")","v":"---"},{"$f":"IFERROR(INDEX('Состав ВТК-ВРГ'!$1:$1048576,MATCH('Пр. №1.2.'!$E152,'Состав ВТК-ВРГ'!$B:$B,0),MATCH('Пр. №1.2.'!I$3,'Состав ВТК-ВРГ'!$3:$3,0)),\"---\")","v":"---"},{"$f":"SUMIFS('Пр. №3'!$BQ:$BQ,'Пр. №3'!$G:$G,'Пр. №1.2.'!$E152,'Пр. №3'!$D:$D,'Пр. №1.2.'!$B152)","v":0},{"$f":"IFERROR(INDEX('Пр. №4'!$1:$1048576,MATCH($I152,'Пр. №4'!$C:$C,0),MATCH('Пр. №3'!$D$5,'Пр. №4'!$9:$9,0)),\"---\")","v":"---"},null,"---"]
[null,null,{"$f":"IFERROR(INDEX(справочник!$G$1:$I$7,MATCH('Пр. №1.2.'!$G153,справочник!$G$1:$G$7,0),3),\"---\")","v":"---"},{"$f":"IFERROR(INDEX('Пр. №1'!$B$11:$C$33,MATCH('Пр. №1.2.'!$C153,'Пр. №1'!$B$11:$B$33,0),2),\"---\")","v":"---"},null,{"$f":"IFERROR(INDEX('Состав ВТК-ВРГ'!$1:$1048576,MATCH('Пр. №1.2.'!$E153,'Состав ВТК-ВРГ'!$B:$B,0),MATCH('Пр. №1.2.'!F$3,'Состав ВТК-ВРГ'!$3:$3,0)),\"---\")","v":"---"},{"$f":"IFERROR(INDEX('Состав ВТК-ВРГ'!$1:$1048576,MATCH('Пр. №1.2.'!$E153,'Состав ВТК-ВРГ'!$B:$B,0),MATCH('Пр. №1.2.'!G$3,'Состав ВТК-ВРГ'!$3:$3,0)),\"---\")","v":"---"},{"$f":"IFERROR(INDEX(справочник!$G$1:$I$7,MATCH('Пр. №1.2.'!$G153,справочник!$G$1:$G$7,0),2),\"---\")","v":"---"},{"$f":"IFERROR(INDEX('Состав ВТК-ВРГ'!$1:$1048576,MATCH('Пр. №1.2.'!$E153,'Состав ВТК-ВРГ'!$B:$B,0),MATCH('Пр. №1.2.'!I$3,'Состав ВТК-ВРГ'!$3:$3,0)),\"---\")","v":"---"},{"$f":"SUMIFS('Пр. №3'!$BQ:$BQ,'Пр. №3'!$G:$G,'Пр. №1.2.'!$E153,'Пр. №3'!$D:$D,'Пр. №1.2.'!$B153)","v":0},{"$f":"IFERROR(INDEX('Пр. №4'!$1:$1048576,MATCH($I153,'Пр. №4'!$C:$C,0),MATCH('Пр. №3'!$D$5,'Пр. №4'!$9:$9,0)),\"---\")","v":"---"},null,"---"]
[null,null,{"$f":"IFERROR(INDEX(справочник!$G$1:$I$7,MATCH('Пр. №1.2.'!$G154,справочник!$G$1:$G$7,0),3),\"---\")","v":"---"},{"$f":"IFERROR(INDEX('Пр. №1'!$B$11:$C$33,MATCH('Пр. №1.2.'!$C154,'Пр. №1'!$B$11:$B$33,0),2),\"---\")","v":"---"},null,{"$f":"IFERROR(INDEX('Состав ВТК-ВРГ'!$1:$1048576,MATCH('Пр. №1.2.'!$E154,'Состав ВТК-ВРГ'!$B:$B,0),MATCH('Пр. №1.2.'!F$3,'Состав ВТК-ВРГ'!$3:$3,0)),\"---\")","v":"---"},{"$f":"IFERROR(INDEX('Состав ВТК-ВРГ'!$1:$1048576,MATCH('Пр. №1.2.'!$E154,'Состав ВТК-ВРГ'!$B:$B,0),MATCH('Пр. №1.2.'!G$3,'Состав ВТК-ВРГ'!$3:$3,0)),\"---\")","v":"---"},{"$f":"IFERROR(INDEX(справочник!$G$1:$I$7,MATCH('Пр. №1.2.'!$G154,справочник!$G$1:$G$7,0),2),\"---\")","v":"---"},{"$f":"IFERROR(INDEX('Состав ВТК-ВРГ'!$1:$1048576,MATCH('Пр. №1.2.'!$E154,'Состав ВТК-ВРГ'!$B:$B,0),MATCH('Пр. №1.2.'!I$3,'Состав ВТК-ВРГ'!$3:$3,0)),\"---\")","v":"---"},{"$f":"SUMIFS('Пр. №3'!$BQ:$BQ,'Пр. №3'!$G:$G,'Пр. №1.2.'!$E154,'Пр. №3'!$D:$D,'Пр. №1.2.'!$B154)","v":0},{"$f":"IFERROR(INDEX('Пр. №4'!$1:$1048576,MATCH($I154,'Пр. №4'!$C:$C,0),MATCH('Пр. №3'!$D$5,'Пр. №4'!$9:$9,0)),\"---\")","v":"---"},null,"---"]
[null,null,{"$f":"IFERROR(INDEX(справочник!$G$1:$I$7,MATCH('Пр. №1.2.'!$G155,справочник!$G$1:$G$7,0),3),\"---\")","v":"---"},{"$f":"IFERROR(INDEX('Пр. №1'!$B$11:$C$33,MATCH('Пр. №1.2.'!$C155,'Пр. №1'!$B$11:$B$33,0),2),\"---\")","v":"---"},null,{"$f":"IFERROR(INDEX('Состав ВТК-ВРГ'!$1:$1048576,MATCH('Пр. №1.2.'!$E155,'Состав ВТК-ВРГ'!$B:$B,0),MATCH('Пр. №1.2.'!F$3,'Состав ВТК-ВРГ'!$3:$3,0)),\"---\")","v":"---"},{"$f":"IFERROR(INDEX('Состав ВТК-ВРГ'!$1:$1048576,MATCH('Пр. №1.2.'!$E155,'Состав ВТК-ВРГ'!$B:$B,0),MATCH('Пр. №1.2.'!G$3,'Состав ВТК-ВРГ'!$3:$3,0)),\"---\")","v":"---"},{"$f":"IFERROR(INDEX(справочник!$G$1:$I$7,MATCH('Пр. №1.2.'!$G155,справочник!$G$1:$G$7,0),2),\"---\")","v":"---"},{"$f":"IFERROR(INDEX('Состав ВТК-ВРГ'!$1:$1048576,MATCH('Пр. №1.2.'!$E155,'Состав ВТК-ВРГ'!$B:$B,0),MATCH('Пр. №1.2.'!I$3,'Состав ВТК-ВРГ'!$3:$3,0)),\"---\")","v":"---"},{"$f":"SUMIFS('Пр. №3'!$BQ:$BQ,'Пр. №3'!$G:$G,'Пр. №1.2.'!$E155,'Пр. №3'!$D:$D,'Пр. №1.2.'!$B155)","v":0},{"$f":"IFERROR(INDEX('Пр. №4'!$1:$1048576,MATCH($I155,'Пр. №4'!$C:$C,0),MATCH('Пр. №3'!$D$5,'Пр. №4'!$9:$9,0)),\"---\")","v":"---"},null,"---"]
[null,null,{"$f":"IFERROR(INDEX(справочник!$G$1:$I$7,MATCH('Пр. №1.2.'!$G156,справочник!$G$1:$G$7,0),3),\"---\")","v":"---"},{"$f":"IFERROR(INDEX('Пр. №1'!$B$11:$C$33,MATCH('Пр. №1.2.'!$C156,'Пр. №1'!$B$11:$B$33,0),2),\"---\")","v":"---"},null,{"$f":"IFERROR(INDEX('Состав ВТК-ВРГ'!$1:$1048576,MATCH('Пр. №1.2.'!$E156,'Состав ВТК-ВРГ'!$B:$B,0),MATCH('Пр. №1.2.'!F$3,'Состав ВТК-ВРГ'!$3:$3,0)),\"---\")","v":"---"},{"$f":"IFERROR(INDEX('Состав ВТК-ВРГ'!$1:$1048576,MATCH('Пр. №1.2.'!$E156,'Состав ВТК-ВРГ'!$B:$B,0),MATCH('Пр. №1.2.'!G$3,'Состав ВТК-ВРГ'!$3:$3,0)),\"---\")","v":"---"},{"$f":"IFERROR(INDEX(справочник!$G$1:$I$7,MATCH('Пр. №1.2.'!$G156,справочник!$G$1:$G$7,0),2),\"---\")","v":"---"},{"$f":"IFERROR(INDEX('Состав ВТК-ВРГ'!$1:$1048576,MATCH('Пр. №1.2.'!$E156,'Состав ВТК-ВРГ'!$B:$B,0),MATCH('Пр. №1.2.'!I$3,'Состав ВТК-ВРГ'!$3:$3,0)),\"---\")","v":"---"},{"$f":"SUMIFS('Пр. №3'!$BQ:$BQ,'Пр. №3'!$G:$G,'Пр. №1.2.'!$E156,'Пр. №3'!$D:$D,'Пр. №1.2.'!$B156)","v":0},{"$f":"IFERROR(INDEX('Пр. №4'!$1:$1048576,MATCH($I156,'Пр. №4'!$C:$C,0),MATCH('Пр. №3'!$D$5,'Пр. №4'!$9:$9,0)),\"---\")","v":"---"},null,"---"]
[null,null,{"$f":"IFERROR(INDEX(справочник!$G$1:$I$7,MATCH('Пр. №1.2.'!$G157,справочник!$G$1:$G$7,0),3),\"---\")","v":"---"},{"$f":"IFERROR(INDEX('Пр. №1'!$B$11:$C$33,MATCH('Пр. №1.2.'!$C157,'Пр. №1'!$B$11:$B$33,0),2),\"---\")","v":"---"},null,{"$f":"IFERROR(INDEX('Состав ВТК-ВРГ'!$1:$1048576,MATCH('Пр. №1.2.'!$E157,'Состав ВТК-ВРГ'!$B:$B,0),MATCH('Пр. №1.2.'!F$3,'Состав ВТК-ВРГ'!$3:$3,0)),\"---\")","v":"---"},{"$f":"IFERROR(INDEX('Состав ВТК-ВРГ'!$1:$1048576,MATCH('Пр. №1.2.'!$E157,'Состав ВТК-ВРГ'!$B:$B,0),MATCH('Пр. №1.2.'!G$3,'Состав ВТК-ВРГ'!$3:$3,0)),\"---\")","v":"---"},{"$f":"IFERROR(INDEX(справочник!$G$1:$I$7,MATCH('Пр. №1.2.'!$G157,справочник!$G$1:$G$7,0),2),\"---\")","v":"---"},{"$f":"IFERROR(INDEX('Состав ВТК-ВРГ'!$1:$1048576,MATCH('Пр. №1.2.'!$E157,'Состав ВТК-ВРГ'!$B:$B,0),MATCH('Пр. №1.2.'!I$3,'Состав ВТК-ВРГ'!$3:$3,0)),\"---\")","v":"---"},{"$f":"SUMIFS('Пр. №3'!$BQ:$BQ,'Пр. №3'!$G:$G,'Пр. №1.2.'!$E157,'Пр. №3'!$D:$D,'Пр. №1.2.'!$B157)","v":0},{"$f":"IFERROR(INDEX('Пр. №4'!$1:$1048576,MATCH($I157,'Пр. №4'!$C:$C,0),MATCH('Пр. №3'!$D$5,'Пр. №4'!$9:$9,0)),\"---\")","v":"---"},null,"---"]
[null,null,{"$f":"IFERROR(INDEX(справочник!$G$1:$I$7,MATCH('Пр. №1.2.'!$G158,справочник!$G$1:$G$7,0),3),\"---\")","v":"---"},{"$f":"IFERROR(INDEX('Пр. №1'!$B$11:$C$33,MATCH('Пр. №1.2.'!$C158,'Пр. №1'!$B$11:$B$33,0),2),\"---\")","v":"---"},null,{"$f":"IFERROR(INDEX('Состав ВТК-ВРГ'!$1:$1048576,MATCH('Пр. №1.2.'!$E158,'Состав ВТК-ВРГ'!$B:$B,0),MATCH('Пр. №1.2.'!F$3,'Состав ВТК-ВРГ'!$3:$3,0)),\"---\")","v":"---"},{"$f":"IFERROR(INDEX('Состав ВТК-ВРГ'!$1:$1048576,MATCH('Пр. №1.2.'!$E158,'Состав ВТК-ВРГ'!$B:$B,0),MATCH('Пр. №1.2.'!G$3,'Состав ВТК-ВРГ'!$3:$3,0)),\"---\")","v":"---"},{"$f":"IFERROR(INDEX(справочник!$G$1:$I$7,MATCH('Пр. №1.2.'!$G158,справочник!$G$1:$G$7,0),2),\"---\")","v":"---"},{"$f":"IFERROR(INDEX('Состав ВТК-ВРГ'!$1:$1048576,MATCH('Пр. №1.2.'!$E158,'Состав ВТК-ВРГ'!$B:$B,0),MATCH('Пр. №1.2.'!I$3,'Состав ВТК-ВРГ'!$3:$3,0)),\"---\")","v":"---"},{"$f":"SUMIFS('Пр. №3'!$BQ:$BQ,'Пр. №3'!$G:$G,'Пр. №1.2.'!$E158,'Пр. №3'!$D:$D,'Пр. №1.2.'!$B158)","v":0},{"$f":"IFERROR(INDEX('Пр. №4'!$1:$1048576,MATCH($I158,'Пр. №4'!$C:$C,0),MATCH('Пр. №3'!$D$5,'Пр. №4'!$9:$9,0)),\"---\")","v":"---"},null,"---"]
[null,null,{"$f":"IFERROR(INDEX(справочник!$G$1:$I$7,MATCH('Пр. №1.2.'!$G159,справочник!$G$1:$G$7,0),3),\"---\")","v":"---"},{"$f":"IFERROR(INDEX('Пр. №1'!$B$11:$C$33,MATCH('Пр. №1.2.'!$C159,'Пр. №1'!$B$11:$B$33,0),2),\"---\")","v":"---"},null,{"$f":"IFERROR(INDEX('Состав ВТК-ВРГ'!$1:$1048576,MATCH('Пр. №1.2.'!$E159,'Состав ВТК-ВРГ'!$B:$B,0),MATCH('Пр. №1.2.'!F$3,'Состав ВТК-ВРГ'!$3:$3,0)),\"---\")","v":"---"},{"$f":"IFERROR(INDEX('Состав ВТК-ВРГ'!$1:$1048576,MATCH('Пр. №1.2.'!$E159,'Состав ВТК-ВРГ'!$B:$B,0),MATCH('Пр. №1.2.'!G$3,'Состав ВТК-ВРГ'!$3:$3,0)),\"---\")","v":"---"},{"$f":"IFERROR(INDEX(справочник!$G$1:$I$7,MATCH('Пр. №1.2.'!$G159,справочник!$G$1:$G$7,0),2),\"---\")","v":"---"},{"$f":"IFERROR(INDEX('Состав ВТК-ВРГ'!$1:$1048576,MATCH('Пр. №1.2.'!$E159,'Состав ВТК-ВРГ'!$B:$B,0),MATCH('Пр. №1.2.'!I$3,'Состав ВТК-ВРГ'!$3:$3,0)),\"---\")","v":"---"},{"$f":"SUMIFS('Пр. №3'!$BQ:$BQ,'Пр. №3'!$G:$G,'Пр. №1.2.'!$E159,'Пр. №3'!$D:$D,'Пр. №1.2.'!$B159)","v":0},{"$f":"IFERROR(INDEX('Пр. №4'!$1:$1048576,MATCH($I159,'Пр. №4'!$C:$C,0),MATCH('Пр. №3'!$D$5,'Пр. №4'!$9:$9,0)),\"---\")","v":"---"},null,"---"]
[null,null,{"$f":"IFERROR(INDEX(справочник!$G$1:$I$7,MATCH('Пр. №1.2.'!$G160,справочник!$G$1:$G$7,0),3),\"---\")","v":"---"},{"$f":"IFERROR(INDEX('Пр. №1'!$B$11:$C$33,MATCH('Пр. №1.2.'!$C160,'Пр. №1'!$B$11:$B$33,0),2),\"---\")","v":"---"},null,{"$f":"IFERROR(INDEX('Состав ВТК-ВРГ'!$1:$1048576,MATCH('Пр. №1.2.'!$E160,'Состав ВТК-ВРГ'!$B:$B,0),MATCH('Пр. №1.2.'!F$3,'Состав ВТК-ВРГ'!$3:$3,0)),\"---\")","v":"---"},{"$f":"IFERROR(INDEX('Состав ВТК-ВРГ'!$1:$1048576,MATCH('Пр. №1.2.'!$E160,'Состав ВТК-ВРГ'!$B:$B,0),MATCH('Пр. №1.2.'!G$3,'Состав ВТК-ВРГ'!$3:$3,0)),\"---\")","v":"---"},{"$f":"IFERROR(INDEX(справочник!$G$1:$I$7,MATCH('Пр. №1.2.'!$G160,справочник!$G$1:$G$7,0),2),\"---\")","v":"---"},{"$f":"IFERROR(INDEX('Состав ВТК-ВРГ'!$1:$1048576,MATCH('Пр. №1.2.'!$E160,'Состав ВТК-ВРГ'!$B:$B,0),MATCH('Пр. №1.2.'!I$3,'Состав ВТК-ВРГ'!$3:$3,0)),\"---\")","v":"---"},{"$f":"SUMIFS('Пр. №3'!$BQ:$BQ,'Пр. №3'!$G:$G,'Пр. №1.2.'!$E160,'Пр. №3'!$D:$D,'Пр. №1.2.'!$B160)","v":0},{"$f":"IFERROR(INDEX('Пр. №4'!$1:$1048576,MATCH($I160,'Пр. №4'!$C:$C,0),MATCH('Пр. №3'!$D$5,'Пр. №4'!$9:$9,0)),\"---\")","v":"---"},null,"---"]
[null,null,{"$f":"IFERROR(INDEX(справочник!$G$1:$I$7,MATCH('Пр. №1.2.'!$G161,справочник!$G$1:$G$7,0),3),\"---\")","v":"---"},{"$f":"IFERROR(INDEX('Пр. №1'!$B$11:$C$33,MATCH('Пр. №1.2.'!$C161,'Пр. №1'!$B$11:$B$33,0),2),\"---\")","v":"---"},null,{"$f":"IFERROR(INDEX('Состав ВТК-ВРГ'!$1:$1048576,MATCH('Пр. №1.2.'!$E161,'Состав ВТК-ВРГ'!$B:$B,0),MATCH('Пр. №1.2.'!F$3,'Состав ВТК-ВРГ'!$3:$3,0)),\"---\")","v":"---"},{"$f":"IFERROR(INDEX('Состав ВТК-ВРГ'!$1:$1048576,MATCH('Пр. №1.2.'!$E161,'Состав ВТК-ВРГ'!$B:$B,0),MATCH('Пр. №1.2.'!G$3,'Состав ВТК-ВРГ'!$3:$3,0)),\"---\")","v":"---"},{"$f":"IFERROR(INDEX(справочник!$G$1:$I$7,MATCH('Пр. №1.2.'!$G161,справочник!$G$1:$G$7,0),2),\"---\")","v":"---"},{"$f":"IFERROR(INDEX('Состав ВТК-ВРГ'!$1:$1048576,MATCH('Пр. №1.2.'!$E161,'Состав ВТК-ВРГ'!$B:$B,0),MATCH('Пр. №1.2.'!I$3,'Состав ВТК-ВРГ'!$3:$3,0)),\"---\")","v":"---"},{"$f":"SUMIFS('Пр. №3'!$BQ:$BQ,'Пр. №3'!$G:$G,'Пр. №1.2.'!$E161,'Пр. №3'!$D:$D,'Пр. №1.2.'!$B161)","v":0},{"$f":"IFERROR(INDEX('Пр. №4'!$1:$1048576,MATCH($I161,'Пр. №4'!$C:$C,0),MATCH('Пр. №3'!$D$5,'Пр. №4'!$9:$9,0)),\"---\")","v":"---"},null,"---"]
[null,null,{"$f":"IFERROR(INDEX(справочник!$G$1:$I$7,MATCH('Пр. №1.2.'!$G162,справочник!$G$1:$G$7,0),3),\"---\")","v":"---"},{"$f":"IFERROR(INDEX('Пр. №1'!$B$11:$C$33,MATCH('Пр. №1.2.'!$C162,'Пр. №1'!$B$11:$B$33,0),2),\"---\")","v":"---"},null,{"$f":"IFERROR(INDEX('Состав ВТК-ВРГ'!$1:$1048576,MATCH('Пр. №1.2.'!$E162,'Состав ВТК-ВРГ'!$B:$B,0),MATCH('Пр. №1.2.'!F$3,'Состав ВТК-ВРГ'!$3:$3,0)),\"---\")","v":"---"},{"$f":"IFERROR(INDEX('Состав ВТК-ВРГ'!$1:$1048576,MATCH('Пр. №1.2.'!$E162,'Состав ВТК-ВРГ'!$B:$B,0),MATCH('Пр. №1.2.'!G$3,'Состав ВТК-ВРГ'!$3:$3,0)),\"---\")","v":"---"},{"$f":"IFERROR(INDEX(справочник!$G$1:$I$7,MATCH('Пр. №1.2.'!$G162,справочник!$G$1:$G$7,0),2),\"---\")","v":"---"},{"$f":"IFERROR(INDEX('Состав ВТК-ВРГ'!$1:$1048576,MATCH('Пр. №1.2.'!$E162,'Состав ВТК-ВРГ'!$B:$B,0),MATCH('Пр. №1.2.'!I$3,'Состав ВТК-ВРГ'!$3:$3,0)),\"---\")","v":"---"},{"$f":"SUMIFS('Пр. №3'!$BQ:$BQ,'Пр. №3'!$G:$G,'Пр. №1.2.'!$E162,'Пр. №3'!$D:$D,'Пр. №1.2.'!$B162)","v":0},{"$f":"IFERROR(INDEX('Пр. №4'!$1:$1048576,MATCH($I162,'Пр. №4'!$C:$C,0),MATCH('Пр. №3'!$D$5,'Пр. №4'!$9:$9,0)),\"---\")","v":"---"},null,"---"]
[null,null,{"$f":"IFERROR(INDEX(справочник!$G$1:$I$7,MATCH('Пр. №1.2.'!$G163,справочник!$G$1:$G$7,0),3),\"---\")","v":"---"},{"$f":"IFERROR(INDEX('Пр. №1'!$B$11:$C$33,MATCH('Пр. №1.2.'!$C163,'Пр. №1'!$B$11:$B$33,0),2),\"---\")","v":"---"},null,{"$f":"IFERROR(INDEX('Состав ВТК-ВРГ'!$1:$1048576,MATCH('Пр. №1.2.'!$E163,'Состав ВТК-ВРГ'!$B:$B,0),MATCH('Пр. №1.2.'!F$3,'Состав ВТК-ВРГ'!$3:$3,0)),\"---\")","v":"---"},{"$f":"IFERROR(INDEX('Состав ВТК-ВРГ'!$1:$1048576,MATCH('Пр. №1.2.'!$E163,'Состав ВТК-ВРГ'!$B:$B,0),MATCH('Пр. №1.2.'!G$3,'Состав ВТК-ВРГ'!$3:$3,0)),\"---\")","v":"---"},{"$f":"IFERROR(INDEX(справочник!$G$1:$I$7,MATCH('Пр. №1.2.'!$G163,справочник!$G$1:$G$7,0),2),\"---\")","v":"---"},{"$f":"IFERROR(INDEX('Состав ВТК-ВРГ'!$1:$1048576,MATCH('Пр. №1.2.'!$E163,'Состав ВТК-ВРГ'!$B:$B,0),MATCH('Пр. №1.2.'!I$3,'Состав ВТК-ВРГ'!$3:$3,0)),\"---\")","v":"---"},{"$f":"SUMIFS('Пр. №3'!$BQ:$BQ,'Пр. №3'!$G:$G,'Пр. №1.2.'!$E163,'Пр. №3'!$D:$D,'Пр. №1.2.'!$B163)","v":0},{"$f":"IFERROR(INDEX('Пр. №4'!$1:$1048576,MATCH($I163,'Пр. №4'!$C:$C,0),MATCH('Пр. №3'!$D$5,'Пр. №4'!$9:$9,0)),\"---\")","v":"---"},null,"---"]
[null,null,{"$f":"IFERROR(INDEX(справочник!$G$1:$I$7,MATCH('Пр. №1.2.'!$G164,справочник!$G$1:$G$7,0),3),\"---\")","v":"---"},{"$f":"IFERROR(INDEX('Пр. №1'!$B$11:$C$33,MATCH('Пр. №1.2.'!$C164,'Пр. №1'!$B$11:$B$33,0),2),\"---\")","v":"---"},null,{"$f":"IFERROR(INDEX('Состав ВТК-ВРГ'!$1:$1048576,MATCH('Пр. №1.2.'!$E164,'Состав ВТК-ВРГ'!$B:$B,0),MATCH('Пр. №1.2.'!F$3,'Состав ВТК-ВРГ'!$3:$3,0)),\"---\")","v":"---"},{"$f":"IFERROR(INDEX('Состав ВТК-ВРГ'!$1:$1048576,MATCH('Пр. №1.2.'!$E164,'Состав ВТК-ВРГ'!$B:$B,0),MATCH('Пр. №1.2.'!G$3,'Состав ВТК-ВРГ'!$3:$3,0)),\"---\")","v":"---"},{"$f":"IFERROR(INDEX(справочник!$G$1:$I$7,MATCH('Пр. №1.2.'!$G164,справочник!$G$1:$G$7,0),2),\"---\")","v":"---"},{"$f":"IFERROR(INDEX('Состав ВТК-ВРГ'!$1:$1048576,MATCH('Пр. №1.2.'!$E164,'Состав ВТК-ВРГ'!$B:$B,0),MATCH('Пр. №1.2.'!I$3,'Состав ВТК-ВРГ'!$3:$3,0)),\"---\")","v":"---"},{"$f":"SUMIFS('Пр. №3'!$BQ:$BQ,'Пр. №3'!$G:$G,'Пр. №1.2.'!$E164,'Пр. №3'!$D:$D,'Пр. №1.2.'!$B164)","v":0},{"$f":"IFERROR(INDEX('Пр. №4'!$1:$1048576,MATCH($I164,'Пр. №4'!$C:$C,0),MATCH('Пр. №3'!$D$5,'Пр. №4'!$9:$9,0)),\"---\")","v":"---"},null,"---"]
[null,null,{"$f":"IFERROR(INDEX(справочник!$G$1:$I$7,MATCH('Пр. №1.2.'!$G165,справочник!$G$1:$G$7,0),3),\"---\")","v":"---"},{"$f":"IFERROR(INDEX('Пр. №1'!$B$11:$C$33,MATCH('Пр. №1.2.'!$C165,'Пр. №1'!$B$11:$B$33,0),2),\"---\")","v":"---"},null,{"$f":"IFERROR(INDEX('Состав ВТК-ВРГ'!$1:$1048576,MATCH('Пр. №1.2.'!$E165,'Состав ВТК-ВРГ'!$B:$B,0),MATCH('Пр. №1.2.'!F$3,'Состав ВТК-ВРГ'!$3:$3,0)),\"---\")","v":"---"},{"$f":"IFERROR(INDEX('Состав ВТК-ВРГ'!$1:$1048576,MATCH('Пр. №1.2.'!$E165,'Состав ВТК-ВРГ'!$B:$B,0),MATCH('Пр. №1.2.'!G$3,'Состав ВТК-ВРГ'!$3:$3,0)),\"---\")","v":"---"},{"$f":"IFERROR(INDEX(справочник!$G$1:$I$7,MATCH('Пр. №1.2.'!$G165,справочник!$G$1:$G$7,0),2),\"---\")","v":"---"},{"$f":"IFERROR(INDEX('Состав ВТК-ВРГ'!$1:$1048576,MATCH('Пр. №1.2.'!$E165,'Состав ВТК-ВРГ'!$B:$B,0),MATCH('Пр. №1.2.'!I$3,'Состав ВТК-ВРГ'!$3:$3,0)),\"---\")","v":"---"},{"$f":"SUMIFS('Пр. №3'!$BQ:$BQ,'Пр. №3'!$G:$G,'Пр. №1.2.'!$E165,'Пр. №3'!$D:$D,'Пр. №1.2.'!$B165)","v":0},{"$f":"IFERROR(INDEX('Пр. №4'!$1:$1048576,MATCH($I165,'Пр. №4'!$C:$C,0),MATCH('Пр. №3'!$D$5,'Пр. №4'!$9:$9,0)),\"---\")","v":"---"},null,"---"]
[null,null,{"$f":"IFERROR(INDEX(справочник!$G$1:$I$7,MATCH('Пр. №1.2.'!$G166,справочник!$G$1:$G$7,0),3),\"---\")","v":"---"},{"$f":"IFERROR(INDEX('Пр. №1'!$B$11:$C$33,MATCH('Пр. №1.2.'!$C166,'Пр. №1'!$B$11:$B$33,0),2),\"---\")","v":"---"},null,{"$f":"IFERROR(INDEX('Состав ВТК-ВРГ'!$1:$1048576,MATCH('Пр. №1.2.'!$E166,'Состав ВТК-ВРГ'!$B:$B,0),MATCH('Пр. №1.2.'!F$3,'Состав ВТК-ВРГ'!$3:$3,0)),\"---\")","v":"---"},{"$f":"IFERROR(INDEX('Состав ВТК-ВРГ'!$1:$1048576,MATCH('Пр. №1.2.'!$E166,'Состав ВТК-ВРГ'!$B:$B,0),MATCH('Пр. №1.2.'!G$3,'Состав ВТК-ВРГ'!$3:$3,0)),\"---\")","v":"---"},{"$f":"IFERROR(INDEX(справочник!$G$1:$I$7,MATCH('Пр. №1.2.'!$G166,справочник!$G$1:$G$7,0),2),\"---\")","v":"---"},{"$f":"IFERROR(INDEX('Состав ВТК-ВРГ'!$1:$1048576,MATCH('Пр. №1.2.'!$E166,'Состав ВТК-ВРГ'!$B:$B,0),MATCH('Пр. №1.2.'!I$3,'Состав ВТК-ВРГ'!$3:$3,0)),\"---\")","v":"---"},{"$f":"SUMIFS('Пр. №3'!$BQ:$BQ,'Пр. №3'!$G:$G,'Пр. №1.2.'!$E166,'Пр. №3'!$D:$D,'Пр. №1.2.'!$B166)","v":0},{"$f":"IFERROR(INDEX('Пр. №4'!$1:$1048576,MATCH($I166,'Пр. №4'!$C:$C,0),MATCH('Пр. №3'!$D$5,'Пр. №4'!$9:$9,0)),\"---\")","v":"---"},null,"---"]
[null,null,{"$f":"IFERROR(INDEX(справочник!$G$1:$I$7,MATCH('Пр. №1.2.'!$G167,справочник!$G$1:$G$7,0),3),\"---\")","v":"---"},{"$f":"IFERROR(INDEX('Пр. №1'!$B$11:$C$33,MATCH('Пр. №1.2.'!$C167,'Пр. №1'!$B$11:$B$33,0),2),\"---\")","v":"---"},null,{"$f":"IFERROR(INDEX('Состав ВТК-ВРГ'!$1:$1048576,MATCH('Пр. №1.2.'!$E167,'Состав ВТК-ВРГ'!$B:$B,0),MATCH('Пр. №1.2.'!F$3,'Состав ВТК-ВРГ'!$3:$3,0)),\"---\")","v":"---"},{"$f":"IFERROR(INDEX('Состав ВТК-ВРГ'!$1:$1048576,MATCH('Пр. №1.2.'!$E167,'Состав ВТК-ВРГ'!$B:$B,0),MATCH('Пр. №1.2.'!G$3,'Состав ВТК-ВРГ'!$3:$3,0)),\"---\")","v":"---"},{"$f":"IFERROR(INDEX(справочник!$G$1:$I$7,MATCH('Пр. №1.2.'!$G167,справочник!$G$1:$G$7,0),2),\"---\")","v":"---"},{"$f":"IFERROR(INDEX('Состав ВТК-ВРГ'!$1:$1048576,MATCH('Пр. №1.2.'!$E167,'Состав ВТК-ВРГ'!$B:$B,0),MATCH('Пр. №1.2.'!I$3,'Состав ВТК-ВРГ'!$3:$3,0)),\"---\")","v":"---"},{"$f":"SUMIFS('Пр. №3'!$BQ:$BQ,'Пр. №3'!$G:$G,'Пр. №1.2.'!$E167,'Пр. №3'!$D:$D,'Пр. №1.2.'!$B167)","v":0},{"$f":"IFERROR(INDEX('Пр. №4'!$1:$1048576,MATCH($I167,'Пр. №4'!$C:$C,0),MATCH('Пр. №3'!$D$5,'Пр. №4'!$9:$9,0)),\"---\")","v":"---"},null,"---"]
[null,null,{"$f":"IFERROR(INDEX(справочник!$G$1:$I$7,MATCH('Пр. №1.2.'!$G168,справочник!$G$1:$G$7,0),3),\"---\")","v":"---"},{"$f":"IFERROR(INDEX('Пр. №1'!$B$11:$C$33,MATCH('Пр. №1.2.'!$C168,'Пр. №1'!$B$11:$B$33,0),2),\"---\")","v":"---"},null,{"$f":"IFERROR(INDEX('Состав ВТК-ВРГ'!$1:$1048576,MATCH('Пр. №1.2.'!$E168,'Состав ВТК-ВРГ'!$B:$B,0),MATCH('Пр. №1.2.'!F$3,'Состав ВТК-ВРГ'!$3:$3,0)),\"---\")","v":"---"},{"$f":"IFERROR(INDEX('Состав ВТК-ВРГ'!$1:$1048576,MATCH('Пр. №1.2.'!$E168,'Состав ВТК-ВРГ'!$B:$B,0),MATCH('Пр. №1.2.'!G$3,'Состав ВТК-ВРГ'!$3:$3,0)),\"---\")","v":"---"},{"$f":"IFERROR(INDEX(справочник!$G$1:$I$7,MATCH('Пр. №1.2.'!$G168,справочник!$G$1:$G$7,0),2),\"---\")","v":"---"},{"$f":"IFERROR(INDEX('Состав ВТК-ВРГ'!$1:$1048576,MATCH('Пр. №1.2.'!$E168,'Состав ВТК-ВРГ'!$B:$B,0),MATCH('Пр. №1.2.'!I$3,'Состав ВТК-ВРГ'!$3:$3,0)),\"---\")","v":"---"},{"$f":"SUMIFS('Пр. №3'!$BQ:$BQ,'Пр. №3'!$G:$G,'Пр. №1.2.'!$E168,'Пр. №3'!$D:$D,'Пр. №1.2.'!$B168)","v":0},{"$f":"IFERROR(INDEX('Пр. №4'!$1:$1048576,MATCH($I168,'Пр. №4'!$C:$C,0),MATCH('Пр. №3'!$D$5,'Пр. №4'!$9:$9,0)),\"---\")","v":"---"},null,"---"]
[null,null,{"$f":"IFERROR(INDEX(справочник!$G$1:$I$7,MATCH('Пр. №1.2.'!$G169,справочник!$G$1:$G$7,0),3),\"---\")","v":"---"},{"$f":"IFERROR(INDEX('Пр. №1'!$B$11:$C$33,MATCH('Пр. №1.2.'!$C169,'Пр. №1'!$B$11:$B$33,0),2),\"---\")","v":"---"},null,{"$f":"IFERROR(INDEX('Состав ВТК-ВРГ'!$1:$1048576,MATCH('Пр. №1.2.'!$E169,'Состав ВТК-ВРГ'!$B:$B,0),MATCH('Пр. №1.2.'!F$3,'Состав ВТК-ВРГ'!$3:$3,0)),\"---\")","v":"---"},{"$f":"IFERROR(INDEX('Состав ВТК-ВРГ'!$1:$1048576,MATCH('Пр. №1.2.'!$E169,'Состав ВТК-ВРГ'!$B:$B,0),MATCH('Пр. №1.2.'!G$3,'Состав ВТК-ВРГ'!$3:$3,0)),\"---\")","v":"---"},{"$f":"IFERROR(INDEX(справочник!$G$1:$I$7,MATCH('Пр. №1.2.'!$G169,справочник!$G$1:$G$7,0),2),\"---\")","v":"---"},{"$f":"IFERROR(INDEX('Состав ВТК-ВРГ'!$1:$1048576,MATCH('Пр. №1.2.'!$E169,'Состав ВТК-ВРГ'!$B:$B,0),MATCH('Пр. №1.2.'!I$3,'Состав ВТК-ВРГ'!$3:$3,0)),\"---\")","v":"---"},{"$f":"SUMIFS('Пр. №3'!$BQ:$BQ,'Пр. №3'!$G:$G,'Пр. №1.2.'!$E169,'Пр. №3'!$D:$D,'Пр. №1.2.'!$B169)","v":0},{"$f":"IFERROR(INDEX('Пр. №4'!$1:$1048576,MATCH($I169,'Пр. №4'!$C:$C,0),MATCH('Пр. №3'!$D$5,'Пр. №4'!$9:$9,0)),\"---\")","v":"---"},null,"---"]
[null,null,{"$f":"IFERROR(INDEX(справочник!$G$1:$I$7,MATCH('Пр. №1.2.'!$G170,справочник!$G$1:$G$7,0),3),\"---\")","v":"---"},{"$f":"IFERROR(INDEX('Пр. №1'!$B$11:$C$33,MATCH('Пр. №1.2.'!$C170,'Пр. №1'!$B$11:$B$33,0),2),\"---\")","v":"---"},null,{"$f":"IFERROR(INDEX('Состав ВТК-ВРГ'!$1:$1048576,MATCH('Пр. №1.2.'!$E170,'Состав ВТК-ВРГ'!$B:$B,0),MATCH('Пр. №1.2.'!F$3,'Состав ВТК-ВРГ'!$3:$3,0)),\"---\")","v":"---"},{"$f":"IFERROR(INDEX('Состав ВТК-ВРГ'!$1:$1048576,MATCH('Пр. №1.2.'!$E170,'Состав ВТК-ВРГ'!$B:$B,0),MATCH('Пр. №1.2.'!G$3,'Состав ВТК-ВРГ'!$3:$3,0)),\"---\")","v":"---"},{"$f":"IFERROR(INDEX(справочник!$G$1:$I$7,MATCH('Пр. №1.2.'!$G170,справочник!$G$1:$G$7,0),2),\"---\")","v":"---"},{"$f":"IFERROR(INDEX('Состав ВТК-ВРГ'!$1:$1048576,MATCH('Пр. №1.2.'!$E170,'Состав ВТК-ВРГ'!$B:$B,0),MATCH('Пр. №1.2.'!I$3,'Состав ВТК-ВРГ'!$3:$3,0)),\"---\")","v":"---"},{"$f":"SUMIFS('Пр. №3'!$BQ:$BQ,'Пр. №3'!$G:$G,'Пр. №1.2.'!$E170,'Пр. №3'!$D:$D,'Пр. №1.2.'!$B170)","v":0},{"$f":"IFERROR(INDEX('Пр. №4'!$1:$1048576,MATCH($I170,'Пр. №4'!$C:$C,0),MATCH('Пр. №3'!$D$5,'Пр. №4'!$9:$9,0)),\"---\")","v":"---"},null,"---"]
[null,null,{"$f":"IFERROR(INDEX(справочник!$G$1:$I$7,MATCH('Пр. №1.2.'!$G171,справочник!$G$1:$G$7,0),3),\"---\")","v":"---"},{"$f":"IFERROR(INDEX('Пр. №1'!$B$11:$C$33,MATCH('Пр. №1.2.'!$C171,'Пр. №1'!$B$11:$B$33,0),2),\"---\")","v":"---"},null,{"$f":"IFERROR(INDEX('Состав ВТК-ВРГ'!$1:$1048576,MATCH('Пр. №1.2.'!$E171,'Состав ВТК-ВРГ'!$B:$B,0),MATCH('Пр. №1.2.'!F$3,'Состав ВТК-ВРГ'!$3:$3,0)),\"---\")","v":"---"},{"$f":"IFERROR(INDEX('Состав ВТК-ВРГ'!$1:$1048576,MATCH('Пр. №1.2.'!$E171,'Состав ВТК-ВРГ'!$B:$B,0),MATCH('Пр. №1.2.'!G$3,'Состав ВТК-ВРГ'!$3:$3,0)),\"---\")","v":"---"},{"$f":"IFERROR(INDEX(справочник!$G$1:$I$7,MATCH('Пр. №1.2.'!$G171,справочник!$G$1:$G$7,0),2),\"---\")","v":"---"},{"$f":"IFERROR(INDEX('Состав ВТК-ВРГ'!$1:$1048576,MATCH('Пр. №1.2.'!$E171,'Состав ВТК-ВРГ'!$B:$B,0),MATCH('Пр. №1.2.'!I$3,'Состав ВТК-ВРГ'!$3:$3,0)),\"---\")","v":"---"},{"$f":"SUMIFS('Пр. №3'!$BQ:$BQ,'Пр. №3'!$G:$G,'Пр. №1.2.'!$E171,'Пр. №3'!$D:$D,'Пр. №1.2.'!$B171)","v":0},{"$f":"IFERROR(INDEX('Пр. №4'!$1:$1048576,MATCH($I171,'Пр. №4'!$C:$C,0),MATCH('Пр. №3'!$D$5,'Пр. №4'!$9:$9,0)),\"---\")","v":"---"},null,"---"]
[null,null,{"$f":"IFERROR(INDEX(справочник!$G$1:$I$7,MATCH('Пр. №1.2.'!$G172,справочник!$G$1:$G$7,0),3),\"---\")","v":"---"},{"$f":"IFERROR(INDEX('Пр. №1'!$B$11:$C$33,MATCH('Пр. №1.2.'!$C172,'Пр. №1'!$B$11:$B$33,0),2),\"---\")","v":"---"},null,{"$f":"IFERROR(INDEX('Состав ВТК-ВРГ'!$1:$1048576,MATCH('Пр. №1.2.'!$E172,'Состав ВТК-ВРГ'!$B:$B,0),MATCH('Пр. №1.2.'!F$3,'Состав ВТК-ВРГ'!$3:$3,0)),\"---\")","v":"---"},{"$f":"IFERROR(INDEX('Состав ВТК-ВРГ'!$1:$1048576,MATCH('Пр. №1.2.'!$E172,'Состав ВТК-ВРГ'!$B:$B,0),MATCH('Пр. №1.2.'!G$3,'Состав ВТК-ВРГ'!$3:$3,0)),\"---\")","v":"---"},{"$f":"IFERROR(INDEX(справочник!$G$1:$I$7,MATCH('Пр. №1.2.'!$G172,справочник!$G$1:$G$7,0),2),\"---\")","v":"---"},{"$f":"IFERROR(INDEX('Состав ВТК-ВРГ'!$1:$1048576,MATCH('Пр. №1.2.'!$E172,'Состав ВТК-ВРГ'!$B:$B,0),MATCH('Пр. №1.2.'!I$3,'Состав ВТК-ВРГ'!$3:$3,0)),\"---\")","v":"---"},{"$f":"SUMIFS('Пр. №3'!$BQ:$BQ,'Пр. №3'!$G:$G,'Пр. №1.2.'!$E172,'Пр. №3'!$D:$D,'Пр. №1.2.'!$B172)","v":0},{"$f":"IFERROR(INDEX('Пр. №4'!$1:$1048576,MATCH($I172,'Пр. №4'!$C:$C,0),MATCH('Пр. №3'!$D$5,'Пр. №4'!$9:$9,0)),\"---\")","v":"---"},null,{"$f":"IFERROR(J172*K172*L172,\"---\")","v":"---"}]
[null,null,{"$f":"IFERROR(INDEX(справочник!$G$1:$I$7,MATCH('Пр. №1.2.'!$G173,справочник!$G$1:$G$7,0),3),\"---\")","v":"---"},{"$f":"IFERROR(INDEX('Пр. №1'!$B$11:$C$33,MATCH('Пр. №1.2.'!$C173,'Пр. №1'!$B$11:$B$33,0),2),\"---\")","v":"---"},null,{"$f":"IFERROR(INDEX('Состав ВТК-ВРГ'!$1:$1048576,MATCH('Пр. №1.2.'!$E173,'Состав ВТК-ВРГ'!$B:$B,0),MATCH('Пр. №1.2.'!F$3,'Состав ВТК-ВРГ'!$3:$3,0)),\"---\")","v":"---"},{"$f":"IFERROR(INDEX('Состав ВТК-ВРГ'!$1:$1048576,MATCH('Пр. №1.2.'!$E173,'Состав ВТК-ВРГ'!$B:$B,0),MATCH('Пр. №1.2.'!G$3,'Состав ВТК-ВРГ'!$3:$3,0)),\"---\")","v":"---"},{"$f":"IFERROR(INDEX(справочник!$G$1:$I$7,MATCH('Пр. №1.2.'!$G173,справочник!$G$1:$G$7,0),2),\"---\")","v":"---"},{"$f":"IFERROR(INDEX('Состав ВТК-ВРГ'!$1:$1048576,MATCH('Пр. №1.2.'!$E173,'Состав ВТК-ВРГ'!$B:$B,0),MATCH('Пр. №1.2.'!I$3,'Состав ВТК-ВРГ'!$3:$3,0)),\"---\")","v":"---"},{"$f":"SUMIFS('Пр. №3'!$BQ:$BQ,'Пр. №3'!$G:$G,'Пр. №1.2.'!$E173,'Пр. №3'!$D:$D,'Пр. №1.2.'!$B173)","v":0},{"$f":"IFERROR(INDEX('Пр. №4'!$1:$1048576,MATCH($I173,'Пр. №4'!$C:$C,0),MATCH('Пр. №3'!$D$5,'Пр. №4'!$9:$9,0)),\"---\")","v":"---"},null,"---"]
[null,null,{"$f":"IFERROR(INDEX(справочник!$G$1:$I$7,MATCH('Пр. №1.2.'!$G174,справочник!$G$1:$G$7,0),3),\"---\")","v":"---"},{"$f":"IFERROR(INDEX('Пр. №1'!$B$11:$C$33,MATCH('Пр. №1.2.'!$C174,'Пр. №1'!$B$11:$B$33,0),2),\"---\")","v":"---"},null,{"$f":"IFERROR(INDEX('Состав ВТК-ВРГ'!$1:$1048576,MATCH('Пр. №1.2.'!$E174,'Состав ВТК-ВРГ'!$B:$B,0),MATCH('Пр. №1.2.'!F$3,'Состав ВТК-ВРГ'!$3:$3,0)),\"---\")","v":"---"},{"$f":"IFERROR(INDEX('Состав ВТК-ВРГ'!$1:$1048576,MATCH('Пр. №1.2.'!$E174,'Состав ВТК-ВРГ'!$B:$B,0),MATCH('Пр. №1.2.'!G$3,'Состав ВТК-ВРГ'!$3:$3,0)),\"---\")","v":"---"},{"$f":"IFERROR(INDEX(справочник!$G$1:$I$7,MATCH('Пр. №1.2.'!$G174,справочник!$G$1:$G$7,0),2),\"---\")","v":"---"},{"$f":"IFERROR(INDEX('Состав ВТК-ВРГ'!$1:$1048576,MATCH('Пр. №1.2.'!$E174,'Состав ВТК-ВРГ'!$B:$B,0),MATCH('Пр. №1.2.'!I$3,'Состав ВТК-ВРГ'!$3:$3,0)),\"---\")","v":"---"},{"$f":"SUMIFS('Пр. №3'!$BQ:$BQ,'Пр. №3'!$G:$G,'Пр. №1.2.'!$E174,'Пр. №3'!$D:$D,'Пр. №1.2.'!$B174)","v":0},{"$f":"IFERROR(INDEX('Пр. №4'!$1:$1048576,MATCH($I174,'Пр. №4'!$C:$C,0),MATCH('Пр. №3'!$D$5,'Пр. №4'!$9:$9,0)),\"---\")","v":"---"},null,"---"]
[null,null,{"$f":"IFERROR(INDEX(справочник!$G$1:$I$7,MATCH('Пр. №1.2.'!$G175,справочник!$G$1:$G$7,0),3),\"---\")","v":"---"},{"$f":"IFERROR(INDEX('Пр. №1'!$B$11:$C$33,MATCH('Пр. №1.2.'!$C175,'Пр. №1'!$B$11:$B$33,0),2),\"---\")","v":"---"},null,{"$f":"IFERROR(INDEX('Состав ВТК-ВРГ'!$1:$1048576,MATCH('Пр. №1.2.'!$E175,'Состав ВТК-ВРГ'!$B:$B,0),MATCH('Пр. №1.2.'!F$3,'Состав ВТК-ВРГ'!$3:$3,0)),\"---\")","v":"---"},{"$f":"IFERROR(INDEX('Состав ВТК-ВРГ'!$1:$1048576,MATCH('Пр. №1.2.'!$E175,'Состав ВТК-ВРГ'!$B:$B,0),MATCH('Пр. №1.2.'!G$3,'Состав ВТК-ВРГ'!$3:$3,0)),\"---\")","v":"---"},{"$f":"IFERROR(INDEX(справочник!$G$1:$I$7,MATCH('Пр. №1.2.'!$G175,справочник!$G$1:$G$7,0),2),\"---\")","v":"---"},{"$f":"IFERROR(INDEX('Состав ВТК-ВРГ'!$1:$1048576,MATCH('Пр. №1.2.'!$E175,'Состав ВТК-ВРГ'!$B:$B,0),MATCH('Пр. №1.2.'!I$3,'Состав ВТК-ВРГ'!$3:$3,0)),\"---\")","v":"---"},{"$f":"SUMIFS('Пр. №3'!$BQ:$BQ,'Пр. №3'!$G:$G,'Пр. №1.2.'!$E175,'Пр. №3'!$D:$D,'Пр. №1.2.'!$B175)","v":0},{"$f":"IFERROR(INDEX('Пр. №4'!$1:$1048576,MATCH($I175,'Пр. №4'!$C:$C,0),MATCH('Пр. №3'!$D$5,'Пр. №4'!$9:$9,0)),\"---\")","v":"---"},null,"---"]
[null,null,{"$f":"IFERROR(INDEX(справочник!$G$1:$I$7,MATCH('Пр. №1.2.'!$G176,справочник!$G$1:$G$7,0),3),\"---\")","v":"---"},{"$f":"IFERROR(INDEX('Пр. №1'!$B$11:$C$33,MATCH('Пр. №1.2.'!$C176,'Пр. №1'!$B$11:$B$33,0),2),\"---\")","v":"---"},null,{"$f":"IFERROR(INDEX('Состав ВТК-ВРГ'!$1:$1048576,MATCH('Пр. №1.2.'!$E176,'Состав ВТК-ВРГ'!$B:$B,0),MATCH('Пр. №1.2.'!F$3,'Состав ВТК-ВРГ'!$3:$3,0)),\"---\")","v":"---"},{"$f":"IFERROR(INDEX('Состав ВТК-ВРГ'!$1:$1048576,MATCH('Пр. №1.2.'!$E176,'Состав ВТК-ВРГ'!$B:$B,0),MATCH('Пр. №1.2.'!G$3,'Состав ВТК-ВРГ'!$3:$3,0)),\"---\")","v":"---"},{"$f":"IFERROR(INDEX(справочник!$G$1:$I$7,MATCH('Пр. №1.2.'!$G176,справочник!$G$1:$G$7,0),2),\"---\")","v":"---"},{"$f":"IFERROR(INDEX('Состав ВТК-ВРГ'!$1:$1048576,MATCH('Пр. №1.2.'!$E176,'Состав ВТК-ВРГ'!$B:$B,0),MATCH('Пр. №1.2.'!I$3,'Состав ВТК-ВРГ'!$3:$3,0)),\"---\")","v":"---"},{"$f":"SUMIFS('Пр. №3'!$BQ:$BQ,'Пр. №3'!$G:$G,'Пр. №1.2.'!$E176,'Пр. №3'!$D:$D,'Пр. №1.2.'!$B176)","v":0},{"$f":"IFERROR(INDEX('Пр. №4'!$1:$1048576,MATCH($I176,'Пр. №4'!$C:$C,0),MATCH('Пр. №3'!$D$5,'Пр. №4'!$9:$9,0)),\"---\")","v":"---"},null,"---"]
[null,null,{"$f":"IFERROR(INDEX(справочник!$G$1:$I$7,MATCH('Пр. №1.2.'!$G177,справочник!$G$1:$G$7,0),3),\"---\")","v":"---"},{"$f":"IFERROR(INDEX('Пр. №1'!$B$11:$C$33,MATCH('Пр. №1.2.'!$C177,'Пр. №1'!$B$11:$B$33,0),2),\"---\")","v":"---"},null,{"$f":"IFERROR(INDEX('Состав ВТК-ВРГ'!$1:$1048576,MATCH('Пр. №1.2.'!$E177,'Состав ВТК-ВРГ'!$B:$B,0),MATCH('Пр. №1.2.'!F$3,'Состав ВТК-ВРГ'!$3:$3,0)),\"---\")","v":"---"},{"$f":"IFERROR(INDEX('Состав ВТК-ВРГ'!$1:$1048576,MATCH('Пр. №1.2.'!$E177,'Состав ВТК-ВРГ'!$B:$B,0),MATCH('Пр. №1.2.'!G$3,'Состав ВТК-ВРГ'!$3:$3,0)),\"---\")","v":"---"},{"$f":"IFERROR(INDEX(справочник!$G$1:$I$7,MATCH('Пр. №1.2.'!$G177,справочник!$G$1:$G$7,0),2),\"---\")","v":"---"},{"$f":"IFERROR(INDEX('Состав ВТК-ВРГ'!$1:$1048576,MATCH('Пр. №1.2.'!$E177,'Состав ВТК-ВРГ'!$B:$B,0),MATCH('Пр. №1.2.'!I$3,'Состав ВТК-ВРГ'!$3:$3,0)),\"---\")","v":"---"},{"$f":"SUMIFS('Пр. №3'!$BQ:$BQ,'Пр. №3'!$G:$G,'Пр. №1.2.'!$E177,'Пр. №3'!$D:$D,'Пр. №1.2.'!$B177)","v":0},{"$f":"IFERROR(INDEX('Пр. №4'!$1:$1048576,MATCH($I177,'Пр. №4'!$C:$C,0),MATCH('Пр. №3'!$D$5,'Пр. №4'!$9:$9,0)),\"---\")","v":"---"},null,"---"]
[null,null,{"$f":"IFERROR(INDEX(справочник!$G$1:$I$7,MATCH('Пр. №1.2.'!$G178,справочник!$G$1:$G$7,0),3),\"---\")","v":"---"},{"$f":"IFERROR(INDEX('Пр. №1'!$B$11:$C$33,MATCH('Пр. №1.2.'!$C178,'Пр. №1'!$B$11:$B$33,0),2),\"---\")","v":"---"},null,{"$f":"IFERROR(INDEX('Состав ВТК-ВРГ'!$1:$1048576,MATCH('Пр. №1.2.'!$E178,'Состав ВТК-ВРГ'!$B:$B,0),MATCH('Пр. №1.2.'!F$3,'Состав ВТК-ВРГ'!$3:$3,0)),\"---\")","v":"---"},{"$f":"IFERROR(INDEX('Состав ВТК-ВРГ'!$1:$1048576,MATCH('Пр. №1.2.'!$E178,'Состав ВТК-ВРГ'!$B:$B,0),MATCH('Пр. №1.2.'!G$3,'Состав ВТК-ВРГ'!$3:$3,0)),\"---\")","v":"---"},{"$f":"IFERROR(INDEX(справочник!$G$1:$I$7,MATCH('Пр. №1.2.'!$G178,справочник!$G$1:$G$7,0),2),\"---\")","v":"---"},{"$f":"IFERROR(INDEX('Состав ВТК-ВРГ'!$1:$1048576,MATCH('Пр. №1.2.'!$E178,'Состав ВТК-ВРГ'!$B:$B,0),MATCH('Пр. №1.2.'!I$3,'Состав ВТК-ВРГ'!$3:$3,0)),\"---\")","v":"---"},{"$f":"SUMIFS('Пр. №3'!$BQ:$BQ,'Пр. №3'!$G:$G,'Пр. №1.2.'!$E178,'Пр. №3'!$D:$D,'Пр. №1.2.'!$B178)","v":0},{"$f":"IFERROR(INDEX('Пр. №4'!$1:$1048576,MATCH($I178,'Пр. №4'!$C:$C,0),MATCH('Пр. №3'!$D$5,'Пр. №4'!$9:$9,0)),\"---\")","v":"---"},null,"---"]
[null,null,{"$f":"IFERROR(INDEX(справочник!$G$1:$I$7,MATCH('Пр. №1.2.'!$G179,справочник!$G$1:$G$7,0),3),\"---\")","v":"---"},{"$f":"IFERROR(INDEX('Пр. №1'!$B$11:$C$33,MATCH('Пр. №1.2.'!$C179,'Пр. №1'!$B$11:$B$33,0),2),\"---\")","v":"---"},null,{"$f":"IFERROR(INDEX('Состав ВТК-ВРГ'!$1:$1048576,MATCH('Пр. №1.2.'!$E179,'Состав ВТК-ВРГ'!$B:$B,0),MATCH('Пр. №1.2.'!F$3,'Состав ВТК-ВРГ'!$3:$3,0)),\"---\")","v":"---"},{"$f":"IFERROR(INDEX('Состав ВТК-ВРГ'!$1:$1048576,MATCH('Пр. №1.2.'!$E179,'Состав ВТК-ВРГ'!$B:$B,0),MATCH('Пр. №1.2.'!G$3,'Состав ВТК-ВРГ'!$3:$3,0)),\"---\")","v":"---"},{"$f":"IFERROR(INDEX(справочник!$G$1:$I$7,MATCH('Пр. №1.2.'!$G179,справочник!$G$1:$G$7,0),2),\"---\")","v":"---"},{"$f":"IFERROR(INDEX('Состав ВТК-ВРГ'!$1:$1048576,MATCH('Пр. №1.2.'!$E179,'Состав ВТК-ВРГ'!$B:$B,0),MATCH('Пр. №1.2.'!I$3,'Состав ВТК-ВРГ'!$3:$3,0)),\"---\")","v":"---"},{"$f":"SUMIFS('Пр. №3'!$BQ:$BQ,'Пр. №3'!$G:$G,'Пр. №1.2.'!$E179,'Пр. №3'!$D:$D,'Пр. №1.2.'!$B179)","v":0},{"$f":"IFERROR(INDEX('Пр. №4'!$1:$1048576,MATCH($I179,'Пр. №4'!$C:$C,0),MATCH('Пр. №3'!$D$5,'Пр. №4'!$9:$9,0)),\"---\")","v":"---"},null,"---"]
[null,null,{"$f":"IFERROR(INDEX(справочник!$G$1:$I$7,MATCH('Пр. №1.2.'!$G180,справочник!$G$1:$G$7,0),3),\"---\")","v":"---"},{"$f":"IFERROR(INDEX('Пр. №1'!$B$11:$C$33,MATCH('Пр. №1.2.'!$C180,'Пр. №1'!$B$11:$B$33,0),2),\"---\")","v":"---"},null,{"$f":"IFERROR(INDEX('Состав ВТК-ВРГ'!$1:$1048576,MATCH('Пр. №1.2.'!$E180,'Состав ВТК-ВРГ'!$B:$B,0),MATCH('Пр. №1.2.'!F$3,'Состав ВТК-ВРГ'!$3:$3,0)),\"---\")","v":"---"},{"$f":"IFERROR(INDEX('Состав ВТК-ВРГ'!$1:$1048576,MATCH('Пр. №1.2.'!$E180,'Состав ВТК-ВРГ'!$B:$B,0),MATCH('Пр. №1.2.'!G$3,'Состав ВТК-ВРГ'!$3:$3,0)),\"---\")","v":"---"},{"$f":"IFERROR(INDEX(справочник!$G$1:$I$7,MATCH('Пр. №1.2.'!$G180,справочник!$G$1:$G$7,0),2),\"---\")","v":"---"},{"$f":"IFERROR(INDEX('Состав ВТК-ВРГ'!$1:$1048576,MATCH('Пр. №1.2.'!$E180,'Состав ВТК-ВРГ'!$B:$B,0),MATCH('Пр. №1.2.'!I$3,'Состав ВТК-ВРГ'!$3:$3,0)),\"---\")","v":"---"},{"$f":"SUMIFS('Пр. №3'!$BQ:$BQ,'Пр. №3'!$G:$G,'Пр. №1.2.'!$E180,'Пр. №3'!$D:$D,'Пр. №1.2.'!$B180)","v":0},{"$f":"IFERROR(INDEX('Пр. №4'!$1:$1048576,MATCH($I180,'Пр. №4'!$C:$C,0),MATCH('Пр. №3'!$D$5,'Пр. №4'!$9:$9,0)),\"---\")","v":"---"},null,"---"]
[null,null,{"$f":"IFERROR(INDEX(справочник!$G$1:$I$7,MATCH('Пр. №1.2.'!$G181,справочник!$G$1:$G$7,0),3),\"---\")","v":"---"},{"$f":"IFERROR(INDEX('Пр. №1'!$B$11:$C$33,MATCH('Пр. №1.2.'!$C181,'Пр. №1'!$B$11:$B$33,0),2),\"---\")","v":"---"},null,{"$f":"IFERROR(INDEX('Состав ВТК-ВРГ'!$1:$1048576,MATCH('Пр. №1.2.'!$E181,'Состав ВТК-ВРГ'!$B:$B,0),MATCH('Пр. №1.2.'!F$3,'Состав ВТК-ВРГ'!$3:$3,0)),\"---\")","v":"---"},{"$f":"IFERROR(INDEX('Состав ВТК-ВРГ'!$1:$1048576,MATCH('Пр. №1.2.'!$E181,'Состав ВТК-ВРГ'!$B:$B,0),MATCH('Пр. №1.2.'!G$3,'Состав ВТК-ВРГ'!$3:$3,0)),\"---\")","v":"---"},{"$f":"IFERROR(INDEX(справочник!$G$1:$I$7,MATCH('Пр. №1.2.'!$G181,справочник!$G$1:$G$7,0),2),\"---\")","v":"---"},{"$f":"IFERROR(INDEX('Состав ВТК-ВРГ'!$1:$1048576,MATCH('Пр. №1.2.'!$E181,'Состав ВТК-ВРГ'!$B:$B,0),MATCH('Пр. №1.2.'!I$3,'Состав ВТК-ВРГ'!$3:$3,0)),\"---\")","v":"---"},{"$f":"SUMIFS('Пр. №3'!$BQ:$BQ,'Пр. №3'!$G:$G,'Пр. №1.2.'!$E181,'Пр. №3'!$D:$D,'Пр. №1.2.'!$B181)","v":0},{"$f":"IFERROR(INDEX('Пр. №4'!$1:$1048576,MATCH($I181,'Пр. №4'!$C:$C,0),MATCH('Пр. №3'!$D$5,'Пр. №4'!$9:$9,0)),\"---\")","v":"---"},null,"---"]
[null,null,{"$f":"IFERROR(INDEX(справочник!$G$1:$I$7,MATCH('Пр. №1.2.'!$G182,справочник!$G$1:$G$7,0),3),\"---\")","v":"---"},{"$f":"IFERROR(INDEX('Пр. №1'!$B$11:$C$33,MATCH('Пр. №1.2.'!$C182,'Пр. №1'!$B$11:$B$33,0),2),\"---\")","v":"---"},null,{"$f":"IFERROR(INDEX('Состав ВТК-ВРГ'!$1:$1048576,MATCH('Пр. №1.2.'!$E182,'Состав ВТК-ВРГ'!$B:$B,0),MATCH('Пр. №1.2.'!F$3,'Состав ВТК-ВРГ'!$3:$3,0)),\"---\")","v":"---"},{"$f":"IFERROR(INDEX('Состав ВТК-ВРГ'!$1:$1048576,MATCH('Пр. №1.2.'!$E182,'Состав ВТК-ВРГ'!$B:$B,0),MATCH('Пр. №1.2.'!G$3,'Состав ВТК-ВРГ'!$3:$3,0)),\"---\")","v":"---"},{"$f":"IFERROR(INDEX(справочник!$G$1:$I$7,MATCH('Пр. №1.2.'!$G182,справочник!$G$1:$G$7,0),2),\"---\")","v":"---"},{"$f":"IFERROR(INDEX('Состав ВТК-ВРГ'!$1:$1048576,MATCH('Пр. №1.2.'!$E182,'Состав ВТК-ВРГ'!$B:$B,0),MATCH('Пр. №1.2.'!I$3,'Состав ВТК-ВРГ'!$3:$3,0)),\"---\")","v":"---"},{"$f":"SUMIFS('Пр. №3'!$BQ:$BQ,'Пр. №3'!$G:$G,'Пр. №1.2.'!$E182,'Пр. №3'!$D:$D,'Пр. №1.2.'!$B182)","v":0},{"$f":"IFERROR(INDEX('Пр. №4'!$1:$1048576,MATCH($I182,'Пр. №4'!$C:$C,0),MATCH('Пр. №3'!$D$5,'Пр. №4'!$9:$9,0)),\"---\")","v":"---"},null,"---"]
[null,null,{"$f":"IFERROR(INDEX(справочник!$G$1:$I$7,MATCH('Пр. №1.2.'!$G183,справочник!$G$1:$G$7,0),3),\"---\")","v":"---"},{"$f":"IFERROR(INDEX('Пр. №1'!$B$11:$C$33,MATCH('Пр. №1.2.'!$C183,'Пр. №1'!$B$11:$B$33,0),2),\"---\")","v":"---"},null,{"$f":"IFERROR(INDEX('Состав ВТК-ВРГ'!$1:$1048576,MATCH('Пр. №1.2.'!$E183,'Состав ВТК-ВРГ'!$B:$B,0),MATCH('Пр. №1.2.'!F$3,'Состав ВТК-ВРГ'!$3:$3,0)),\"---\")","v":"---"},{"$f":"IFERROR(INDEX('Состав ВТК-ВРГ'!$1:$1048576,MATCH('Пр. №1.2.'!$E183,'Состав ВТК-ВРГ'!$B:$B,0),MATCH('Пр. №1.2.'!G$3,'Состав ВТК-ВРГ'!$3:$3,0)),\"---\")","v":"---"},{"$f":"IFERROR(INDEX(справочник!$G$1:$I$7,MATCH('Пр. №1.2.'!$G183,справочник!$G$1:$G$7,0),2),\"---\")","v":"---"},{"$f":"IFERROR(INDEX('Состав ВТК-ВРГ'!$1:$1048576,MATCH('Пр. №1.2.'!$E183,'Состав ВТК-ВРГ'!$B:$B,0),MATCH('Пр. №1.2.'!I$3,'Состав ВТК-ВРГ'!$3:$3,0)),\"---\")","v":"---"},{"$f":"SUMIFS('Пр. №3'!$BQ:$BQ,'Пр. №3'!$G:$G,'Пр. №1.2.'!$E183,'Пр. №3'!$D:$D,'Пр. №1.2.'!$B183)","v":0},{"$f":"IFERROR(INDEX('Пр. №4'!$1:$1048576,MATCH($I183,'Пр. №4'!$C:$C,0),MATCH('Пр. №3'!$D$5,'Пр. №4'!$9:$9,0)),\"---\")","v":"---"},null,"---"]
[null,null,{"$f":"IFERROR(INDEX(справочник!$G$1:$I$7,MATCH('Пр. №1.2.'!$G184,справочник!$G$1:$G$7,0),3),\"---\")","v":"---"},{"$f":"IFERROR(INDEX('Пр. №1'!$B$11:$C$33,MATCH('Пр. №1.2.'!$C184,'Пр. №1'!$B$11:$B$33,0),2),\"---\")","v":"---"},null,{"$f":"IFERROR(INDEX('Состав ВТК-ВРГ'!$1:$1048576,MATCH('Пр. №1.2.'!$E184,'Состав ВТК-ВРГ'!$B:$B,0),MATCH('Пр. №1.2.'!F$3,'Состав ВТК-ВРГ'!$3:$3,0)),\"---\")","v":"---"},{"$f":"IFERROR(INDEX('Состав ВТК-ВРГ'!$1:$1048576,MATCH('Пр. №1.2.'!$E184,'Состав ВТК-ВРГ'!$B:$B,0),MATCH('Пр. №1.2.'!G$3,'Состав ВТК-ВРГ'!$3:$3,0)),\"---\")","v":"---"},{"$f":"IFERROR(INDEX(справочник!$G$1:$I$7,MATCH('Пр. №1.2.'!$G184,справочник!$G$1:$G$7,0),2),\"---\")","v":"---"},{"$f":"IFERROR(INDEX('Состав ВТК-ВРГ'!$1:$1048576,MATCH('Пр. №1.2.'!$E184,'Состав ВТК-ВРГ'!$B:$B,0),MATCH('Пр. №1.2.'!I$3,'Состав ВТК-ВРГ'!$3:$3,0)),\"---\")","v":"---"},{"$f":"SUMIFS('Пр. №3'!$BQ:$BQ,'Пр. №3'!$G:$G,'Пр. №1.2.'!$E184,'Пр. №3'!$D:$D,'Пр. №1.2.'!$B184)","v":0},{"$f":"IFERROR(INDEX('Пр. №4'!$1:$1048576,MATCH($I184,'Пр. №4'!$C:$C,0),MATCH('Пр. №3'!$D$5,'Пр. №4'!$9:$9,0)),\"---\")","v":"---"},null,"---"]
[null,null,{"$f":"IFERROR(INDEX(справочник!$G$1:$I$7,MATCH('Пр. №1.2.'!$G185,справочник!$G$1:$G$7,0),3),\"---\")","v":"---"},{"$f":"IFERROR(INDEX('Пр. №1'!$B$11:$C$33,MATCH('Пр. №1.2.'!$C185,'Пр. №1'!$B$11:$B$33,0),2),\"---\")","v":"---"},null,{"$f":"IFERROR(INDEX('Состав ВТК-ВРГ'!$1:$1048576,MATCH('Пр. №1.2.'!$E185,'Состав ВТК-ВРГ'!$B:$B,0),MATCH('Пр. №1.2.'!F$3,'Состав ВТК-ВРГ'!$3:$3,0)),\"---\")","v":"---"},{"$f":"IFERROR(INDEX('Состав ВТК-ВРГ'!$1:$1048576,MATCH('Пр. №1.2.'!$E185,'Состав ВТК-ВРГ'!$B:$B,0),MATCH('Пр. №1.2.'!G$3,'Состав ВТК-ВРГ'!$3:$3,0)),\"---\")","v":"---"},{"$f":"IFERROR(INDEX(справочник!$G$1:$I$7,MATCH('Пр. №1.2.'!$G185,справочник!$G$1:$G$7,0),2),\"---\")","v":"---"},{"$f":"IFERROR(INDEX('Состав ВТК-ВРГ'!$1:$1048576,MATCH('Пр. №1.2.'!$E185,'Состав ВТК-ВРГ'!$B:$B,0),MATCH('Пр. №1.2.'!I$3,'Состав ВТК-ВРГ'!$3:$3,0)),\"---\")","v":"---"},{"$f":"SUMIFS('Пр. №3'!$BQ:$BQ,'Пр. №3'!$G:$G,'Пр. №1.2.'!$E185,'Пр. №3'!$D:$D,'Пр. №1.2.'!$B185)","v":0},{"$f":"IFERROR(INDEX('Пр. №4'!$1:$1048576,MATCH($I185,'Пр. №4'!$C:$C,0),MATCH('Пр. №3'!$D$5,'Пр. №4'!$9:$9,0)),\"---\")","v":"---"},null,"---"]
[null,null,{"$f":"IFERROR(INDEX(справочник!$G$1:$I$7,MATCH('Пр. №1.2.'!$G186,справочник!$G$1:$G$7,0),3),\"---\")","v":"---"},{"$f":"IFERROR(INDEX('Пр. №1'!$B$11:$C$33,MATCH('Пр. №1.2.'!$C186,'Пр. №1'!$B$11:$B$33,0),2),\"---\")","v":"---"},null,{"$f":"IFERROR(INDEX('Состав ВТК-ВРГ'!$1:$1048576,MATCH('Пр. №1.2.'!$E186,'Состав ВТК-ВРГ'!$B:$B,0),MATCH('Пр. №1.2.'!F$3,'Состав ВТК-ВРГ'!$3:$3,0)),\"---\")","v":"---"},{"$f":"IFERROR(INDEX('Состав ВТК-ВРГ'!$1:$1048576,MATCH('Пр. №1.2.'!$E186,'Состав ВТК-ВРГ'!$B:$B,0),MATCH('Пр. №1.2.'!G$3,'Состав ВТК-ВРГ'!$3:$3,0)),\"---\")","v":"---"},{"$f":"IFERROR(INDEX(справочник!$G$1:$I$7,MATCH('Пр. №1.2.'!$G186,справочник!$G$1:$G$7,0),2),\"---\")","v":"---"},{"$f":"IFERROR(INDEX('Состав ВТК-ВРГ'!$1:$1048576,MATCH('Пр. №1.2.'!$E186,'Состав ВТК-ВРГ'!$B:$B,0),MATCH('Пр. №1.2.'!I$3,'Состав ВТК-ВРГ'!$3:$3,0)),\"---\")","v":"---"},{"$f":"SUMIFS('Пр. №3'!$BQ:$BQ,'Пр. №3'!$G:$G,'Пр. №1.2.'!$E186,'Пр. №3'!$D:$D,'Пр. №1.2.'!$B186)","v":0},{"$f":"IFERROR(INDEX('Пр. №4'!$1:$1048576,MATCH($I186,'Пр. №4'!$C:$C,0),MATCH('Пр. №3'!$D$5,'Пр. №4'!$9:$9,0)),\"---\")","v":"---"},null,"---"]
[null,null,{"$f":"IFERROR(INDEX(справочник!$G$1:$I$7,MATCH('Пр. №1.2.'!$G187,справочник!$G$1:$G$7,0),3),\"---\")","v":"---"},{"$f":"IFERROR(INDEX('Пр. №1'!$B$11:$C$33,MATCH('Пр. №1.2.'!$C187,'Пр. №1'!$B$11:$B$33,0),2),\"---\")","v":"---"},null,{"$f":"IFERROR(INDEX('Состав ВТК-ВРГ'!$1:$1048576,MATCH('Пр. №1.2.'!$E187,'Состав ВТК-ВРГ'!$B:$B,0),MATCH('Пр. №1.2.'!F$3,'Состав ВТК-ВРГ'!$3:$3,0)),\"---\")","v":"---"},{"$f":"IFERROR(INDEX('Состав ВТК-ВРГ'!$1:$1048576,MATCH('Пр. №1.2.'!$E187,'Состав ВТК-ВРГ'!$B:$B,0),MATCH('Пр. №1.2.'!G$3,'Состав ВТК-ВРГ'!$3:$3,0)),\"---\")","v":"---"},{"$f":"IFERROR(INDEX(справочник!$G$1:$I$7,MATCH('Пр. №1.2.'!$G187,справочник!$G$1:$G$7,0),2),\"---\")","v":"---"},{"$f":"IFERROR(INDEX('Состав ВТК-ВРГ'!$1:$1048576,MATCH('Пр. №1.2.'!$E187,'Состав ВТК-ВРГ'!$B:$B,0),MATCH('Пр. №1.2.'!I$3,'Состав ВТК-ВРГ'!$3:$3,0)),\"---\")","v":"---"},{"$f":"SUMIFS('Пр. №3'!$BQ:$BQ,'Пр. №3'!$G:$G,'Пр. №1.2.'!$E187,'Пр. №3'!$D:$D,'Пр. №1.2.'!$B187)","v":0},{"$f":"IFERROR(INDEX('Пр. №4'!$1:$1048576,MATCH($I187,'Пр. №4'!$C:$C,0),MATCH('Пр. №3'!$D$5,'Пр. №4'!$9:$9,0)),\"---\")","v":"---"},null,"---"]
[null,null,{"$f":"IFERROR(INDEX(справочник!$G$1:$I$7,MATCH('Пр. №1.2.'!$G188,справочник!$G$1:$G$7,0),3),\"---\")","v":"---"},{"$f":"IFERROR(INDEX('Пр. №1'!$B$11:$C$33,MATCH('Пр. №1.2.'!$C188,'Пр. №1'!$B$11:$B$33,0),2),\"---\")","v":"---"},null,{"$f":"IFERROR(INDEX('Состав ВТК-ВРГ'!$1:$1048576,MATCH('Пр. №1.2.'!$E188,'Состав ВТК-ВРГ'!$B:$B,0),MATCH('Пр. №1.2.'!F$3,'Состав ВТК-ВРГ'!$3:$3,0)),\"---\")","v":"---"},{"$f":"IFERROR(INDEX('Состав ВТК-ВРГ'!$1:$1048576,MATCH('Пр. №1.2.'!$E188,'Состав ВТК-ВРГ'!$B:$B,0),MATCH('Пр. №1.2.'!G$3,'Состав ВТК-ВРГ'!$3:$3,0)),\"---\")","v":"---"},{"$f":"IFERROR(INDEX(справочник!$G$1:$I$7,MATCH('Пр. №1.2.'!$G188,справочник!$G$1:$G$7,0),2),\"---\")","v":"---"},{"$f":"IFERROR(INDEX('Состав ВТК-ВРГ'!$1:$1048576,MATCH('Пр. №1.2.'!$E188,'Состав ВТК-ВРГ'!$B:$B,0),MATCH('Пр. №1.2.'!I$3,'Состав ВТК-ВРГ'!$3:$3,0)),\"---\")","v":"---"},{"$f":"SUMIFS('Пр. №3'!$BQ:$BQ,'Пр. №3'!$G:$G,'Пр. №1.2.'!$E188,'Пр. №3'!$D:$D,'Пр. №1.2.'!$B188)","v":0},{"$f":"IFERROR(INDEX('Пр. №4'!$1:$1048576,MATCH($I188,'Пр. №4'!$C:$C,0),MATCH('Пр. №3'!$D$5,'Пр. №4'!$9:$9,0)),\"---\")","v":"---"},null,"---"]
[null,null,{"$f":"IFERROR(INDEX(справочник!$G$1:$I$7,MATCH('Пр. №1.2.'!$G189,справочник!$G$1:$G$7,0),3),\"---\")","v":"---"},{"$f":"IFERROR(INDEX('Пр. №1'!$B$11:$C$33,MATCH('Пр. №1.2.'!$C189,'Пр. №1'!$B$11:$B$33,0),2),\"---\")","v":"---"},null,{"$f":"IFERROR(INDEX('Состав ВТК-ВРГ'!$1:$1048576,MATCH('Пр. №1.2.'!$E189,'Состав ВТК-ВРГ'!$B:$B,0),MATCH('Пр. №1.2.'!F$3,'Состав ВТК-ВРГ'!$3:$3,0)),\"---\")","v":"---"},{"$f":"IFERROR(INDEX('Состав ВТК-ВРГ'!$1:$1048576,MATCH('Пр. №1.2.'!$E189,'Состав ВТК-ВРГ'!$B:$B,0),MATCH('Пр. №1.2.'!G$3,'Состав ВТК-ВРГ'!$3:$3,0)),\"---\")","v":"---"},{"$f":"IFERROR(INDEX(справочник!$G$1:$I$7,MATCH('Пр. №1.2.'!$G189,справочник!$G$1:$G$7,0),2),\"---\")","v":"---"},{"$f":"IFERROR(INDEX('Состав ВТК-ВРГ'!$1:$1048576,MATCH('Пр. №1.2.'!$E189,'Состав ВТК-ВРГ'!$B:$B,0),MATCH('Пр. №1.2.'!I$3,'Состав ВТК-ВРГ'!$3:$3,0)),\"---\")","v":"---"},{"$f":"SUMIFS('Пр. №3'!$BQ:$BQ,'Пр. №3'!$G:$G,'Пр. №1.2.'!$E189,'Пр. №3'!$D:$D,'Пр. №1.2.'!$B189)","v":0},{"$f":"IFERROR(INDEX('Пр. №4'!$1:$1048576,MATCH($I189,'Пр. №4'!$C:$C,0),MATCH('Пр. №3'!$D$5,'Пр. №4'!$9:$9,0)),\"---\")","v":"---"},null,"---"]
[null,null,{"$f":"IFERROR(INDEX(справочник!$G$1:$I$7,MATCH('Пр. №1.2.'!$G190,справочник!$G$1:$G$7,0),3),\"---\")","v":"---"},{"$f":"IFERROR(INDEX('Пр. №1'!$B$11:$C$33,MATCH('Пр. №1.2.'!$C190,'Пр. №1'!$B$11:$B$33,0),2),\"---\")","v":"---"},null,{"$f":"IFERROR(INDEX('Состав ВТК-ВРГ'!$1:$1048576,MATCH('Пр. №1.2.'!$E190,'Состав ВТК-ВРГ'!$B:$B,0),MATCH('Пр. №1.2.'!F$3,'Состав ВТК-ВРГ'!$3:$3,0)),\"---\")","v":"---"},{"$f":"IFERROR(INDEX('Состав ВТК-ВРГ'!$1:$1048576,MATCH('Пр. №1.2.'!$E190,'Состав ВТК-ВРГ'!$B:$B,0),MATCH('Пр. №1.2.'!G$3,'Состав ВТК-ВРГ'!$3:$3,0)),\"---\")","v":"---"},{"$f":"IFERROR(INDEX(справочник!$G$1:$I$7,MATCH('Пр. №1.2.'!$G190,справочник!$G$1:$G$7,0),2),\"---\")","v":"---"},{"$f":"IFERROR(INDEX('Состав ВТК-ВРГ'!$1:$1048576,MATCH('Пр. №1.2.'!$E190,'Состав ВТК-ВРГ'!$B:$B,0),MATCH('Пр. №1.2.'!I$3,'Состав ВТК-ВРГ'!$3:$3,0)),\"---\")","v":"---"},{"$f":"SUMIFS('Пр. №3'!$BQ:$BQ,'Пр. №3'!$G:$G,'Пр. №1.2.'!$E190,'Пр. №3'!$D:$D,'Пр. №1.2.'!$B190)","v":0},{"$f":"IFERROR(INDEX('Пр. №4'!$1:$1048576,MATCH($I190,'Пр. №4'!$C:$C,0),MATCH('Пр. №3'!$D$5,'Пр. №4'!$9:$9,0)),\"---\")","v":"---"},null,"---"]
[null,null,{"$f":"IFERROR(INDEX(справочник!$G$1:$I$7,MATCH('Пр. №1.2.'!$G191,справочник!$G$1:$G$7,0),3),\"---\")","v":"---"},{"$f":"IFERROR(INDEX('Пр. №1'!$B$11:$C$33,MATCH('Пр. №1.2.'!$C191,'Пр. №1'!$B$11:$B$33,0),2),\"---\")","v":"---"},null,{"$f":"IFERROR(INDEX('Состав ВТК-ВРГ'!$1:$1048576,MATCH('Пр. №1.2.'!$E191,'Состав ВТК-ВРГ'!$B:$B,0),MATCH('Пр. №1.2.'!F$3,'Состав ВТК-ВРГ'!$3:$3,0)),\"---\")","v":"---"},{"$f":"IFERROR(INDEX('Состав ВТК-ВРГ'!$1:$1048576,MATCH('Пр. №1.2.'!$E191,'Состав ВТК-ВРГ'!$B:$B,0),MATCH('Пр. №1.2.'!G$3,'Состав ВТК-ВРГ'!$3:$3,0)),\"---\")","v":"---"},{"$f":"IFERROR(INDEX(справочник!$G$1:$I$7,MATCH('Пр. №1.2.'!$G191,справочник!$G$1:$G$7,0),2),\"---\")","v":"---"},{"$f":"IFERROR(INDEX('Состав ВТК-ВРГ'!$1:$1048576,MATCH('Пр. №1.2.'!$E191,'Состав ВТК-ВРГ'!$B:$B,0),MATCH('Пр. №1.2.'!I$3,'Состав ВТК-ВРГ'!$3:$3,0)),\"---\")","v":"---"},{"$f":"SUMIFS('Пр. №3'!$BQ:$BQ,'Пр. №3'!$G:$G,'Пр. №1.2.'!$E191,'Пр. №3'!$D:$D,'Пр. №1.2.'!$B191)","v":0},{"$f":"IFERROR(INDEX('Пр. №4'!$1:$1048576,MATCH($I191,'Пр. №4'!$C:$C,0),MATCH('Пр. №3'!$D$5,'Пр. №4'!$9:$9,0)),\"---\")","v":"---"},null,"---"]
[null,null,{"$f":"IFERROR(INDEX(справочник!$G$1:$I$7,MATCH('Пр. №1.2.'!$G192,справочник!$G$1:$G$7,0),3),\"---\")","v":"---"},{"$f":"IFERROR(INDEX('Пр. №1'!$B$11:$C$33,MATCH('Пр. №1.2.'!$C192,'Пр. №1'!$B$11:$B$33,0),2),\"---\")","v":"---"},null,{"$f":"IFERROR(INDEX('Состав ВТК-ВРГ'!$1:$1048576,MATCH('Пр. №1.2.'!$E192,'Состав ВТК-ВРГ'!$B:$B,0),MATCH('Пр. №1.2.'!F$3,'Состав ВТК-ВРГ'!$3:$3,0)),\"---\")","v":"---"},{"$f":"IFERROR(INDEX('Состав ВТК-ВРГ'!$1:$1048576,MATCH('Пр. №1.2.'!$E192,'Состав ВТК-ВРГ'!$B:$B,0),MATCH('Пр. №1.2.'!G$3,'Состав ВТК-ВРГ'!$3:$3,0)),\"---\")","v":"---"},{"$f":"IFERROR(INDEX(справочник!$G$1:$I$7,MATCH('Пр. №1.2.'!$G192,справочник!$G$1:$G$7,0),2),\"---\")","v":"---"},{"$f":"IFERROR(INDEX('Состав ВТК-ВРГ'!$1:$1048576,MATCH('Пр. №1.2.'!$E192,'Состав ВТК-ВРГ'!$B:$B,0),MATCH('Пр. №1.2.'!I$3,'Состав ВТК-ВРГ'!$3:$3,0)),\"---\")","v":"---"},{"$f":"SUMIFS('Пр. №3'!$BQ:$BQ,'Пр. №3'!$G:$G,'Пр. №1.2.'!$E192,'Пр. №3'!$D:$D,'Пр. №1.2.'!$B192)","v":0},{"$f":"IFERROR(INDEX('Пр. №4'!$1:$1048576,MATCH($I192,'Пр. №4'!$C:$C,0),MATCH('Пр. №3'!$D$5,'Пр. №4'!$9:$9,0)),\"---\")","v":"---"},null,"---"]
[null,null,{"$f":"IFERROR(INDEX(справочник!$G$1:$I$7,MATCH('Пр. №1.2.'!$G193,справочник!$G$1:$G$7,0),3),\"---\")","v":"---"},{"$f":"IFERROR(INDEX('Пр. №1'!$B$11:$C$33,MATCH('Пр. №1.2.'!$C193,'Пр. №1'!$B$11:$B$33,0),2),\"---\")","v":"---"},null,{"$f":"IFERROR(INDEX('Состав ВТК-ВРГ'!$1:$1048576,MATCH('Пр. №1.2.'!$E193,'Состав ВТК-ВРГ'!$B:$B,0),MATCH('Пр. №1.2.'!F$3,'Состав ВТК-ВРГ'!$3:$3,0)),\"---\")","v":"---"},{"$f":"IFERROR(INDEX('Состав ВТК-ВРГ'!$1:$1048576,MATCH('Пр. №1.2.'!$E193,'Состав ВТК-ВРГ'!$B:$B,0),MATCH('Пр. №1.2.'!G$3,'Состав ВТК-ВРГ'!$3:$3,0)),\"---\")","v":"---"},{"$f":"IFERROR(INDEX(справочник!$G$1:$I$7,MATCH('Пр. №1.2.'!$G193,справочник!$G$1:$G$7,0),2),\"---\")","v":"---"},{"$f":"IFERROR(INDEX('Состав ВТК-ВРГ'!$1:$1048576,MATCH('Пр. №1.2.'!$E193,'Состав ВТК-ВРГ'!$B:$B,0),MATCH('Пр. №1.2.'!I$3,'Состав ВТК-ВРГ'!$3:$3,0)),\"---\")","v":"---"},{"$f":"SUMIFS('Пр. №3'!$BQ:$BQ,'Пр. №3'!$G:$G,'Пр. №1.2.'!$E193,'Пр. №3'!$D:$D,'Пр. №1.2.'!$B193)","v":0},{"$f":"IFERROR(INDEX('Пр. №4'!$1:$1048576,MATCH($I193,'Пр. №4'!$C:$C,0),MATCH('Пр. №3'!$D$5,'Пр. №4'!$9:$9,0)),\"---\")","v":"---"},null,"---"]
[null,null,{"$f":"IFERROR(INDEX(справочник!$G$1:$I$7,MATCH('Пр. №1.2.'!$G194,справочник!$G$1:$G$7,0),3),\"---\")","v":"---"},{"$f":"IFERROR(INDEX('Пр. №1'!$B$11:$C$33,MATCH('Пр. №1.2.'!$C194,'Пр. №1'!$B$11:$B$33,0),2),\"---\")","v":"---"},null,{"$f":"IFERROR(INDEX('Состав ВТК-ВРГ'!$1:$1048576,MATCH('Пр. №1.2.'!$E194,'Состав ВТК-ВРГ'!$B:$B,0),MATCH('Пр. №1.2.'!F$3,'Состав ВТК-ВРГ'!$3:$3,0)),\"---\")","v":"---"},{"$f":"IFERROR(INDEX('Состав ВТК-ВРГ'!$1:$1048576,MATCH('Пр. №1.2.'!$E194,'Состав ВТК-ВРГ'!$B:$B,0),MATCH('Пр. №1.2.'!G$3,'Состав ВТК-ВРГ'!$3:$3,0)),\"---\")","v":"---"},{"$f":"IFERROR(INDEX(справочник!$G$1:$I$7,MATCH('Пр. №1.2.'!$G194,справочник!$G$1:$G$7,0),2),\"---\")","v":"---"},{"$f":"IFERROR(INDEX('Состав ВТК-ВРГ'!$1:$1048576,MATCH('Пр. №1.2.'!$E194,'Состав ВТК-ВРГ'!$B:$B,0),MATCH('Пр. №1.2.'!I$3,'Состав ВТК-ВРГ'!$3:$3,0)),\"---\")","v":"---"},{"$f":"SUMIFS('Пр. №3'!$BQ:$BQ,'Пр. №3'!$G:$G,'Пр. №1.2.'!$E194,'Пр. №3'!$D:$D,'Пр. №1.2.'!$B194)","v":0},{"$f":"IFERROR(INDEX('Пр. №4'!$1:$1048576,MATCH($I194,'Пр. №4'!$C:$C,0),MATCH('Пр. №3'!$D$5,'Пр. №4'!$9:$9,0)),\"---\")","v":"---"},null,"---"]
[null,null,{"$f":"IFERROR(INDEX(справочник!$G$1:$I$7,MATCH('Пр. №1.2.'!$G195,справочник!$G$1:$G$7,0),3),\"---\")","v":"---"},{"$f":"IFERROR(INDEX('Пр. №1'!$B$11:$C$33,MATCH('Пр. №1.2.'!$C195,'Пр. №1'!$B$11:$B$33,0),2),\"---\")","v":"---"},null,{"$f":"IFERROR(INDEX('Состав ВТК-ВРГ'!$1:$1048576,MATCH('Пр. №1.2.'!$E195,'Состав ВТК-ВРГ'!$B:$B,0),MATCH('Пр. №1.2.'!F$3,'Состав ВТК-ВРГ'!$3:$3,0)),\"---\")","v":"---"},{"$f":"IFERROR(INDEX('Состав ВТК-ВРГ'!$1:$1048576,MATCH('Пр. №1.2.'!$E195,'Состав ВТК-ВРГ'!$B:$B,0),MATCH('Пр. №1.2.'!G$3,'Состав ВТК-ВРГ'!$3:$3,0)),\"---\")","v":"---"},{"$f":"IFERROR(INDEX(справочник!$G$1:$I$7,MATCH('Пр. №1.2.'!$G195,справочник!$G$1:$G$7,0),2),\"---\")","v":"---"},{"$f":"IFERROR(INDEX('Состав ВТК-ВРГ'!$1:$1048576,MATCH('Пр. №1.2.'!$E195,'Состав ВТК-ВРГ'!$B:$B,0),MATCH('Пр. №1.2.'!I$3,'Состав ВТК-ВРГ'!$3:$3,0)),\"---\")","v":"---"},{"$f":"SUMIFS('Пр. №3'!$BQ:$BQ,'Пр. №3'!$G:$G,'Пр. №1.2.'!$E195,'Пр. №3'!$D:$D,'Пр. №1.2.'!$B195)","v":0},{"$f":"IFERROR(INDEX('Пр. №4'!$1:$1048576,MATCH($I195,'Пр. №4'!$C:$C,0),MATCH('Пр. №3'!$D$5,'Пр. №4'!$9:$9,0)),\"---\")","v":"---"},null,"---"]
[null,null,{"$f":"IFERROR(INDEX(справочник!$G$1:$I$7,MATCH('Пр. №1.2.'!$G196,справочник!$G$1:$G$7,0),3),\"---\")","v":"---"},{"$f":"IFERROR(INDEX('Пр. №1'!$B$11:$C$33,MATCH('Пр. №1.2.'!$C196,'Пр. №1'!$B$11:$B$33,0),2),\"---\")","v":"---"},null,{"$f":"IFERROR(INDEX('Состав ВТК-ВРГ'!$1:$1048576,MATCH('Пр. №1.2.'!$E196,'Состав ВТК-ВРГ'!$B:$B,0),MATCH('Пр. №1.2.'!F$3,'Состав ВТК-ВРГ'!$3:$3,0)),\"---\")","v":"---"},{"$f":"IFERROR(INDEX('Состав ВТК-ВРГ'!$1:$1048576,MATCH('Пр. №1.2.'!$E196,'Состав ВТК-ВРГ'!$B:$B,0),MATCH('Пр. №1.2.'!G$3,'Состав ВТК-ВРГ'!$3:$3,0)),\"---\")","v":"---"},{"$f":"IFERROR(INDEX(справочник!$G$1:$I$7,MATCH('Пр. №1.2.'!$G196,справочник!$G$1:$G$7,0),2),\"---\")","v":"---"},{"$f":"IFERROR(INDEX('Состав ВТК-ВРГ'!$1:$1048576,MATCH('Пр. №1.2.'!$E196,'Состав ВТК-ВРГ'!$B:$B,0),MATCH('Пр. №1.2.'!I$3,'Состав ВТК-ВРГ'!$3:$3,0)),\"---\")","v":"---"},{"$f":"SUMIFS('Пр. №3'!$BQ:$BQ,'Пр. №3'!$G:$G,'Пр. №1.2.'!$E196,'Пр. №3'!$D:$D,'Пр. №1.2.'!$B196)","v":0},{"$f":"IFERROR(INDEX('Пр. №4'!$1:$1048576,MATCH($I196,'Пр. №4'!$C:$C,0),MATCH('Пр. №3'!$D$5,'Пр. №4'!$9:$9,0)),\"---\")","v":"---"},null,"---"]
[null,null,{"$f":"IFERROR(INDEX(справочник!$G$1:$I$7,MATCH('Пр. №1.2.'!$G197,справочник!$G$1:$G$7,0),3),\"---\")","v":"---"},{"$f":"IFERROR(INDEX('Пр. №1'!$B$11:$C$33,MATCH('Пр. №1.2.'!$C197,'Пр. №1'!$B$11:$B$33,0),2),\"---\")","v":"---"},null,{"$f":"IFERROR(INDEX('Состав ВТК-ВРГ'!$1:$1048576,MATCH('Пр. №1.2.'!$E197,'Состав ВТК-ВРГ'!$B:$B,0),MATCH('Пр. №1.2.'!F$3,'Состав ВТК-ВРГ'!$3:$3,0)),\"---\")","v":"---"},{"$f":"IFERROR(INDEX('Состав ВТК-ВРГ'!$1:$1048576,MATCH('Пр. №1.2.'!$E197,'Состав ВТК-ВРГ'!$B:$B,0),MATCH('Пр. №1.2.'!G$3,'Состав ВТК-ВРГ'!$3:$3,0)),\"---\")","v":"---"},{"$f":"IFERROR(INDEX(справочник!$G$1:$I$7,MATCH('Пр. №1.2.'!$G197,справочник!$G$1:$G$7,0),2),\"---\")","v":"---"},{"$f":"IFERROR(INDEX('Состав ВТК-ВРГ'!$1:$1048576,MATCH('Пр. №1.2.'!$E197,'Состав ВТК-ВРГ'!$B:$B,0),MATCH('Пр. №1.2.'!I$3,'Состав ВТК-ВРГ'!$3:$3,0)),\"---\")","v":"---"},{"$f":"SUMIFS('Пр. №3'!$BQ:$BQ,'Пр. №3'!$G:$G,'Пр. №1.2.'!$E197,'Пр. №3'!$D:$D,'Пр. №1.2.'!$B197)","v":0},{"$f":"IFERROR(INDEX('Пр. №4'!$1:$1048576,MATCH($I197,'Пр. №4'!$C:$C,0),MATCH('Пр. №3'!$D$5,'Пр. №4'!$9:$9,0)),\"---\")","v":"---"},null,"---"]
[null,null,{"$f":"IFERROR(INDEX(справочник!$G$1:$I$7,MATCH('Пр. №1.2.'!$G198,справочник!$G$1:$G$7,0),3),\"---\")","v":"---"},{"$f":"IFERROR(INDEX('Пр. №1'!$B$11:$C$33,MATCH('Пр. №1.2.'!$C198,'Пр. №1'!$B$11:$B$33,0),2),\"---\")","v":"---"},null,{"$f":"IFERROR(INDEX('Состав ВТК-ВРГ'!$1:$1048576,MATCH('Пр. №1.2.'!$E198,'Состав ВТК-ВРГ'!$B:$B,0),MATCH('Пр. №1.2.'!F$3,'Состав ВТК-ВРГ'!$3:$3,0)),\"---\")","v":"---"},{"$f":"IFERROR(INDEX('Состав ВТК-ВРГ'!$1:$1048576,MATCH('Пр. №1.2.'!$E198,'Состав ВТК-ВРГ'!$B:$B,0),MATCH('Пр. №1.2.'!G$3,'Состав ВТК-ВРГ'!$3:$3,0)),\"---\")","v":"---"},{"$f":"IFERROR(INDEX(справочник!$G$1:$I$7,MATCH('Пр. №1.2.'!$G198,справочник!$G$1:$G$7,0),2),\"---\")","v":"---"},{"$f":"IFERROR(INDEX('Состав ВТК-ВРГ'!$1:$1048576,MATCH('Пр. №1.2.'!$E198,'Состав ВТК-ВРГ'!$B:$B,0),MATCH('Пр. №1.2.'!I$3,'Состав ВТК-ВРГ'!$3:$3,0)),\"---\")","v":"---"},{"$f":"SUMIFS('Пр. №3'!$BQ:$BQ,'Пр. №3'!$G:$G,'Пр. №1.2.'!$E198,'Пр. №3'!$D:$D,'Пр. №1.2.'!$B198)","v":0},{"$f":"IFERROR(INDEX('Пр. №4'!$1:$1048576,MATCH($I198,'Пр. №4'!$C:$C,0),MATCH('Пр. №3'!$D$5,'Пр. №4'!$9:$9,0)),\"---\")","v":"---"},null,"---"]
[null,null,{"$f":"IFERROR(INDEX(справочник!$G$1:$I$7,MATCH('Пр. №1.2.'!$G199,справочник!$G$1:$G$7,0),3),\"---\")","v":"---"},{"$f":"IFERROR(INDEX('Пр. №1'!$B$11:$C$33,MATCH('Пр. №1.2.'!$C199,'Пр. №1'!$B$11:$B$33,0),2),\"---\")","v":"---"},null,{"$f":"IFERROR(INDEX('Состав ВТК-ВРГ'!$1:$1048576,MATCH('Пр. №1.2.'!$E199,'Состав ВТК-ВРГ'!$B:$B,0),MATCH('Пр. №1.2.'!F$3,'Состав ВТК-ВРГ'!$3:$3,0)),\"---\")","v":"---"},{"$f":"IFERROR(INDEX('Состав ВТК-ВРГ'!$1:$1048576,MATCH('Пр. №1.2.'!$E199,'Состав ВТК-ВРГ'!$B:$B,0),MATCH('Пр. №1.2.'!G$3,'Состав ВТК-ВРГ'!$3:$3,0)),\"---\")","v":"---"},{"$f":"IFERROR(INDEX(справочник!$G$1:$I$7,MATCH('Пр. №1.2.'!$G199,справочник!$G$1:$G$7,0),2),\"---\")","v":"---"},{"$f":"IFERROR(INDEX('Состав ВТК-ВРГ'!$1:$1048576,MATCH('Пр. №1.2.'!$E199,'Состав ВТК-ВРГ'!$B:$B,0),MATCH('Пр. №1.2.'!I$3,'Состав ВТК-ВРГ'!$3:$3,0)),\"---\")","v":"---"},{"$f":"SUMIFS('Пр. №3'!$BQ:$BQ,'Пр. №3'!$G:$G,'Пр. №1.2.'!$E199,'Пр. №3'!$D:$D,'Пр. №1.2.'!$B199)","v":0},{"$f":"IFERROR(INDEX('Пр. №4'!$1:$1048576,MATCH($I199,'Пр. №4'!$C:$C,0),MATCH('Пр. №3'!$D$5,'Пр. №4'!$9:$9,0)),\"---\")","v":"---"},null,"---"]
[null,null,{"$f":"IFERROR(INDEX(справочник!$G$1:$I$7,MATCH('Пр. №1.2.'!$G200,справочник!$G$1:$G$7,0),3),\"---\")","v":"---"},{"$f":"IFERROR(INDEX('Пр. №1'!$B$11:$C$33,MATCH('Пр. №1.2.'!$C200,'Пр. №1'!$B$11:$B$33,0),2),\"---\")","v":"---"},null,{"$f":"IFERROR(INDEX('Состав ВТК-ВРГ'!$1:$1048576,MATCH('Пр. №1.2.'!$E200,'Состав ВТК-ВРГ'!$B:$B,0),MATCH('Пр. №1.2.'!F$3,'Состав ВТК-ВРГ'!$3:$3,0)),\"---\")","v":"---"},{"$f":"IFERROR(INDEX('Состав ВТК-ВРГ'!$1:$1048576,MATCH('Пр. №1.2.'!$E200,'Состав ВТК-ВРГ'!$B:$B,0),MATCH('Пр. №1.2.'!G$3,'Состав ВТК-ВРГ'!$3:$3,0)),\"---\")","v":"---"},{"$f":"IFERROR(INDEX(справочник!$G$1:$I$7,MATCH('Пр. №1.2.'!$G200,справочник!$G$1:$G$7,0),2),\"---\")","v":"---"},{"$f":"IFERROR(INDEX('Состав ВТК-ВРГ'!$1:$1048576,MATCH('Пр. №1.2.'!$E200,'Состав ВТК-ВРГ'!$B:$B,0),MATCH('Пр. №1.2.'!I$3,'Состав ВТК-ВРГ'!$3:$3,0)),\"---\")","v":"---"},{"$f":"SUMIFS('Пр. №3'!$BQ:$BQ,'Пр. №3'!$G:$G,'Пр. №1.2.'!$E200,'Пр. №3'!$D:$D,'Пр. №1.2.'!$B200)","v":0},{"$f":"IFERROR(INDEX('Пр. №4'!$1:$1048576,MATCH($I200,'Пр. №4'!$C:$C,0),MATCH('Пр. №3'!$D$5,'Пр. №4'!$9:$9,0)),\"---\")","v":"---"},null,"---"]
[null,null,{"$f":"IFERROR(INDEX(справочник!$G$1:$I$7,MATCH('Пр. №1.2.'!$G201,справочник!$G$1:$G$7,0),3),\"---\")","v":"---"},{"$f":"IFERROR(INDEX('Пр. №1'!$B$11:$C$33,MATCH('Пр. №1.2.'!$C201,'Пр. №1'!$B$11:$B$33,0),2),\"---\")","v":"---"},null,{"$f":"IFERROR(INDEX('Состав ВТК-ВРГ'!$1:$1048576,MATCH('Пр. №1.2.'!$E201,'Состав ВТК-ВРГ'!$B:$B,0),MATCH('Пр. №1.2.'!F$3,'Состав ВТК-ВРГ'!$3:$3,0)),\"---\")","v":"---"},{"$f":"IFERROR(INDEX('Состав ВТК-ВРГ'!$1:$1048576,MATCH('Пр. №1.2.'!$E201,'Состав ВТК-ВРГ'!$B:$B,0),MATCH('Пр. №1.2.'!G$3,'Состав ВТК-ВРГ'!$3:$3,0)),\"---\")","v":"---"},{"$f":"IFERROR(INDEX(справочник!$G$1:$I$7,MATCH('Пр. №1.2.'!$G201,справочник!$G$1:$G$7,0),2),\"---\")","v":"---"},{"$f":"IFERROR(INDEX('Состав ВТК-ВРГ'!$1:$1048576,MATCH('Пр. №1.2.'!$E201,'Состав ВТК-ВРГ'!$B:$B,0),MATCH('Пр. №1.2.'!I$3,'Состав ВТК-ВРГ'!$3:$3,0)),\"---\")","v":"---"},{"$f":"SUMIFS('Пр. №3'!$BQ:$BQ,'Пр. №3'!$G:$G,'Пр. №1.2.'!$E201,'Пр. №3'!$D:$D,'Пр. №1.2.'!$B201)","v":0},{"$f":"IFERROR(INDEX('Пр. №4'!$1:$1048576,MATCH($I201,'Пр. №4'!$C:$C,0),MATCH('Пр. №3'!$D$5,'Пр. №4'!$9:$9,0)),\"---\")","v":"---"},null,"---"]
[null,null,{"$f":"IFERROR(INDEX(справочник!$G$1:$I$7,MATCH('Пр. №1.2.'!$G202,справочник!$G$1:$G$7,0),3),\"---\")","v":"---"},{"$f":"IFERROR(INDEX('Пр. №1'!$B$11:$C$33,MATCH('Пр. №1.2.'!$C202,'Пр. №1'!$B$11:$B$33,0),2),\"---\")","v":"---"},null,{"$f":"IFERROR(INDEX('Состав ВТК-ВРГ'!$1:$1048576,MATCH('Пр. №1.2.'!$E202,'Состав ВТК-ВРГ'!$B:$B,0),MATCH('Пр. №1.2.'!F$3,'Состав ВТК-ВРГ'!$3:$3,0)),\"---\")","v":"---"},{"$f":"IFERROR(INDEX('Состав ВТК-ВРГ'!$1:$1048576,MATCH('Пр. №1.2.'!$E202,'Состав ВТК-ВРГ'!$B:$B,0),MATCH('Пр. №1.2.'!G$3,'Состав ВТК-ВРГ'!$3:$3,0)),\"---\")","v":"---"},{"$f":"IFERROR(INDEX(справочник!$G$1:$I$7,MATCH('Пр. №1.2.'!$G202,справочник!$G$1:$G$7,0),2),\"---\")","v":"---"},{"$f":"IFERROR(INDEX('Состав ВТК-ВРГ'!$1:$1048576,MATCH('Пр. №1.2.'!$E202,'Состав ВТК-ВРГ'!$B:$B,0),MATCH('Пр. №1.2.'!I$3,'Состав ВТК-ВРГ'!$3:$3,0)),\"---\")","v":"---"},{"$f":"SUMIFS('Пр. №3'!$BQ:$BQ,'Пр. №3'!$G:$G,'Пр. №1.2.'!$E202,'Пр. №3'!$D:$D,'Пр. №1.2.'!$B202)","v":0},{"$f":"IFERROR(INDEX('Пр. №4'!$1:$1048576,MATCH($I202,'Пр. №4'!$C:$C,0),MATCH('Пр. №3'!$D$5,'Пр. №4'!$9:$9,0)),\"---\")","v":"---"},null,"---"]
[null,null,{"$f":"IFERROR(INDEX(справочник!$G$1:$I$7,MATCH('Пр. №1.2.'!$G203,справочник!$G$1:$G$7,0),3),\"---\")","v":"---"},{"$f":"IFERROR(INDEX('Пр. №1'!$B$11:$C$33,MATCH('Пр. №1.2.'!$C203,'Пр. №1'!$B$11:$B$33,0),2),\"---\")","v":"---"},null,{"$f":"IFERROR(INDEX('Состав ВТК-ВРГ'!$1:$1048576,MATCH('Пр. №1.2.'!$E203,'Состав ВТК-ВРГ'!$B:$B,0),MATCH('Пр. №1.2.'!F$3,'Состав ВТК-ВРГ'!$3:$3,0)),\"---\")","v":"---"},{"$f":"IFERROR(INDEX('Состав ВТК-ВРГ'!$1:$1048576,MATCH('Пр. №1.2.'!$E203,'Состав ВТК-ВРГ'!$B:$B,0),MATCH('Пр. №1.2.'!G$3,'Состав ВТК-ВРГ'!$3:$3,0)),\"---\")","v":"---"},{"$f":"IFERROR(INDEX(справочник!$G$1:$I$7,MATCH('Пр. №1.2.'!$G203,справочник!$G$1:$G$7,0),2),\"---\")","v":"---"},{"$f":"IFERROR(INDEX('Состав ВТК-ВРГ'!$1:$1048576,MATCH('Пр. №1.2.'!$E203,'Состав ВТК-ВРГ'!$B:$B,0),MATCH('Пр. №1.2.'!I$3,'Состав ВТК-ВРГ'!$3:$3,0)),\"---\")","v":"---"},{"$f":"SUMIFS('Пр. №3'!$BQ:$BQ,'Пр. №3'!$G:$G,'Пр. №1.2.'!$E203,'Пр. №3'!$D:$D,'Пр. №1.2.'!$B203)","v":0},{"$f":"IFERROR(INDEX('Пр. №4'!$1:$1048576,MATCH($I203,'Пр. №4'!$C:$C,0),MATCH('Пр. №3'!$D$5,'Пр. №4'!$9:$9,0)),\"---\")","v":"---"},null,"---"]
[null,null,{"$f":"IFERROR(INDEX(справочник!$G$1:$I$7,MATCH('Пр. №1.2.'!$G204,справочник!$G$1:$G$7,0),3),\"---\")","v":"---"},{"$f":"IFERROR(INDEX('Пр. №1'!$B$11:$C$33,MATCH('Пр. №1.2.'!$C204,'Пр. №1'!$B$11:$B$33,0),2),\"---\")","v":"---"},null,{"$f":"IFERROR(INDEX('Состав ВТК-ВРГ'!$1:$1048576,MATCH('Пр. №1.2.'!$E204,'Состав ВТК-ВРГ'!$B:$B,0),MATCH('Пр. №1.2.'!F$3,'Состав ВТК-ВРГ'!$3:$3,0)),\"---\")","v":"---"},{"$f":"IFERROR(INDEX('Состав ВТК-ВРГ'!$1:$1048576,MATCH('Пр. №1.2.'!$E204,'Состав ВТК-ВРГ'!$B:$B,0),MATCH('Пр. №1.2.'!G$3,'Состав ВТК-ВРГ'!$3:$3,0)),\"---\")","v":"---"},{"$f":"IFERROR(INDEX(справочник!$G$1:$I$7,MATCH('Пр. №1.2.'!$G204,справочник!$G$1:$G$7,0),2),\"---\")","v":"---"},{"$f":"IFERROR(INDEX('Состав ВТК-ВРГ'!$1:$1048576,MATCH('Пр. №1.2.'!$E204,'Состав ВТК-ВРГ'!$B:$B,0),MATCH('Пр. №1.2.'!I$3,'Состав ВТК-ВРГ'!$3:$3,0)),\"---\")","v":"---"},{"$f":"SUMIFS('Пр. №3'!$BQ:$BQ,'Пр. №3'!$G:$G,'Пр. №1.2.'!$E204,'Пр. №3'!$D:$D,'Пр. №1.2.'!$B204)","v":0},{"$f":"IFERROR(INDEX('Пр. №4'!$1:$1048576,MATCH($I204,'Пр. №4'!$C:$C,0),MATCH('Пр. №3'!$D$5,'Пр. №4'!$9:$9,0)),\"---\")","v":"---"},null,"---"]
[null,null,{"$f":"IFERROR(INDEX(справочник!$G$1:$I$7,MATCH('Пр. №1.2.'!$G205,справочник!$G$1:$G$7,0),3),\"---\")","v":"---"},{"$f":"IFERROR(INDEX('Пр. №1'!$B$11:$C$33,MATCH('Пр. №1.2.'!$C205,'Пр. №1'!$B$11:$B$33,0),2),\"---\")","v":"---"},null,{"$f":"IFERROR(INDEX('Состав ВТК-ВРГ'!$1:$1048576,MATCH('Пр. №1.2.'!$E205,'Состав ВТК-ВРГ'!$B:$B,0),MATCH('Пр. №1.2.'!F$3,'Состав ВТК-ВРГ'!$3:$3,0)),\"---\")","v":"---"},{"$f":"IFERROR(INDEX('Состав ВТК-ВРГ'!$1:$1048576,MATCH('Пр. №1.2.'!$E205,'Состав ВТК-ВРГ'!$B:$B,0),MATCH('Пр. №1.2.'!G$3,'Состав ВТК-ВРГ'!$3:$3,0)),\"---\")","v":"---"},{"$f":"IFERROR(INDEX(справочник!$G$1:$I$7,MATCH('Пр. №1.2.'!$G205,справочник!$G$1:$G$7,0),2),\"---\")","v":"---"},{"$f":"IFERROR(INDEX('Состав ВТК-ВРГ'!$1:$1048576,MATCH('Пр. №1.2.'!$E205,'Состав ВТК-ВРГ'!$B:$B,0),MATCH('Пр. №1.2.'!I$3,'Состав ВТК-ВРГ'!$3:$3,0)),\"---\")","v":"---"},{"$f":"SUMIFS('Пр. №3'!$BQ:$BQ,'Пр. №3'!$G:$G,'Пр. №1.2.'!$E205,'Пр. №3'!$D:$D,'Пр. №1.2.'!$B205)","v":0},{"$f":"IFERROR(INDEX('Пр. №4'!$1:$1048576,MATCH($I205,'Пр. №4'!$C:$C,0),MATCH('Пр. №3'!$D$5,'Пр. №4'!$9:$9,0)),\"---\")","v":"---"},null,"---"]
[null,null,{"$f":"IFERROR(INDEX(справочник!$G$1:$I$7,MATCH('Пр. №1.2.'!$G206,справочник!$G$1:$G$7,0),3),\"---\")","v":"---"},{"$f":"IFERROR(INDEX('Пр. №1'!$B$11:$C$33,MATCH('Пр. №1.2.'!$C206,'Пр. №1'!$B$11:$B$33,0),2),\"---\")","v":"---"},null,{"$f":"IFERROR(INDEX('Состав ВТК-ВРГ'!$1:$1048576,MATCH('Пр. №1.2.'!$E206,'Состав ВТК-ВРГ'!$B:$B,0),MATCH('Пр. №1.2.'!F$3,'Состав ВТК-ВРГ'!$3:$3,0)),\"---\")","v":"---"},{"$f":"IFERROR(INDEX('Состав ВТК-ВРГ'!$1:$1048576,MATCH('Пр. №1.2.'!$E206,'Состав ВТК-ВРГ'!$B:$B,0),MATCH('Пр. №1.2.'!G$3,'Состав ВТК-ВРГ'!$3:$3,0)),\"---\")","v":"---"},{"$f":"IFERROR(INDEX(справочник!$G$1:$I$7,MATCH('Пр. №1.2.'!$G206,справочник!$G$1:$G$7,0),2),\"---\")","v":"---"},{"$f":"IFERROR(INDEX('Состав ВТК-ВРГ'!$1:$1048576,MATCH('Пр. №1.2.'!$E206,'Состав ВТК-ВРГ'!$B:$B,0),MATCH('Пр. №1.2.'!I$3,'Состав ВТК-ВРГ'!$3:$3,0)),\"---\")","v":"---"},{"$f":"SUMIFS('Пр. №3'!$BQ:$BQ,'Пр. №3'!$G:$G,'Пр. №1.2.'!$E206,'Пр. №3'!$D:$D,'Пр. №1.2.'!$B206)","v":0},{"$f":"IFERROR(INDEX('Пр. №4'!$1:$1048576,MATCH($I206,'Пр. №4'!$C:$C,0),MATCH('Пр. №3'!$D$5,'Пр. №4'!$9:$9,0)),\"---\")","v":"---"},null,"---"]
[null,null,{"$f":"IFERROR(INDEX(справочник!$G$1:$I$7,MATCH('Пр. №1.2.'!$G207,справочник!$G$1:$G$7,0),3),\"---\")","v":"---"},{"$f":"IFERROR(INDEX('Пр. №1'!$B$11:$C$33,MATCH('Пр. №1.2.'!$C207,'Пр. №1'!$B$11:$B$33,0),2),\"---\")","v":"---"},null,{"$f":"IFERROR(INDEX('Состав ВТК-ВРГ'!$1:$1048576,MATCH('Пр. №1.2.'!$E207,'Состав ВТК-ВРГ'!$B:$B,0),MATCH('Пр. №1.2.'!F$3,'Состав ВТК-ВРГ'!$3:$3,0)),\"---\")","v":"---"},{"$f":"IFERROR(INDEX('Состав ВТК-ВРГ'!$1:$1048576,MATCH('Пр. №1.2.'!$E207,'Состав ВТК-ВРГ'!$B:$B,0),MATCH('Пр. №1.2.'!G$3,'Состав ВТК-ВРГ'!$3:$3,0)),\"---\")","v":"---"},{"$f":"IFERROR(INDEX(справочник!$G$1:$I$7,MATCH('Пр. №1.2.'!$G207,справочник!$G$1:$G$7,0),2),\"---\")","v":"---"},{"$f":"IFERROR(INDEX('Состав ВТК-ВРГ'!$1:$1048576,MATCH('Пр. №1.2.'!$E207,'Состав ВТК-ВРГ'!$B:$B,0),MATCH('Пр. №1.2.'!I$3,'Состав ВТК-ВРГ'!$3:$3,0)),\"---\")","v":"---"},{"$f":"SUMIFS('Пр. №3'!$BQ:$BQ,'Пр. №3'!$G:$G,'Пр. №1.2.'!$E207,'Пр. №3'!$D:$D,'Пр. №1.2.'!$B207)","v":0},{"$f":"IFERROR(INDEX('Пр. №4'!$1:$1048576,MATCH($I207,'Пр. №4'!$C:$C,0),MATCH('Пр. №3'!$D$5,'Пр. №4'!$9:$9,0)),\"---\")","v":"---"},null,"---"]
[null,null,{"$f":"IFERROR(INDEX(справочник!$G$1:$I$7,MATCH('Пр. №1.2.'!$G208,справочник!$G$1:$G$7,0),3),\"---\")","v":"---"},{"$f":"IFERROR(INDEX('Пр. №1'!$B$11:$C$33,MATCH('Пр. №1.2.'!$C208,'Пр. №1'!$B$11:$B$33,0),2),\"---\")","v":"---"},null,{"$f":"IFERROR(INDEX('Состав ВТК-ВРГ'!$1:$1048576,MATCH('Пр. №1.2.'!$E208,'Состав ВТК-ВРГ'!$B:$B,0),MATCH('Пр. №1.2.'!F$3,'Состав ВТК-ВРГ'!$3:$3,0)),\"---\")","v":"---"},{"$f":"IFERROR(INDEX('Состав ВТК-ВРГ'!$1:$1048576,MATCH('Пр. №1.2.'!$E208,'Состав ВТК-ВРГ'!$B:$B,0),MATCH('Пр. №1.2.'!G$3,'Состав ВТК-ВРГ'!$3:$3,0)),\"---\")","v":"---"},{"$f":"IFERROR(INDEX(справочник!$G$1:$I$7,MATCH('Пр. №1.2.'!$G208,справочник!$G$1:$G$7,0),2),\"---\")","v":"---"},{"$f":"IFERROR(INDEX('Состав ВТК-ВРГ'!$1:$1048576,MATCH('Пр. №1.2.'!$E208,'Состав ВТК-ВРГ'!$B:$B,0),MATCH('Пр. №1.2.'!I$3,'Состав ВТК-ВРГ'!$3:$3,0)),\"---\")","v":"---"},{"$f":"SUMIFS('Пр. №3'!$BQ:$BQ,'Пр. №3'!$G:$G,'Пр. №1.2.'!$E208,'Пр. №3'!$D:$D,'Пр. №1.2.'!$B208)","v":0},{"$f":"IFERROR(INDEX('Пр. №4'!$1:$1048576,MATCH($I208,'Пр. №4'!$C:$C,0),MATCH('Пр. №3'!$D$5,'Пр. №4'!$9:$9,0)),\"---\")","v":"---"},null,"---"]
[null,null,{"$f":"IFERROR(INDEX(справочник!$G$1:$I$7,MATCH('Пр. №1.2.'!$G209,справочник!$G$1:$G$7,0),3),\"---\")","v":"---"},{"$f":"IFERROR(INDEX('Пр. №1'!$B$11:$C$33,MATCH('Пр. №1.2.'!$C209,'Пр. №1'!$B$11:$B$33,0),2),\"---\")","v":"---"},null,{"$f":"IFERROR(INDEX('Состав ВТК-ВРГ'!$1:$1048576,MATCH('Пр. №1.2.'!$E209,'Состав ВТК-ВРГ'!$B:$B,0),MATCH('Пр. №1.2.'!F$3,'Состав ВТК-ВРГ'!$3:$3,0)),\"---\")","v":"---"},{"$f":"IFERROR(INDEX('Состав ВТК-ВРГ'!$1:$1048576,MATCH('Пр. №1.2.'!$E209,'Состав ВТК-ВРГ'!$B:$B,0),MATCH('Пр. №1.2.'!G$3,'Состав ВТК-ВРГ'!$3:$3,0)),\"---\")","v":"---"},{"$f":"IFERROR(INDEX(справочник!$G$1:$I$7,MATCH('Пр. №1.2.'!$G209,справочник!$G$1:$G$7,0),2),\"---\")","v":"---"},{"$f":"IFERROR(INDEX('Состав ВТК-ВРГ'!$1:$1048576,MATCH('Пр. №1.2.'!$E209,'Состав ВТК-ВРГ'!$B:$B,0),MATCH('Пр. №1.2.'!I$3,'Состав ВТК-ВРГ'!$3:$3,0)),\"---\")","v":"---"},{"$f":"SUMIFS('Пр. №3'!$BQ:$BQ,'Пр. №3'!$G:$G,'Пр. №1.2.'!$E209,'Пр. №3'!$D:$D,'Пр. №1.2.'!$B209)","v":0},{"$f":"IFERROR(INDEX('Пр. №4'!$1:$1048576,MATCH($I209,'Пр. №4'!$C:$C,0),MATCH('Пр. №3'!$D$5,'Пр. №4'!$9:$9,0)),\"---\")","v":"---"},null,"---"]
[null,null,{"$f":"IFERROR(INDEX(справочник!$G$1:$I$7,MATCH('Пр. №1.2.'!$G210,справочник!$G$1:$G$7,0),3),\"---\")","v":"---"},{"$f":"IFERROR(INDEX('Пр. №1'!$B$11:$C$33,MATCH('Пр. №1.2.'!$C210,'Пр. №1'!$B$11:$B$33,0),2),\"---\")","v":"---"},null,{"$f":"IFERROR(INDEX('Состав ВТК-ВРГ'!$1:$1048576,MATCH('Пр. №1.2.'!$E210,'Состав ВТК-ВРГ'!$B:$B,0),MATCH('Пр. №1.2.'!F$3,'Состав ВТК-ВРГ'!$3:$3,0)),\"---\")","v":"---"},{"$f":"IFERROR(INDEX('Состав ВТК-ВРГ'!$1:$1048576,MATCH('Пр. №1.2.'!$E210,'Состав ВТК-ВРГ'!$B:$B,0),MATCH('Пр. №1.2.'!G$3,'Состав ВТК-ВРГ'!$3:$3,0)),\"---\")","v":"---"},{"$f":"IFERROR(INDEX(справочник!$G$1:$I$7,MATCH('Пр. №1.2.'!$G210,справочник!$G$1:$G$7,0),2),\"---\")","v":"---"},{"$f":"IFERROR(INDEX('Состав ВТК-ВРГ'!$1:$1048576,MATCH('Пр. №1.2.'!$E210,'Состав ВТК-ВРГ'!$B:$B,0),MATCH('Пр. №1.2.'!I$3,'Состав ВТК-ВРГ'!$3:$3,0)),\"---\")","v":"---"},{"$f":"SUMIFS('Пр. №3'!$BQ:$BQ,'Пр. №3'!$G:$G,'Пр. №1.2.'!$E210,'Пр. №3'!$D:$D,'Пр. №1.2.'!$B210)","v":0},{"$f":"IFERROR(INDEX('Пр. №4'!$1:$1048576,MATCH($I210,'Пр. №4'!$C:$C,0),MATCH('Пр. №3'!$D$5,'Пр. №4'!$9:$9,0)),\"---\")","v":"---"},null,"---"]
[null,null,{"$f":"IFERROR(INDEX(справочник!$G$1:$I$7,MATCH('Пр. №1.2.'!$G211,справочник!$G$1:$G$7,0),3),\"---\")","v":"---"},{"$f":"IFERROR(INDEX('Пр. №1'!$B$11:$C$33,MATCH('Пр. №1.2.'!$C211,'Пр. №1'!$B$11:$B$33,0),2),\"---\")","v":"---"},null,{"$f":"IFERROR(INDEX('Состав ВТК-ВРГ'!$1:$1048576,MATCH('Пр. №1.2.'!$E211,'Состав ВТК-ВРГ'!$B:$B,0),MATCH('Пр. №1.2.'!F$3,'Состав ВТК-ВРГ'!$3:$3,0)),\"---\")","v":"---"},{"$f":"IFERROR(INDEX('Состав ВТК-ВРГ'!$1:$1048576,MATCH('Пр. №1.2.'!$E211,'Состав ВТК-ВРГ'!$B:$B,0),MATCH('Пр. №1.2.'!G$3,'Состав ВТК-ВРГ'!$3:$3,0)),\"---\")","v":"---"},{"$f":"IFERROR(INDEX(справочник!$G$1:$I$7,MATCH('Пр. №1.2.'!$G211,справочник!$G$1:$G$7,0),2),\"---\")","v":"---"},{"$f":"IFERROR(INDEX('Состав ВТК-ВРГ'!$1:$1048576,MATCH('Пр. №1.2.'!$E211,'Состав ВТК-ВРГ'!$B:$B,0),MATCH('Пр. №1.2.'!I$3,'Состав ВТК-ВРГ'!$3:$3,0)),\"---\")","v":"---"},{"$f":"SUMIFS('Пр. №3'!$BQ:$BQ,'Пр. №3'!$G:$G,'Пр. №1.2.'!$E211,'Пр. №3'!$D:$D,'Пр. №1.2.'!$B211)","v":0},{"$f":"IFERROR(INDEX('Пр. №4'!$1:$1048576,MATCH($I211,'Пр. №4'!$C:$C,0),MATCH('Пр. №3'!$D$5,'Пр. №4'!$9:$9,0)),\"---\")","v":"---"},null,"---"]
[null,null,{"$f":"IFERROR(INDEX(справочник!$G$1:$I$7,MATCH('Пр. №1.2.'!$G212,справочник!$G$1:$G$7,0),3),\"---\")","v":"---"},{"$f":"IFERROR(INDEX('Пр. №1'!$B$11:$C$33,MATCH('Пр. №1.2.'!$C212,'Пр. №1'!$B$11:$B$33,0),2),\"---\")","v":"---"},null,{"$f":"IFERROR(INDEX('Состав ВТК-ВРГ'!$1:$1048576,MATCH('Пр. №1.2.'!$E212,'Состав ВТК-ВРГ'!$B:$B,0),MATCH('Пр. №1.2.'!F$3,'Состав ВТК-ВРГ'!$3:$3,0)),\"---\")","v":"---"},{"$f":"IFERROR(INDEX('Состав ВТК-ВРГ'!$1:$1048576,MATCH('Пр. №1.2.'!$E212,'Состав ВТК-ВРГ'!$B:$B,0),MATCH('Пр. №1.2.'!G$3,'Состав ВТК-ВРГ'!$3:$3,0)),\"---\")","v":"---"},{"$f":"IFERROR(INDEX(справочник!$G$1:$I$7,MATCH('Пр. №1.2.'!$G212,справочник!$G$1:$G$7,0),2),\"---\")","v":"---"},{"$f":"IFERROR(INDEX('Состав ВТК-ВРГ'!$1:$1048576,MATCH('Пр. №1.2.'!$E212,'Состав ВТК-ВРГ'!$B:$B,0),MATCH('Пр. №1.2.'!I$3,'Состав ВТК-ВРГ'!$3:$3,0)),\"---\")","v":"---"},{"$f":"SUMIFS('Пр. №3'!$BQ:$BQ,'Пр. №3'!$G:$G,'Пр. №1.2.'!$E212,'Пр. №3'!$D:$D,'Пр. №1.2.'!$B212)","v":0},{"$f":"IFERROR(INDEX('Пр. №4'!$1:$1048576,MATCH($I212,'Пр. №4'!$C:$C,0),MATCH('Пр. №3'!$D$5,'Пр. №4'!$9:$9,0)),\"---\")","v":"---"},null,"---"]
[null,null,{"$f":"IFERROR(INDEX(справочник!$G$1:$I$7,MATCH('Пр. №1.2.'!$G213,справочник!$G$1:$G$7,0),3),\"---\")","v":"---"},{"$f":"IFERROR(INDEX('Пр. №1'!$B$11:$C$33,MATCH('Пр. №1.2.'!$C213,'Пр. №1'!$B$11:$B$33,0),2),\"---\")","v":"---"},null,{"$f":"IFERROR(INDEX('Состав ВТК-ВРГ'!$1:$1048576,MATCH('Пр. №1.2.'!$E213,'Состав ВТК-ВРГ'!$B:$B,0),MATCH('Пр. №1.2.'!F$3,'Состав ВТК-ВРГ'!$3:$3,0)),\"---\")","v":"---"},{"$f":"IFERROR(INDEX('Состав ВТК-ВРГ'!$1:$1048576,MATCH('Пр. №1.2.'!$E213,'Состав ВТК-ВРГ'!$B:$B,0),MATCH('Пр. №1.2.'!G$3,'Состав ВТК-ВРГ'!$3:$3,0)),\"---\")","v":"---"},{"$f":"IFERROR(INDEX(справочник!$G$1:$I$7,MATCH('Пр. №1.2.'!$G213,справочник!$G$1:$G$7,0),2),\"---\")","v":"---"},{"$f":"IFERROR(INDEX('Состав ВТК-ВРГ'!$1:$1048576,MATCH('Пр. №1.2.'!$E213,'Состав ВТК-ВРГ'!$B:$B,0),MATCH('Пр. №1.2.'!I$3,'Состав ВТК-ВРГ'!$3:$3,0)),\"---\")","v":"---"},{"$f":"SUMIFS('Пр. №3'!$BQ:$BQ,'Пр. №3'!$G:$G,'Пр. №1.2.'!$E213,'Пр. №3'!$D:$D,'Пр. №1.2.'!$B213)","v":0},{"$f":"IFERROR(INDEX('Пр. №4'!$1:$1048576,MATCH($I213,'Пр. №4'!$C:$C,0),MATCH('Пр. №3'!$D$5,'Пр. №4'!$9:$9,0)),\"---\")","v":"---"},null,"---"]
[null,null,{"$f":"IFERROR(INDEX(справочник!$G$1:$I$7,MATCH('Пр. №1.2.'!$G214,справочник!$G$1:$G$7,0),3),\"---\")","v":"---"},{"$f":"IFERROR(INDEX('Пр. №1'!$B$11:$C$33,MATCH('Пр. №1.2.'!$C214,'Пр. №1'!$B$11:$B$33,0),2),\"---\")","v":"---"},null,{"$f":"IFERROR(INDEX('Состав ВТК-ВРГ'!$1:$1048576,MATCH('Пр. №1.2.'!$E214,'Состав ВТК-ВРГ'!$B:$B,0),MATCH('Пр. №1.2.'!F$3,'Состав ВТК-ВРГ'!$3:$3,0)),\"---\")","v":"---"},{"$f":"IFERROR(INDEX('Состав ВТК-ВРГ'!$1:$1048576,MATCH('Пр. №1.2.'!$E214,'Состав ВТК-ВРГ'!$B:$B,0),MATCH('Пр. №1.2.'!G$3,'Состав ВТК-ВРГ'!$3:$3,0)),\"---\")","v":"---"},{"$f":"IFERROR(INDEX(справочник!$G$1:$I$7,MATCH('Пр. №1.2.'!$G214,справочник!$G$1:$G$7,0),2),\"---\")","v":"---"},{"$f":"IFERROR(INDEX('Состав ВТК-ВРГ'!$1:$1048576,MATCH('Пр. №1.2.'!$E214,'Состав ВТК-ВРГ'!$B:$B,0),MATCH('Пр. №1.2.'!I$3,'Состав ВТК-ВРГ'!$3:$3,0)),\"---\")","v":"---"},{"$f":"SUMIFS('Пр. №3'!$BQ:$BQ,'Пр. №3'!$G:$G,'Пр. №1.2.'!$E214,'Пр. №3'!$D:$D,'Пр. №1.2.'!$B214)","v":0},{"$f":"IFERROR(INDEX('Пр. №4'!$1:$1048576,MATCH($I214,'Пр. №4'!$C:$C,0),MATCH('Пр. №3'!$D$5,'Пр. №4'!$9:$9,0)),\"---\")","v":"---"},null,"---"]
[null,null,{"$f":"IFERROR(INDEX(справочник!$G$1:$I$7,MATCH('Пр. №1.2.'!$G215,справочник!$G$1:$G$7,0),3),\"---\")","v":"---"},{"$f":"IFERROR(INDEX('Пр. №1'!$B$11:$C$33,MATCH('Пр. №1.2.'!$C215,'Пр. №1'!$B$11:$B$33,0),2),\"---\")","v":"---"},null,{"$f":"IFERROR(INDEX('Состав ВТК-ВРГ'!$1:$1048576,MATCH('Пр. №1.2.'!$E215,'Состав ВТК-ВРГ'!$B:$B,0),MATCH('Пр. №1.2.'!F$3,'Состав ВТК-ВРГ'!$3:$3,0)),\"---\")","v":"---"},{"$f":"IFERROR(INDEX('Состав ВТК-ВРГ'!$1:$1048576,MATCH('Пр. №1.2.'!$E215,'Состав ВТК-ВРГ'!$B:$B,0),MATCH('Пр. №1.2.'!G$3,'Состав ВТК-ВРГ'!$3:$3,0)),\"---\")","v":"---"},{"$f":"IFERROR(INDEX(справочник!$G$1:$I$7,MATCH('Пр. №1.2.'!$G215,справочник!$G$1:$G$7,0),2),\"---\")","v":"---"},{"$f":"IFERROR(INDEX('Состав ВТК-ВРГ'!$1:$1048576,MATCH('Пр. №1.2.'!$E215,'Состав ВТК-ВРГ'!$B:$B,0),MATCH('Пр. №1.2.'!I$3,'Состав ВТК-ВРГ'!$3:$3,0)),\"---\")","v":"---"},{"$f":"SUMIFS('Пр. №3'!$BQ:$BQ,'Пр. №3'!$G:$G,'Пр. №1.2.'!$E215,'Пр. №3'!$D:$D,'Пр. №1.2.'!$B215)","v":0},{"$f":"IFERROR(INDEX('Пр. №4'!$1:$1048576,MATCH($I215,'Пр. №4'!$C:$C,0),MATCH('Пр. №3'!$D$5,'Пр. №4'!$9:$9,0)),\"---\")","v":"---"},null,"---"]
[null,null,{"$f":"IFERROR(INDEX(справочник!$G$1:$I$7,MATCH('Пр. №1.2.'!$G216,справочник!$G$1:$G$7,0),3),\"---\")","v":"---"},{"$f":"IFERROR(INDEX('Пр. №1'!$B$11:$C$33,MATCH('Пр. №1.2.'!$C216,'Пр. №1'!$B$11:$B$33,0),2),\"---\")","v":"---"},null,{"$f":"IFERROR(INDEX('Состав ВТК-ВРГ'!$1:$1048576,MATCH('Пр. №1.2.'!$E216,'Состав ВТК-ВРГ'!$B:$B,0),MATCH('Пр. №1.2.'!F$3,'Состав ВТК-ВРГ'!$3:$3,0)),\"---\")","v":"---"},{"$f":"IFERROR(INDEX('Состав ВТК-ВРГ'!$1:$1048576,MATCH('Пр. №1.2.'!$E216,'Состав ВТК-ВРГ'!$B:$B,0),MATCH('Пр. №1.2.'!G$3,'Состав ВТК-ВРГ'!$3:$3,0)),\"---\")","v":"---"},{"$f":"IFERROR(INDEX(справочник!$G$1:$I$7,MATCH('Пр. №1.2.'!$G216,справочник!$G$1:$G$7,0),2),\"---\")","v":"---"},{"$f":"IFERROR(INDEX('Состав ВТК-ВРГ'!$1:$1048576,MATCH('Пр. №1.2.'!$E216,'Состав ВТК-ВРГ'!$B:$B,0),MATCH('Пр. №1.2.'!I$3,'Состав ВТК-ВРГ'!$3:$3,0)),\"---\")","v":"---"},{"$f":"SUMIFS('Пр. №3'!$BQ:$BQ,'Пр. №3'!$G:$G,'Пр. №1.2.'!$E216,'Пр. №3'!$D:$D,'Пр. №1.2.'!$B216)","v":0},{"$f":"IFERROR(INDEX('Пр. №4'!$1:$1048576,MATCH($I216,'Пр. №4'!$C:$C,0),MATCH('Пр. №3'!$D$5,'Пр. №4'!$9:$9,0)),\"---\")","v":"---"},null,"---"]
[null,null,{"$f":"IFERROR(INDEX(справочник!$G$1:$I$7,MATCH('Пр. №1.2.'!$G217,справочник!$G$1:$G$7,0),3),\"---\")","v":"---"},{"$f":"IFERROR(INDEX('Пр. №1'!$B$11:$C$33,MATCH('Пр. №1.2.'!$C217,'Пр. №1'!$B$11:$B$33,0),2),\"---\")","v":"---"},null,{"$f":"IFERROR(INDEX('Состав ВТК-ВРГ'!$1:$1048576,MATCH('Пр. №1.2.'!$E217,'Состав ВТК-ВРГ'!$B:$B,0),MATCH('Пр. №1.2.'!F$3,'Состав ВТК-ВРГ'!$3:$3,0)),\"---\")","v":"---"},{"$f":"IFERROR(INDEX('Состав ВТК-ВРГ'!$1:$1048576,MATCH('Пр. №1.2.'!$E217,'Состав ВТК-ВРГ'!$B:$B,0),MATCH('Пр. №1.2.'!G$3,'Состав ВТК-ВРГ'!$3:$3,0)),\"---\")","v":"---"},{"$f":"IFERROR(INDEX(справочник!$G$1:$I$7,MATCH('Пр. №1.2.'!$G217,справочник!$G$1:$G$7,0),2),\"---\")","v":"---"},{"$f":"IFERROR(INDEX('Состав ВТК-ВРГ'!$1:$1048576,MATCH('Пр. №1.2.'!$E217,'Состав ВТК-ВРГ'!$B:$B,0),MATCH('Пр. №1.2.'!I$3,'Состав ВТК-ВРГ'!$3:$3,0)),\"---\")","v":"---"},{"$f":"SUMIFS('Пр. №3'!$BQ:$BQ,'Пр. №3'!$G:$G,'Пр. №1.2.'!$E217,'Пр. №3'!$D:$D,'Пр. №1.2.'!$B217)","v":0},{"$f":"IFERROR(INDEX('Пр. №4'!$1:$1048576,MATCH($I217,'Пр. №4'!$C:$C,0),MATCH('Пр. №3'!$D$5,'Пр. №4'!$9:$9,0)),\"---\")","v":"---"},null,"---"]
[null,null,{"$f":"IFERROR(INDEX(справочник!$G$1:$I$7,MATCH('Пр. №1.2.'!$G218,справочник!$G$1:$G$7,0),3),\"---\")","v":"---"},{"$f":"IFERROR(INDEX('Пр. №1'!$B$11:$C$33,MATCH('Пр. №1.2.'!$C218,'Пр. №1'!$B$11:$B$33,0),2),\"---\")","v":"---"},null,{"$f":"IFERROR(INDEX('Состав ВТК-ВРГ'!$1:$1048576,MATCH('Пр. №1.2.'!$E218,'Состав ВТК-ВРГ'!$B:$B,0),MATCH('Пр. №1.2.'!F$3,'Состав ВТК-ВРГ'!$3:$3,0)),\"---\")","v":"---"},{"$f":"IFERROR(INDEX('Состав ВТК-ВРГ'!$1:$1048576,MATCH('Пр. №1.2.'!$E218,'Состав ВТК-ВРГ'!$B:$B,0),MATCH('Пр. №1.2.'!G$3,'Состав ВТК-ВРГ'!$3:$3,0)),\"---\")","v":"---"},{"$f":"IFERROR(INDEX(справочник!$G$1:$I$7,MATCH('Пр. №1.2.'!$G218,справочник!$G$1:$G$7,0),2),\"---\")","v":"---"},{"$f":"IFERROR(INDEX('Состав ВТК-ВРГ'!$1:$1048576,MATCH('Пр. №1.2.'!$E218,'Состав ВТК-ВРГ'!$B:$B,0),MATCH('Пр. №1.2.'!I$3,'Состав ВТК-ВРГ'!$3:$3,0)),\"---\")","v":"---"},{"$f":"SUMIFS('Пр. №3'!$BQ:$BQ,'Пр. №3'!$G:$G,'Пр. №1.2.'!$E218,'Пр. №3'!$D:$D,'Пр. №1.2.'!$B218)","v":0},{"$f":"IFERROR(INDEX('Пр. №4'!$1:$1048576,MATCH($I218,'Пр. №4'!$C:$C,0),MATCH('Пр. №3'!$D$5,'Пр. №4'!$9:$9,0)),\"---\")","v":"---"},null,"---"]
[null,null,{"$f":"IFERROR(INDEX(справочник!$G$1:$I$7,MATCH('Пр. №1.2.'!$G219,справочник!$G$1:$G$7,0),3),\"---\")","v":"---"},{"$f":"IFERROR(INDEX('Пр. №1'!$B$11:$C$33,MATCH('Пр. №1.2.'!$C219,'Пр. №1'!$B$11:$B$33,0),2),\"---\")","v":"---"},null,{"$f":"IFERROR(INDEX('Состав ВТК-ВРГ'!$1:$1048576,MATCH('Пр. №1.2.'!$E219,'Состав ВТК-ВРГ'!$B:$B,0),MATCH('Пр. №1.2.'!F$3,'Состав ВТК-ВРГ'!$3:$3,0)),\"---\")","v":"---"},{"$f":"IFERROR(INDEX('Состав ВТК-ВРГ'!$1:$1048576,MATCH('Пр. №1.2.'!$E219,'Состав ВТК-ВРГ'!$B:$B,0),MATCH('Пр. №1.2.'!G$3,'Состав ВТК-ВРГ'!$3:$3,0)),\"---\")","v":"---"},{"$f":"IFERROR(INDEX(справочник!$G$1:$I$7,MATCH('Пр. №1.2.'!$G219,справочник!$G$1:$G$7,0),2),\"---\")","v":"---"},{"$f":"IFERROR(INDEX('Состав ВТК-ВРГ'!$1:$1048576,MATCH('Пр. №1.2.'!$E219,'Состав ВТК-ВРГ'!$B:$B,0),MATCH('Пр. №1.2.'!I$3,'Состав ВТК-ВРГ'!$3:$3,0)),\"---\")","v":"---"},{"$f":"SUMIFS('Пр. №3'!$BQ:$BQ,'Пр. №3'!$G:$G,'Пр. №1.2.'!$E219,'Пр. №3'!$D:$D,'Пр. №1.2.'!$B219)","v":0},{"$f":"IFERROR(INDEX('Пр. №4'!$1:$1048576,MATCH($I219,'Пр. №4'!$C:$C,0),MATCH('Пр. №3'!$D$5,'Пр. №4'!$9:$9,0)),\"---\")","v":"---"},null,"---"]
[null,null,{"$f":"IFERROR(INDEX(справочник!$G$1:$I$7,MATCH('Пр. №1.2.'!$G220,справочник!$G$1:$G$7,0),3),\"---\")","v":"---"},{"$f":"IFERROR(INDEX('Пр. №1'!$B$11:$C$33,MATCH('Пр. №1.2.'!$C220,'Пр. №1'!$B$11:$B$33,0),2),\"---\")","v":"---"},null,{"$f":"IFERROR(INDEX('Состав ВТК-ВРГ'!$1:$1048576,MATCH('Пр. №1.2.'!$E220,'Состав ВТК-ВРГ'!$B:$B,0),MATCH('Пр. №1.2.'!F$3,'Состав ВТК-ВРГ'!$3:$3,0)),\"---\")","v":"---"},{"$f":"IFERROR(INDEX('Состав ВТК-ВРГ'!$1:$1048576,MATCH('Пр. №1.2.'!$E220,'Состав ВТК-ВРГ'!$B:$B,0),MATCH('Пр. №1.2.'!G$3,'Состав ВТК-ВРГ'!$3:$3,0)),\"---\")","v":"---"},{"$f":"IFERROR(INDEX(справочник!$G$1:$I$7,MATCH('Пр. №1.2.'!$G220,справочник!$G$1:$G$7,0),2),\"---\")","v":"---"},{"$f":"IFERROR(INDEX('Состав ВТК-ВРГ'!$1:$1048576,MATCH('Пр. №1.2.'!$E220,'Состав ВТК-ВРГ'!$B:$B,0),MATCH('Пр. №1.2.'!I$3,'Состав ВТК-ВРГ'!$3:$3,0)),\"---\")","v":"---"},{"$f":"SUMIFS('Пр. №3'!$BQ:$BQ,'Пр. №3'!$G:$G,'Пр. №1.2.'!$E220,'Пр. №3'!$D:$D,'Пр. №1.2.'!$B220)","v":0},{"$f":"IFERROR(INDEX('Пр. №4'!$1:$1048576,MATCH($I220,'Пр. №4'!$C:$C,0),MATCH('Пр. №3'!$D$5,'Пр. №4'!$9:$9,0)),\"---\")","v":"---"},null,"---"]
[null,null,{"$f":"IFERROR(INDEX(справочник!$G$1:$I$7,MATCH('Пр. №1.2.'!$G221,справочник!$G$1:$G$7,0),3),\"---\")","v":"---"},{"$f":"IFERROR(INDEX('Пр. №1'!$B$11:$C$33,MATCH('Пр. №1.2.'!$C221,'Пр. №1'!$B$11:$B$33,0),2),\"---\")","v":"---"},null,{"$f":"IFERROR(INDEX('Состав ВТК-ВРГ'!$1:$1048576,MATCH('Пр. №1.2.'!$E221,'Состав ВТК-ВРГ'!$B:$B,0),MATCH('Пр. №1.2.'!F$3,'Состав ВТК-ВРГ'!$3:$3,0)),\"---\")","v":"---"},{"$f":"IFERROR(INDEX('Состав ВТК-ВРГ'!$1:$1048576,MATCH('Пр. №1.2.'!$E221,'Состав ВТК-ВРГ'!$B:$B,0),MATCH('Пр. №1.2.'!G$3,'Состав ВТК-ВРГ'!$3:$3,0)),\"---\")","v":"---"},{"$f":"IFERROR(INDEX(справочник!$G$1:$I$7,MATCH('Пр. №1.2.'!$G221,справочник!$G$1:$G$7,0),2),\"---\")","v":"---"},{"$f":"IFERROR(INDEX('Состав ВТК-ВРГ'!$1:$1048576,MATCH('Пр. №1.2.'!$E221,'Состав ВТК-ВРГ'!$B:$B,0),MATCH('Пр. №1.2.'!I$3,'Состав ВТК-ВРГ'!$3:$3,0)),\"---\")","v":"---"},{"$f":"SUMIFS('Пр. №3'!$BQ:$BQ,'Пр. №3'!$G:$G,'Пр. №1.2.'!$E221,'Пр. №3'!$D:$D,'Пр. №1.2.'!$B221)","v":0},{"$f":"IFERROR(INDEX('Пр. №4'!$1:$1048576,MATCH($I221,'Пр. №4'!$C:$C,0),MATCH('Пр. №3'!$D$5,'Пр. №4'!$9:$9,0)),\"---\")","v":"---"},null,"---"]
[null,null,{"$f":"IFERROR(INDEX(справочник!$G$1:$I$7,MATCH('Пр. №1.2.'!$G222,справочник!$G$1:$G$7,0),3),\"---\")","v":"---"},{"$f":"IFERROR(INDEX('Пр. №1'!$B$11:$C$33,MATCH('Пр. №1.2.'!$C222,'Пр. №1'!$B$11:$B$33,0),2),\"---\")","v":"---"},null,{"$f":"IFERROR(INDEX('Состав ВТК-ВРГ'!$1:$1048576,MATCH('Пр. №1.2.'!$E222,'Состав ВТК-ВРГ'!$B:$B,0),MATCH('Пр. №1.2.'!F$3,'Состав ВТК-ВРГ'!$3:$3,0)),\"---\")","v":"---"},{"$f":"IFERROR(INDEX('Состав ВТК-ВРГ'!$1:$1048576,MATCH('Пр. №1.2.'!$E222,'Состав ВТК-ВРГ'!$B:$B,0),MATCH('Пр. №1.2.'!G$3,'Состав ВТК-ВРГ'!$3:$3,0)),\"---\")","v":"---"},{"$f":"IFERROR(INDEX(справочник!$G$1:$I$7,MATCH('Пр. №1.2.'!$G222,справочник!$G$1:$G$7,0),2),\"---\")","v":"---"},{"$f":"IFERROR(INDEX('Состав ВТК-ВРГ'!$1:$1048576,MATCH('Пр. №1.2.'!$E222,'Состав ВТК-ВРГ'!$B:$B,0),MATCH('Пр. №1.2.'!I$3,'Состав ВТК-ВРГ'!$3:$3,0)),\"---\")","v":"---"},{"$f":"SUMIFS('Пр. №3'!$BQ:$BQ,'Пр. №3'!$G:$G,'Пр. №1.2.'!$E222,'Пр. №3'!$D:$D,'Пр. №1.2.'!$B222)","v":0},{"$f":"IFERROR(INDEX('Пр. №4'!$1:$1048576,MATCH($I222,'Пр. №4'!$C:$C,0),MATCH('Пр. №3'!$D$5,'Пр. №4'!$9:$9,0)),\"---\")","v":"---"},null,"---"]
[null,null,{"$f":"IFERROR(INDEX(справочник!$G$1:$I$7,MATCH('Пр. №1.2.'!$G223,справочник!$G$1:$G$7,0),3),\"---\")","v":"---"},{"$f":"IFERROR(INDEX('Пр. №1'!$B$11:$C$33,MATCH('Пр. №1.2.'!$C223,'Пр. №1'!$B$11:$B$33,0),2),\"---\")","v":"---"},null,{"$f":"IFERROR(INDEX('Состав ВТК-ВРГ'!$1:$1048576,MATCH('Пр. №1.2.'!$E223,'Состав ВТК-ВРГ'!$B:$B,0),MATCH('Пр. №1.2.'!F$3,'Состав ВТК-ВРГ'!$3:$3,0)),\"---\")","v":"---"},{"$f":"IFERROR(INDEX('Состав ВТК-ВРГ'!$1:$1048576,MATCH('Пр. №1.2.'!$E223,'Состав ВТК-ВРГ'!$B:$B,0),MATCH('Пр. №1.2.'!G$3,'Состав ВТК-ВРГ'!$3:$3,0)),\"---\")","v":"---"},{"$f":"IFERROR(INDEX(справочник!$G$1:$I$7,MATCH('Пр. №1.2.'!$G223,справочник!$G$1:$G$7,0),2),\"---\")","v":"---"},{"$f":"IFERROR(INDEX('Состав ВТК-ВРГ'!$1:$1048576,MATCH('Пр. №1.2.'!$E223,'Состав ВТК-ВРГ'!$B:$B,0),MATCH('Пр. №1.2.'!I$3,'Состав ВТК-ВРГ'!$3:$3,0)),\"---\")","v":"---"},{"$f":"SUMIFS('Пр. №3'!$BQ:$BQ,'Пр. №3'!$G:$G,'Пр. №1.2.'!$E223,'Пр. №3'!$D:$D,'Пр. №1.2.'!$B223)","v":0},{"$f":"IFERROR(INDEX('Пр. №4'!$1:$1048576,MATCH($I223,'Пр. №4'!$C:$C,0),MATCH('Пр. №3'!$D$5,'Пр. №4'!$9:$9,0)),\"---\")","v":"---"},null,"---"]
[null,null,{"$f":"IFERROR(INDEX(справочник!$G$1:$I$7,MATCH('Пр. №1.2.'!$G224,справочник!$G$1:$G$7,0),3),\"---\")","v":"---"},{"$f":"IFERROR(INDEX('Пр. №1'!$B$11:$C$33,MATCH('Пр. №1.2.'!$C224,'Пр. №1'!$B$11:$B$33,0),2),\"---\")","v":"---"},null,{"$f":"IFERROR(INDEX('Состав ВТК-ВРГ'!$1:$1048576,MATCH('Пр. №1.2.'!$E224,'Состав ВТК-ВРГ'!$B:$B,0),MATCH('Пр. №1.2.'!F$3,'Состав ВТК-ВРГ'!$3:$3,0)),\"---\")","v":"---"},{"$f":"IFERROR(INDEX('Состав ВТК-ВРГ'!$1:$1048576,MATCH('Пр. №1.2.'!$E224,'Состав ВТК-ВРГ'!$B:$B,0),MATCH('Пр. №1.2.'!G$3,'Состав ВТК-ВРГ'!$3:$3,0)),\"---\")","v":"---"},{"$f":"IFERROR(INDEX(справочник!$G$1:$I$7,MATCH('Пр. №1.2.'!$G224,справочник!$G$1:$G$7,0),2),\"---\")","v":"---"},{"$f":"IFERROR(INDEX('Состав ВТК-ВРГ'!$1:$1048576,MATCH('Пр. №1.2.'!$E224,'Состав ВТК-ВРГ'!$B:$B,0),MATCH('Пр. №1.2.'!I$3,'Состав ВТК-ВРГ'!$3:$3,0)),\"---\")","v":"---"},{"$f":"SUMIFS('Пр. №3'!$BQ:$BQ,'Пр. №3'!$G:$G,'Пр. №1.2.'!$E224,'Пр. №3'!$D:$D,'Пр. №1.2.'!$B224)","v":0},{"$f":"IFERROR(INDEX('Пр. №4'!$1:$1048576,MATCH($I224,'Пр. №4'!$C:$C,0),MATCH('Пр. №3'!$D$5,'Пр. №4'!$9:$9,0)),\"---\")","v":"---"},null,"---"]
[null,null,{"$f":"IFERROR(INDEX(справочник!$G$1:$I$7,MATCH('Пр. №1.2.'!$G225,справочник!$G$1:$G$7,0),3),\"---\")","v":"---"},{"$f":"IFERROR(INDEX('Пр. №1'!$B$11:$C$33,MATCH('Пр. №1.2.'!$C225,'Пр. №1'!$B$11:$B$33,0),2),\"---\")","v":"---"},null,{"$f":"IFERROR(INDEX('Состав ВТК-ВРГ'!$1:$1048576,MATCH('Пр. №1.2.'!$E225,'Состав ВТК-ВРГ'!$B:$B,0),MATCH('Пр. №1.2.'!F$3,'Состав ВТК-ВРГ'!$3:$3,0)),\"---\")","v":"---"},{"$f":"IFERROR(INDEX('Состав ВТК-ВРГ'!$1:$1048576,MATCH('Пр. №1.2.'!$E225,'Состав ВТК-ВРГ'!$B:$B,0),MATCH('Пр. №1.2.'!G$3,'Состав ВТК-ВРГ'!$3:$3,0)),\"---\")","v":"---"},{"$f":"IFERROR(INDEX(справочник!$G$1:$I$7,MATCH('Пр. №1.2.'!$G225,справочник!$G$1:$G$7,0),2),\"---\")","v":"---"},{"$f":"IFERROR(INDEX('Состав ВТК-ВРГ'!$1:$1048576,MATCH('Пр. №1.2.'!$E225,'Состав ВТК-ВРГ'!$B:$B,0),MATCH('Пр. №1.2.'!I$3,'Состав ВТК-ВРГ'!$3:$3,0)),\"---\")","v":"---"},{"$f":"SUMIFS('Пр. №3'!$BQ:$BQ,'Пр. №3'!$G:$G,'Пр. №1.2.'!$E225,'Пр. №3'!$D:$D,'Пр. №1.2.'!$B225)","v":0},{"$f":"IFERROR(INDEX('Пр. №4'!$1:$1048576,MATCH($I225,'Пр. №4'!$C:$C,0),MATCH('Пр. №3'!$D$5,'Пр. №4'!$9:$9,0)),\"---\")","v":"---"},null,"---"]
[null,null,{"$f":"IFERROR(INDEX(справочник!$G$1:$I$7,MATCH('Пр. №1.2.'!$G226,справочник!$G$1:$G$7,0),3),\"---\")","v":"---"},{"$f":"IFERROR(INDEX('Пр. №1'!$B$11:$C$33,MATCH('Пр. №1.2.'!$C226,'Пр. №1'!$B$11:$B$33,0),2),\"---\")","v":"---"},null,{"$f":"IFERROR(INDEX('Состав ВТК-ВРГ'!$1:$1048576,MATCH('Пр. №1.2.'!$E226,'Состав ВТК-ВРГ'!$B:$B,0),MATCH('Пр. №1.2.'!F$3,'Состав ВТК-ВРГ'!$3:$3,0)),\"---\")","v":"---"},{"$f":"IFERROR(INDEX('Состав ВТК-ВРГ'!$1:$1048576,MATCH('Пр. №1.2.'!$E226,'Состав ВТК-ВРГ'!$B:$B,0),MATCH('Пр. №1.2.'!G$3,'Состав ВТК-ВРГ'!$3:$3,0)),\"---\")","v":"---"},{"$f":"IFERROR(INDEX(справочник!$G$1:$I$7,MATCH('Пр. №1.2.'!$G226,справочник!$G$1:$G$7,0),2),\"---\")","v":"---"},{"$f":"IFERROR(INDEX('Состав ВТК-ВРГ'!$1:$1048576,MATCH('Пр. №1.2.'!$E226,'Состав ВТК-ВРГ'!$B:$B,0),MATCH('Пр. №1.2.'!I$3,'Состав ВТК-ВРГ'!$3:$3,0)),\"---\")","v":"---"},{"$f":"SUMIFS('Пр. №3'!$BQ:$BQ,'Пр. №3'!$G:$G,'Пр. №1.2.'!$E226,'Пр. №3'!$D:$D,'Пр. №1.2.'!$B226)","v":0},{"$f":"IFERROR(INDEX('Пр. №4'!$1:$1048576,MATCH($I226,'Пр. №4'!$C:$C,0),MATCH('Пр. №3'!$D$5,'Пр. №4'!$9:$9,0)),\"---\")","v":"---"},null,"---"]
[null,null,{"$f":"IFERROR(INDEX(справочник!$G$1:$I$7,MATCH('Пр. №1.2.'!$G227,справочник!$G$1:$G$7,0),3),\"---\")","v":"---"},{"$f":"IFERROR(INDEX('Пр. №1'!$B$11:$C$33,MATCH('Пр. №1.2.'!$C227,'Пр. №1'!$B$11:$B$33,0),2),\"---\")","v":"---"},null,{"$f":"IFERROR(INDEX('Состав ВТК-ВРГ'!$1:$1048576,MATCH('Пр. №1.2.'!$E227,'Состав ВТК-ВРГ'!$B:$B,0),MATCH('Пр. №1.2.'!F$3,'Состав ВТК-ВРГ'!$3:$3,0)),\"---\")","v":"---"},{"$f":"IFERROR(INDEX('Состав ВТК-ВРГ'!$1:$1048576,MATCH('Пр. №1.2.'!$E227,'Состав ВТК-ВРГ'!$B:$B,0),MATCH('Пр. №1.2.'!G$3,'Состав ВТК-ВРГ'!$3:$3,0)),\"---\")","v":"---"},{"$f":"IFERROR(INDEX(справочник!$G$1:$I$7,MATCH('Пр. №1.2.'!$G227,справочник!$G$1:$G$7,0),2),\"---\")","v":"---"},{"$f":"IFERROR(INDEX('Состав ВТК-ВРГ'!$1:$1048576,MATCH('Пр. №1.2.'!$E227,'Состав ВТК-ВРГ'!$B:$B,0),MATCH('Пр. №1.2.'!I$3,'Состав ВТК-ВРГ'!$3:$3,0)),\"---\")","v":"---"},{"$f":"SUMIFS('Пр. №3'!$BQ:$BQ,'Пр. №3'!$G:$G,'Пр. №1.2.'!$E227,'Пр. №3'!$D:$D,'Пр. №1.2.'!$B227)","v":0},{"$f":"IFERROR(INDEX('Пр. №4'!$1:$1048576,MATCH($I227,'Пр. №4'!$C:$C,0),MATCH('Пр. №3'!$D$5,'Пр. №4'!$9:$9,0)),\"---\")","v":"---"},null,"---"]
[null,null,{"$f":"IFERROR(INDEX(справочник!$G$1:$I$7,MATCH('Пр. №1.2.'!$G228,справочник!$G$1:$G$7,0),3),\"---\")","v":"---"},{"$f":"IFERROR(INDEX('Пр. №1'!$B$11:$C$33,MATCH('Пр. №1.2.'!$C228,'Пр. №1'!$B$11:$B$33,0),2),\"---\")","v":"---"},null,{"$f":"IFERROR(INDEX('Состав ВТК-ВРГ'!$1:$1048576,MATCH('Пр. №1.2.'!$E228,'Состав ВТК-ВРГ'!$B:$B,0),MATCH('Пр. №1.2.'!F$3,'Состав ВТК-ВРГ'!$3:$3,0)),\"---\")","v":"---"},{"$f":"IFERROR(INDEX('Состав ВТК-ВРГ'!$1:$1048576,MATCH('Пр. №1.2.'!$E228,'Состав ВТК-ВРГ'!$B:$B,0),MATCH('Пр. №1.2.'!G$3,'Состав ВТК-ВРГ'!$3:$3,0)),\"---\")","v":"---"},{"$f":"IFERROR(INDEX(справочник!$G$1:$I$7,MATCH('Пр. №1.2.'!$G228,справочник!$G$1:$G$7,0),2),\"---\")","v":"---"},{"$f":"IFERROR(INDEX('Состав ВТК-ВРГ'!$1:$1048576,MATCH('Пр. №1.2.'!$E228,'Состав ВТК-ВРГ'!$B:$B,0),MATCH('Пр. №1.2.'!I$3,'Состав ВТК-ВРГ'!$3:$3,0)),\"---\")","v":"---"},{"$f":"SUMIFS('Пр. №3'!$BQ:$BQ,'Пр. №3'!$G:$G,'Пр. №1.2.'!$E228,'Пр. №3'!$D:$D,'Пр. №1.2.'!$B228)","v":0},{"$f":"IFERROR(INDEX('Пр. №4'!$1:$1048576,MATCH($I228,'Пр. №4'!$C:$C,0),MATCH('Пр. №3'!$D$5,'Пр. №4'!$9:$9,0)),\"---\")","v":"---"},null,"---"]
[null,null,{"$f":"IFERROR(INDEX(справочник!$G$1:$I$7,MATCH('Пр. №1.2.'!$G229,справочник!$G$1:$G$7,0),3),\"---\")","v":"---"},{"$f":"IFERROR(INDEX('Пр. №1'!$B$11:$C$33,MATCH('Пр. №1.2.'!$C229,'Пр. №1'!$B$11:$B$33,0),2),\"---\")","v":"---"},null,{"$f":"IFERROR(INDEX('Состав ВТК-ВРГ'!$1:$1048576,MATCH('Пр. №1.2.'!$E229,'Состав ВТК-ВРГ'!$B:$B,0),MATCH('Пр. №1.2.'!F$3,'Состав ВТК-ВРГ'!$3:$3,0)),\"---\")","v":"---"},{"$f":"IFERROR(INDEX('Состав ВТК-ВРГ'!$1:$1048576,MATCH('Пр. №1.2.'!$E229,'Состав ВТК-ВРГ'!$B:$B,0),MATCH('Пр. №1.2.'!G$3,'Состав ВТК-ВРГ'!$3:$3,0)),\"---\")","v":"---"},{"$f":"IFERROR(INDEX(справочник!$G$1:$I$7,MATCH('Пр. №1.2.'!$G229,справочник!$G$1:$G$7,0),2),\"---\")","v":"---"},{"$f":"IFERROR(INDEX('Состав ВТК-ВРГ'!$1:$1048576,MATCH('Пр. №1.2.'!$E229,'Состав ВТК-ВРГ'!$B:$B,0),MATCH('Пр. №1.2.'!I$3,'Состав ВТК-ВРГ'!$3:$3,0)),\"---\")","v":"---"},{"$f":"SUMIFS('Пр. №3'!$BQ:$BQ,'Пр. №3'!$G:$G,'Пр. №1.2.'!$E229,'Пр. №3'!$D:$D,'Пр. №1.2.'!$B229)","v":0},{"$f":"IFERROR(INDEX('Пр. №4'!$1:$1048576,MATCH($I229,'Пр. №4'!$C:$C,0),MATCH('Пр. №3'!$D$5,'Пр. №4'!$9:$9,0)),\"---\")","v":"---"},null,"---"]
[null,null,{"$f":"IFERROR(INDEX(справочник!$G$1:$I$7,MATCH('Пр. №1.2.'!$G230,справочник!$G$1:$G$7,0),3),\"---\")","v":"---"},{"$f":"IFERROR(INDEX('Пр. №1'!$B$11:$C$33,MATCH('Пр. №1.2.'!$C230,'Пр. №1'!$B$11:$B$33,0),2),\"---\")","v":"---"},null,{"$f":"IFERROR(INDEX('Состав ВТК-ВРГ'!$1:$1048576,MATCH('Пр. №1.2.'!$E230,'Состав ВТК-ВРГ'!$B:$B,0),MATCH('Пр. №1.2.'!F$3,'Состав ВТК-ВРГ'!$3:$3,0)),\"---\")","v":"---"},{"$f":"IFERROR(INDEX('Состав ВТК-ВРГ'!$1:$1048576,MATCH('Пр. №1.2.'!$E230,'Состав ВТК-ВРГ'!$B:$B,0),MATCH('Пр. №1.2.'!G$3,'Состав ВТК-ВРГ'!$3:$3,0)),\"---\")","v":"---"},{"$f":"IFERROR(INDEX(справочник!$G$1:$I$7,MATCH('Пр. №1.2.'!$G230,справочник!$G$1:$G$7,0),2),\"---\")","v":"---"},{"$f":"IFERROR(INDEX('Состав ВТК-ВРГ'!$1:$1048576,MATCH('Пр. №1.2.'!$E230,'Состав ВТК-ВРГ'!$B:$B,0),MATCH('Пр. №1.2.'!I$3,'Состав ВТК-ВРГ'!$3:$3,0)),\"---\")","v":"---"},{"$f":"SUMIFS('Пр. №3'!$BQ:$BQ,'Пр. №3'!$G:$G,'Пр. №1.2.'!$E230,'Пр. №3'!$D:$D,'Пр. №1.2.'!$B230)","v":0},{"$f":"IFERROR(INDEX('Пр. №4'!$1:$1048576,MATCH($I230,'Пр. №4'!$C:$C,0),MATCH('Пр. №3'!$D$5,'Пр. №4'!$9:$9,0)),\"---\")","v":"---"},null,"---"]
[null,null,{"$f":"IFERROR(INDEX(справочник!$G$1:$I$7,MATCH('Пр. №1.2.'!$G231,справочник!$G$1:$G$7,0),3),\"---\")","v":"---"},{"$f":"IFERROR(INDEX('Пр. №1'!$B$11:$C$33,MATCH('Пр. №1.2.'!$C231,'Пр. №1'!$B$11:$B$33,0),2),\"---\")","v":"---"},null,{"$f":"IFERROR(INDEX('Состав ВТК-ВРГ'!$1:$1048576,MATCH('Пр. №1.2.'!$E231,'Состав ВТК-ВРГ'!$B:$B,0),MATCH('Пр. №1.2.'!F$3,'Состав ВТК-ВРГ'!$3:$3,0)),\"---\")","v":"---"},{"$f":"IFERROR(INDEX('Состав ВТК-ВРГ'!$1:$1048576,MATCH('Пр. №1.2.'!$E231,'Состав ВТК-ВРГ'!$B:$B,0),MATCH('Пр. №1.2.'!G$3,'Состав ВТК-ВРГ'!$3:$3,0)),\"---\")","v":"---"},{"$f":"IFERROR(INDEX(справочник!$G$1:$I$7,MATCH('Пр. №1.2.'!$G231,справочник!$G$1:$G$7,0),2),\"---\")","v":"---"},{"$f":"IFERROR(INDEX('Состав ВТК-ВРГ'!$1:$1048576,MATCH('Пр. №1.2.'!$E231,'Состав ВТК-ВРГ'!$B:$B,0),MATCH('Пр. №1.2.'!I$3,'Состав ВТК-ВРГ'!$3:$3,0)),\"---\")","v":"---"},{"$f":"SUMIFS('Пр. №3'!$BQ:$BQ,'Пр. №3'!$G:$G,'Пр. №1.2.'!$E231,'Пр. №3'!$D:$D,'Пр. №1.2.'!$B231)","v":0},{"$f":"IFERROR(INDEX('Пр. №4'!$1:$1048576,MATCH($I231,'Пр. №4'!$C:$C,0),MATCH('Пр. №3'!$D$5,'Пр. №4'!$9:$9,0)),\"---\")","v":"---"},null,"---"]
[null,null,{"$f":"IFERROR(INDEX(справочник!$G$1:$I$7,MATCH('Пр. №1.2.'!$G232,справочник!$G$1:$G$7,0),3),\"---\")","v":"---"},{"$f":"IFERROR(INDEX('Пр. №1'!$B$11:$C$33,MATCH('Пр. №1.2.'!$C232,'Пр. №1'!$B$11:$B$33,0),2),\"---\")","v":"---"},null,{"$f":"IFERROR(INDEX('Состав ВТК-ВРГ'!$1:$1048576,MATCH('Пр. №1.2.'!$E232,'Состав ВТК-ВРГ'!$B:$B,0),MATCH('Пр. №1.2.'!F$3,'Состав ВТК-ВРГ'!$3:$3,0)),\"---\")","v":"---"},{"$f":"IFERROR(INDEX('Состав ВТК-ВРГ'!$1:$1048576,MATCH('Пр. №1.2.'!$E232,'Состав ВТК-ВРГ'!$B:$B,0),MATCH('Пр. №1.2.'!G$3,'Состав ВТК-ВРГ'!$3:$3,0)),\"---\")","v":"---"},{"$f":"IFERROR(INDEX(справочник!$G$1:$I$7,MATCH('Пр. №1.2.'!$G232,справочник!$G$1:$G$7,0),2),\"---\")","v":"---"},{"$f":"IFERROR(INDEX('Состав ВТК-ВРГ'!$1:$1048576,MATCH('Пр. №1.2.'!$E232,'Состав ВТК-ВРГ'!$B:$B,0),MATCH('Пр. №1.2.'!I$3,'Состав ВТК-ВРГ'!$3:$3,0)),\"---\")","v":"---"},{"$f":"SUMIFS('Пр. №3'!$BQ:$BQ,'Пр. №3'!$G:$G,'Пр. №1.2.'!$E232,'Пр. №3'!$D:$D,'Пр. №1.2.'!$B232)","v":0},{"$f":"IFERROR(INDEX('Пр. №4'!$1:$1048576,MATCH($I232,'Пр. №4'!$C:$C,0),MATCH('Пр. №3'!$D$5,'Пр. №4'!$9:$9,0)),\"---\")","v":"---"},null,"---"]
[null,null,{"$f":"IFERROR(INDEX(справочник!$G$1:$I$7,MATCH('Пр. №1.2.'!$G233,справочник!$G$1:$G$7,0),3),\"---\")","v":"---"},{"$f":"IFERROR(INDEX('Пр. №1'!$B$11:$C$33,MATCH('Пр. №1.2.'!$C233,'Пр. №1'!$B$11:$B$33,0),2),\"---\")","v":"---"},null,{"$f":"IFERROR(INDEX('Состав ВТК-ВРГ'!$1:$1048576,MATCH('Пр. №1.2.'!$E233,'Состав ВТК-ВРГ'!$B:$B,0),MATCH('Пр. №1.2.'!F$3,'Состав ВТК-ВРГ'!$3:$3,0)),\"---\")","v":"---"},{"$f":"IFERROR(INDEX('Состав ВТК-ВРГ'!$1:$1048576,MATCH('Пр. №1.2.'!$E233,'Состав ВТК-ВРГ'!$B:$B,0),MATCH('Пр. №1.2.'!G$3,'Состав ВТК-ВРГ'!$3:$3,0)),\"---\")","v":"---"},{"$f":"IFERROR(INDEX(справочник!$G$1:$I$7,MATCH('Пр. №1.2.'!$G233,справочник!$G$1:$G$7,0),2),\"---\")","v":"---"},{"$f":"IFERROR(INDEX('Состав ВТК-ВРГ'!$1:$1048576,MATCH('Пр. №1.2.'!$E233,'Состав ВТК-ВРГ'!$B:$B,0),MATCH('Пр. №1.2.'!I$3,'Состав ВТК-ВРГ'!$3:$3,0)),\"---\")","v":"---"},{"$f":"SUMIFS('Пр. №3'!$BQ:$BQ,'Пр. №3'!$G:$G,'Пр. №1.2.'!$E233,'Пр. №3'!$D:$D,'Пр. №1.2.'!$B233)","v":0},{"$f":"IFERROR(INDEX('Пр. №4'!$1:$1048576,MATCH($I233,'Пр. №4'!$C:$C,0),MATCH('Пр. №3'!$D$5,'Пр. №4'!$9:$9,0)),\"---\")","v":"---"},null,"---"]
[null,null,{"$f":"IFERROR(INDEX(справочник!$G$1:$I$7,MATCH('Пр. №1.2.'!$G234,справочник!$G$1:$G$7,0),3),\"---\")","v":"---"},{"$f":"IFERROR(INDEX('Пр. №1'!$B$11:$C$33,MATCH('Пр. №1.2.'!$C234,'Пр. №1'!$B$11:$B$33,0),2),\"---\")","v":"---"},null,{"$f":"IFERROR(INDEX('Состав ВТК-ВРГ'!$1:$1048576,MATCH('Пр. №1.2.'!$E234,'Состав ВТК-ВРГ'!$B:$B,0),MATCH('Пр. №1.2.'!F$3,'Состав ВТК-ВРГ'!$3:$3,0)),\"---\")","v":"---"},{"$f":"IFERROR(INDEX('Состав ВТК-ВРГ'!$1:$1048576,MATCH('Пр. №1.2.'!$E234,'Состав ВТК-ВРГ'!$B:$B,0),MATCH('Пр. №1.2.'!G$3,'Состав ВТК-ВРГ'!$3:$3,0)),\"---\")","v":"---"},{"$f":"IFERROR(INDEX(справочник!$G$1:$I$7,MATCH('Пр. №1.2.'!$G234,справочник!$G$1:$G$7,0),2),\"---\")","v":"---"},{"$f":"IFERROR(INDEX('Состав ВТК-ВРГ'!$1:$1048576,MATCH('Пр. №1.2.'!$E234,'Состав ВТК-ВРГ'!$B:$B,0),MATCH('Пр. №1.2.'!I$3,'Состав ВТК-ВРГ'!$3:$3,0)),\"---\")","v":"---"},{"$f":"SUMIFS('Пр. №3'!$BQ:$BQ,'Пр. №3'!$G:$G,'Пр. №1.2.'!$E234,'Пр. №3'!$D:$D,'Пр. №1.2.'!$B234)","v":0},{"$f":"IFERROR(INDEX('Пр. №4'!$1:$1048576,MATCH($I234,'Пр. №4'!$C:$C,0),MATCH('Пр. №3'!$D$5,'Пр. №4'!$9:$9,0)),\"---\")","v":"---"},null,"---"]
[null,null,{"$f":"IFERROR(INDEX(справочник!$G$1:$I$7,MATCH('Пр. №1.2.'!$G235,справочник!$G$1:$G$7,0),3),\"---\")","v":"---"},{"$f":"IFERROR(INDEX('Пр. №1'!$B$11:$C$33,MATCH('Пр. №1.2.'!$C235,'Пр. №1'!$B$11:$B$33,0),2),\"---\")","v":"---"},null,{"$f":"IFERROR(INDEX('Состав ВТК-ВРГ'!$1:$1048576,MATCH('Пр. №1.2.'!$E235,'Состав ВТК-ВРГ'!$B:$B,0),MATCH('Пр. №1.2.'!F$3,'Состав ВТК-ВРГ'!$3:$3,0)),\"---\")","v":"---"},{"$f":"IFERROR(INDEX('Состав ВТК-ВРГ'!$1:$1048576,MATCH('Пр. №1.2.'!$E235,'Состав ВТК-ВРГ'!$B:$B,0),MATCH('Пр. №1.2.'!G$3,'Состав ВТК-ВРГ'!$3:$3,0)),\"---\")","v":"---"},{"$f":"IFERROR(INDEX(справочник!$G$1:$I$7,MATCH('Пр. №1.2.'!$G235,справочник!$G$1:$G$7,0),2),\"---\")","v":"---"},{"$f":"IFERROR(INDEX('Состав ВТК-ВРГ'!$1:$1048576,MATCH('Пр. №1.2.'!$E235,'Состав ВТК-ВРГ'!$B:$B,0),MATCH('Пр. №1.2.'!I$3,'Состав ВТК-ВРГ'!$3:$3,0)),\"---\")","v":"---"},{"$f":"SUMIFS('Пр. №3'!$BQ:$BQ,'Пр. №3'!$G:$G,'Пр. №1.2.'!$E235,'Пр. №3'!$D:$D,'Пр. №1.2.'!$B235)","v":0},{"$f":"IFERROR(INDEX('Пр. №4'!$1:$1048576,MATCH($I235,'Пр. №4'!$C:$C,0),MATCH('Пр. №3'!$D$5,'Пр. №4'!$9:$9,0)),\"---\")","v":"---"},null,"---"]
[null,null,{"$f":"IFERROR(INDEX(справочник!$G$1:$I$7,MATCH('Пр. №1.2.'!$G236,справочник!$G$1:$G$7,0),3),\"---\")","v":"---"},{"$f":"IFERROR(INDEX('Пр. №1'!$B$11:$C$33,MATCH('Пр. №1.2.'!$C236,'Пр. №1'!$B$11:$B$33,0),2),\"---\")","v":"---"},null,{"$f":"IFERROR(INDEX('Состав ВТК-ВРГ'!$1:$1048576,MATCH('Пр. №1.2.'!$E236,'Состав ВТК-ВРГ'!$B:$B,0),MATCH('Пр. №1.2.'!F$3,'Состав ВТК-ВРГ'!$3:$3,0)),\"---\")","v":"---"},{"$f":"IFERROR(INDEX('Состав ВТК-ВРГ'!$1:$1048576,MATCH('Пр. №1.2.'!$E236,'Состав ВТК-ВРГ'!$B:$B,0),MATCH('Пр. №1.2.'!G$3,'Состав ВТК-ВРГ'!$3:$3,0)),\"---\")","v":"---"},{"$f":"IFERROR(INDEX(справочник!$G$1:$I$7,MATCH('Пр. №1.2.'!$G236,справочник!$G$1:$G$7,0),2),\"---\")","v":"---"},{"$f":"IFERROR(INDEX('Состав ВТК-ВРГ'!$1:$1048576,MATCH('Пр. №1.2.'!$E236,'Состав ВТК-ВРГ'!$B:$B,0),MATCH('Пр. №1.2.'!I$3,'Состав ВТК-ВРГ'!$3:$3,0)),\"---\")","v":"---"},{"$f":"SUMIFS('Пр. №3'!$BQ:$BQ,'Пр. №3'!$G:$G,'Пр. №1.2.'!$E236,'Пр. №3'!$D:$D,'Пр. №1.2.'!$B236)","v":0},{"$f":"IFERROR(INDEX('Пр. №4'!$1:$1048576,MATCH($I236,'Пр. №4'!$C:$C,0),MATCH('Пр. №3'!$D$5,'Пр. №4'!$9:$9,0)),\"---\")","v":"---"},null,{"$f":"IFERROR(J236*K236*L236,\"---\")","v":"---"}]
[null,null,{"$f":"IFERROR(INDEX(справочник!$G$1:$I$7,MATCH('Пр. №1.2.'!$G237,справочник!$G$1:$G$7,0),3),\"---\")","v":"---"},{"$f":"IFERROR(INDEX('Пр. №1'!$B$11:$C$33,MATCH('Пр. №1.2.'!$C237,'Пр. №1'!$B$11:$B$33,0),2),\"---\")","v":"---"},null,{"$f":"IFERROR(INDEX('Состав ВТК-ВРГ'!$1:$1048576,MATCH('Пр. №1.2.'!$E237,'Состав ВТК-ВРГ'!$B:$B,0),MATCH('Пр. №1.2.'!F$3,'Состав ВТК-ВРГ'!$3:$3,0)),\"---\")","v":"---"},{"$f":"IFERROR(INDEX('Состав ВТК-ВРГ'!$1:$1048576,MATCH('Пр. №1.2.'!$E237,'Состав ВТК-ВРГ'!$B:$B,0),MATCH('Пр. №1.2.'!G$3,'Состав ВТК-ВРГ'!$3:$3,0)),\"---\")","v":"---"},{"$f":"IFERROR(INDEX(справочник!$G$1:$I$7,MATCH('Пр. №1.2.'!$G237,справочник!$G$1:$G$7,0),2),\"---\")","v":"---"},{"$f":"IFERROR(INDEX('Состав ВТК-ВРГ'!$1:$1048576,MATCH('Пр. №1.2.'!$E237,'Состав ВТК-ВРГ'!$B:$B,0),MATCH('Пр. №1.2.'!I$3,'Состав ВТК-ВРГ'!$3:$3,0)),\"---\")","v":"---"},{"$f":"SUMIFS('Пр. №3'!$BQ:$BQ,'Пр. №3'!$G:$G,'Пр. №1.2.'!$E237,'Пр. №3'!$D:$D,'Пр. №1.2.'!$B237)","v":0},{"$f":"IFERROR(INDEX('Пр. №4'!$1:$1048576,MATCH($I237,'Пр. №4'!$C:$C,0),MATCH('Пр. №3'!$D$5,'Пр. №4'!$9:$9,0)),\"---\")","v":"---"},null,"---"]
[null,null,{"$f":"IFERROR(INDEX(справочник!$G$1:$I$7,MATCH('Пр. №1.2.'!$G238,справочник!$G$1:$G$7,0),3),\"---\")","v":"---"},{"$f":"IFERROR(INDEX('Пр. №1'!$B$11:$C$33,MATCH('Пр. №1.2.'!$C238,'Пр. №1'!$B$11:$B$33,0),2),\"---\")","v":"---"},null,{"$f":"IFERROR(INDEX('Состав ВТК-ВРГ'!$1:$1048576,MATCH('Пр. №1.2.'!$E238,'Состав ВТК-ВРГ'!$B:$B,0),MATCH('Пр. №1.2.'!F$3,'Состав ВТК-ВРГ'!$3:$3,0)),\"---\")","v":"---"},{"$f":"IFERROR(INDEX('Состав ВТК-ВРГ'!$1:$1048576,MATCH('Пр. №1.2.'!$E238,'Состав ВТК-ВРГ'!$B:$B,0),MATCH('Пр. №1.2.'!G$3,'Состав ВТК-ВРГ'!$3:$3,0)),\"---\")","v":"---"},{"$f":"IFERROR(INDEX(справочник!$G$1:$I$7,MATCH('Пр. №1.2.'!$G238,справочник!$G$1:$G$7,0),2),\"---\")","v":"---"},{"$f":"IFERROR(INDEX('Состав ВТК-ВРГ'!$1:$1048576,MATCH('Пр. №1.2.'!$E238,'Состав ВТК-ВРГ'!$B:$B,0),MATCH('Пр. №1.2.'!I$3,'Состав ВТК-ВРГ'!$3:$3,0)),\"---\")","v":"---"},{"$f":"SUMIFS('Пр. №3'!$BQ:$BQ,'Пр. №3'!$G:$G,'Пр. №1.2.'!$E238,'Пр. №3'!$D:$D,'Пр. №1.2.'!$B238)","v":0},{"$f":"IFERROR(INDEX('Пр. №4'!$1:$1048576,MATCH($I238,'Пр. №4'!$C:$C,0),MATCH('Пр. №3'!$D$5,'Пр. №4'!$9:$9,0)),\"---\")","v":"---"},null,"---"]
[null,null,{"$f":"IFERROR(INDEX(справочник!$G$1:$I$7,MATCH('Пр. №1.2.'!$G239,справочник!$G$1:$G$7,0),3),\"---\")","v":"---"},{"$f":"IFERROR(INDEX('Пр. №1'!$B$11:$C$33,MATCH('Пр. №1.2.'!$C239,'Пр. №1'!$B$11:$B$33,0),2),\"---\")","v":"---"},null,{"$f":"IFERROR(INDEX('Состав ВТК-ВРГ'!$1:$1048576,MATCH('Пр. №1.2.'!$E239,'Состав ВТК-ВРГ'!$B:$B,0),MATCH('Пр. №1.2.'!F$3,'Состав ВТК-ВРГ'!$3:$3,0)),\"---\")","v":"---"},{"$f":"IFERROR(INDEX('Состав ВТК-ВРГ'!$1:$1048576,MATCH('Пр. №1.2.'!$E239,'Состав ВТК-ВРГ'!$B:$B,0),MATCH('Пр. №1.2.'!G$3,'Состав ВТК-ВРГ'!$3:$3,0)),\"---\")","v":"---"},{"$f":"IFERROR(INDEX(справочник!$G$1:$I$7,MATCH('Пр. №1.2.'!$G239,справочник!$G$1:$G$7,0),2),\"---\")","v":"---"},{"$f":"IFERROR(INDEX('Состав ВТК-ВРГ'!$1:$1048576,MATCH('Пр. №1.2.'!$E239,'Состав ВТК-ВРГ'!$B:$B,0),MATCH('Пр. №1.2.'!I$3,'Состав ВТК-ВРГ'!$3:$3,0)),\"---\")","v":"---"},{"$f":"SUMIFS('Пр. №3'!$BQ:$BQ,'Пр. №3'!$G:$G,'Пр. №1.2.'!$E239,'Пр. №3'!$D:$D,'Пр. №1.2.'!$B239)","v":0},{"$f":"IFERROR(INDEX('Пр. №4'!$1:$1048576,MATCH($I239,'Пр. №4'!$C:$C,0),MATCH('Пр. №3'!$D$5,'Пр. №4'!$9:$9,0)),\"---\")","v":"---"},null,"---"]
[null,null,{"$f":"IFERROR(INDEX(справочник!$G$1:$I$7,MATCH('Пр. №1.2.'!$G240,справочник!$G$1:$G$7,0),3),\"---\")","v":"---"},{"$f":"IFERROR(INDEX('Пр. №1'!$B$11:$C$33,MATCH('Пр. №1.2.'!$C240,'Пр. №1'!$B$11:$B$33,0),2),\"---\")","v":"---"},null,{"$f":"IFERROR(INDEX('Состав ВТК-ВРГ'!$1:$1048576,MATCH('Пр. №1.2.'!$E240,'Состав ВТК-ВРГ'!$B:$B,0),MATCH('Пр. №1.2.'!F$3,'Состав ВТК-ВРГ'!$3:$3,0)),\"---\")","v":"---"},{"$f":"IFERROR(INDEX('Состав ВТК-ВРГ'!$1:$1048576,MATCH('Пр. №1.2.'!$E240,'Состав ВТК-ВРГ'!$B:$B,0),MATCH('Пр. №1.2.'!G$3,'Состав ВТК-ВРГ'!$3:$3,0)),\"---\")","v":"---"},{"$f":"IFERROR(INDEX(справочник!$G$1:$I$7,MATCH('Пр. №1.2.'!$G240,справочник!$G$1:$G$7,0),2),\"---\")","v":"---"},{"$f":"IFERROR(INDEX('Состав ВТК-ВРГ'!$1:$1048576,MATCH('Пр. №1.2.'!$E240,'Состав ВТК-ВРГ'!$B:$B,0),MATCH('Пр. №1.2.'!I$3,'Состав ВТК-ВРГ'!$3:$3,0)),\"---\")","v":"---"},{"$f":"SUMIFS('Пр. №3'!$BQ:$BQ,'Пр. №3'!$G:$G,'Пр. №1.2.'!$E240,'Пр. №3'!$D:$D,'Пр. №1.2.'!$B240)","v":0},{"$f":"IFERROR(INDEX('Пр. №4'!$1:$1048576,MATCH($I240,'Пр. №4'!$C:$C,0),MATCH('Пр. №3'!$D$5,'Пр. №4'!$9:$9,0)),\"---\")","v":"---"},null,"---"]
[null,null,{"$f":"IFERROR(INDEX(справочник!$G$1:$I$7,MATCH('Пр. №1.2.'!$G241,справочник!$G$1:$G$7,0),3),\"---\")","v":"---"},{"$f":"IFERROR(INDEX('Пр. №1'!$B$11:$C$33,MATCH('Пр. №1.2.'!$C241,'Пр. №1'!$B$11:$B$33,0),2),\"---\")","v":"---"},null,{"$f":"IFERROR(INDEX('Состав ВТК-ВРГ'!$1:$1048576,MATCH('Пр. №1.2.'!$E241,'Состав ВТК-ВРГ'!$B:$B,0),MATCH('Пр. №1.2.'!F$3,'Состав ВТК-ВРГ'!$3:$3,0)),\"---\")","v":"---"},{"$f":"IFERROR(INDEX('Состав ВТК-ВРГ'!$1:$1048576,MATCH('Пр. №1.2.'!$E241,'Состав ВТК-ВРГ'!$B:$B,0),MATCH('Пр. №1.2.'!G$3,'Состав ВТК-ВРГ'!$3:$3,0)),\"---\")","v":"---"},{"$f":"IFERROR(INDEX(справочник!$G$1:$I$7,MATCH('Пр. №1.2.'!$G241,справочник!$G$1:$G$7,0),2),\"---\")","v":"---"},{"$f":"IFERROR(INDEX('Состав ВТК-ВРГ'!$1:$1048576,MATCH('Пр. №1.2.'!$E241,'Состав ВТК-ВРГ'!$B:$B,0),MATCH('Пр. №1.2.'!I$3,'Состав ВТК-ВРГ'!$3:$3,0)),\"---\")","v":"---"},{"$f":"SUMIFS('Пр. №3'!$BQ:$BQ,'Пр. №3'!$G:$G,'Пр. №1.2.'!$E241,'Пр. №3'!$D:$D,'Пр. №1.2.'!$B241)","v":0},{"$f":"IFERROR(INDEX('Пр. №4'!$1:$1048576,MATCH($I241,'Пр. №4'!$C:$C,0),MATCH('Пр. №3'!$D$5,'Пр. №4'!$9:$9,0)),\"---\")","v":"---"},null,"---"]
[null,null,{"$f":"IFERROR(INDEX(справочник!$G$1:$I$7,MATCH('Пр. №1.2.'!$G242,справочник!$G$1:$G$7,0),3),\"---\")","v":"---"},{"$f":"IFERROR(INDEX('Пр. №1'!$B$11:$C$33,MATCH('Пр. №1.2.'!$C242,'Пр. №1'!$B$11:$B$33,0),2),\"---\")","v":"---"},null,{"$f":"IFERROR(INDEX('Состав ВТК-ВРГ'!$1:$1048576,MATCH('Пр. №1.2.'!$E242,'Состав ВТК-ВРГ'!$B:$B,0),MATCH('Пр. №1.2.'!F$3,'Состав ВТК-ВРГ'!$3:$3,0)),\"---\")","v":"---"},{"$f":"IFERROR(INDEX('Состав ВТК-ВРГ'!$1:$1048576,MATCH('Пр. №1.2.'!$E242,'Состав ВТК-ВРГ'!$B:$B,0),MATCH('Пр. №1.2.'!G$3,'Состав ВТК-ВРГ'!$3:$3,0)),\"---\")","v":"---"},{"$f":"IFERROR(INDEX(справочник!$G$1:$I$7,MATCH('Пр. №1.2.'!$G242,справочник!$G$1:$G$7,0),2),\"---\")","v":"---"},{"$f":"IFERROR(INDEX('Состав ВТК-ВРГ'!$1:$1048576,MATCH('Пр. №1.2.'!$E242,'Состав ВТК-ВРГ'!$B:$B,0),MATCH('Пр. №1.2.'!I$3,'Состав ВТК-ВРГ'!$3:$3,0)),\"---\")","v":"---"},{"$f":"SUMIFS('Пр. №3'!$BQ:$BQ,'Пр. №3'!$G:$G,'Пр. №1.2.'!$E242,'Пр. №3'!$D:$D,'Пр. №1.2.'!$B242)","v":0},{"$f":"IFERROR(INDEX('Пр. №4'!$1:$1048576,MATCH($I242,'Пр. №4'!$C:$C,0),MATCH('Пр. №3'!$D$5,'Пр. №4'!$9:$9,0)),\"---\")","v":"---"},null,"---"]
[null,null,{"$f":"IFERROR(INDEX(справочник!$G$1:$I$7,MATCH('Пр. №1.2.'!$G243,справочник!$G$1:$G$7,0),3),\"---\")","v":"---"},{"$f":"IFERROR(INDEX('Пр. №1'!$B$11:$C$33,MATCH('Пр. №1.2.'!$C243,'Пр. №1'!$B$11:$B$33,0),2),\"---\")","v":"---"},null,{"$f":"IFERROR(INDEX('Состав ВТК-ВРГ'!$1:$1048576,MATCH('Пр. №1.2.'!$E243,'Состав ВТК-ВРГ'!$B:$B,0),MATCH('Пр. №1.2.'!F$3,'Состав ВТК-ВРГ'!$3:$3,0)),\"---\")","v":"---"},{"$f":"IFERROR(INDEX('Состав ВТК-ВРГ'!$1:$1048576,MATCH('Пр. №1.2.'!$E243,'Состав ВТК-ВРГ'!$B:$B,0),MATCH('Пр. №1.2.'!G$3,'Состав ВТК-ВРГ'!$3:$3,0)),\"---\")","v":"---"},{"$f":"IFERROR(INDEX(справочник!$G$1:$I$7,MATCH('Пр. №1.2.'!$G243,справочник!$G$1:$G$7,0),2),\"---\")","v":"---"},{"$f":"IFERROR(INDEX('Состав ВТК-ВРГ'!$1:$1048576,MATCH('Пр. №1.2.'!$E243,'Состав ВТК-ВРГ'!$B:$B,0),MATCH('Пр. №1.2.'!I$3,'Состав ВТК-ВРГ'!$3:$3,0)),\"---\")","v":"---"},{"$f":"SUMIFS('Пр. №3'!$BQ:$BQ,'Пр. №3'!$G:$G,'Пр. №1.2.'!$E243,'Пр. №3'!$D:$D,'Пр. №1.2.'!$B243)","v":0},{"$f":"IFERROR(INDEX('Пр. №4'!$1:$1048576,MATCH($I243,'Пр. №4'!$C:$C,0),MATCH('Пр. №3'!$D$5,'Пр. №4'!$9:$9,0)),\"---\")","v":"---"},null,"---"]
[null,null,{"$f":"IFERROR(INDEX(справочник!$G$1:$I$7,MATCH('Пр. №1.2.'!$G244,справочник!$G$1:$G$7,0),3),\"---\")","v":"---"},{"$f":"IFERROR(INDEX('Пр. №1'!$B$11:$C$33,MATCH('Пр. №1.2.'!$C244,'Пр. №1'!$B$11:$B$33,0),2),\"---\")","v":"---"},null,{"$f":"IFERROR(INDEX('Состав ВТК-ВРГ'!$1:$1048576,MATCH('Пр. №1.2.'!$E244,'Состав ВТК-ВРГ'!$B:$B,0),MATCH('Пр. №1.2.'!F$3,'Состав ВТК-ВРГ'!$3:$3,0)),\"---\")","v":"---"},{"$f":"IFERROR(INDEX('Состав ВТК-ВРГ'!$1:$1048576,MATCH('Пр. №1.2.'!$E244,'Состав ВТК-ВРГ'!$B:$B,0),MATCH('Пр. №1.2.'!G$3,'Состав ВТК-ВРГ'!$3:$3,0)),\"---\")","v":"---"},{"$f":"IFERROR(INDEX(справочник!$G$1:$I$7,MATCH('Пр. №1.2.'!$G244,справочник!$G$1:$G$7,0),2),\"---\")","v":"---"},{"$f":"IFERROR(INDEX('Состав ВТК-ВРГ'!$1:$1048576,MATCH('Пр. №1.2.'!$E244,'Состав ВТК-ВРГ'!$B:$B,0),MATCH('Пр. №1.2.'!I$3,'Состав ВТК-ВРГ'!$3:$3,0)),\"---\")","v":"---"},{"$f":"SUMIFS('Пр. №3'!$BQ:$BQ,'Пр. №3'!$G:$G,'Пр. №1.2.'!$E244,'Пр. №3'!$D:$D,'Пр. №1.2.'!$B244)","v":0},{"$f":"IFERROR(INDEX('Пр. №4'!$1:$1048576,MATCH($I244,'Пр. №4'!$C:$C,0),MATCH('Пр. №3'!$D$5,'Пр. №4'!$9:$9,0)),\"---\")","v":"---"},null,"---"]
[null,null,{"$f":"IFERROR(INDEX(справочник!$G$1:$I$7,MATCH('Пр. №1.2.'!$G245,справочник!$G$1:$G$7,0),3),\"---\")","v":"---"},{"$f":"IFERROR(INDEX('Пр. №1'!$B$11:$C$33,MATCH('Пр. №1.2.'!$C245,'Пр. №1'!$B$11:$B$33,0),2),\"---\")","v":"---"},null,{"$f":"IFERROR(INDEX('Состав ВТК-ВРГ'!$1:$1048576,MATCH('Пр. №1.2.'!$E245,'Состав ВТК-ВРГ'!$B:$B,0),MATCH('Пр. №1.2.'!F$3,'Состав ВТК-ВРГ'!$3:$3,0)),\"---\")","v":"---"},{"$f":"IFERROR(INDEX('Состав ВТК-ВРГ'!$1:$1048576,MATCH('Пр. №1.2.'!$E245,'Состав ВТК-ВРГ'!$B:$B,0),MATCH('Пр. №1.2.'!G$3,'Состав ВТК-ВРГ'!$3:$3,0)),\"---\")","v":"---"},{"$f":"IFERROR(INDEX(справочник!$G$1:$I$7,MATCH('Пр. №1.2.'!$G245,справочник!$G$1:$G$7,0),2),\"---\")","v":"---"},{"$f":"IFERROR(INDEX('Состав ВТК-ВРГ'!$1:$1048576,MATCH('Пр. №1.2.'!$E245,'Состав ВТК-ВРГ'!$B:$B,0),MATCH('Пр. №1.2.'!I$3,'Состав ВТК-ВРГ'!$3:$3,0)),\"---\")","v":"---"},{"$f":"SUMIFS('Пр. №3'!$BQ:$BQ,'Пр. №3'!$G:$G,'Пр. №1.2.'!$E245,'Пр. №3'!$D:$D,'Пр. №1.2.'!$B245)","v":0},{"$f":"IFERROR(INDEX('Пр. №4'!$1:$1048576,MATCH($I245,'Пр. №4'!$C:$C,0),MATCH('Пр. №3'!$D$5,'Пр. №4'!$9:$9,0)),\"---\")","v":"---"},null,"---"]
[null,null,{"$f":"IFERROR(INDEX(справочник!$G$1:$I$7,MATCH('Пр. №1.2.'!$G246,справочник!$G$1:$G$7,0),3),\"---\")","v":"---"},{"$f":"IFERROR(INDEX('Пр. №1'!$B$11:$C$33,MATCH('Пр. №1.2.'!$C246,'Пр. №1'!$B$11:$B$33,0),2),\"---\")","v":"---"},null,{"$f":"IFERROR(INDEX('Состав ВТК-ВРГ'!$1:$1048576,MATCH('Пр. №1.2.'!$E246,'Состав ВТК-ВРГ'!$B:$B,0),MATCH('Пр. №1.2.'!F$3,'Состав ВТК-ВРГ'!$3:$3,0)),\"---\")","v":"---"},{"$f":"IFERROR(INDEX('Состав ВТК-ВРГ'!$1:$1048576,MATCH('Пр. №1.2.'!$E246,'Состав ВТК-ВРГ'!$B:$B,0),MATCH('Пр. №1.2.'!G$3,'Состав ВТК-ВРГ'!$3:$3,0)),\"---\")","v":"---"},{"$f":"IFERROR(INDEX(справочник!$G$1:$I$7,MATCH('Пр. №1.2.'!$G246,справочник!$G$1:$G$7,0),2),\"---\")","v":"---"},{"$f":"IFERROR(INDEX('Состав ВТК-ВРГ'!$1:$1048576,MATCH('Пр. №1.2.'!$E246,'Состав ВТК-ВРГ'!$B:$B,0),MATCH('Пр. №1.2.'!I$3,'Состав ВТК-ВРГ'!$3:$3,0)),\"---\")","v":"---"},{"$f":"SUMIFS('Пр. №3'!$BQ:$BQ,'Пр. №3'!$G:$G,'Пр. №1.2.'!$E246,'Пр. №3'!$D:$D,'Пр. №1.2.'!$B246)","v":0},{"$f":"IFERROR(INDEX('Пр. №4'!$1:$1048576,MATCH($I246,'Пр. №4'!$C:$C,0),MATCH('Пр. №3'!$D$5,'Пр. №4'!$9:$9,0)),\"---\")","v":"---"},null,"---"]
[null,null,{"$f":"IFERROR(INDEX(справочник!$G$1:$I$7,MATCH('Пр. №1.2.'!$G247,справочник!$G$1:$G$7,0),3),\"---\")","v":"---"},{"$f":"IFERROR(INDEX('Пр. №1'!$B$11:$C$33,MATCH('Пр. №1.2.'!$C247,'Пр. №1'!$B$11:$B$33,0),2),\"---\")","v":"---"},null,{"$f":"IFERROR(INDEX('Состав ВТК-ВРГ'!$1:$1048576,MATCH('Пр. №1.2.'!$E247,'Состав ВТК-ВРГ'!$B:$B,0),MATCH('Пр. №1.2.'!F$3,'Состав ВТК-ВРГ'!$3:$3,0)),\"---\")","v":"---"},{"$f":"IFERROR(INDEX('Состав ВТК-ВРГ'!$1:$1048576,MATCH('Пр. №1.2.'!$E247,'Состав ВТК-ВРГ'!$B:$B,0),MATCH('Пр. №1.2.'!G$3,'Состав ВТК-ВРГ'!$3:$3,0)),\"---\")","v":"---"},{"$f":"IFERROR(INDEX(справочник!$G$1:$I$7,MATCH('Пр. №1.2.'!$G247,справочник!$G$1:$G$7,0),2),\"---\")","v":"---"},{"$f":"IFERROR(INDEX('Состав ВТК-ВРГ'!$1:$1048576,MATCH('Пр. №1.2.'!$E247,'Состав ВТК-ВРГ'!$B:$B,0),MATCH('Пр. №1.2.'!I$3,'Состав ВТК-ВРГ'!$3:$3,0)),\"---\")","v":"---"},{"$f":"SUMIFS('Пр. №3'!$BQ:$BQ,'Пр. №3'!$G:$G,'Пр. №1.2.'!$E247,'Пр. №3'!$D:$D,'Пр. №1.2.'!$B247)","v":0},{"$f":"IFERROR(INDEX('Пр. №4'!$1:$1048576,MATCH($I247,'Пр. №4'!$C:$C,0),MATCH('Пр. №3'!$D$5,'Пр. №4'!$9:$9,0)),\"---\")","v":"---"},null,"---"]
[null,null,{"$f":"IFERROR(INDEX(справочник!$G$1:$I$7,MATCH('Пр. №1.2.'!$G248,справочник!$G$1:$G$7,0),3),\"---\")","v":"---"},{"$f":"IFERROR(INDEX('Пр. №1'!$B$11:$C$33,MATCH('Пр. №1.2.'!$C248,'Пр. №1'!$B$11:$B$33,0),2),\"---\")","v":"---"},null,{"$f":"IFERROR(INDEX('Состав ВТК-ВРГ'!$1:$1048576,MATCH('Пр. №1.2.'!$E248,'Состав ВТК-ВРГ'!$B:$B,0),MATCH('Пр. №1.2.'!F$3,'Состав ВТК-ВРГ'!$3:$3,0)),\"---\")","v":"---"},{"$f":"IFERROR(INDEX('Состав ВТК-ВРГ'!$1:$1048576,MATCH('Пр. №1.2.'!$E248,'Состав ВТК-ВРГ'!$B:$B,0),MATCH('Пр. №1.2.'!G$3,'Состав ВТК-ВРГ'!$3:$3,0)),\"---\")","v":"---"},{"$f":"IFERROR(INDEX(справочник!$G$1:$I$7,MATCH('Пр. №1.2.'!$G248,справочник!$G$1:$G$7,0),2),\"---\")","v":"---"},{"$f":"IFERROR(INDEX('Состав ВТК-ВРГ'!$1:$1048576,MATCH('Пр. №1.2.'!$E248,'Состав ВТК-ВРГ'!$B:$B,0),MATCH('Пр. №1.2.'!I$3,'Состав ВТК-ВРГ'!$3:$3,0)),\"---\")","v":"---"},{"$f":"SUMIFS('Пр. №3'!$BQ:$BQ,'Пр. №3'!$G:$G,'Пр. №1.2.'!$E248,'Пр. №3'!$D:$D,'Пр. №1.2.'!$B248)","v":0},{"$f":"IFERROR(INDEX('Пр. №4'!$1:$1048576,MATCH($I248,'Пр. №4'!$C:$C,0),MATCH('Пр. №3'!$D$5,'Пр. №4'!$9:$9,0)),\"---\")","v":"---"},null,"---"]
[null,null,{"$f":"IFERROR(INDEX(справочник!$G$1:$I$7,MATCH('Пр. №1.2.'!$G249,справочник!$G$1:$G$7,0),3),\"---\")","v":"---"},{"$f":"IFERROR(INDEX('Пр. №1'!$B$11:$C$33,MATCH('Пр. №1.2.'!$C249,'Пр. №1'!$B$11:$B$33,0),2),\"---\")","v":"---"},null,{"$f":"IFERROR(INDEX('Состав ВТК-ВРГ'!$1:$1048576,MATCH('Пр. №1.2.'!$E249,'Состав ВТК-ВРГ'!$B:$B,0),MATCH('Пр. №1.2.'!F$3,'Состав ВТК-ВРГ'!$3:$3,0)),\"---\")","v":"---"},{"$f":"IFERROR(INDEX('Состав ВТК-ВРГ'!$1:$1048576,MATCH('Пр. №1.2.'!$E249,'Состав ВТК-ВРГ'!$B:$B,0),MATCH('Пр. №1.2.'!G$3,'Состав ВТК-ВРГ'!$3:$3,0)),\"---\")","v":"---"},{"$f":"IFERROR(INDEX(справочник!$G$1:$I$7,MATCH('Пр. №1.2.'!$G249,справочник!$G$1:$G$7,0),2),\"---\")","v":"---"},{"$f":"IFERROR(INDEX('Состав ВТК-ВРГ'!$1:$1048576,MATCH('Пр. №1.2.'!$E249,'Состав ВТК-ВРГ'!$B:$B,0),MATCH('Пр. №1.2.'!I$3,'Состав ВТК-ВРГ'!$3:$3,0)),\"---\")","v":"---"},{"$f":"SUMIFS('Пр. №3'!$BQ:$BQ,'Пр. №3'!$G:$G,'Пр. №1.2.'!$E249,'Пр. №3'!$D:$D,'Пр. №1.2.'!$B249)","v":0},{"$f":"IFERROR(INDEX('Пр. №4'!$1:$1048576,MATCH($I249,'Пр. №4'!$C:$C,0),MATCH('Пр. №3'!$D$5,'Пр. №4'!$9:$9,0)),\"---\")","v":"---"},null,"---"]
[null,null,{"$f":"IFERROR(INDEX(справочник!$G$1:$I$7,MATCH('Пр. №1.2.'!$G250,справочник!$G$1:$G$7,0),3),\"---\")","v":"---"},{"$f":"IFERROR(INDEX('Пр. №1'!$B$11:$C$33,MATCH('Пр. №1.2.'!$C250,'Пр. №1'!$B$11:$B$33,0),2),\"---\")","v":"---"},null,{"$f":"IFERROR(INDEX('Состав ВТК-ВРГ'!$1:$1048576,MATCH('Пр. №1.2.'!$E250,'Состав ВТК-ВРГ'!$B:$B,0),MATCH('Пр. №1.2.'!F$3,'Состав ВТК-ВРГ'!$3:$3,0)),\"---\")","v":"---"},{"$f":"IFERROR(INDEX('Состав ВТК-ВРГ'!$1:$1048576,MATCH('Пр. №1.2.'!$E250,'Состав ВТК-ВРГ'!$B:$B,0),MATCH('Пр. №1.2.'!G$3,'Состав ВТК-ВРГ'!$3:$3,0)),\"---\")","v":"---"},{"$f":"IFERROR(INDEX(справочник!$G$1:$I$7,MATCH('Пр. №1.2.'!$G250,справочник!$G$1:$G$7,0),2),\"---\")","v":"---"},{"$f":"IFERROR(INDEX('Состав ВТК-ВРГ'!$1:$1048576,MATCH('Пр. №1.2.'!$E250,'Состав ВТК-ВРГ'!$B:$B,0),MATCH('Пр. №1.2.'!I$3,'Состав ВТК-ВРГ'!$3:$3,0)),\"---\")","v":"---"},{"$f":"SUMIFS('Пр. №3'!$BQ:$BQ,'Пр. №3'!$G:$G,'Пр. №1.2.'!$E250,'Пр. №3'!$D:$D,'Пр. №1.2.'!$B250)","v":0},{"$f":"IFERROR(INDEX('Пр. №4'!$1:$1048576,MATCH($I250,'Пр. №4'!$C:$C,0),MATCH('Пр. №3'!$D$5,'Пр. №4'!$9:$9,0)),\"---\")","v":"---"},null,"---"]
[null,null,{"$f":"IFERROR(INDEX(справочник!$G$1:$I$7,MATCH('Пр. №1.2.'!$G251,справочник!$G$1:$G$7,0),3),\"---\")","v":"---"},{"$f":"IFERROR(INDEX('Пр. №1'!$B$11:$C$33,MATCH('Пр. №1.2.'!$C251,'Пр. №1'!$B$11:$B$33,0),2),\"---\")","v":"---"},null,{"$f":"IFERROR(INDEX('Состав ВТК-ВРГ'!$1:$1048576,MATCH('Пр. №1.2.'!$E251,'Состав ВТК-ВРГ'!$B:$B,0),MATCH('Пр. №1.2.'!F$3,'Состав ВТК-ВРГ'!$3:$3,0)),\"---\")","v":"---"},{"$f":"IFERROR(INDEX('Состав ВТК-ВРГ'!$1:$1048576,MATCH('Пр. №1.2.'!$E251,'Состав ВТК-ВРГ'!$B:$B,0),MATCH('Пр. №1.2.'!G$3,'Состав ВТК-ВРГ'!$3:$3,0)),\"---\")","v":"---"},{"$f":"IFERROR(INDEX(справочник!$G$1:$I$7,MATCH('Пр. №1.2.'!$G251,справочник!$G$1:$G$7,0),2),\"---\")","v":"---"},{"$f":"IFERROR(INDEX('Состав ВТК-ВРГ'!$1:$1048576,MATCH('Пр. №1.2.'!$E251,'Состав ВТК-ВРГ'!$B:$B,0),MATCH('Пр. №1.2.'!I$3,'Состав ВТК-ВРГ'!$3:$3,0)),\"---\")","v":"---"},{"$f":"SUMIFS('Пр. №3'!$BQ:$BQ,'Пр. №3'!$G:$G,'Пр. №1.2.'!$E251,'Пр. №3'!$D:$D,'Пр. №1.2.'!$B251)","v":0},{"$f":"IFERROR(INDEX('Пр. №4'!$1:$1048576,MATCH($I251,'Пр. №4'!$C:$C,0),MATCH('Пр. №3'!$D$5,'Пр. №4'!$9:$9,0)),\"---\")","v":"---"},null,"---"]
[null,null,{"$f":"IFERROR(INDEX(справочник!$G$1:$I$7,MATCH('Пр. №1.2.'!$G252,справочник!$G$1:$G$7,0),3),\"---\")","v":"---"},{"$f":"IFERROR(INDEX('Пр. №1'!$B$11:$C$33,MATCH('Пр. №1.2.'!$C252,'Пр. №1'!$B$11:$B$33,0),2),\"---\")","v":"---"},null,{"$f":"IFERROR(INDEX('Состав ВТК-ВРГ'!$1:$1048576,MATCH('Пр. №1.2.'!$E252,'Состав ВТК-ВРГ'!$B:$B,0),MATCH('Пр. №1.2.'!F$3,'Состав ВТК-ВРГ'!$3:$3,0)),\"---\")","v":"---"},{"$f":"IFERROR(INDEX('Состав ВТК-ВРГ'!$1:$1048576,MATCH('Пр. №1.2.'!$E252,'Состав ВТК-ВРГ'!$B:$B,0),MATCH('Пр. №1.2.'!G$3,'Состав ВТК-ВРГ'!$3:$3,0)),\"---\")","v":"---"},{"$f":"IFERROR(INDEX(справочник!$G$1:$I$7,MATCH('Пр. №1.2.'!$G252,справочник!$G$1:$G$7,0),2),\"---\")","v":"---"},{"$f":"IFERROR(INDEX('Состав ВТК-ВРГ'!$1:$1048576,MATCH('Пр. №1.2.'!$E252,'Состав ВТК-ВРГ'!$B:$B,0),MATCH('Пр. №1.2.'!I$3,'Состав ВТК-ВРГ'!$3:$3,0)),\"---\")","v":"---"},{"$f":"SUMIFS('Пр. №3'!$BQ:$BQ,'Пр. №3'!$G:$G,'Пр. №1.2.'!$E252,'Пр. №3'!$D:$D,'Пр. №1.2.'!$B252)","v":0},{"$f":"IFERROR(INDEX('Пр. №4'!$1:$1048576,MATCH($I252,'Пр. №4'!$C:$C,0),MATCH('Пр. №3'!$D$5,'Пр. №4'!$9:$9,0)),\"---\")","v":"---"},null,"---"]
[null,null,{"$f":"IFERROR(INDEX(справочник!$G$1:$I$7,MATCH('Пр. №1.2.'!$G253,справочник!$G$1:$G$7,0),3),\"---\")","v":"---"},{"$f":"IFERROR(INDEX('Пр. №1'!$B$11:$C$33,MATCH('Пр. №1.2.'!$C253,'Пр. №1'!$B$11:$B$33,0),2),\"---\")","v":"---"},null,{"$f":"IFERROR(INDEX('Состав ВТК-ВРГ'!$1:$1048576,MATCH('Пр. №1.2.'!$E253,'Состав ВТК-ВРГ'!$B:$B,0),MATCH('Пр. №1.2.'!F$3,'Состав ВТК-ВРГ'!$3:$3,0)),\"---\")","v":"---"},{"$f":"IFERROR(INDEX('Состав ВТК-ВРГ'!$1:$1048576,MATCH('Пр. №1.2.'!$E253,'Состав ВТК-ВРГ'!$B:$B,0),MATCH('Пр. №1.2.'!G$3,'Состав ВТК-ВРГ'!$3:$3,0)),\"---\")","v":"---"},{"$f":"IFERROR(INDEX(справочник!$G$1:$I$7,MATCH('Пр. №1.2.'!$G253,справочник!$G$1:$G$7,0),2),\"---\")","v":"---"},{"$f":"IFERROR(INDEX('Состав ВТК-ВРГ'!$1:$1048576,MATCH('Пр. №1.2.'!$E253,'Состав ВТК-ВРГ'!$B:$B,0),MATCH('Пр. №1.2.'!I$3,'Состав ВТК-ВРГ'!$3:$3,0)),\"---\")","v":"---"},{"$f":"SUMIFS('Пр. №3'!$BQ:$BQ,'Пр. №3'!$G:$G,'Пр. №1.2.'!$E253,'Пр. №3'!$D:$D,'Пр. №1.2.'!$B253)","v":0},{"$f":"IFERROR(INDEX('Пр. №4'!$1:$1048576,MATCH($I253,'Пр. №4'!$C:$C,0),MATCH('Пр. №3'!$D$5,'Пр. №4'!$9:$9,0)),\"---\")","v":"---"},null,"---"]
[null,null,{"$f":"IFERROR(INDEX(справочник!$G$1:$I$7,MATCH('Пр. №1.2.'!$G254,справочник!$G$1:$G$7,0),3),\"---\")","v":"---"},{"$f":"IFERROR(INDEX('Пр. №1'!$B$11:$C$33,MATCH('Пр. №1.2.'!$C254,'Пр. №1'!$B$11:$B$33,0),2),\"---\")","v":"---"},null,{"$f":"IFERROR(INDEX('Состав ВТК-ВРГ'!$1:$1048576,MATCH('Пр. №1.2.'!$E254,'Состав ВТК-ВРГ'!$B:$B,0),MATCH('Пр. №1.2.'!F$3,'Состав ВТК-ВРГ'!$3:$3,0)),\"---\")","v":"---"},{"$f":"IFERROR(INDEX('Состав ВТК-ВРГ'!$1:$1048576,MATCH('Пр. №1.2.'!$E254,'Состав ВТК-ВРГ'!$B:$B,0),MATCH('Пр. №1.2.'!G$3,'Состав ВТК-ВРГ'!$3:$3,0)),\"---\")","v":"---"},{"$f":"IFERROR(INDEX(справочник!$G$1:$I$7,MATCH('Пр. №1.2.'!$G254,справочник!$G$1:$G$7,0),2),\"---\")","v":"---"},{"$f":"IFERROR(INDEX('Состав ВТК-ВРГ'!$1:$1048576,MATCH('Пр. №1.2.'!$E254,'Состав ВТК-ВРГ'!$B:$B,0),MATCH('Пр. №1.2.'!I$3,'Состав ВТК-ВРГ'!$3:$3,0)),\"---\")","v":"---"},{"$f":"SUMIFS('Пр. №3'!$BQ:$BQ,'Пр. №3'!$G:$G,'Пр. №1.2.'!$E254,'Пр. №3'!$D:$D,'Пр. №1.2.'!$B254)","v":0},{"$f":"IFERROR(INDEX('Пр. №4'!$1:$1048576,MATCH($I254,'Пр. №4'!$C:$C,0),MATCH('Пр. №3'!$D$5,'Пр. №4'!$9:$9,0)),\"---\")","v":"---"},null,"---"]
[null,null,{"$f":"IFERROR(INDEX(справочник!$G$1:$I$7,MATCH('Пр. №1.2.'!$G255,справочник!$G$1:$G$7,0),3),\"---\")","v":"---"},{"$f":"IFERROR(INDEX('Пр. №1'!$B$11:$C$33,MATCH('Пр. №1.2.'!$C255,'Пр. №1'!$B$11:$B$33,0),2),\"---\")","v":"---"},null,{"$f":"IFERROR(INDEX('Состав ВТК-ВРГ'!$1:$1048576,MATCH('Пр. №1.2.'!$E255,'Состав ВТК-ВРГ'!$B:$B,0),MATCH('Пр. №1.2.'!F$3,'Состав ВТК-ВРГ'!$3:$3,0)),\"---\")","v":"---"},{"$f":"IFERROR(INDEX('Состав ВТК-ВРГ'!$1:$1048576,MATCH('Пр. №1.2.'!$E255,'Состав ВТК-ВРГ'!$B:$B,0),MATCH('Пр. №1.2.'!G$3,'Состав ВТК-ВРГ'!$3:$3,0)),\"---\")","v":"---"},{"$f":"IFERROR(INDEX(справочник!$G$1:$I$7,MATCH('Пр. №1.2.'!$G255,справочник!$G$1:$G$7,0),2),\"---\")","v":"---"},{"$f":"IFERROR(INDEX('Состав ВТК-ВРГ'!$1:$1048576,MATCH('Пр. №1.2.'!$E255,'Состав ВТК-ВРГ'!$B:$B,0),MATCH('Пр. №1.2.'!I$3,'Состав ВТК-ВРГ'!$3:$3,0)),\"---\")","v":"---"},{"$f":"SUMIFS('Пр. №3'!$BQ:$BQ,'Пр. №3'!$G:$G,'Пр. №1.2.'!$E255,'Пр. №3'!$D:$D,'Пр. №1.2.'!$B255)","v":0},{"$f":"IFERROR(INDEX('Пр. №4'!$1:$1048576,MATCH($I255,'Пр. №4'!$C:$C,0),MATCH('Пр. №3'!$D$5,'Пр. №4'!$9:$9,0)),\"---\")","v":"---"},null,"---"]
[null,null,{"$f":"IFERROR(INDEX(справочник!$G$1:$I$7,MATCH('Пр. №1.2.'!$G256,справочник!$G$1:$G$7,0),3),\"---\")","v":"---"},{"$f":"IFERROR(INDEX('Пр. №1'!$B$11:$C$33,MATCH('Пр. №1.2.'!$C256,'Пр. №1'!$B$11:$B$33,0),2),\"---\")","v":"---"},null,{"$f":"IFERROR(INDEX('Состав ВТК-ВРГ'!$1:$1048576,MATCH('Пр. №1.2.'!$E256,'Состав ВТК-ВРГ'!$B:$B,0),MATCH('Пр. №1.2.'!F$3,'Состав ВТК-ВРГ'!$3:$3,0)),\"---\")","v":"---"},{"$f":"IFERROR(INDEX('Состав ВТК-ВРГ'!$1:$1048576,MATCH('Пр. №1.2.'!$E256,'Состав ВТК-ВРГ'!$B:$B,0),MATCH('Пр. №1.2.'!G$3,'Состав ВТК-ВРГ'!$3:$3,0)),\"---\")","v":"---"},{"$f":"IFERROR(INDEX(справочник!$G$1:$I$7,MATCH('Пр. №1.2.'!$G256,справочник!$G$1:$G$7,0),2),\"---\")","v":"---"},{"$f":"IFERROR(INDEX('Состав ВТК-ВРГ'!$1:$1048576,MATCH('Пр. №1.2.'!$E256,'Состав ВТК-ВРГ'!$B:$B,0),MATCH('Пр. №1.2.'!I$3,'Состав ВТК-ВРГ'!$3:$3,0)),\"---\")","v":"---"},{"$f":"SUMIFS('Пр. №3'!$BQ:$BQ,'Пр. №3'!$G:$G,'Пр. №1.2.'!$E256,'Пр. №3'!$D:$D,'Пр. №1.2.'!$B256)","v":0},{"$f":"IFERROR(INDEX('Пр. №4'!$1:$1048576,MATCH($I256,'Пр. №4'!$C:$C,0),MATCH('Пр. №3'!$D$5,'Пр. №4'!$9:$9,0)),\"---\")","v":"---"},null,"---"]
[null,null,{"$f":"IFERROR(INDEX(справочник!$G$1:$I$7,MATCH('Пр. №1.2.'!$G257,справочник!$G$1:$G$7,0),3),\"---\")","v":"---"},{"$f":"IFERROR(INDEX('Пр. №1'!$B$11:$C$33,MATCH('Пр. №1.2.'!$C257,'Пр. №1'!$B$11:$B$33,0),2),\"---\")","v":"---"},null,{"$f":"IFERROR(INDEX('Состав ВТК-ВРГ'!$1:$1048576,MATCH('Пр. №1.2.'!$E257,'Состав ВТК-ВРГ'!$B:$B,0),MATCH('Пр. №1.2.'!F$3,'Состав ВТК-ВРГ'!$3:$3,0)),\"---\")","v":"---"},{"$f":"IFERROR(INDEX('Состав ВТК-ВРГ'!$1:$1048576,MATCH('Пр. №1.2.'!$E257,'Состав ВТК-ВРГ'!$B:$B,0),MATCH('Пр. №1.2.'!G$3,'Состав ВТК-ВРГ'!$3:$3,0)),\"---\")","v":"---"},{"$f":"IFERROR(INDEX(справочник!$G$1:$I$7,MATCH('Пр. №1.2.'!$G257,справочник!$G$1:$G$7,0),2),\"---\")","v":"---"},{"$f":"IFERROR(INDEX('Состав ВТК-ВРГ'!$1:$1048576,MATCH('Пр. №1.2.'!$E257,'Состав ВТК-ВРГ'!$B:$B,0),MATCH('Пр. №1.2.'!I$3,'Состав ВТК-ВРГ'!$3:$3,0)),\"---\")","v":"---"},{"$f":"SUMIFS('Пр. №3'!$BQ:$BQ,'Пр. №3'!$G:$G,'Пр. №1.2.'!$E257,'Пр. №3'!$D:$D,'Пр. №1.2.'!$B257)","v":0},{"$f":"IFERROR(INDEX('Пр. №4'!$1:$1048576,MATCH($I257,'Пр. №4'!$C:$C,0),MATCH('Пр. №3'!$D$5,'Пр. №4'!$9:$9,0)),\"---\")","v":"---"},null,"---"]
[null,null,{"$f":"IFERROR(INDEX(справочник!$G$1:$I$7,MATCH('Пр. №1.2.'!$G258,справочник!$G$1:$G$7,0),3),\"---\")","v":"---"},{"$f":"IFERROR(INDEX('Пр. №1'!$B$11:$C$33,MATCH('Пр. №1.2.'!$C258,'Пр. №1'!$B$11:$B$33,0),2),\"---\")","v":"---"},null,{"$f":"IFERROR(INDEX('Состав ВТК-ВРГ'!$1:$1048576,MATCH('Пр. №1.2.'!$E258,'Состав ВТК-ВРГ'!$B:$B,0),MATCH('Пр. №1.2.'!F$3,'Состав ВТК-ВРГ'!$3:$3,0)),\"---\")","v":"---"},{"$f":"IFERROR(INDEX('Состав ВТК-ВРГ'!$1:$1048576,MATCH('Пр. №1.2.'!$E258,'Состав ВТК-ВРГ'!$B:$B,0),MATCH('Пр. №1.2.'!G$3,'Состав ВТК-ВРГ'!$3:$3,0)),\"---\")","v":"---"},{"$f":"IFERROR(INDEX(справочник!$G$1:$I$7,MATCH('Пр. №1.2.'!$G258,справочник!$G$1:$G$7,0),2),\"---\")","v":"---"},{"$f":"IFERROR(INDEX('Состав ВТК-ВРГ'!$1:$1048576,MATCH('Пр. №1.2.'!$E258,'Состав ВТК-ВРГ'!$B:$B,0),MATCH('Пр. №1.2.'!I$3,'Состав ВТК-ВРГ'!$3:$3,0)),\"---\")","v":"---"},{"$f":"SUMIFS('Пр. №3'!$BQ:$BQ,'Пр. №3'!$G:$G,'Пр. №1.2.'!$E258,'Пр. №3'!$D:$D,'Пр. №1.2.'!$B258)","v":0},{"$f":"IFERROR(INDEX('Пр. №4'!$1:$1048576,MATCH($I258,'Пр. №4'!$C:$C,0),MATCH('Пр. №3'!$D$5,'Пр. №4'!$9:$9,0)),\"---\")","v":"---"},null,"---"]
[null,null,{"$f":"IFERROR(INDEX(справочник!$G$1:$I$7,MATCH('Пр. №1.2.'!$G259,справочник!$G$1:$G$7,0),3),\"---\")","v":"---"},{"$f":"IFERROR(INDEX('Пр. №1'!$B$11:$C$33,MATCH('Пр. №1.2.'!$C259,'Пр. №1'!$B$11:$B$33,0),2),\"---\")","v":"---"},null,{"$f":"IFERROR(INDEX('Состав ВТК-ВРГ'!$1:$1048576,MATCH('Пр. №1.2.'!$E259,'Состав ВТК-ВРГ'!$B:$B,0),MATCH('Пр. №1.2.'!F$3,'Состав ВТК-ВРГ'!$3:$3,0)),\"---\")","v":"---"},{"$f":"IFERROR(INDEX('Состав ВТК-ВРГ'!$1:$1048576,MATCH('Пр. №1.2.'!$E259,'Состав ВТК-ВРГ'!$B:$B,0),MATCH('Пр. №1.2.'!G$3,'Состав ВТК-ВРГ'!$3:$3,0)),\"---\")","v":"---"},{"$f":"IFERROR(INDEX(справочник!$G$1:$I$7,MATCH('Пр. №1.2.'!$G259,справочник!$G$1:$G$7,0),2),\"---\")","v":"---"},{"$f":"IFERROR(INDEX('Состав ВТК-ВРГ'!$1:$1048576,MATCH('Пр. №1.2.'!$E259,'Состав ВТК-ВРГ'!$B:$B,0),MATCH('Пр. №1.2.'!I$3,'Состав ВТК-ВРГ'!$3:$3,0)),\"---\")","v":"---"},{"$f":"SUMIFS('Пр. №3'!$BQ:$BQ,'Пр. №3'!$G:$G,'Пр. №1.2.'!$E259,'Пр. №3'!$D:$D,'Пр. №1.2.'!$B259)","v":0},{"$f":"IFERROR(INDEX('Пр. №4'!$1:$1048576,MATCH($I259,'Пр. №4'!$C:$C,0),MATCH('Пр. №3'!$D$5,'Пр. №4'!$9:$9,0)),\"---\")","v":"---"},null,"---"]
[null,null,{"$f":"IFERROR(INDEX(справочник!$G$1:$I$7,MATCH('Пр. №1.2.'!$G260,справочник!$G$1:$G$7,0),3),\"---\")","v":"---"},{"$f":"IFERROR(INDEX('Пр. №1'!$B$11:$C$33,MATCH('Пр. №1.2.'!$C260,'Пр. №1'!$B$11:$B$33,0),2),\"---\")","v":"---"},null,{"$f":"IFERROR(INDEX('Состав ВТК-ВРГ'!$1:$1048576,MATCH('Пр. №1.2.'!$E260,'Состав ВТК-ВРГ'!$B:$B,0),MATCH('Пр. №1.2.'!F$3,'Состав ВТК-ВРГ'!$3:$3,0)),\"---\")","v":"---"},{"$f":"IFERROR(INDEX('Состав ВТК-ВРГ'!$1:$1048576,MATCH('Пр. №1.2.'!$E260,'Состав ВТК-ВРГ'!$B:$B,0),MATCH('Пр. №1.2.'!G$3,'Состав ВТК-ВРГ'!$3:$3,0)),\"---\")","v":"---"},{"$f":"IFERROR(INDEX(справочник!$G$1:$I$7,MATCH('Пр. №1.2.'!$G260,справочник!$G$1:$G$7,0),2),\"---\")","v":"---"},{"$f":"IFERROR(INDEX('Состав ВТК-ВРГ'!$1:$1048576,MATCH('Пр. №1.2.'!$E260,'Состав ВТК-ВРГ'!$B:$B,0),MATCH('Пр. №1.2.'!I$3,'Состав ВТК-ВРГ'!$3:$3,0)),\"---\")","v":"---"},{"$f":"SUMIFS('Пр. №3'!$BQ:$BQ,'Пр. №3'!$G:$G,'Пр. №1.2.'!$E260,'Пр. №3'!$D:$D,'Пр. №1.2.'!$B260)","v":0},{"$f":"IFERROR(INDEX('Пр. №4'!$1:$1048576,MATCH($I260,'Пр. №4'!$C:$C,0),MATCH('Пр. №3'!$D$5,'Пр. №4'!$9:$9,0)),\"---\")","v":"---"},null,"---"]
[null,null,{"$f":"IFERROR(INDEX(справочник!$G$1:$I$7,MATCH('Пр. №1.2.'!$G261,справочник!$G$1:$G$7,0),3),\"---\")","v":"---"},{"$f":"IFERROR(INDEX('Пр. №1'!$B$11:$C$33,MATCH('Пр. №1.2.'!$C261,'Пр. №1'!$B$11:$B$33,0),2),\"---\")","v":"---"},null,{"$f":"IFERROR(INDEX('Состав ВТК-ВРГ'!$1:$1048576,MATCH('Пр. №1.2.'!$E261,'Состав ВТК-ВРГ'!$B:$B,0),MATCH('Пр. №1.2.'!F$3,'Состав ВТК-ВРГ'!$3:$3,0)),\"---\")","v":"---"},{"$f":"IFERROR(INDEX('Состав ВТК-ВРГ'!$1:$1048576,MATCH('Пр. №1.2.'!$E261,'Состав ВТК-ВРГ'!$B:$B,0),MATCH('Пр. №1.2.'!G$3,'Состав ВТК-ВРГ'!$3:$3,0)),\"---\")","v":"---"},{"$f":"IFERROR(INDEX(справочник!$G$1:$I$7,MATCH('Пр. №1.2.'!$G261,справочник!$G$1:$G$7,0),2),\"---\")","v":"---"},{"$f":"IFERROR(INDEX('Состав ВТК-ВРГ'!$1:$1048576,MATCH('Пр. №1.2.'!$E261,'Состав ВТК-ВРГ'!$B:$B,0),MATCH('Пр. №1.2.'!I$3,'Состав ВТК-ВРГ'!$3:$3,0)),\"---\")","v":"---"},{"$f":"SUMIFS('Пр. №3'!$BQ:$BQ,'Пр. №3'!$G:$G,'Пр. №1.2.'!$E261,'Пр. №3'!$D:$D,'Пр. №1.2.'!$B261)","v":0},{"$f":"IFERROR(INDEX('Пр. №4'!$1:$1048576,MATCH($I261,'Пр. №4'!$C:$C,0),MATCH('Пр. №3'!$D$5,'Пр. №4'!$9:$9,0)),\"---\")","v":"---"},null,"---"]
[null,null,{"$f":"IFERROR(INDEX(справочник!$G$1:$I$7,MATCH('Пр. №1.2.'!$G262,справочник!$G$1:$G$7,0),3),\"---\")","v":"---"},{"$f":"IFERROR(INDEX('Пр. №1'!$B$11:$C$33,MATCH('Пр. №1.2.'!$C262,'Пр. №1'!$B$11:$B$33,0),2),\"---\")","v":"---"},null,{"$f":"IFERROR(INDEX('Состав ВТК-ВРГ'!$1:$1048576,MATCH('Пр. №1.2.'!$E262,'Состав ВТК-ВРГ'!$B:$B,0),MATCH('Пр. №1.2.'!F$3,'Состав ВТК-ВРГ'!$3:$3,0)),\"---\")","v":"---"},{"$f":"IFERROR(INDEX('Состав ВТК-ВРГ'!$1:$1048576,MATCH('Пр. №1.2.'!$E262,'Состав ВТК-ВРГ'!$B:$B,0),MATCH('Пр. №1.2.'!G$3,'Состав ВТК-ВРГ'!$3:$3,0)),\"---\")","v":"---"},{"$f":"IFERROR(INDEX(справочник!$G$1:$I$7,MATCH('Пр. №1.2.'!$G262,справочник!$G$1:$G$7,0),2),\"---\")","v":"---"},{"$f":"IFERROR(INDEX('Состав ВТК-ВРГ'!$1:$1048576,MATCH('Пр. №1.2.'!$E262,'Состав ВТК-ВРГ'!$B:$B,0),MATCH('Пр. №1.2.'!I$3,'Состав ВТК-ВРГ'!$3:$3,0)),\"---\")","v":"---"},{"$f":"SUMIFS('Пр. №3'!$BQ:$BQ,'Пр. №3'!$G:$G,'Пр. №1.2.'!$E262,'Пр. №3'!$D:$D,'Пр. №1.2.'!$B262)","v":0},{"$f":"IFERROR(INDEX('Пр. №4'!$1:$1048576,MATCH($I262,'Пр. №4'!$C:$C,0),MATCH('Пр. №3'!$D$5,'Пр. №4'!$9:$9,0)),\"---\")","v":"---"},null,"---"]
[null,null,{"$f":"IFERROR(INDEX(справочник!$G$1:$I$7,MATCH('Пр. №1.2.'!$G263,справочник!$G$1:$G$7,0),3),\"---\")","v":"---"},{"$f":"IFERROR(INDEX('Пр. №1'!$B$11:$C$33,MATCH('Пр. №1.2.'!$C263,'Пр. №1'!$B$11:$B$33,0),2),\"---\")","v":"---"},null,{"$f":"IFERROR(INDEX('Состав ВТК-ВРГ'!$1:$1048576,MATCH('Пр. №1.2.'!$E263,'Состав ВТК-ВРГ'!$B:$B,0),MATCH('Пр. №1.2.'!F$3,'Состав ВТК-ВРГ'!$3:$3,0)),\"---\")","v":"---"},{"$f":"IFERROR(INDEX('Состав ВТК-ВРГ'!$1:$1048576,MATCH('Пр. №1.2.'!$E263,'Состав ВТК-ВРГ'!$B:$B,0),MATCH('Пр. №1.2.'!G$3,'Состав ВТК-ВРГ'!$3:$3,0)),\"---\")","v":"---"},{"$f":"IFERROR(INDEX(справочник!$G$1:$I$7,MATCH('Пр. №1.2.'!$G263,справочник!$G$1:$G$7,0),2),\"---\")","v":"---"},{"$f":"IFERROR(INDEX('Состав ВТК-ВРГ'!$1:$1048576,MATCH('Пр. №1.2.'!$E263,'Состав ВТК-ВРГ'!$B:$B,0),MATCH('Пр. №1.2.'!I$3,'Состав ВТК-ВРГ'!$3:$3,0)),\"---\")","v":"---"},{"$f":"SUMIFS('Пр. №3'!$BQ:$BQ,'Пр. №3'!$G:$G,'Пр. №1.2.'!$E263,'Пр. №3'!$D:$D,'Пр. №1.2.'!$B263)","v":0},{"$f":"IFERROR(INDEX('Пр. №4'!$1:$1048576,MATCH($I263,'Пр. №4'!$C:$C,0),MATCH('Пр. №3'!$D$5,'Пр. №4'!$9:$9,0)),\"---\")","v":"---"},null,"---"]
[null,null,{"$f":"IFERROR(INDEX(справочник!$G$1:$I$7,MATCH('Пр. №1.2.'!$G264,справочник!$G$1:$G$7,0),3),\"---\")","v":"---"},{"$f":"IFERROR(INDEX('Пр. №1'!$B$11:$C$33,MATCH('Пр. №1.2.'!$C264,'Пр. №1'!$B$11:$B$33,0),2),\"---\")","v":"---"},null,{"$f":"IFERROR(INDEX('Состав ВТК-ВРГ'!$1:$1048576,MATCH('Пр. №1.2.'!$E264,'Состав ВТК-ВРГ'!$B:$B,0),MATCH('Пр. №1.2.'!F$3,'Состав ВТК-ВРГ'!$3:$3,0)),\"---\")","v":"---"},{"$f":"IFERROR(INDEX('Состав ВТК-ВРГ'!$1:$1048576,MATCH('Пр. №1.2.'!$E264,'Состав ВТК-ВРГ'!$B:$B,0),MATCH('Пр. №1.2.'!G$3,'Состав ВТК-ВРГ'!$3:$3,0)),\"---\")","v":"---"},{"$f":"IFERROR(INDEX(справочник!$G$1:$I$7,MATCH('Пр. №1.2.'!$G264,справочник!$G$1:$G$7,0),2),\"---\")","v":"---"},{"$f":"IFERROR(INDEX('Состав ВТК-ВРГ'!$1:$1048576,MATCH('Пр. №1.2.'!$E264,'Состав ВТК-ВРГ'!$B:$B,0),MATCH('Пр. №1.2.'!I$3,'Состав ВТК-ВРГ'!$3:$3,0)),\"---\")","v":"---"},{"$f":"SUMIFS('Пр. №3'!$BQ:$BQ,'Пр. №3'!$G:$G,'Пр. №1.2.'!$E264,'Пр. №3'!$D:$D,'Пр. №1.2.'!$B264)","v":0},{"$f":"IFERROR(INDEX('Пр. №4'!$1:$1048576,MATCH($I264,'Пр. №4'!$C:$C,0),MATCH('Пр. №3'!$D$5,'Пр. №4'!$9:$9,0)),\"---\")","v":"---"},null,"---"]
[null,null,{"$f":"IFERROR(INDEX(справочник!$G$1:$I$7,MATCH('Пр. №1.2.'!$G265,справочник!$G$1:$G$7,0),3),\"---\")","v":"---"},{"$f":"IFERROR(INDEX('Пр. №1'!$B$11:$C$33,MATCH('Пр. №1.2.'!$C265,'Пр. №1'!$B$11:$B$33,0),2),\"---\")","v":"---"},null,{"$f":"IFERROR(INDEX('Состав ВТК-ВРГ'!$1:$1048576,MATCH('Пр. №1.2.'!$E265,'Состав ВТК-ВРГ'!$B:$B,0),MATCH('Пр. №1.2.'!F$3,'Состав ВТК-ВРГ'!$3:$3,0)),\"---\")","v":"---"},{"$f":"IFERROR(INDEX('Состав ВТК-ВРГ'!$1:$1048576,MATCH('Пр. №1.2.'!$E265,'Состав ВТК-ВРГ'!$B:$B,0),MATCH('Пр. №1.2.'!G$3,'Состав ВТК-ВРГ'!$3:$3,0)),\"---\")","v":"---"},{"$f":"IFERROR(INDEX(справочник!$G$1:$I$7,MATCH('Пр. №1.2.'!$G265,справочник!$G$1:$G$7,0),2),\"---\")","v":"---"},{"$f":"IFERROR(INDEX('Состав ВТК-ВРГ'!$1:$1048576,MATCH('Пр. №1.2.'!$E265,'Состав ВТК-ВРГ'!$B:$B,0),MATCH('Пр. №1.2.'!I$3,'Состав ВТК-ВРГ'!$3:$3,0)),\"---\")","v":"---"},{"$f":"SUMIFS('Пр. №3'!$BQ:$BQ,'Пр. №3'!$G:$G,'Пр. №1.2.'!$E265,'Пр. №3'!$D:$D,'Пр. №1.2.'!$B265)","v":0},{"$f":"IFERROR(INDEX('Пр. №4'!$1:$1048576,MATCH($I265,'Пр. №4'!$C:$C,0),MATCH('Пр. №3'!$D$5,'Пр. №4'!$9:$9,0)),\"---\")","v":"---"},null,"---"]
[null,null,{"$f":"IFERROR(INDEX(справочник!$G$1:$I$7,MATCH('Пр. №1.2.'!$G266,справочник!$G$1:$G$7,0),3),\"---\")","v":"---"},{"$f":"IFERROR(INDEX('Пр. №1'!$B$11:$C$33,MATCH('Пр. №1.2.'!$C266,'Пр. №1'!$B$11:$B$33,0),2),\"---\")","v":"---"},null,{"$f":"IFERROR(INDEX('Состав ВТК-ВРГ'!$1:$1048576,MATCH('Пр. №1.2.'!$E266,'Состав ВТК-ВРГ'!$B:$B,0),MATCH('Пр. №1.2.'!F$3,'Состав ВТК-ВРГ'!$3:$3,0)),\"---\")","v":"---"},{"$f":"IFERROR(INDEX('Состав ВТК-ВРГ'!$1:$1048576,MATCH('Пр. №1.2.'!$E266,'Состав ВТК-ВРГ'!$B:$B,0),MATCH('Пр. №1.2.'!G$3,'Состав ВТК-ВРГ'!$3:$3,0)),\"---\")","v":"---"},{"$f":"IFERROR(INDEX(справочник!$G$1:$I$7,MATCH('Пр. №1.2.'!$G266,справочник!$G$1:$G$7,0),2),\"---\")","v":"---"},{"$f":"IFERROR(INDEX('Состав ВТК-ВРГ'!$1:$1048576,MATCH('Пр. №1.2.'!$E266,'Состав ВТК-ВРГ'!$B:$B,0),MATCH('Пр. №1.2.'!I$3,'Состав ВТК-ВРГ'!$3:$3,0)),\"---\")","v":"---"},{"$f":"SUMIFS('Пр. №3'!$BQ:$BQ,'Пр. №3'!$G:$G,'Пр. №1.2.'!$E266,'Пр. №3'!$D:$D,'Пр. №1.2.'!$B266)","v":0},{"$f":"IFERROR(INDEX('Пр. №4'!$1:$1048576,MATCH($I266,'Пр. №4'!$C:$C,0),MATCH('Пр. №3'!$D$5,'Пр. №4'!$9:$9,0)),\"---\")","v":"---"},null,"---"]
[null,null,{"$f":"IFERROR(INDEX(справочник!$G$1:$I$7,MATCH('Пр. №1.2.'!$G267,справочник!$G$1:$G$7,0),3),\"---\")","v":"---"},{"$f":"IFERROR(INDEX('Пр. №1'!$B$11:$C$33,MATCH('Пр. №1.2.'!$C267,'Пр. №1'!$B$11:$B$33,0),2),\"---\")","v":"---"},null,{"$f":"IFERROR(INDEX('Состав ВТК-ВРГ'!$1:$1048576,MATCH('Пр. №1.2.'!$E267,'Состав ВТК-ВРГ'!$B:$B,0),MATCH('Пр. №1.2.'!F$3,'Состав ВТК-ВРГ'!$3:$3,0)),\"---\")","v":"---"},{"$f":"IFERROR(INDEX('Состав ВТК-ВРГ'!$1:$1048576,MATCH('Пр. №1.2.'!$E267,'Состав ВТК-ВРГ'!$B:$B,0),MATCH('Пр. №1.2.'!G$3,'Состав ВТК-ВРГ'!$3:$3,0)),\"---\")","v":"---"},{"$f":"IFERROR(INDEX(справочник!$G$1:$I$7,MATCH('Пр. №1.2.'!$G267,справочник!$G$1:$G$7,0),2),\"---\")","v":"---"},{"$f":"IFERROR(INDEX('Состав ВТК-ВРГ'!$1:$1048576,MATCH('Пр. №1.2.'!$E267,'Состав ВТК-ВРГ'!$B:$B,0),MATCH('Пр. №1.2.'!I$3,'Состав ВТК-ВРГ'!$3:$3,0)),\"---\")","v":"---"},{"$f":"SUMIFS('Пр. №3'!$BQ:$BQ,'Пр. №3'!$G:$G,'Пр. №1.2.'!$E267,'Пр. №3'!$D:$D,'Пр. №1.2.'!$B267)","v":0},{"$f":"IFERROR(INDEX('Пр. №4'!$1:$1048576,MATCH($I267,'Пр. №4'!$C:$C,0),MATCH('Пр. №3'!$D$5,'Пр. №4'!$9:$9,0)),\"---\")","v":"---"},null,"---"]
[null,null,{"$f":"IFERROR(INDEX(справочник!$G$1:$I$7,MATCH('Пр. №1.2.'!$G268,справочник!$G$1:$G$7,0),3),\"---\")","v":"---"},{"$f":"IFERROR(INDEX('Пр. №1'!$B$11:$C$33,MATCH('Пр. №1.2.'!$C268,'Пр. №1'!$B$11:$B$33,0),2),\"---\")","v":"---"},null,{"$f":"IFERROR(INDEX('Состав ВТК-ВРГ'!$1:$1048576,MATCH('Пр. №1.2.'!$E268,'Состав ВТК-ВРГ'!$B:$B,0),MATCH('Пр. №1.2.'!F$3,'Состав ВТК-ВРГ'!$3:$3,0)),\"---\")","v":"---"},{"$f":"IFERROR(INDEX('Состав ВТК-ВРГ'!$1:$1048576,MATCH('Пр. №1.2.'!$E268,'Состав ВТК-ВРГ'!$B:$B,0),MATCH('Пр. №1.2.'!G$3,'Состав ВТК-ВРГ'!$3:$3,0)),\"---\")","v":"---"},{"$f":"IFERROR(INDEX(справочник!$G$1:$I$7,MATCH('Пр. №1.2.'!$G268,справочник!$G$1:$G$7,0),2),\"---\")","v":"---"},{"$f":"IFERROR(INDEX('Состав ВТК-ВРГ'!$1:$1048576,MATCH('Пр. №1.2.'!$E268,'Состав ВТК-ВРГ'!$B:$B,0),MATCH('Пр. №1.2.'!I$3,'Состав ВТК-ВРГ'!$3:$3,0)),\"---\")","v":"---"},{"$f":"SUMIFS('Пр. №3'!$BQ:$BQ,'Пр. №3'!$G:$G,'Пр. №1.2.'!$E268,'Пр. №3'!$D:$D,'Пр. №1.2.'!$B268)","v":0},{"$f":"IFERROR(INDEX('Пр. №4'!$1:$1048576,MATCH($I268,'Пр. №4'!$C:$C,0),MATCH('Пр. №3'!$D$5,'Пр. №4'!$9:$9,0)),\"---\")","v":"---"},null,"---"]
[null,null,{"$f":"IFERROR(INDEX(справочник!$G$1:$I$7,MATCH('Пр. №1.2.'!$G269,справочник!$G$1:$G$7,0),3),\"---\")","v":"---"},{"$f":"IFERROR(INDEX('Пр. №1'!$B$11:$C$33,MATCH('Пр. №1.2.'!$C269,'Пр. №1'!$B$11:$B$33,0),2),\"---\")","v":"---"},null,{"$f":"IFERROR(INDEX('Состав ВТК-ВРГ'!$1:$1048576,MATCH('Пр. №1.2.'!$E269,'Состав ВТК-ВРГ'!$B:$B,0),MATCH('Пр. №1.2.'!F$3,'Состав ВТК-ВРГ'!$3:$3,0)),\"---\")","v":"---"},{"$f":"IFERROR(INDEX('Состав ВТК-ВРГ'!$1:$1048576,MATCH('Пр. №1.2.'!$E269,'Состав ВТК-ВРГ'!$B:$B,0),MATCH('Пр. №1.2.'!G$3,'Состав ВТК-ВРГ'!$3:$3,0)),\"---\")","v":"---"},{"$f":"IFERROR(INDEX(справочник!$G$1:$I$7,MATCH('Пр. №1.2.'!$G269,справочник!$G$1:$G$7,0),2),\"---\")","v":"---"},{"$f":"IFERROR(INDEX('Состав ВТК-ВРГ'!$1:$1048576,MATCH('Пр. №1.2.'!$E269,'Состав ВТК-ВРГ'!$B:$B,0),MATCH('Пр. №1.2.'!I$3,'Состав ВТК-ВРГ'!$3:$3,0)),\"---\")","v":"---"},{"$f":"SUMIFS('Пр. №3'!$BQ:$BQ,'Пр. №3'!$G:$G,'Пр. №1.2.'!$E269,'Пр. №3'!$D:$D,'Пр. №1.2.'!$B269)","v":0},{"$f":"IFERROR(INDEX('Пр. №4'!$1:$1048576,MATCH($I269,'Пр. №4'!$C:$C,0),MATCH('Пр. №3'!$D$5,'Пр. №4'!$9:$9,0)),\"---\")","v":"---"},null,"---"]
[null,null,{"$f":"IFERROR(INDEX(справочник!$G$1:$I$7,MATCH('Пр. №1.2.'!$G270,справочник!$G$1:$G$7,0),3),\"---\")","v":"---"},{"$f":"IFERROR(INDEX('Пр. №1'!$B$11:$C$33,MATCH('Пр. №1.2.'!$C270,'Пр. №1'!$B$11:$B$33,0),2),\"---\")","v":"---"},null,{"$f":"IFERROR(INDEX('Состав ВТК-ВРГ'!$1:$1048576,MATCH('Пр. №1.2.'!$E270,'Состав ВТК-ВРГ'!$B:$B,0),MATCH('Пр. №1.2.'!F$3,'Состав ВТК-ВРГ'!$3:$3,0)),\"---\")","v":"---"},{"$f":"IFERROR(INDEX('Состав ВТК-ВРГ'!$1:$1048576,MATCH('Пр. №1.2.'!$E270,'Состав ВТК-ВРГ'!$B:$B,0),MATCH('Пр. №1.2.'!G$3,'Состав ВТК-ВРГ'!$3:$3,0)),\"---\")","v":"---"},{"$f":"IFERROR(INDEX(справочник!$G$1:$I$7,MATCH('Пр. №1.2.'!$G270,справочник!$G$1:$G$7,0),2),\"---\")","v":"---"},{"$f":"IFERROR(INDEX('Состав ВТК-ВРГ'!$1:$1048576,MATCH('Пр. №1.2.'!$E270,'Состав ВТК-ВРГ'!$B:$B,0),MATCH('Пр. №1.2.'!I$3,'Состав ВТК-ВРГ'!$3:$3,0)),\"---\")","v":"---"},{"$f":"SUMIFS('Пр. №3'!$BQ:$BQ,'Пр. №3'!$G:$G,'Пр. №1.2.'!$E270,'Пр. №3'!$D:$D,'Пр. №1.2.'!$B270)","v":0},{"$f":"IFERROR(INDEX('Пр. №4'!$1:$1048576,MATCH($I270,'Пр. №4'!$C:$C,0),MATCH('Пр. №3'!$D$5,'Пр. №4'!$9:$9,0)),\"---\")","v":"---"},null,"---"]
[null,null,{"$f":"IFERROR(INDEX(справочник!$G$1:$I$7,MATCH('Пр. №1.2.'!$G271,справочник!$G$1:$G$7,0),3),\"---\")","v":"---"},{"$f":"IFERROR(INDEX('Пр. №1'!$B$11:$C$33,MATCH('Пр. №1.2.'!$C271,'Пр. №1'!$B$11:$B$33,0),2),\"---\")","v":"---"},null,{"$f":"IFERROR(INDEX('Состав ВТК-ВРГ'!$1:$1048576,MATCH('Пр. №1.2.'!$E271,'Состав ВТК-ВРГ'!$B:$B,0),MATCH('Пр. №1.2.'!F$3,'Состав ВТК-ВРГ'!$3:$3,0)),\"---\")","v":"---"},{"$f":"IFERROR(INDEX('Состав ВТК-ВРГ'!$1:$1048576,MATCH('Пр. №1.2.'!$E271,'Состав ВТК-ВРГ'!$B:$B,0),MATCH('Пр. №1.2.'!G$3,'Состав ВТК-ВРГ'!$3:$3,0)),\"---\")","v":"---"},{"$f":"IFERROR(INDEX(справочник!$G$1:$I$7,MATCH('Пр. №1.2.'!$G271,справочник!$G$1:$G$7,0),2),\"---\")","v":"---"},{"$f":"IFERROR(INDEX('Состав ВТК-ВРГ'!$1:$1048576,MATCH('Пр. №1.2.'!$E271,'Состав ВТК-ВРГ'!$B:$B,0),MATCH('Пр. №1.2.'!I$3,'Состав ВТК-ВРГ'!$3:$3,0)),\"---\")","v":"---"},{"$f":"SUMIFS('Пр. №3'!$BQ:$BQ,'Пр. №3'!$G:$G,'Пр. №1.2.'!$E271,'Пр. №3'!$D:$D,'Пр. №1.2.'!$B271)","v":0},{"$f":"IFERROR(INDEX('Пр. №4'!$1:$1048576,MATCH($I271,'Пр. №4'!$C:$C,0),MATCH('Пр. №3'!$D$5,'Пр. №4'!$9:$9,0)),\"---\")","v":"---"},null,"---"]
[null,null,{"$f":"IFERROR(INDEX(справочник!$G$1:$I$7,MATCH('Пр. №1.2.'!$G272,справочник!$G$1:$G$7,0),3),\"---\")","v":"---"},{"$f":"IFERROR(INDEX('Пр. №1'!$B$11:$C$33,MATCH('Пр. №1.2.'!$C272,'Пр. №1'!$B$11:$B$33,0),2),\"---\")","v":"---"},null,{"$f":"IFERROR(INDEX('Состав ВТК-ВРГ'!$1:$1048576,MATCH('Пр. №1.2.'!$E272,'Состав ВТК-ВРГ'!$B:$B,0),MATCH('Пр. №1.2.'!F$3,'Состав ВТК-ВРГ'!$3:$3,0)),\"---\")","v":"---"},{"$f":"IFERROR(INDEX('Состав ВТК-ВРГ'!$1:$1048576,MATCH('Пр. №1.2.'!$E272,'Состав ВТК-ВРГ'!$B:$B,0),MATCH('Пр. №1.2.'!G$3,'Состав ВТК-ВРГ'!$3:$3,0)),\"---\")","v":"---"},{"$f":"IFERROR(INDEX(справочник!$G$1:$I$7,MATCH('Пр. №1.2.'!$G272,справочник!$G$1:$G$7,0),2),\"---\")","v":"---"},{"$f":"IFERROR(INDEX('Состав ВТК-ВРГ'!$1:$1048576,MATCH('Пр. №1.2.'!$E272,'Состав ВТК-ВРГ'!$B:$B,0),MATCH('Пр. №1.2.'!I$3,'Состав ВТК-ВРГ'!$3:$3,0)),\"---\")","v":"---"},{"$f":"SUMIFS('Пр. №3'!$BQ:$BQ,'Пр. №3'!$G:$G,'Пр. №1.2.'!$E272,'Пр. №3'!$D:$D,'Пр. №1.2.'!$B272)","v":0},{"$f":"IFERROR(INDEX('Пр. №4'!$1:$1048576,MATCH($I272,'Пр. №4'!$C:$C,0),MATCH('Пр. №3'!$D$5,'Пр. №4'!$9:$9,0)),\"---\")","v":"---"},null,"---"]
[null,null,{"$f":"IFERROR(INDEX(справочник!$G$1:$I$7,MATCH('Пр. №1.2.'!$G273,справочник!$G$1:$G$7,0),3),\"---\")","v":"---"},{"$f":"IFERROR(INDEX('Пр. №1'!$B$11:$C$33,MATCH('Пр. №1.2.'!$C273,'Пр. №1'!$B$11:$B$33,0),2),\"---\")","v":"---"},null,{"$f":"IFERROR(INDEX('Состав ВТК-ВРГ'!$1:$1048576,MATCH('Пр. №1.2.'!$E273,'Состав ВТК-ВРГ'!$B:$B,0),MATCH('Пр. №1.2.'!F$3,'Состав ВТК-ВРГ'!$3:$3,0)),\"---\")","v":"---"},{"$f":"IFERROR(INDEX('Состав ВТК-ВРГ'!$1:$1048576,MATCH('Пр. №1.2.'!$E273,'Состав ВТК-ВРГ'!$B:$B,0),MATCH('Пр. №1.2.'!G$3,'Состав ВТК-ВРГ'!$3:$3,0)),\"---\")","v":"---"},{"$f":"IFERROR(INDEX(справочник!$G$1:$I$7,MATCH('Пр. №1.2.'!$G273,справочник!$G$1:$G$7,0),2),\"---\")","v":"---"},{"$f":"IFERROR(INDEX('Состав ВТК-ВРГ'!$1:$1048576,MATCH('Пр. №1.2.'!$E273,'Состав ВТК-ВРГ'!$B:$B,0),MATCH('Пр. №1.2.'!I$3,'Состав ВТК-ВРГ'!$3:$3,0)),\"---\")","v":"---"},{"$f":"SUMIFS('Пр. №3'!$BQ:$BQ,'Пр. №3'!$G:$G,'Пр. №1.2.'!$E273,'Пр. №3'!$D:$D,'Пр. №1.2.'!$B273)","v":0},{"$f":"IFERROR(INDEX('Пр. №4'!$1:$1048576,MATCH($I273,'Пр. №4'!$C:$C,0),MATCH('Пр. №3'!$D$5,'Пр. №4'!$9:$9,0)),\"---\")","v":"---"},null,"---"]
[null,null,{"$f":"IFERROR(INDEX(справочник!$G$1:$I$7,MATCH('Пр. №1.2.'!$G274,справочник!$G$1:$G$7,0),3),\"---\")","v":"---"},{"$f":"IFERROR(INDEX('Пр. №1'!$B$11:$C$33,MATCH('Пр. №1.2.'!$C274,'Пр. №1'!$B$11:$B$33,0),2),\"---\")","v":"---"},null,{"$f":"IFERROR(INDEX('Состав ВТК-ВРГ'!$1:$1048576,MATCH('Пр. №1.2.'!$E274,'Состав ВТК-ВРГ'!$B:$B,0),MATCH('Пр. №1.2.'!F$3,'Состав ВТК-ВРГ'!$3:$3,0)),\"---\")","v":"---"},{"$f":"IFERROR(INDEX('Состав ВТК-ВРГ'!$1:$1048576,MATCH('Пр. №1.2.'!$E274,'Состав ВТК-ВРГ'!$B:$B,0),MATCH('Пр. №1.2.'!G$3,'Состав ВТК-ВРГ'!$3:$3,0)),\"---\")","v":"---"},{"$f":"IFERROR(INDEX(справочник!$G$1:$I$7,MATCH('Пр. №1.2.'!$G274,справочник!$G$1:$G$7,0),2),\"---\")","v":"---"},{"$f":"IFERROR(INDEX('Состав ВТК-ВРГ'!$1:$1048576,MATCH('Пр. №1.2.'!$E274,'Состав ВТК-ВРГ'!$B:$B,0),MATCH('Пр. №1.2.'!I$3,'Состав ВТК-ВРГ'!$3:$3,0)),\"---\")","v":"---"},{"$f":"SUMIFS('Пр. №3'!$BQ:$BQ,'Пр. №3'!$G:$G,'Пр. №1.2.'!$E274,'Пр. №3'!$D:$D,'Пр. №1.2.'!$B274)","v":0},{"$f":"IFERROR(INDEX('Пр. №4'!$1:$1048576,MATCH($I274,'Пр. №4'!$C:$C,0),MATCH('Пр. №3'!$D$5,'Пр. №4'!$9:$9,0)),\"---\")","v":"---"},null,"---"]
[null,null,{"$f":"IFERROR(INDEX(справочник!$G$1:$I$7,MATCH('Пр. №1.2.'!$G275,справочник!$G$1:$G$7,0),3),\"---\")","v":"---"},{"$f":"IFERROR(INDEX('Пр. №1'!$B$11:$C$33,MATCH('Пр. №1.2.'!$C275,'Пр. №1'!$B$11:$B$33,0),2),\"---\")","v":"---"},null,{"$f":"IFERROR(INDEX('Состав ВТК-ВРГ'!$1:$1048576,MATCH('Пр. №1.2.'!$E275,'Состав ВТК-ВРГ'!$B:$B,0),MATCH('Пр. №1.2.'!F$3,'Состав ВТК-ВРГ'!$3:$3,0)),\"---\")","v":"---"},{"$f":"IFERROR(INDEX('Состав ВТК-ВРГ'!$1:$1048576,MATCH('Пр. №1.2.'!$E275,'Состав ВТК-ВРГ'!$B:$B,0),MATCH('Пр. №1.2.'!G$3,'Состав ВТК-ВРГ'!$3:$3,0)),\"---\")","v":"---"},{"$f":"IFERROR(INDEX(справочник!$G$1:$I$7,MATCH('Пр. №1.2.'!$G275,справочник!$G$1:$G$7,0),2),\"---\")","v":"---"},{"$f":"IFERROR(INDEX('Состав ВТК-ВРГ'!$1:$1048576,MATCH('Пр. №1.2.'!$E275,'Состав ВТК-ВРГ'!$B:$B,0),MATCH('Пр. №1.2.'!I$3,'Состав ВТК-ВРГ'!$3:$3,0)),\"---\")","v":"---"},{"$f":"SUMIFS('Пр. №3'!$BQ:$BQ,'Пр. №3'!$G:$G,'Пр. №1.2.'!$E275,'Пр. №3'!$D:$D,'Пр. №1.2.'!$B275)","v":0},{"$f":"IFERROR(INDEX('Пр. №4'!$1:$1048576,MATCH($I275,'Пр. №4'!$C:$C,0),MATCH('Пр. №3'!$D$5,'Пр. №4'!$9:$9,0)),\"---\")","v":"---"},null,"---"]
[null,null,{"$f":"IFERROR(INDEX(справочник!$G$1:$I$7,MATCH('Пр. №1.2.'!$G276,справочник!$G$1:$G$7,0),3),\"---\")","v":"---"},{"$f":"IFERROR(INDEX('Пр. №1'!$B$11:$C$33,MATCH('Пр. №1.2.'!$C276,'Пр. №1'!$B$11:$B$33,0),2),\"---\")","v":"---"},null,{"$f":"IFERROR(INDEX('Состав ВТК-ВРГ'!$1:$1048576,MATCH('Пр. №1.2.'!$E276,'Состав ВТК-ВРГ'!$B:$B,0),MATCH('Пр. №1.2.'!F$3,'Состав ВТК-ВРГ'!$3:$3,0)),\"---\")","v":"---"},{"$f":"IFERROR(INDEX('Состав ВТК-ВРГ'!$1:$1048576,MATCH('Пр. №1.2.'!$E276,'Состав ВТК-ВРГ'!$B:$B,0),MATCH('Пр. №1.2.'!G$3,'Состав ВТК-ВРГ'!$3:$3,0)),\"---\")","v":"---"},{"$f":"IFERROR(INDEX(справочник!$G$1:$I$7,MATCH('Пр. №1.2.'!$G276,справочник!$G$1:$G$7,0),2),\"---\")","v":"---"},{"$f":"IFERROR(INDEX('Состав ВТК-ВРГ'!$1:$1048576,MATCH('Пр. №1.2.'!$E276,'Состав ВТК-ВРГ'!$B:$B,0),MATCH('Пр. №1.2.'!I$3,'Состав ВТК-ВРГ'!$3:$3,0)),\"---\")","v":"---"},{"$f":"SUMIFS('Пр. №3'!$BQ:$BQ,'Пр. №3'!$G:$G,'Пр. №1.2.'!$E276,'Пр. №3'!$D:$D,'Пр. №1.2.'!$B276)","v":0},{"$f":"IFERROR(INDEX('Пр. №4'!$1:$1048576,MATCH($I276,'Пр. №4'!$C:$C,0),MATCH('Пр. №3'!$D$5,'Пр. №4'!$9:$9,0)),\"---\")","v":"---"},null,"---"]
[null,null,{"$f":"IFERROR(INDEX(справочник!$G$1:$I$7,MATCH('Пр. №1.2.'!$G277,справочник!$G$1:$G$7,0),3),\"---\")","v":"---"},{"$f":"IFERROR(INDEX('Пр. №1'!$B$11:$C$33,MATCH('Пр. №1.2.'!$C277,'Пр. №1'!$B$11:$B$33,0),2),\"---\")","v":"---"},null,{"$f":"IFERROR(INDEX('Состав ВТК-ВРГ'!$1:$1048576,MATCH('Пр. №1.2.'!$E277,'Состав ВТК-ВРГ'!$B:$B,0),MATCH('Пр. №1.2.'!F$3,'Состав ВТК-ВРГ'!$3:$3,0)),\"---\")","v":"---"},{"$f":"IFERROR(INDEX('Состав ВТК-ВРГ'!$1:$1048576,MATCH('Пр. №1.2.'!$E277,'Состав ВТК-ВРГ'!$B:$B,0),MATCH('Пр. №1.2.'!G$3,'Состав ВТК-ВРГ'!$3:$3,0)),\"---\")","v":"---"},{"$f":"IFERROR(INDEX(справочник!$G$1:$I$7,MATCH('Пр. №1.2.'!$G277,справочник!$G$1:$G$7,0),2),\"---\")","v":"---"},{"$f":"IFERROR(INDEX('Состав ВТК-ВРГ'!$1:$1048576,MATCH('Пр. №1.2.'!$E277,'Состав ВТК-ВРГ'!$B:$B,0),MATCH('Пр. №1.2.'!I$3,'Состав ВТК-ВРГ'!$3:$3,0)),\"---\")","v":"---"},{"$f":"SUMIFS('Пр. №3'!$BQ:$BQ,'Пр. №3'!$G:$G,'Пр. №1.2.'!$E277,'Пр. №3'!$D:$D,'Пр. №1.2.'!$B277)","v":0},{"$f":"IFERROR(INDEX('Пр. №4'!$1:$1048576,MATCH($I277,'Пр. №4'!$C:$C,0),MATCH('Пр. №3'!$D$5,'Пр. №4'!$9:$9,0)),\"---\")","v":"---"},null,"---"]
[null,null,{"$f":"IFERROR(INDEX(справочник!$G$1:$I$7,MATCH('Пр. №1.2.'!$G278,справочник!$G$1:$G$7,0),3),\"---\")","v":"---"},{"$f":"IFERROR(INDEX('Пр. №1'!$B$11:$C$33,MATCH('Пр. №1.2.'!$C278,'Пр. №1'!$B$11:$B$33,0),2),\"---\")","v":"---"},null,{"$f":"IFERROR(INDEX('Состав ВТК-ВРГ'!$1:$1048576,MATCH('Пр. №1.2.'!$E278,'Состав ВТК-ВРГ'!$B:$B,0),MATCH('Пр. №1.2.'!F$3,'Состав ВТК-ВРГ'!$3:$3,0)),\"---\")","v":"---"},{"$f":"IFERROR(INDEX('Состав ВТК-ВРГ'!$1:$1048576,MATCH('Пр. №1.2.'!$E278,'Состав ВТК-ВРГ'!$B:$B,0),MATCH('Пр. №1.2.'!G$3,'Состав ВТК-ВРГ'!$3:$3,0)),\"---\")","v":"---"},{"$f":"IFERROR(INDEX(справочник!$G$1:$I$7,MATCH('Пр. №1.2.'!$G278,справочник!$G$1:$G$7,0),2),\"---\")","v":"---"},{"$f":"IFERROR(INDEX('Состав ВТК-ВРГ'!$1:$1048576,MATCH('Пр. №1.2.'!$E278,'Состав ВТК-ВРГ'!$B:$B,0),MATCH('Пр. №1.2.'!I$3,'Состав ВТК-ВРГ'!$3:$3,0)),\"---\")","v":"---"},{"$f":"SUMIFS('Пр. №3'!$BQ:$BQ,'Пр. №3'!$G:$G,'Пр. №1.2.'!$E278,'Пр. №3'!$D:$D,'Пр. №1.2.'!$B278)","v":0},{"$f":"IFERROR(INDEX('Пр. №4'!$1:$1048576,MATCH($I278,'Пр. №4'!$C:$C,0),MATCH('Пр. №3'!$D$5,'Пр. №4'!$9:$9,0)),\"---\")","v":"---"},null,"---"]
[null,null,{"$f":"IFERROR(INDEX(справочник!$G$1:$I$7,MATCH('Пр. №1.2.'!$G279,справочник!$G$1:$G$7,0),3),\"---\")","v":"---"},{"$f":"IFERROR(INDEX('Пр. №1'!$B$11:$C$33,MATCH('Пр. №1.2.'!$C279,'Пр. №1'!$B$11:$B$33,0),2),\"---\")","v":"---"},null,{"$f":"IFERROR(INDEX('Состав ВТК-ВРГ'!$1:$1048576,MATCH('Пр. №1.2.'!$E279,'Состав ВТК-ВРГ'!$B:$B,0),MATCH('Пр. №1.2.'!F$3,'Состав ВТК-ВРГ'!$3:$3,0)),\"---\")","v":"---"},{"$f":"IFERROR(INDEX('Состав ВТК-ВРГ'!$1:$1048576,MATCH('Пр. №1.2.'!$E279,'Состав ВТК-ВРГ'!$B:$B,0),MATCH('Пр. №1.2.'!G$3,'Состав ВТК-ВРГ'!$3:$3,0)),\"---\")","v":"---"},{"$f":"IFERROR(INDEX(справочник!$G$1:$I$7,MATCH('Пр. №1.2.'!$G279,справочник!$G$1:$G$7,0),2),\"---\")","v":"---"},{"$f":"IFERROR(INDEX('Состав ВТК-ВРГ'!$1:$1048576,MATCH('Пр. №1.2.'!$E279,'Состав ВТК-ВРГ'!$B:$B,0),MATCH('Пр. №1.2.'!I$3,'Состав ВТК-ВРГ'!$3:$3,0)),\"---\")","v":"---"},{"$f":"SUMIFS('Пр. №3'!$BQ:$BQ,'Пр. №3'!$G:$G,'Пр. №1.2.'!$E279,'Пр. №3'!$D:$D,'Пр. №1.2.'!$B279)","v":0},{"$f":"IFERROR(INDEX('Пр. №4'!$1:$1048576,MATCH($I279,'Пр. №4'!$C:$C,0),MATCH('Пр. №3'!$D$5,'Пр. №4'!$9:$9,0)),\"---\")","v":"---"},null,"---"]
[null,null,{"$f":"IFERROR(INDEX(справочник!$G$1:$I$7,MATCH('Пр. №1.2.'!$G280,справочник!$G$1:$G$7,0),3),\"---\")","v":"---"},{"$f":"IFERROR(INDEX('Пр. №1'!$B$11:$C$33,MATCH('Пр. №1.2.'!$C280,'Пр. №1'!$B$11:$B$33,0),2),\"---\")","v":"---"},null,{"$f":"IFERROR(INDEX('Состав ВТК-ВРГ'!$1:$1048576,MATCH('Пр. №1.2.'!$E280,'Состав ВТК-ВРГ'!$B:$B,0),MATCH('Пр. №1.2.'!F$3,'Состав ВТК-ВРГ'!$3:$3,0)),\"---\")","v":"---"},{"$f":"IFERROR(INDEX('Состав ВТК-ВРГ'!$1:$1048576,MATCH('Пр. №1.2.'!$E280,'Состав ВТК-ВРГ'!$B:$B,0),MATCH('Пр. №1.2.'!G$3,'Состав ВТК-ВРГ'!$3:$3,0)),\"---\")","v":"---"},{"$f":"IFERROR(INDEX(справочник!$G$1:$I$7,MATCH('Пр. №1.2.'!$G280,справочник!$G$1:$G$7,0),2),\"---\")","v":"---"},{"$f":"IFERROR(INDEX('Состав ВТК-ВРГ'!$1:$1048576,MATCH('Пр. №1.2.'!$E280,'Состав ВТК-ВРГ'!$B:$B,0),MATCH('Пр. №1.2.'!I$3,'Состав ВТК-ВРГ'!$3:$3,0)),\"---\")","v":"---"},{"$f":"SUMIFS('Пр. №3'!$BQ:$BQ,'Пр. №3'!$G:$G,'Пр. №1.2.'!$E280,'Пр. №3'!$D:$D,'Пр. №1.2.'!$B280)","v":0},{"$f":"IFERROR(INDEX('Пр. №4'!$1:$1048576,MATCH($I280,'Пр. №4'!$C:$C,0),MATCH('Пр. №3'!$D$5,'Пр. №4'!$9:$9,0)),\"---\")","v":"---"},null,"---"]
[null,null,{"$f":"IFERROR(INDEX(справочник!$G$1:$I$7,MATCH('Пр. №1.2.'!$G281,справочник!$G$1:$G$7,0),3),\"---\")","v":"---"},{"$f":"IFERROR(INDEX('Пр. №1'!$B$11:$C$33,MATCH('Пр. №1.2.'!$C281,'Пр. №1'!$B$11:$B$33,0),2),\"---\")","v":"---"},null,{"$f":"IFERROR(INDEX('Состав ВТК-ВРГ'!$1:$1048576,MATCH('Пр. №1.2.'!$E281,'Состав ВТК-ВРГ'!$B:$B,0),MATCH('Пр. №1.2.'!F$3,'Состав ВТК-ВРГ'!$3:$3,0)),\"---\")","v":"---"},{"$f":"IFERROR(INDEX('Состав ВТК-ВРГ'!$1:$1048576,MATCH('Пр. №1.2.'!$E281,'Состав ВТК-ВРГ'!$B:$B,0),MATCH('Пр. №1.2.'!G$3,'Состав ВТК-ВРГ'!$3:$3,0)),\"---\")","v":"---"},{"$f":"IFERROR(INDEX(справочник!$G$1:$I$7,MATCH('Пр. №1.2.'!$G281,справочник!$G$1:$G$7,0),2),\"---\")","v":"---"},{"$f":"IFERROR(INDEX('Состав ВТК-ВРГ'!$1:$1048576,MATCH('Пр. №1.2.'!$E281,'Состав ВТК-ВРГ'!$B:$B,0),MATCH('Пр. №1.2.'!I$3,'Состав ВТК-ВРГ'!$3:$3,0)),\"---\")","v":"---"},{"$f":"SUMIFS('Пр. №3'!$BQ:$BQ,'Пр. №3'!$G:$G,'Пр. №1.2.'!$E281,'Пр. №3'!$D:$D,'Пр. №1.2.'!$B281)","v":0},{"$f":"IFERROR(INDEX('Пр. №4'!$1:$1048576,MATCH($I281,'Пр. №4'!$C:$C,0),MATCH('Пр. №3'!$D$5,'Пр. №4'!$9:$9,0)),\"---\")","v":"---"},null,"---"]
[null,null,{"$f":"IFERROR(INDEX(справочник!$G$1:$I$7,MATCH('Пр. №1.2.'!$G282,справочник!$G$1:$G$7,0),3),\"---\")","v":"---"},{"$f":"IFERROR(INDEX('Пр. №1'!$B$11:$C$33,MATCH('Пр. №1.2.'!$C282,'Пр. №1'!$B$11:$B$33,0),2),\"---\")","v":"---"},null,{"$f":"IFERROR(INDEX('Состав ВТК-ВРГ'!$1:$1048576,MATCH('Пр. №1.2.'!$E282,'Состав ВТК-ВРГ'!$B:$B,0),MATCH('Пр. №1.2.'!F$3,'Состав ВТК-ВРГ'!$3:$3,0)),\"---\")","v":"---"},{"$f":"IFERROR(INDEX('Состав ВТК-ВРГ'!$1:$1048576,MATCH('Пр. №1.2.'!$E282,'Состав ВТК-ВРГ'!$B:$B,0),MATCH('Пр. №1.2.'!G$3,'Состав ВТК-ВРГ'!$3:$3,0)),\"---\")","v":"---"},{"$f":"IFERROR(INDEX(справочник!$G$1:$I$7,MATCH('Пр. №1.2.'!$G282,справочник!$G$1:$G$7,0),2),\"---\")","v":"---"},{"$f":"IFERROR(INDEX('Состав ВТК-ВРГ'!$1:$1048576,MATCH('Пр. №1.2.'!$E282,'Состав ВТК-ВРГ'!$B:$B,0),MATCH('Пр. №1.2.'!I$3,'Состав ВТК-ВРГ'!$3:$3,0)),\"---\")","v":"---"},{"$f":"SUMIFS('Пр. №3'!$BQ:$BQ,'Пр. №3'!$G:$G,'Пр. №1.2.'!$E282,'Пр. №3'!$D:$D,'Пр. №1.2.'!$B282)","v":0},{"$f":"IFERROR(INDEX('Пр. №4'!$1:$1048576,MATCH($I282,'Пр. №4'!$C:$C,0),MATCH('Пр. №3'!$D$5,'Пр. №4'!$9:$9,0)),\"---\")","v":"---"},null,"---"]
[null,null,{"$f":"IFERROR(INDEX(справочник!$G$1:$I$7,MATCH('Пр. №1.2.'!$G283,справочник!$G$1:$G$7,0),3),\"---\")","v":"---"},{"$f":"IFERROR(INDEX('Пр. №1'!$B$11:$C$33,MATCH('Пр. №1.2.'!$C283,'Пр. №1'!$B$11:$B$33,0),2),\"---\")","v":"---"},null,{"$f":"IFERROR(INDEX('Состав ВТК-ВРГ'!$1:$1048576,MATCH('Пр. №1.2.'!$E283,'Состав ВТК-ВРГ'!$B:$B,0),MATCH('Пр. №1.2.'!F$3,'Состав ВТК-ВРГ'!$3:$3,0)),\"---\")","v":"---"},{"$f":"IFERROR(INDEX('Состав ВТК-ВРГ'!$1:$1048576,MATCH('Пр. №1.2.'!$E283,'Состав ВТК-ВРГ'!$B:$B,0),MATCH('Пр. №1.2.'!G$3,'Состав ВТК-ВРГ'!$3:$3,0)),\"---\")","v":"---"},{"$f":"IFERROR(INDEX(справочник!$G$1:$I$7,MATCH('Пр. №1.2.'!$G283,справочник!$G$1:$G$7,0),2),\"---\")","v":"---"},{"$f":"IFERROR(INDEX('Состав ВТК-ВРГ'!$1:$1048576,MATCH('Пр. №1.2.'!$E283,'Состав ВТК-ВРГ'!$B:$B,0),MATCH('Пр. №1.2.'!I$3,'Состав ВТК-ВРГ'!$3:$3,0)),\"---\")","v":"---"},{"$f":"SUMIFS('Пр. №3'!$BQ:$BQ,'Пр. №3'!$G:$G,'Пр. №1.2.'!$E283,'Пр. №3'!$D:$D,'Пр. №1.2.'!$B283)","v":0},{"$f":"IFERROR(INDEX('Пр. №4'!$1:$1048576,MATCH($I283,'Пр. №4'!$C:$C,0),MATCH('Пр. №3'!$D$5,'Пр. №4'!$9:$9,0)),\"---\")","v":"---"},null,"---"]
[null,null,{"$f":"IFERROR(INDEX(справочник!$G$1:$I$7,MATCH('Пр. №1.2.'!$G284,справочник!$G$1:$G$7,0),3),\"---\")","v":"---"},{"$f":"IFERROR(INDEX('Пр. №1'!$B$11:$C$33,MATCH('Пр. №1.2.'!$C284,'Пр. №1'!$B$11:$B$33,0),2),\"---\")","v":"---"},null,{"$f":"IFERROR(INDEX('Состав ВТК-ВРГ'!$1:$1048576,MATCH('Пр. №1.2.'!$E284,'Состав ВТК-ВРГ'!$B:$B,0),MATCH('Пр. №1.2.'!F$3,'Состав ВТК-ВРГ'!$3:$3,0)),\"---\")","v":"---"},{"$f":"IFERROR(INDEX('Состав ВТК-ВРГ'!$1:$1048576,MATCH('Пр. №1.2.'!$E284,'Состав ВТК-ВРГ'!$B:$B,0),MATCH('Пр. №1.2.'!G$3,'Состав ВТК-ВРГ'!$3:$3,0)),\"---\")","v":"---"},{"$f":"IFERROR(INDEX(справочник!$G$1:$I$7,MATCH('Пр. №1.2.'!$G284,справочник!$G$1:$G$7,0),2),\"---\")","v":"---"},{"$f":"IFERROR(INDEX('Состав ВТК-ВРГ'!$1:$1048576,MATCH('Пр. №1.2.'!$E284,'Состав ВТК-ВРГ'!$B:$B,0),MATCH('Пр. №1.2.'!I$3,'Состав ВТК-ВРГ'!$3:$3,0)),\"---\")","v":"---"},{"$f":"SUMIFS('Пр. №3'!$BQ:$BQ,'Пр. №3'!$G:$G,'Пр. №1.2.'!$E284,'Пр. №3'!$D:$D,'Пр. №1.2.'!$B284)","v":0},{"$f":"IFERROR(INDEX('Пр. №4'!$1:$1048576,MATCH($I284,'Пр. №4'!$C:$C,0),MATCH('Пр. №3'!$D$5,'Пр. №4'!$9:$9,0)),\"---\")","v":"---"},null,"---"]
[null,null,{"$f":"IFERROR(INDEX(справочник!$G$1:$I$7,MATCH('Пр. №1.2.'!$G285,справочник!$G$1:$G$7,0),3),\"---\")","v":"---"},{"$f":"IFERROR(INDEX('Пр. №1'!$B$11:$C$33,MATCH('Пр. №1.2.'!$C285,'Пр. №1'!$B$11:$B$33,0),2),\"---\")","v":"---"},null,{"$f":"IFERROR(INDEX('Состав ВТК-ВРГ'!$1:$1048576,MATCH('Пр. №1.2.'!$E285,'Состав ВТК-ВРГ'!$B:$B,0),MATCH('Пр. №1.2.'!F$3,'Состав ВТК-ВРГ'!$3:$3,0)),\"---\")","v":"---"},{"$f":"IFERROR(INDEX('Состав ВТК-ВРГ'!$1:$1048576,MATCH('Пр. №1.2.'!$E285,'Состав ВТК-ВРГ'!$B:$B,0),MATCH('Пр. №1.2.'!G$3,'Состав ВТК-ВРГ'!$3:$3,0)),\"---\")","v":"---"},{"$f":"IFERROR(INDEX(справочник!$G$1:$I$7,MATCH('Пр. №1.2.'!$G285,справочник!$G$1:$G$7,0),2),\"---\")","v":"---"},{"$f":"IFERROR(INDEX('Состав ВТК-ВРГ'!$1:$1048576,MATCH('Пр. №1.2.'!$E285,'Состав ВТК-ВРГ'!$B:$B,0),MATCH('Пр. №1.2.'!I$3,'Состав ВТК-ВРГ'!$3:$3,0)),\"---\")","v":"---"},{"$f":"SUMIFS('Пр. №3'!$BQ:$BQ,'Пр. №3'!$G:$G,'Пр. №1.2.'!$E285,'Пр. №3'!$D:$D,'Пр. №1.2.'!$B285)","v":0},{"$f":"IFERROR(INDEX('Пр. №4'!$1:$1048576,MATCH($I285,'Пр. №4'!$C:$C,0),MATCH('Пр. №3'!$D$5,'Пр. №4'!$9:$9,0)),\"---\")","v":"---"},null,"---"]
[null,null,{"$f":"IFERROR(INDEX(справочник!$G$1:$I$7,MATCH('Пр. №1.2.'!$G286,справочник!$G$1:$G$7,0),3),\"---\")","v":"---"},{"$f":"IFERROR(INDEX('Пр. №1'!$B$11:$C$33,MATCH('Пр. №1.2.'!$C286,'Пр. №1'!$B$11:$B$33,0),2),\"---\")","v":"---"},null,{"$f":"IFERROR(INDEX('Состав ВТК-ВРГ'!$1:$1048576,MATCH('Пр. №1.2.'!$E286,'Состав ВТК-ВРГ'!$B:$B,0),MATCH('Пр. №1.2.'!F$3,'Состав ВТК-ВРГ'!$3:$3,0)),\"---\")","v":"---"},{"$f":"IFERROR(INDEX('Состав ВТК-ВРГ'!$1:$1048576,MATCH('Пр. №1.2.'!$E286,'Состав ВТК-ВРГ'!$B:$B,0),MATCH('Пр. №1.2.'!G$3,'Состав ВТК-ВРГ'!$3:$3,0)),\"---\")","v":"---"},{"$f":"IFERROR(INDEX(справочник!$G$1:$I$7,MATCH('Пр. №1.2.'!$G286,справочник!$G$1:$G$7,0),2),\"---\")","v":"---"},{"$f":"IFERROR(INDEX('Состав ВТК-ВРГ'!$1:$1048576,MATCH('Пр. №1.2.'!$E286,'Состав ВТК-ВРГ'!$B:$B,0),MATCH('Пр. №1.2.'!I$3,'Состав ВТК-ВРГ'!$3:$3,0)),\"---\")","v":"---"},{"$f":"SUMIFS('Пр. №3'!$BQ:$BQ,'Пр. №3'!$G:$G,'Пр. №1.2.'!$E286,'Пр. №3'!$D:$D,'Пр. №1.2.'!$B286)","v":0},{"$f":"IFERROR(INDEX('Пр. №4'!$1:$1048576,MATCH($I286,'Пр. №4'!$C:$C,0),MATCH('Пр. №3'!$D$5,'Пр. №4'!$9:$9,0)),\"---\")","v":"---"},null,"---"]
[null,null,{"$f":"IFERROR(INDEX(справочник!$G$1:$I$7,MATCH('Пр. №1.2.'!$G287,справочник!$G$1:$G$7,0),3),\"---\")","v":"---"},{"$f":"IFERROR(INDEX('Пр. №1'!$B$11:$C$33,MATCH('Пр. №1.2.'!$C287,'Пр. №1'!$B$11:$B$33,0),2),\"---\")","v":"---"},null,{"$f":"IFERROR(INDEX('Состав ВТК-ВРГ'!$1:$1048576,MATCH('Пр. №1.2.'!$E287,'Состав ВТК-ВРГ'!$B:$B,0),MATCH('Пр. №1.2.'!F$3,'Состав ВТК-ВРГ'!$3:$3,0)),\"---\")","v":"---"},{"$f":"IFERROR(INDEX('Состав ВТК-ВРГ'!$1:$1048576,MATCH('Пр. №1.2.'!$E287,'Состав ВТК-ВРГ'!$B:$B,0),MATCH('Пр. №1.2.'!G$3,'Состав ВТК-ВРГ'!$3:$3,0)),\"---\")","v":"---"},{"$f":"IFERROR(INDEX(справочник!$G$1:$I$7,MATCH('Пр. №1.2.'!$G287,справочник!$G$1:$G$7,0),2),\"---\")","v":"---"},{"$f":"IFERROR(INDEX('Состав ВТК-ВРГ'!$1:$1048576,MATCH('Пр. №1.2.'!$E287,'Состав ВТК-ВРГ'!$B:$B,0),MATCH('Пр. №1.2.'!I$3,'Состав ВТК-ВРГ'!$3:$3,0)),\"---\")","v":"---"},{"$f":"SUMIFS('Пр. №3'!$BQ:$BQ,'Пр. №3'!$G:$G,'Пр. №1.2.'!$E287,'Пр. №3'!$D:$D,'Пр. №1.2.'!$B287)","v":0},{"$f":"IFERROR(INDEX('Пр. №4'!$1:$1048576,MATCH($I287,'Пр. №4'!$C:$C,0),MATCH('Пр. №3'!$D$5,'Пр. №4'!$9:$9,0)),\"---\")","v":"---"},null,"---"]
[null,null,{"$f":"IFERROR(INDEX(справочник!$G$1:$I$7,MATCH('Пр. №1.2.'!$G288,справочник!$G$1:$G$7,0),3),\"---\")","v":"---"},{"$f":"IFERROR(INDEX('Пр. №1'!$B$11:$C$33,MATCH('Пр. №1.2.'!$C288,'Пр. №1'!$B$11:$B$33,0),2),\"---\")","v":"---"},null,{"$f":"IFERROR(INDEX('Состав ВТК-ВРГ'!$1:$1048576,MATCH('Пр. №1.2.'!$E288,'Состав ВТК-ВРГ'!$B:$B,0),MATCH('Пр. №1.2.'!F$3,'Состав ВТК-ВРГ'!$3:$3,0)),\"---\")","v":"---"},{"$f":"IFERROR(INDEX('Состав ВТК-ВРГ'!$1:$1048576,MATCH('Пр. №1.2.'!$E288,'Состав ВТК-ВРГ'!$B:$B,0),MATCH('Пр. №1.2.'!G$3,'Состав ВТК-ВРГ'!$3:$3,0)),\"---\")","v":"---"},{"$f":"IFERROR(INDEX(справочник!$G$1:$I$7,MATCH('Пр. №1.2.'!$G288,справочник!$G$1:$G$7,0),2),\"---\")","v":"---"},{"$f":"IFERROR(INDEX('Состав ВТК-ВРГ'!$1:$1048576,MATCH('Пр. №1.2.'!$E288,'Состав ВТК-ВРГ'!$B:$B,0),MATCH('Пр. №1.2.'!I$3,'Состав ВТК-ВРГ'!$3:$3,0)),\"---\")","v":"---"},{"$f":"SUMIFS('Пр. №3'!$BQ:$BQ,'Пр. №3'!$G:$G,'Пр. №1.2.'!$E288,'Пр. №3'!$D:$D,'Пр. №1.2.'!$B288)","v":0},{"$f":"IFERROR(INDEX('Пр. №4'!$1:$1048576,MATCH($I288,'Пр. №4'!$C:$C,0),MATCH('Пр. №3'!$D$5,'Пр. №4'!$9:$9,0)),\"---\")","v":"---"},null,"---"]
[null,null,{"$f":"IFERROR(INDEX(справочник!$G$1:$I$7,MATCH('Пр. №1.2.'!$G289,справочник!$G$1:$G$7,0),3),\"---\")","v":"---"},{"$f":"IFERROR(INDEX('Пр. №1'!$B$11:$C$33,MATCH('Пр. №1.2.'!$C289,'Пр. №1'!$B$11:$B$33,0),2),\"---\")","v":"---"},null,{"$f":"IFERROR(INDEX('Состав ВТК-ВРГ'!$1:$1048576,MATCH('Пр. №1.2.'!$E289,'Состав ВТК-ВРГ'!$B:$B,0),MATCH('Пр. №1.2.'!F$3,'Состав ВТК-ВРГ'!$3:$3,0)),\"---\")","v":"---"},{"$f":"IFERROR(INDEX('Состав ВТК-ВРГ'!$1:$1048576,MATCH('Пр. №1.2.'!$E289,'Состав ВТК-ВРГ'!$B:$B,0),MATCH('Пр. №1.2.'!G$3,'Состав ВТК-ВРГ'!$3:$3,0)),\"---\")","v":"---"},{"$f":"IFERROR(INDEX(справочник!$G$1:$I$7,MATCH('Пр. №1.2.'!$G289,справочник!$G$1:$G$7,0),2),\"---\")","v":"---"},{"$f":"IFERROR(INDEX('Состав ВТК-ВРГ'!$1:$1048576,MATCH('Пр. №1.2.'!$E289,'Состав ВТК-ВРГ'!$B:$B,0),MATCH('Пр. №1.2.'!I$3,'Состав ВТК-ВРГ'!$3:$3,0)),\"---\")","v":"---"},{"$f":"SUMIFS('Пр. №3'!$BQ:$BQ,'Пр. №3'!$G:$G,'Пр. №1.2.'!$E289,'Пр. №3'!$D:$D,'Пр. №1.2.'!$B289)","v":0},{"$f":"IFERROR(INDEX('Пр. №4'!$1:$1048576,MATCH($I289,'Пр. №4'!$C:$C,0),MATCH('Пр. №3'!$D$5,'Пр. №4'!$9:$9,0)),\"---\")","v":"---"},null,"---"]
[null,null,{"$f":"IFERROR(INDEX(справочник!$G$1:$I$7,MATCH('Пр. №1.2.'!$G290,справочник!$G$1:$G$7,0),3),\"---\")","v":"---"},{"$f":"IFERROR(INDEX('Пр. №1'!$B$11:$C$33,MATCH('Пр. №1.2.'!$C290,'Пр. №1'!$B$11:$B$33,0),2),\"---\")","v":"---"},null,{"$f":"IFERROR(INDEX('Состав ВТК-ВРГ'!$1:$1048576,MATCH('Пр. №1.2.'!$E290,'Состав ВТК-ВРГ'!$B:$B,0),MATCH('Пр. №1.2.'!F$3,'Состав ВТК-ВРГ'!$3:$3,0)),\"---\")","v":"---"},{"$f":"IFERROR(INDEX('Состав ВТК-ВРГ'!$1:$1048576,MATCH('Пр. №1.2.'!$E290,'Состав ВТК-ВРГ'!$B:$B,0),MATCH('Пр. №1.2.'!G$3,'Состав ВТК-ВРГ'!$3:$3,0)),\"---\")","v":"---"},{"$f":"IFERROR(INDEX(справочник!$G$1:$I$7,MATCH('Пр. №1.2.'!$G290,справочник!$G$1:$G$7,0),2),\"---\")","v":"---"},{"$f":"IFERROR(INDEX('Состав ВТК-ВРГ'!$1:$1048576,MATCH('Пр. №1.2.'!$E290,'Состав ВТК-ВРГ'!$B:$B,0),MATCH('Пр. №1.2.'!I$3,'Состав ВТК-ВРГ'!$3:$3,0)),\"---\")","v":"---"},{"$f":"SUMIFS('Пр. №3'!$BQ:$BQ,'Пр. №3'!$G:$G,'Пр. №1.2.'!$E290,'Пр. №3'!$D:$D,'Пр. №1.2.'!$B290)","v":0},{"$f":"IFERROR(INDEX('Пр. №4'!$1:$1048576,MATCH($I290,'Пр. №4'!$C:$C,0),MATCH('Пр. №3'!$D$5,'Пр. №4'!$9:$9,0)),\"---\")","v":"---"},null,"---"]
[null,null,{"$f":"IFERROR(INDEX(справочник!$G$1:$I$7,MATCH('Пр. №1.2.'!$G291,справочник!$G$1:$G$7,0),3),\"---\")","v":"---"},{"$f":"IFERROR(INDEX('Пр. №1'!$B$11:$C$33,MATCH('Пр. №1.2.'!$C291,'Пр. №1'!$B$11:$B$33,0),2),\"---\")","v":"---"},null,{"$f":"IFERROR(INDEX('Состав ВТК-ВРГ'!$1:$1048576,MATCH('Пр. №1.2.'!$E291,'Состав ВТК-ВРГ'!$B:$B,0),MATCH('Пр. №1.2.'!F$3,'Состав ВТК-ВРГ'!$3:$3,0)),\"---\")","v":"---"},{"$f":"IFERROR(INDEX('Состав ВТК-ВРГ'!$1:$1048576,MATCH('Пр. №1.2.'!$E291,'Состав ВТК-ВРГ'!$B:$B,0),MATCH('Пр. №1.2.'!G$3,'Состав ВТК-ВРГ'!$3:$3,0)),\"---\")","v":"---"},{"$f":"IFERROR(INDEX(справочник!$G$1:$I$7,MATCH('Пр. №1.2.'!$G291,справочник!$G$1:$G$7,0),2),\"---\")","v":"---"},{"$f":"IFERROR(INDEX('Состав ВТК-ВРГ'!$1:$1048576,MATCH('Пр. №1.2.'!$E291,'Состав ВТК-ВРГ'!$B:$B,0),MATCH('Пр. №1.2.'!I$3,'Состав ВТК-ВРГ'!$3:$3,0)),\"---\")","v":"---"},{"$f":"SUMIFS('Пр. №3'!$BQ:$BQ,'Пр. №3'!$G:$G,'Пр. №1.2.'!$E291,'Пр. №3'!$D:$D,'Пр. №1.2.'!$B291)","v":0},{"$f":"IFERROR(INDEX('Пр. №4'!$1:$1048576,MATCH($I291,'Пр. №4'!$C:$C,0),MATCH('Пр. №3'!$D$5,'Пр. №4'!$9:$9,0)),\"---\")","v":"---"},null,"---"]
[null,null,{"$f":"IFERROR(INDEX(справочник!$G$1:$I$7,MATCH('Пр. №1.2.'!$G292,справочник!$G$1:$G$7,0),3),\"---\")","v":"---"},{"$f":"IFERROR(INDEX('Пр. №1'!$B$11:$C$33,MATCH('Пр. №1.2.'!$C292,'Пр. №1'!$B$11:$B$33,0),2),\"---\")","v":"---"},null,{"$f":"IFERROR(INDEX('Состав ВТК-ВРГ'!$1:$1048576,MATCH('Пр. №1.2.'!$E292,'Состав ВТК-ВРГ'!$B:$B,0),MATCH('Пр. №1.2.'!F$3,'Состав ВТК-ВРГ'!$3:$3,0)),\"---\")","v":"---"},{"$f":"IFERROR(INDEX('Состав ВТК-ВРГ'!$1:$1048576,MATCH('Пр. №1.2.'!$E292,'Состав ВТК-ВРГ'!$B:$B,0),MATCH('Пр. №1.2.'!G$3,'Состав ВТК-ВРГ'!$3:$3,0)),\"---\")","v":"---"},{"$f":"IFERROR(INDEX(справочник!$G$1:$I$7,MATCH('Пр. №1.2.'!$G292,справочник!$G$1:$G$7,0),2),\"---\")","v":"---"},{"$f":"IFERROR(INDEX('Состав ВТК-ВРГ'!$1:$1048576,MATCH('Пр. №1.2.'!$E292,'Состав ВТК-ВРГ'!$B:$B,0),MATCH('Пр. №1.2.'!I$3,'Состав ВТК-ВРГ'!$3:$3,0)),\"---\")","v":"---"},{"$f":"SUMIFS('Пр. №3'!$BQ:$BQ,'Пр. №3'!$G:$G,'Пр. №1.2.'!$E292,'Пр. №3'!$D:$D,'Пр. №1.2.'!$B292)","v":0},{"$f":"IFERROR(INDEX('Пр. №4'!$1:$1048576,MATCH($I292,'Пр. №4'!$C:$C,0),MATCH('Пр. №3'!$D$5,'Пр. №4'!$9:$9,0)),\"---\")","v":"---"},null,"---"]
[null,null,{"$f":"IFERROR(INDEX(справочник!$G$1:$I$7,MATCH('Пр. №1.2.'!$G293,справочник!$G$1:$G$7,0),3),\"---\")","v":"---"},{"$f":"IFERROR(INDEX('Пр. №1'!$B$11:$C$33,MATCH('Пр. №1.2.'!$C293,'Пр. №1'!$B$11:$B$33,0),2),\"---\")","v":"---"},null,{"$f":"IFERROR(INDEX('Состав ВТК-ВРГ'!$1:$1048576,MATCH('Пр. №1.2.'!$E293,'Состав ВТК-ВРГ'!$B:$B,0),MATCH('Пр. №1.2.'!F$3,'Состав ВТК-ВРГ'!$3:$3,0)),\"---\")","v":"---"},{"$f":"IFERROR(INDEX('Состав ВТК-ВРГ'!$1:$1048576,MATCH('Пр. №1.2.'!$E293,'Состав ВТК-ВРГ'!$B:$B,0),MATCH('Пр. №1.2.'!G$3,'Состав ВТК-ВРГ'!$3:$3,0)),\"---\")","v":"---"},{"$f":"IFERROR(INDEX(справочник!$G$1:$I$7,MATCH('Пр. №1.2.'!$G293,справочник!$G$1:$G$7,0),2),\"---\")","v":"---"},{"$f":"IFERROR(INDEX('Состав ВТК-ВРГ'!$1:$1048576,MATCH('Пр. №1.2.'!$E293,'Состав ВТК-ВРГ'!$B:$B,0),MATCH('Пр. №1.2.'!I$3,'Состав ВТК-ВРГ'!$3:$3,0)),\"---\")","v":"---"},{"$f":"SUMIFS('Пр. №3'!$BQ:$BQ,'Пр. №3'!$G:$G,'Пр. №1.2.'!$E293,'Пр. №3'!$D:$D,'Пр. №1.2.'!$B293)","v":0},{"$f":"IFERROR(INDEX('Пр. №4'!$1:$1048576,MATCH($I293,'Пр. №4'!$C:$C,0),MATCH('Пр. №3'!$D$5,'Пр. №4'!$9:$9,0)),\"---\")","v":"---"},null,"---"]
[null,null,{"$f":"IFERROR(INDEX(справочник!$G$1:$I$7,MATCH('Пр. №1.2.'!$G294,справочник!$G$1:$G$7,0),3),\"---\")","v":"---"},{"$f":"IFERROR(INDEX('Пр. №1'!$B$11:$C$33,MATCH('Пр. №1.2.'!$C294,'Пр. №1'!$B$11:$B$33,0),2),\"---\")","v":"---"},null,{"$f":"IFERROR(INDEX('Состав ВТК-ВРГ'!$1:$1048576,MATCH('Пр. №1.2.'!$E294,'Состав ВТК-ВРГ'!$B:$B,0),MATCH('Пр. №1.2.'!F$3,'Состав ВТК-ВРГ'!$3:$3,0)),\"---\")","v":"---"},{"$f":"IFERROR(INDEX('Состав ВТК-ВРГ'!$1:$1048576,MATCH('Пр. №1.2.'!$E294,'Состав ВТК-ВРГ'!$B:$B,0),MATCH('Пр. №1.2.'!G$3,'Состав ВТК-ВРГ'!$3:$3,0)),\"---\")","v":"---"},{"$f":"IFERROR(INDEX(справочник!$G$1:$I$7,MATCH('Пр. №1.2.'!$G294,справочник!$G$1:$G$7,0),2),\"---\")","v":"---"},{"$f":"IFERROR(INDEX('Состав ВТК-ВРГ'!$1:$1048576,MATCH('Пр. №1.2.'!$E294,'Состав ВТК-ВРГ'!$B:$B,0),MATCH('Пр. №1.2.'!I$3,'Состав ВТК-ВРГ'!$3:$3,0)),\"---\")","v":"---"},{"$f":"SUMIFS('Пр. №3'!$BQ:$BQ,'Пр. №3'!$G:$G,'Пр. №1.2.'!$E294,'Пр. №3'!$D:$D,'Пр. №1.2.'!$B294)","v":0},{"$f":"IFERROR(INDEX('Пр. №4'!$1:$1048576,MATCH($I294,'Пр. №4'!$C:$C,0),MATCH('Пр. №3'!$D$5,'Пр. №4'!$9:$9,0)),\"---\")","v":"---"},null,"---"]
[null,null,{"$f":"IFERROR(INDEX(справочник!$G$1:$I$7,MATCH('Пр. №1.2.'!$G295,справочник!$G$1:$G$7,0),3),\"---\")","v":"---"},{"$f":"IFERROR(INDEX('Пр. №1'!$B$11:$C$33,MATCH('Пр. №1.2.'!$C295,'Пр. №1'!$B$11:$B$33,0),2),\"---\")","v":"---"},null,{"$f":"IFERROR(INDEX('Состав ВТК-ВРГ'!$1:$1048576,MATCH('Пр. №1.2.'!$E295,'Состав ВТК-ВРГ'!$B:$B,0),MATCH('Пр. №1.2.'!F$3,'Состав ВТК-ВРГ'!$3:$3,0)),\"---\")","v":"---"},{"$f":"IFERROR(INDEX('Состав ВТК-ВРГ'!$1:$1048576,MATCH('Пр. №1.2.'!$E295,'Состав ВТК-ВРГ'!$B:$B,0),MATCH('Пр. №1.2.'!G$3,'Состав ВТК-ВРГ'!$3:$3,0)),\"---\")","v":"---"},{"$f":"IFERROR(INDEX(справочник!$G$1:$I$7,MATCH('Пр. №1.2.'!$G295,справочник!$G$1:$G$7,0),2),\"---\")","v":"---"},{"$f":"IFERROR(INDEX('Состав ВТК-ВРГ'!$1:$1048576,MATCH('Пр. №1.2.'!$E295,'Состав ВТК-ВРГ'!$B:$B,0),MATCH('Пр. №1.2.'!I$3,'Состав ВТК-ВРГ'!$3:$3,0)),\"---\")","v":"---"},{"$f":"SUMIFS('Пр. №3'!$BQ:$BQ,'Пр. №3'!$G:$G,'Пр. №1.2.'!$E295,'Пр. №3'!$D:$D,'Пр. №1.2.'!$B295)","v":0},{"$f":"IFERROR(INDEX('Пр. №4'!$1:$1048576,MATCH($I295,'Пр. №4'!$C:$C,0),MATCH('Пр. №3'!$D$5,'Пр. №4'!$9:$9,0)),\"---\")","v":"---"},null,"---"]
[null,null,{"$f":"IFERROR(INDEX(справочник!$G$1:$I$7,MATCH('Пр. №1.2.'!$G296,справочник!$G$1:$G$7,0),3),\"---\")","v":"---"},{"$f":"IFERROR(INDEX('Пр. №1'!$B$11:$C$33,MATCH('Пр. №1.2.'!$C296,'Пр. №1'!$B$11:$B$33,0),2),\"---\")","v":"---"},null,{"$f":"IFERROR(INDEX('Состав ВТК-ВРГ'!$1:$1048576,MATCH('Пр. №1.2.'!$E296,'Состав ВТК-ВРГ'!$B:$B,0),MATCH('Пр. №1.2.'!F$3,'Состав ВТК-ВРГ'!$3:$3,0)),\"---\")","v":"---"},{"$f":"IFERROR(INDEX('Состав ВТК-ВРГ'!$1:$1048576,MATCH('Пр. №1.2.'!$E296,'Состав ВТК-ВРГ'!$B:$B,0),MATCH('Пр. №1.2.'!G$3,'Состав ВТК-ВРГ'!$3:$3,0)),\"---\")","v":"---"},{"$f":"IFERROR(INDEX(справочник!$G$1:$I$7,MATCH('Пр. №1.2.'!$G296,справочник!$G$1:$G$7,0),2),\"---\")","v":"---"},{"$f":"IFERROR(INDEX('Состав ВТК-ВРГ'!$1:$1048576,MATCH('Пр. №1.2.'!$E296,'Состав ВТК-ВРГ'!$B:$B,0),MATCH('Пр. №1.2.'!I$3,'Состав ВТК-ВРГ'!$3:$3,0)),\"---\")","v":"---"},{"$f":"SUMIFS('Пр. №3'!$BQ:$BQ,'Пр. №3'!$G:$G,'Пр. №1.2.'!$E296,'Пр. №3'!$D:$D,'Пр. №1.2.'!$B296)","v":0},{"$f":"IFERROR(INDEX('Пр. №4'!$1:$1048576,MATCH($I296,'Пр. №4'!$C:$C,0),MATCH('Пр. №3'!$D$5,'Пр. №4'!$9:$9,0)),\"---\")","v":"---"},null,"---"]
[null,null,{"$f":"IFERROR(INDEX(справочник!$G$1:$I$7,MATCH('Пр. №1.2.'!$G297,справочник!$G$1:$G$7,0),3),\"---\")","v":"---"},{"$f":"IFERROR(INDEX('Пр. №1'!$B$11:$C$33,MATCH('Пр. №1.2.'!$C297,'Пр. №1'!$B$11:$B$33,0),2),\"---\")","v":"---"},null,{"$f":"IFERROR(INDEX('Состав ВТК-ВРГ'!$1:$1048576,MATCH('Пр. №1.2.'!$E297,'Состав ВТК-ВРГ'!$B:$B,0),MATCH('Пр. №1.2.'!F$3,'Состав ВТК-ВРГ'!$3:$3,0)),\"---\")","v":"---"},{"$f":"IFERROR(INDEX('Состав ВТК-ВРГ'!$1:$1048576,MATCH('Пр. №1.2.'!$E297,'Состав ВТК-ВРГ'!$B:$B,0),MATCH('Пр. №1.2.'!G$3,'Состав ВТК-ВРГ'!$3:$3,0)),\"---\")","v":"---"},{"$f":"IFERROR(INDEX(справочник!$G$1:$I$7,MATCH('Пр. №1.2.'!$G297,справочник!$G$1:$G$7,0),2),\"---\")","v":"---"},{"$f":"IFERROR(INDEX('Состав ВТК-ВРГ'!$1:$1048576,MATCH('Пр. №1.2.'!$E297,'Состав ВТК-ВРГ'!$B:$B,0),MATCH('Пр. №1.2.'!I$3,'Состав ВТК-ВРГ'!$3:$3,0)),\"---\")","v":"---"},{"$f":"SUMIFS('Пр. №3'!$BQ:$BQ,'Пр. №3'!$G:$G,'Пр. №1.2.'!$E297,'Пр. №3'!$D:$D,'Пр. №1.2.'!$B297)","v":0},{"$f":"IFERROR(INDEX('Пр. №4'!$1:$1048576,MATCH($I297,'Пр. №4'!$C:$C,0),MATCH('Пр. №3'!$D$5,'Пр. №4'!$9:$9,0)),\"---\")","v":"---"},null,"---"]
[null,null,{"$f":"IFERROR(INDEX(справочник!$G$1:$I$7,MATCH('Пр. №1.2.'!$G298,справочник!$G$1:$G$7,0),3),\"---\")","v":"---"},{"$f":"IFERROR(INDEX('Пр. №1'!$B$11:$C$33,MATCH('Пр. №1.2.'!$C298,'Пр. №1'!$B$11:$B$33,0),2),\"---\")","v":"---"},null,{"$f":"IFERROR(INDEX('Состав ВТК-ВРГ'!$1:$1048576,MATCH('Пр. №1.2.'!$E298,'Состав ВТК-ВРГ'!$B:$B,0),MATCH('Пр. №1.2.'!F$3,'Состав ВТК-ВРГ'!$3:$3,0)),\"---\")","v":"---"},{"$f":"IFERROR(INDEX('Состав ВТК-ВРГ'!$1:$1048576,MATCH('Пр. №1.2.'!$E298,'Состав ВТК-ВРГ'!$B:$B,0),MATCH('Пр. №1.2.'!G$3,'Состав ВТК-ВРГ'!$3:$3,0)),\"---\")","v":"---"},{"$f":"IFERROR(INDEX(справочник!$G$1:$I$7,MATCH('Пр. №1.2.'!$G298,справочник!$G$1:$G$7,0),2),\"---\")","v":"---"},{"$f":"IFERROR(INDEX('Состав ВТК-ВРГ'!$1:$1048576,MATCH('Пр. №1.2.'!$E298,'Состав ВТК-ВРГ'!$B:$B,0),MATCH('Пр. №1.2.'!I$3,'Состав ВТК-ВРГ'!$3:$3,0)),\"---\")","v":"---"},{"$f":"SUMIFS('Пр. №3'!$BQ:$BQ,'Пр. №3'!$G:$G,'Пр. №1.2.'!$E298,'Пр. №3'!$D:$D,'Пр. №1.2.'!$B298)","v":0},{"$f":"IFERROR(INDEX('Пр. №4'!$1:$1048576,MATCH($I298,'Пр. №4'!$C:$C,0),MATCH('Пр. №3'!$D$5,'Пр. №4'!$9:$9,0)),\"---\")","v":"---"},null,"---"]
[null,null,{"$f":"IFERROR(INDEX(справочник!$G$1:$I$7,MATCH('Пр. №1.2.'!$G299,справочник!$G$1:$G$7,0),3),\"---\")","v":"---"},{"$f":"IFERROR(INDEX('Пр. №1'!$B$11:$C$33,MATCH('Пр. №1.2.'!$C299,'Пр. №1'!$B$11:$B$33,0),2),\"---\")","v":"---"},null,{"$f":"IFERROR(INDEX('Состав ВТК-ВРГ'!$1:$1048576,MATCH('Пр. №1.2.'!$E299,'Состав ВТК-ВРГ'!$B:$B,0),MATCH('Пр. №1.2.'!F$3,'Состав ВТК-ВРГ'!$3:$3,0)),\"---\")","v":"---"},{"$f":"IFERROR(INDEX('Состав ВТК-ВРГ'!$1:$1048576,MATCH('Пр. №1.2.'!$E299,'Состав ВТК-ВРГ'!$B:$B,0),MATCH('Пр. №1.2.'!G$3,'Состав ВТК-ВРГ'!$3:$3,0)),\"---\")","v":"---"},{"$f":"IFERROR(INDEX(справочник!$G$1:$I$7,MATCH('Пр. №1.2.'!$G299,справочник!$G$1:$G$7,0),2),\"---\")","v":"---"},{"$f":"IFERROR(INDEX('Состав ВТК-ВРГ'!$1:$1048576,MATCH('Пр. №1.2.'!$E299,'Состав ВТК-ВРГ'!$B:$B,0),MATCH('Пр. №1.2.'!I$3,'Состав ВТК-ВРГ'!$3:$3,0)),\"---\")","v":"---"},{"$f":"SUMIFS('Пр. №3'!$BQ:$BQ,'Пр. №3'!$G:$G,'Пр. №1.2.'!$E299,'Пр. №3'!$D:$D,'Пр. №1.2.'!$B299)","v":0},{"$f":"IFERROR(INDEX('Пр. №4'!$1:$1048576,MATCH($I299,'Пр. №4'!$C:$C,0),MATCH('Пр. №3'!$D$5,'Пр. №4'!$9:$9,0)),\"---\")","v":"---"},null,"---"]
[null,null,{"$f":"IFERROR(INDEX(справочник!$G$1:$I$7,MATCH('Пр. №1.2.'!$G300,справочник!$G$1:$G$7,0),3),\"---\")","v":"---"},{"$f":"IFERROR(INDEX('Пр. №1'!$B$11:$C$33,MATCH('Пр. №1.2.'!$C300,'Пр. №1'!$B$11:$B$33,0),2),\"---\")","v":"---"},null,{"$f":"IFERROR(INDEX('Состав ВТК-ВРГ'!$1:$1048576,MATCH('Пр. №1.2.'!$E300,'Состав ВТК-ВРГ'!$B:$B,0),MATCH('Пр. №1.2.'!F$3,'Состав ВТК-ВРГ'!$3:$3,0)),\"---\")","v":"---"},{"$f":"IFERROR(INDEX('Состав ВТК-ВРГ'!$1:$1048576,MATCH('Пр. №1.2.'!$E300,'Состав ВТК-ВРГ'!$B:$B,0),MATCH('Пр. №1.2.'!G$3,'Состав ВТК-ВРГ'!$3:$3,0)),\"---\")","v":"---"},{"$f":"IFERROR(INDEX(справочник!$G$1:$I$7,MATCH('Пр. №1.2.'!$G300,справочник!$G$1:$G$7,0),2),\"---\")","v":"---"},{"$f":"IFERROR(INDEX('Состав ВТК-ВРГ'!$1:$1048576,MATCH('Пр. №1.2.'!$E300,'Состав ВТК-ВРГ'!$B:$B,0),MATCH('Пр. №1.2.'!I$3,'Состав ВТК-ВРГ'!$3:$3,0)),\"---\")","v":"---"},{"$f":"SUMIFS('Пр. №3'!$BQ:$BQ,'Пр. №3'!$G:$G,'Пр. №1.2.'!$E300,'Пр. №3'!$D:$D,'Пр. №1.2.'!$B300)","v":0},{"$f":"IFERROR(INDEX('Пр. №4'!$1:$1048576,MATCH($I300,'Пр. №4'!$C:$C,0),MATCH('Пр. №3'!$D$5,'Пр. №4'!$9:$9,0)),\"---\")","v":"---"},null,{"$f":"IFERROR(J300*K300*L300,\"---\")","v":"---"}]
[null,null,{"$f":"IFERROR(INDEX(справочник!$G$1:$I$7,MATCH('Пр. №1.2.'!$G301,справочник!$G$1:$G$7,0),3),\"---\")","v":"---"},{"$f":"IFERROR(INDEX('Пр. №1'!$B$11:$C$33,MATCH('Пр. №1.2.'!$C301,'Пр. №1'!$B$11:$B$33,0),2),\"---\")","v":"---"},null,{"$f":"IFERROR(INDEX('Состав ВТК-ВРГ'!$1:$1048576,MATCH('Пр. №1.2.'!$E301,'Состав ВТК-ВРГ'!$B:$B,0),MATCH('Пр. №1.2.'!F$3,'Состав ВТК-ВРГ'!$3:$3,0)),\"---\")","v":"---"},{"$f":"IFERROR(INDEX('Состав ВТК-ВРГ'!$1:$1048576,MATCH('Пр. №1.2.'!$E301,'Состав ВТК-ВРГ'!$B:$B,0),MATCH('Пр. №1.2.'!G$3,'Состав ВТК-ВРГ'!$3:$3,0)),\"---\")","v":"---"},{"$f":"IFERROR(INDEX(справочник!$G$1:$I$7,MATCH('Пр. №1.2.'!$G301,справочник!$G$1:$G$7,0),2),\"---\")","v":"---"},{"$f":"IFERROR(INDEX('Состав ВТК-ВРГ'!$1:$1048576,MATCH('Пр. №1.2.'!$E301,'Состав ВТК-ВРГ'!$B:$B,0),MATCH('Пр. №1.2.'!I$3,'Состав ВТК-ВРГ'!$3:$3,0)),\"---\")","v":"---"},{"$f":"SUMIFS('Пр. №3'!$BQ:$BQ,'Пр. №3'!$G:$G,'Пр. №1.2.'!$E301,'Пр. №3'!$D:$D,'Пр. №1.2.'!$B301)","v":0},{"$f":"IFERROR(INDEX('Пр. №4'!$1:$1048576,MATCH($I301,'Пр. №4'!$C:$C,0),MATCH('Пр. №3'!$D$5,'Пр. №4'!$9:$9,0)),\"---\")","v":"---"},null,"---"]
[null,null,{"$f":"IFERROR(INDEX(справочник!$G$1:$I$7,MATCH('Пр. №1.2.'!$G302,справочник!$G$1:$G$7,0),3),\"---\")","v":"---"},{"$f":"IFERROR(INDEX('Пр. №1'!$B$11:$C$33,MATCH('Пр. №1.2.'!$C302,'Пр. №1'!$B$11:$B$33,0),2),\"---\")","v":"---"},null,{"$f":"IFERROR(INDEX('Состав ВТК-ВРГ'!$1:$1048576,MATCH('Пр. №1.2.'!$E302,'Состав ВТК-ВРГ'!$B:$B,0),MATCH('Пр. №1.2.'!F$3,'Состав ВТК-ВРГ'!$3:$3,0)),\"---\")","v":"---"},{"$f":"IFERROR(INDEX('Состав ВТК-ВРГ'!$1:$1048576,MATCH('Пр. №1.2.'!$E302,'Состав ВТК-ВРГ'!$B:$B,0),MATCH('Пр. №1.2.'!G$3,'Состав ВТК-ВРГ'!$3:$3,0)),\"---\")","v":"---"},{"$f":"IFERROR(INDEX(справочник!$G$1:$I$7,MATCH('Пр. №1.2.'!$G302,справочник!$G$1:$G$7,0),2),\"---\")","v":"---"},{"$f":"IFERROR(INDEX('Состав ВТК-ВРГ'!$1:$1048576,MATCH('Пр. №1.2.'!$E302,'Состав ВТК-ВРГ'!$B:$B,0),MATCH('Пр. №1.2.'!I$3,'Состав ВТК-ВРГ'!$3:$3,0)),\"---\")","v":"---"},{"$f":"SUMIFS('Пр. №3'!$BQ:$BQ,'Пр. №3'!$G:$G,'Пр. №1.2.'!$E302,'Пр. №3'!$D:$D,'Пр. №1.2.'!$B302)","v":0},{"$f":"IFERROR(INDEX('Пр. №4'!$1:$1048576,MATCH($I302,'Пр. №4'!$C:$C,0),MATCH('Пр. №3'!$D$5,'Пр. №4'!$9:$9,0)),\"---\")","v":"---"},null,"---"]
[null,null,{"$f":"IFERROR(INDEX(справочник!$G$1:$I$7,MATCH('Пр. №1.2.'!$G303,справочник!$G$1:$G$7,0),3),\"---\")","v":"---"},{"$f":"IFERROR(INDEX('Пр. №1'!$B$11:$C$33,MATCH('Пр. №1.2.'!$C303,'Пр. №1'!$B$11:$B$33,0),2),\"---\")","v":"---"},null,{"$f":"IFERROR(INDEX('Состав ВТК-ВРГ'!$1:$1048576,MATCH('Пр. №1.2.'!$E303,'Состав ВТК-ВРГ'!$B:$B,0),MATCH('Пр. №1.2.'!F$3,'Состав ВТК-ВРГ'!$3:$3,0)),\"---\")","v":"---"},{"$f":"IFERROR(INDEX('Состав ВТК-ВРГ'!$1:$1048576,MATCH('Пр. №1.2.'!$E303,'Состав ВТК-ВРГ'!$B:$B,0),MATCH('Пр. №1.2.'!G$3,'Состав ВТК-ВРГ'!$3:$3,0)),\"---\")","v":"---"},{"$f":"IFERROR(INDEX(справочник!$G$1:$I$7,MATCH('Пр. №1.2.'!$G303,справочник!$G$1:$G$7,0),2),\"---\")","v":"---"},{"$f":"IFERROR(INDEX('Состав ВТК-ВРГ'!$1:$1048576,MATCH('Пр. №1.2.'!$E303,'Состав ВТК-ВРГ'!$B:$B,0),MATCH('Пр. №1.2.'!I$3,'Состав ВТК-ВРГ'!$3:$3,0)),\"---\")","v":"---"},{"$f":"SUMIFS('Пр. №3'!$BQ:$BQ,'Пр. №3'!$G:$G,'Пр. №1.2.'!$E303,'Пр. №3'!$D:$D,'Пр. №1.2.'!$B303)","v":0},{"$f":"IFERROR(INDEX('Пр. №4'!$1:$1048576,MATCH($I303,'Пр. №4'!$C:$C,0),MATCH('Пр. №3'!$D$5,'Пр. №4'!$9:$9,0)),\"---\")","v":"---"},null,"---"]
[null,null,{"$f":"IFERROR(INDEX(справочник!$G$1:$I$7,MATCH('Пр. №1.2.'!$G304,справочник!$G$1:$G$7,0),3),\"---\")","v":"---"},{"$f":"IFERROR(INDEX('Пр. №1'!$B$11:$C$33,MATCH('Пр. №1.2.'!$C304,'Пр. №1'!$B$11:$B$33,0),2),\"---\")","v":"---"},null,{"$f":"IFERROR(INDEX('Состав ВТК-ВРГ'!$1:$1048576,MATCH('Пр. №1.2.'!$E304,'Состав ВТК-ВРГ'!$B:$B,0),MATCH('Пр. №1.2.'!F$3,'Состав ВТК-ВРГ'!$3:$3,0)),\"---\")","v":"---"},{"$f":"IFERROR(INDEX('Состав ВТК-ВРГ'!$1:$1048576,MATCH('Пр. №1.2.'!$E304,'Состав ВТК-ВРГ'!$B:$B,0),MATCH('Пр. №1.2.'!G$3,'Состав ВТК-ВРГ'!$3:$3,0)),\"---\")","v":"---"},{"$f":"IFERROR(INDEX(справочник!$G$1:$I$7,MATCH('Пр. №1.2.'!$G304,справочник!$G$1:$G$7,0),2),\"---\")","v":"---"},{"$f":"IFERROR(INDEX('Состав ВТК-ВРГ'!$1:$1048576,MATCH('Пр. №1.2.'!$E304,'Состав ВТК-ВРГ'!$B:$B,0),MATCH('Пр. №1.2.'!I$3,'Состав ВТК-ВРГ'!$3:$3,0)),\"---\")","v":"---"},{"$f":"SUMIFS('Пр. №3'!$BQ:$BQ,'Пр. №3'!$G:$G,'Пр. №1.2.'!$E304,'Пр. №3'!$D:$D,'Пр. №1.2.'!$B304)","v":0},{"$f":"IFERROR(INDEX('Пр. №4'!$1:$1048576,MATCH($I304,'Пр. №4'!$C:$C,0),MATCH('Пр. №3'!$D$5,'Пр. №4'!$9:$9,0)),\"---\")","v":"---"},null,"---"]
[null,null,{"$f":"IFERROR(INDEX(справочник!$G$1:$I$7,MATCH('Пр. №1.2.'!$G305,справочник!$G$1:$G$7,0),3),\"---\")","v":"---"},{"$f":"IFERROR(INDEX('Пр. №1'!$B$11:$C$33,MATCH('Пр. №1.2.'!$C305,'Пр. №1'!$B$11:$B$33,0),2),\"---\")","v":"---"},null,{"$f":"IFERROR(INDEX('Состав ВТК-ВРГ'!$1:$1048576,MATCH('Пр. №1.2.'!$E305,'Состав ВТК-ВРГ'!$B:$B,0),MATCH('Пр. №1.2.'!F$3,'Состав ВТК-ВРГ'!$3:$3,0)),\"---\")","v":"---"},{"$f":"IFERROR(INDEX('Состав ВТК-ВРГ'!$1:$1048576,MATCH('Пр. №1.2.'!$E305,'Состав ВТК-ВРГ'!$B:$B,0),MATCH('Пр. №1.2.'!G$3,'Состав ВТК-ВРГ'!$3:$3,0)),\"---\")","v":"---"},{"$f":"IFERROR(INDEX(справочник!$G$1:$I$7,MATCH('Пр. №1.2.'!$G305,справочник!$G$1:$G$7,0),2),\"---\")","v":"---"},{"$f":"IFERROR(INDEX('Состав ВТК-ВРГ'!$1:$1048576,MATCH('Пр. №1.2.'!$E305,'Состав ВТК-ВРГ'!$B:$B,0),MATCH('Пр. №1.2.'!I$3,'Состав ВТК-ВРГ'!$3:$3,0)),\"---\")","v":"---"},{"$f":"SUMIFS('Пр. №3'!$BQ:$BQ,'Пр. №3'!$G:$G,'Пр. №1.2.'!$E305,'Пр. №3'!$D:$D,'Пр. №1.2.'!$B305)","v":0},{"$f":"IFERROR(INDEX('Пр. №4'!$1:$1048576,MATCH($I305,'Пр. №4'!$C:$C,0),MATCH('Пр. №3'!$D$5,'Пр. №4'!$9:$9,0)),\"---\")","v":"---"},null,"---"]
[null,null,{"$f":"IFERROR(INDEX(справочник!$G$1:$I$7,MATCH('Пр. №1.2.'!$G306,справочник!$G$1:$G$7,0),3),\"---\")","v":"---"},{"$f":"IFERROR(INDEX('Пр. №1'!$B$11:$C$33,MATCH('Пр. №1.2.'!$C306,'Пр. №1'!$B$11:$B$33,0),2),\"---\")","v":"---"},null,{"$f":"IFERROR(INDEX('Состав ВТК-ВРГ'!$1:$1048576,MATCH('Пр. №1.2.'!$E306,'Состав ВТК-ВРГ'!$B:$B,0),MATCH('Пр. №1.2.'!F$3,'Состав ВТК-ВРГ'!$3:$3,0)),\"---\")","v":"---"},{"$f":"IFERROR(INDEX('Состав ВТК-ВРГ'!$1:$1048576,MATCH('Пр. №1.2.'!$E306,'Состав ВТК-ВРГ'!$B:$B,0),MATCH('Пр. №1.2.'!G$3,'Состав ВТК-ВРГ'!$3:$3,0)),\"---\")","v":"---"},{"$f":"IFERROR(INDEX(справочник!$G$1:$I$7,MATCH('Пр. №1.2.'!$G306,справочник!$G$1:$G$7,0),2),\"---\")","v":"---"},{"$f":"IFERROR(INDEX('Состав ВТК-ВРГ'!$1:$1048576,MATCH('Пр. №1.2.'!$E306,'Состав ВТК-ВРГ'!$B:$B,0),MATCH('Пр. №1.2.'!I$3,'Состав ВТК-ВРГ'!$3:$3,0)),\"---\")","v":"---"},{"$f":"SUMIFS('Пр. №3'!$BQ:$BQ,'Пр. №3'!$G:$G,'Пр. №1.2.'!$E306,'Пр. №3'!$D:$D,'Пр. №1.2.'!$B306)","v":0},{"$f":"IFERROR(INDEX('Пр. №4'!$1:$1048576,MATCH($I306,'Пр. №4'!$C:$C,0),MATCH('Пр. №3'!$D$5,'Пр. №4'!$9:$9,0)),\"---\")","v":"---"},null,"---"]
[null,null,{"$f":"IFERROR(INDEX(справочник!$G$1:$I$7,MATCH('Пр. №1.2.'!$G307,справочник!$G$1:$G$7,0),3),\"---\")","v":"---"},{"$f":"IFERROR(INDEX('Пр. №1'!$B$11:$C$33,MATCH('Пр. №1.2.'!$C307,'Пр. №1'!$B$11:$B$33,0),2),\"---\")","v":"---"},null,{"$f":"IFERROR(INDEX('Состав ВТК-ВРГ'!$1:$1048576,MATCH('Пр. №1.2.'!$E307,'Состав ВТК-ВРГ'!$B:$B,0),MATCH('Пр. №1.2.'!F$3,'Состав ВТК-ВРГ'!$3:$3,0)),\"---\")","v":"---"},{"$f":"IFERROR(INDEX('Состав ВТК-ВРГ'!$1:$1048576,MATCH('Пр. №1.2.'!$E307,'Состав ВТК-ВРГ'!$B:$B,0),MATCH('Пр. №1.2.'!G$3,'Состав ВТК-ВРГ'!$3:$3,0)),\"---\")","v":"---"},{"$f":"IFERROR(INDEX(справочник!$G$1:$I$7,MATCH('Пр. №1.2.'!$G307,справочник!$G$1:$G$7,0),2),\"---\")","v":"---"},{"$f":"IFERROR(INDEX('Состав ВТК-ВРГ'!$1:$1048576,MATCH('Пр. №1.2.'!$E307,'Состав ВТК-ВРГ'!$B:$B,0),MATCH('Пр. №1.2.'!I$3,'Состав ВТК-ВРГ'!$3:$3,0)),\"---\")","v":"---"},{"$f":"SUMIFS('Пр. №3'!$BQ:$BQ,'Пр. №3'!$G:$G,'Пр. №1.2.'!$E307,'Пр. №3'!$D:$D,'Пр. №1.2.'!$B307)","v":0},{"$f":"IFERROR(INDEX('Пр. №4'!$1:$1048576,MATCH($I307,'Пр. №4'!$C:$C,0),MATCH('Пр. №3'!$D$5,'Пр. №4'!$9:$9,0)),\"---\")","v":"---"},null,"---"]
[null,null,{"$f":"IFERROR(INDEX(справочник!$G$1:$I$7,MATCH('Пр. №1.2.'!$G308,справочник!$G$1:$G$7,0),3),\"---\")","v":"---"},{"$f":"IFERROR(INDEX('Пр. №1'!$B$11:$C$33,MATCH('Пр. №1.2.'!$C308,'Пр. №1'!$B$11:$B$33,0),2),\"---\")","v":"---"},null,{"$f":"IFERROR(INDEX('Состав ВТК-ВРГ'!$1:$1048576,MATCH('Пр. №1.2.'!$E308,'Состав ВТК-ВРГ'!$B:$B,0),MATCH('Пр. №1.2.'!F$3,'Состав ВТК-ВРГ'!$3:$3,0)),\"---\")","v":"---"},{"$f":"IFERROR(INDEX('Состав ВТК-ВРГ'!$1:$1048576,MATCH('Пр. №1.2.'!$E308,'Состав ВТК-ВРГ'!$B:$B,0),MATCH('Пр. №1.2.'!G$3,'Состав ВТК-ВРГ'!$3:$3,0)),\"---\")","v":"---"},{"$f":"IFERROR(INDEX(справочник!$G$1:$I$7,MATCH('Пр. №1.2.'!$G308,справочник!$G$1:$G$7,0),2),\"---\")","v":"---"},{"$f":"IFERROR(INDEX('Состав ВТК-ВРГ'!$1:$1048576,MATCH('Пр. №1.2.'!$E308,'Состав ВТК-ВРГ'!$B:$B,0),MATCH('Пр. №1.2.'!I$3,'Состав ВТК-ВРГ'!$3:$3,0)),\"---\")","v":"---"},{"$f":"SUMIFS('Пр. №3'!$BQ:$BQ,'Пр. №3'!$G:$G,'Пр. №1.2.'!$E308,'Пр. №3'!$D:$D,'Пр. №1.2.'!$B308)","v":0},{"$f":"IFERROR(INDEX('Пр. №4'!$1:$1048576,MATCH($I308,'Пр. №4'!$C:$C,0),MATCH('Пр. №3'!$D$5,'Пр. №4'!$9:$9,0)),\"---\")","v":"---"},null,"---"]
[null,null,{"$f":"IFERROR(INDEX(справочник!$G$1:$I$7,MATCH('Пр. №1.2.'!$G309,справочник!$G$1:$G$7,0),3),\"---\")","v":"---"},{"$f":"IFERROR(INDEX('Пр. №1'!$B$11:$C$33,MATCH('Пр. №1.2.'!$C309,'Пр. №1'!$B$11:$B$33,0),2),\"---\")","v":"---"},null,{"$f":"IFERROR(INDEX('Состав ВТК-ВРГ'!$1:$1048576,MATCH('Пр. №1.2.'!$E309,'Состав ВТК-ВРГ'!$B:$B,0),MATCH('Пр. №1.2.'!F$3,'Состав ВТК-ВРГ'!$3:$3,0)),\"---\")","v":"---"},{"$f":"IFERROR(INDEX('Состав ВТК-ВРГ'!$1:$1048576,MATCH('Пр. №1.2.'!$E309,'Состав ВТК-ВРГ'!$B:$B,0),MATCH('Пр. №1.2.'!G$3,'Состав ВТК-ВРГ'!$3:$3,0)),\"---\")","v":"---"},{"$f":"IFERROR(INDEX(справочник!$G$1:$I$7,MATCH('Пр. №1.2.'!$G309,справочник!$G$1:$G$7,0),2),\"---\")","v":"---"},{"$f":"IFERROR(INDEX('Состав ВТК-ВРГ'!$1:$1048576,MATCH('Пр. №1.2.'!$E309,'Состав ВТК-ВРГ'!$B:$B,0),MATCH('Пр. №1.2.'!I$3,'Состав ВТК-ВРГ'!$3:$3,0)),\"---\")","v":"---"},{"$f":"SUMIFS('Пр. №3'!$BQ:$BQ,'Пр. №3'!$G:$G,'Пр. №1.2.'!$E309,'Пр. №3'!$D:$D,'Пр. №1.2.'!$B309)","v":0},{"$f":"IFERROR(INDEX('Пр. №4'!$1:$1048576,MATCH($I309,'Пр. №4'!$C:$C,0),MATCH('Пр. №3'!$D$5,'Пр. №4'!$9:$9,0)),\"---\")","v":"---"},null,"---"]
[null,null,{"$f":"IFERROR(INDEX(справочник!$G$1:$I$7,MATCH('Пр. №1.2.'!$G310,справочник!$G$1:$G$7,0),3),\"---\")","v":"---"},{"$f":"IFERROR(INDEX('Пр. №1'!$B$11:$C$33,MATCH('Пр. №1.2.'!$C310,'Пр. №1'!$B$11:$B$33,0),2),\"---\")","v":"---"},null,{"$f":"IFERROR(INDEX('Состав ВТК-ВРГ'!$1:$1048576,MATCH('Пр. №1.2.'!$E310,'Состав ВТК-ВРГ'!$B:$B,0),MATCH('Пр. №1.2.'!F$3,'Состав ВТК-ВРГ'!$3:$3,0)),\"---\")","v":"---"},{"$f":"IFERROR(INDEX('Состав ВТК-ВРГ'!$1:$1048576,MATCH('Пр. №1.2.'!$E310,'Состав ВТК-ВРГ'!$B:$B,0),MATCH('Пр. №1.2.'!G$3,'Состав ВТК-ВРГ'!$3:$3,0)),\"---\")","v":"---"},{"$f":"IFERROR(INDEX(справочник!$G$1:$I$7,MATCH('Пр. №1.2.'!$G310,справочник!$G$1:$G$7,0),2),\"---\")","v":"---"},{"$f":"IFERROR(INDEX('Состав ВТК-ВРГ'!$1:$1048576,MATCH('Пр. №1.2.'!$E310,'Состав ВТК-ВРГ'!$B:$B,0),MATCH('Пр. №1.2.'!I$3,'Состав ВТК-ВРГ'!$3:$3,0)),\"---\")","v":"---"},{"$f":"SUMIFS('Пр. №3'!$BQ:$BQ,'Пр. №3'!$G:$G,'Пр. №1.2.'!$E310,'Пр. №3'!$D:$D,'Пр. №1.2.'!$B310)","v":0},{"$f":"IFERROR(INDEX('Пр. №4'!$1:$1048576,MATCH($I310,'Пр. №4'!$C:$C,0),MATCH('Пр. №3'!$D$5,'Пр. №4'!$9:$9,0)),\"---\")","v":"---"},null,"---"]
[null,null,{"$f":"IFERROR(INDEX(справочник!$G$1:$I$7,MATCH('Пр. №1.2.'!$G311,справочник!$G$1:$G$7,0),3),\"---\")","v":"---"},{"$f":"IFERROR(INDEX('Пр. №1'!$B$11:$C$33,MATCH('Пр. №1.2.'!$C311,'Пр. №1'!$B$11:$B$33,0),2),\"---\")","v":"---"},null,{"$f":"IFERROR(INDEX('Состав ВТК-ВРГ'!$1:$1048576,MATCH('Пр. №1.2.'!$E311,'Состав ВТК-ВРГ'!$B:$B,0),MATCH('Пр. №1.2.'!F$3,'Состав ВТК-ВРГ'!$3:$3,0)),\"---\")","v":"---"},{"$f":"IFERROR(INDEX('Состав ВТК-ВРГ'!$1:$1048576,MATCH('Пр. №1.2.'!$E311,'Состав ВТК-ВРГ'!$B:$B,0),MATCH('Пр. №1.2.'!G$3,'Состав ВТК-ВРГ'!$3:$3,0)),\"---\")","v":"---"},{"$f":"IFERROR(INDEX(справочник!$G$1:$I$7,MATCH('Пр. №1.2.'!$G311,справочник!$G$1:$G$7,0),2),\"---\")","v":"---"},{"$f":"IFERROR(INDEX('Состав ВТК-ВРГ'!$1:$1048576,MATCH('Пр. №1.2.'!$E311,'Состав ВТК-ВРГ'!$B:$B,0),MATCH('Пр. №1.2.'!I$3,'Состав ВТК-ВРГ'!$3:$3,0)),\"---\")","v":"---"},{"$f":"SUMIFS('Пр. №3'!$BQ:$BQ,'Пр. №3'!$G:$G,'Пр. №1.2.'!$E311,'Пр. №3'!$D:$D,'Пр. №1.2.'!$B311)","v":0},{"$f":"IFERROR(INDEX('Пр. №4'!$1:$1048576,MATCH($I311,'Пр. №4'!$C:$C,0),MATCH('Пр. №3'!$D$5,'Пр. №4'!$9:$9,0)),\"---\")","v":"---"},null,"---"]
[null,null,{"$f":"IFERROR(INDEX(справочник!$G$1:$I$7,MATCH('Пр. №1.2.'!$G312,справочник!$G$1:$G$7,0),3),\"---\")","v":"---"},{"$f":"IFERROR(INDEX('Пр. №1'!$B$11:$C$33,MATCH('Пр. №1.2.'!$C312,'Пр. №1'!$B$11:$B$33,0),2),\"---\")","v":"---"},null,{"$f":"IFERROR(INDEX('Состав ВТК-ВРГ'!$1:$1048576,MATCH('Пр. №1.2.'!$E312,'Состав ВТК-ВРГ'!$B:$B,0),MATCH('Пр. №1.2.'!F$3,'Состав ВТК-ВРГ'!$3:$3,0)),\"---\")","v":"---"},{"$f":"IFERROR(INDEX('Состав ВТК-ВРГ'!$1:$1048576,MATCH('Пр. №1.2.'!$E312,'Состав ВТК-ВРГ'!$B:$B,0),MATCH('Пр. №1.2.'!G$3,'Состав ВТК-ВРГ'!$3:$3,0)),\"---\")","v":"---"},{"$f":"IFERROR(INDEX(справочник!$G$1:$I$7,MATCH('Пр. №1.2.'!$G312,справочник!$G$1:$G$7,0),2),\"---\")","v":"---"},{"$f":"IFERROR(INDEX('Состав ВТК-ВРГ'!$1:$1048576,MATCH('Пр. №1.2.'!$E312,'Состав ВТК-ВРГ'!$B:$B,0),MATCH('Пр. №1.2.'!I$3,'Состав ВТК-ВРГ'!$3:$3,0)),\"---\")","v":"---"},{"$f":"SUMIFS('Пр. №3'!$BQ:$BQ,'Пр. №3'!$G:$G,'Пр. №1.2.'!$E312,'Пр. №3'!$D:$D,'Пр. №1.2.'!$B312)","v":0},{"$f":"IFERROR(INDEX('Пр. №4'!$1:$1048576,MATCH($I312,'Пр. №4'!$C:$C,0),MATCH('Пр. №3'!$D$5,'Пр. №4'!$9:$9,0)),\"---\")","v":"---"},null,"---"]
[null,null,{"$f":"IFERROR(INDEX(справочник!$G$1:$I$7,MATCH('Пр. №1.2.'!$G313,справочник!$G$1:$G$7,0),3),\"---\")","v":"---"},{"$f":"IFERROR(INDEX('Пр. №1'!$B$11:$C$33,MATCH('Пр. №1.2.'!$C313,'Пр. №1'!$B$11:$B$33,0),2),\"---\")","v":"---"},null,{"$f":"IFERROR(INDEX('Состав ВТК-ВРГ'!$1:$1048576,MATCH('Пр. №1.2.'!$E313,'Состав ВТК-ВРГ'!$B:$B,0),MATCH('Пр. №1.2.'!F$3,'Состав ВТК-ВРГ'!$3:$3,0)),\"---\")","v":"---"},{"$f":"IFERROR(INDEX('Состав ВТК-ВРГ'!$1:$1048576,MATCH('Пр. №1.2.'!$E313,'Состав ВТК-ВРГ'!$B:$B,0),MATCH('Пр. №1.2.'!G$3,'Состав ВТК-ВРГ'!$3:$3,0)),\"---\")","v":"---"},{"$f":"IFERROR(INDEX(справочник!$G$1:$I$7,MATCH('Пр. №1.2.'!$G313,справочник!$G$1:$G$7,0),2),\"---\")","v":"---"},{"$f":"IFERROR(INDEX('Состав ВТК-ВРГ'!$1:$1048576,MATCH('Пр. №1.2.'!$E313,'Состав ВТК-ВРГ'!$B:$B,0),MATCH('Пр. №1.2.'!I$3,'Состав ВТК-ВРГ'!$3:$3,0)),\"---\")","v":"---"},{"$f":"SUMIFS('Пр. №3'!$BQ:$BQ,'Пр. №3'!$G:$G,'Пр. №1.2.'!$E313,'Пр. №3'!$D:$D,'Пр. №1.2.'!$B313)","v":0},{"$f":"IFERROR(INDEX('Пр. №4'!$1:$1048576,MATCH($I313,'Пр. №4'!$C:$C,0),MATCH('Пр. №3'!$D$5,'Пр. №4'!$9:$9,0)),\"---\")","v":"---"},null,"---"]
[null,null,{"$f":"IFERROR(INDEX(справочник!$G$1:$I$7,MATCH('Пр. №1.2.'!$G314,справочник!$G$1:$G$7,0),3),\"---\")","v":"---"},{"$f":"IFERROR(INDEX('Пр. №1'!$B$11:$C$33,MATCH('Пр. №1.2.'!$C314,'Пр. №1'!$B$11:$B$33,0),2),\"---\")","v":"---"},null,{"$f":"IFERROR(INDEX('Состав ВТК-ВРГ'!$1:$1048576,MATCH('Пр. №1.2.'!$E314,'Состав ВТК-ВРГ'!$B:$B,0),MATCH('Пр. №1.2.'!F$3,'Состав ВТК-ВРГ'!$3:$3,0)),\"---\")","v":"---"},{"$f":"IFERROR(INDEX('Состав ВТК-ВРГ'!$1:$1048576,MATCH('Пр. №1.2.'!$E314,'Состав ВТК-ВРГ'!$B:$B,0),MATCH('Пр. №1.2.'!G$3,'Состав ВТК-ВРГ'!$3:$3,0)),\"---\")","v":"---"},{"$f":"IFERROR(INDEX(справочник!$G$1:$I$7,MATCH('Пр. №1.2.'!$G314,справочник!$G$1:$G$7,0),2),\"---\")","v":"---"},{"$f":"IFERROR(INDEX('Состав ВТК-ВРГ'!$1:$1048576,MATCH('Пр. №1.2.'!$E314,'Состав ВТК-ВРГ'!$B:$B,0),MATCH('Пр. №1.2.'!I$3,'Состав ВТК-ВРГ'!$3:$3,0)),\"---\")","v":"---"},{"$f":"SUMIFS('Пр. №3'!$BQ:$BQ,'Пр. №3'!$G:$G,'Пр. №1.2.'!$E314,'Пр. №3'!$D:$D,'Пр. №1.2.'!$B314)","v":0},{"$f":"IFERROR(INDEX('Пр. №4'!$1:$1048576,MATCH($I314,'Пр. №4'!$C:$C,0),MATCH('Пр. №3'!$D$5,'Пр. №4'!$9:$9,0)),\"---\")","v":"---"},null,"---"]
[null,null,{"$f":"IFERROR(INDEX(справочник!$G$1:$I$7,MATCH('Пр. №1.2.'!$G315,справочник!$G$1:$G$7,0),3),\"---\")","v":"---"},{"$f":"IFERROR(INDEX('Пр. №1'!$B$11:$C$33,MATCH('Пр. №1.2.'!$C315,'Пр. №1'!$B$11:$B$33,0),2),\"---\")","v":"---"},null,{"$f":"IFERROR(INDEX('Состав ВТК-ВРГ'!$1:$1048576,MATCH('Пр. №1.2.'!$E315,'Состав ВТК-ВРГ'!$B:$B,0),MATCH('Пр. №1.2.'!F$3,'Состав ВТК-ВРГ'!$3:$3,0)),\"---\")","v":"---"},{"$f":"IFERROR(INDEX('Состав ВТК-ВРГ'!$1:$1048576,MATCH('Пр. №1.2.'!$E315,'Состав ВТК-ВРГ'!$B:$B,0),MATCH('Пр. №1.2.'!G$3,'Состав ВТК-ВРГ'!$3:$3,0)),\"---\")","v":"---"},{"$f":"IFERROR(INDEX(справочник!$G$1:$I$7,MATCH('Пр. №1.2.'!$G315,справочник!$G$1:$G$7,0),2),\"---\")","v":"---"},{"$f":"IFERROR(INDEX('Состав ВТК-ВРГ'!$1:$1048576,MATCH('Пр. №1.2.'!$E315,'Состав ВТК-ВРГ'!$B:$B,0),MATCH('Пр. №1.2.'!I$3,'Состав ВТК-ВРГ'!$3:$3,0)),\"---\")","v":"---"},{"$f":"SUMIFS('Пр. №3'!$BQ:$BQ,'Пр. №3'!$G:$G,'Пр. №1.2.'!$E315,'Пр. №3'!$D:$D,'Пр. №1.2.'!$B315)","v":0},{"$f":"IFERROR(INDEX('Пр. №4'!$1:$1048576,MATCH($I315,'Пр. №4'!$C:$C,0),MATCH('Пр. №3'!$D$5,'Пр. №4'!$9:$9,0)),\"---\")","v":"---"},null,"---"]
[null,null,{"$f":"IFERROR(INDEX(справочник!$G$1:$I$7,MATCH('Пр. №1.2.'!$G316,справочник!$G$1:$G$7,0),3),\"---\")","v":"---"},{"$f":"IFERROR(INDEX('Пр. №1'!$B$11:$C$33,MATCH('Пр. №1.2.'!$C316,'Пр. №1'!$B$11:$B$33,0),2),\"---\")","v":"---"},null,{"$f":"IFERROR(INDEX('Состав ВТК-ВРГ'!$1:$1048576,MATCH('Пр. №1.2.'!$E316,'Состав ВТК-ВРГ'!$B:$B,0),MATCH('Пр. №1.2.'!F$3,'Состав ВТК-ВРГ'!$3:$3,0)),\"---\")","v":"---"},{"$f":"IFERROR(INDEX('Состав ВТК-ВРГ'!$1:$1048576,MATCH('Пр. №1.2.'!$E316,'Состав ВТК-ВРГ'!$B:$B,0),MATCH('Пр. №1.2.'!G$3,'Состав ВТК-ВРГ'!$3:$3,0)),\"---\")","v":"---"},{"$f":"IFERROR(INDEX(справочник!$G$1:$I$7,MATCH('Пр. №1.2.'!$G316,справочник!$G$1:$G$7,0),2),\"---\")","v":"---"},{"$f":"IFERROR(INDEX('Состав ВТК-ВРГ'!$1:$1048576,MATCH('Пр. №1.2.'!$E316,'Состав ВТК-ВРГ'!$B:$B,0),MATCH('Пр. №1.2.'!I$3,'Состав ВТК-ВРГ'!$3:$3,0)),\"---\")","v":"---"},{"$f":"SUMIFS('Пр. №3'!$BQ:$BQ,'Пр. №3'!$G:$G,'Пр. №1.2.'!$E316,'Пр. №3'!$D:$D,'Пр. №1.2.'!$B316)","v":0},{"$f":"IFERROR(INDEX('Пр. №4'!$1:$1048576,MATCH($I316,'Пр. №4'!$C:$C,0),MATCH('Пр. №3'!$D$5,'Пр. №4'!$9:$9,0)),\"---\")","v":"---"},null,"---"]
[null,null,{"$f":"IFERROR(INDEX(справочник!$G$1:$I$7,MATCH('Пр. №1.2.'!$G317,справочник!$G$1:$G$7,0),3),\"---\")","v":"---"},{"$f":"IFERROR(INDEX('Пр. №1'!$B$11:$C$33,MATCH('Пр. №1.2.'!$C317,'Пр. №1'!$B$11:$B$33,0),2),\"---\")","v":"---"},null,{"$f":"IFERROR(INDEX('Состав ВТК-ВРГ'!$1:$1048576,MATCH('Пр. №1.2.'!$E317,'Состав ВТК-ВРГ'!$B:$B,0),MATCH('Пр. №1.2.'!F$3,'Состав ВТК-ВРГ'!$3:$3,0)),\"---\")","v":"---"},{"$f":"IFERROR(INDEX('Состав ВТК-ВРГ'!$1:$1048576,MATCH('Пр. №1.2.'!$E317,'Состав ВТК-ВРГ'!$B:$B,0),MATCH('Пр. №1.2.'!G$3,'Состав ВТК-ВРГ'!$3:$3,0)),\"---\")","v":"---"},{"$f":"IFERROR(INDEX(справочник!$G$1:$I$7,MATCH('Пр. №1.2.'!$G317,справочник!$G$1:$G$7,0),2),\"---\")","v":"---"},{"$f":"IFERROR(INDEX('Состав ВТК-ВРГ'!$1:$1048576,MATCH('Пр. №1.2.'!$E317,'Состав ВТК-ВРГ'!$B:$B,0),MATCH('Пр. №1.2.'!I$3,'Состав ВТК-ВРГ'!$3:$3,0)),\"---\")","v":"---"},{"$f":"SUMIFS('Пр. №3'!$BQ:$BQ,'Пр. №3'!$G:$G,'Пр. №1.2.'!$E317,'Пр. №3'!$D:$D,'Пр. №1.2.'!$B317)","v":0},{"$f":"IFERROR(INDEX('Пр. №4'!$1:$1048576,MATCH($I317,'Пр. №4'!$C:$C,0),MATCH('Пр. №3'!$D$5,'Пр. №4'!$9:$9,0)),\"---\")","v":"---"},null,"---"]
[null,null,{"$f":"IFERROR(INDEX(справочник!$G$1:$I$7,MATCH('Пр. №1.2.'!$G318,справочник!$G$1:$G$7,0),3),\"---\")","v":"---"},{"$f":"IFERROR(INDEX('Пр. №1'!$B$11:$C$33,MATCH('Пр. №1.2.'!$C318,'Пр. №1'!$B$11:$B$33,0),2),\"---\")","v":"---"},null,{"$f":"IFERROR(INDEX('Состав ВТК-ВРГ'!$1:$1048576,MATCH('Пр. №1.2.'!$E318,'Состав ВТК-ВРГ'!$B:$B,0),MATCH('Пр. №1.2.'!F$3,'Состав ВТК-ВРГ'!$3:$3,0)),\"---\")","v":"---"},{"$f":"IFERROR(INDEX('Состав ВТК-ВРГ'!$1:$1048576,MATCH('Пр. №1.2.'!$E318,'Состав ВТК-ВРГ'!$B:$B,0),MATCH('Пр. №1.2.'!G$3,'Состав ВТК-ВРГ'!$3:$3,0)),\"---\")","v":"---"},{"$f":"IFERROR(INDEX(справочник!$G$1:$I$7,MATCH('Пр. №1.2.'!$G318,справочник!$G$1:$G$7,0),2),\"---\")","v":"---"},{"$f":"IFERROR(INDEX('Состав ВТК-ВРГ'!$1:$1048576,MATCH('Пр. №1.2.'!$E318,'Состав ВТК-ВРГ'!$B:$B,0),MATCH('Пр. №1.2.'!I$3,'Состав ВТК-ВРГ'!$3:$3,0)),\"---\")","v":"---"},{"$f":"SUMIFS('Пр. №3'!$BQ:$BQ,'Пр. №3'!$G:$G,'Пр. №1.2.'!$E318,'Пр. №3'!$D:$D,'Пр. №1.2.'!$B318)","v":0},{"$f":"IFERROR(INDEX('Пр. №4'!$1:$1048576,MATCH($I318,'Пр. №4'!$C:$C,0),MATCH('Пр. №3'!$D$5,'Пр. №4'!$9:$9,0)),\"---\")","v":"---"},null,"---"]
[null,null,{"$f":"IFERROR(INDEX(справочник!$G$1:$I$7,MATCH('Пр. №1.2.'!$G319,справочник!$G$1:$G$7,0),3),\"---\")","v":"---"},{"$f":"IFERROR(INDEX('Пр. №1'!$B$11:$C$33,MATCH('Пр. №1.2.'!$C319,'Пр. №1'!$B$11:$B$33,0),2),\"---\")","v":"---"},null,{"$f":"IFERROR(INDEX('Состав ВТК-ВРГ'!$1:$1048576,MATCH('Пр. №1.2.'!$E319,'Состав ВТК-ВРГ'!$B:$B,0),MATCH('Пр. №1.2.'!F$3,'Состав ВТК-ВРГ'!$3:$3,0)),\"---\")","v":"---"},{"$f":"IFERROR(INDEX('Состав ВТК-ВРГ'!$1:$1048576,MATCH('Пр. №1.2.'!$E319,'Состав ВТК-ВРГ'!$B:$B,0),MATCH('Пр. №1.2.'!G$3,'Состав ВТК-ВРГ'!$3:$3,0)),\"---\")","v":"---"},{"$f":"IFERROR(INDEX(справочник!$G$1:$I$7,MATCH('Пр. №1.2.'!$G319,справочник!$G$1:$G$7,0),2),\"---\")","v":"---"},{"$f":"IFERROR(INDEX('Состав ВТК-ВРГ'!$1:$1048576,MATCH('Пр. №1.2.'!$E319,'Состав ВТК-ВРГ'!$B:$B,0),MATCH('Пр. №1.2.'!I$3,'Состав ВТК-ВРГ'!$3:$3,0)),\"---\")","v":"---"},{"$f":"SUMIFS('Пр. №3'!$BQ:$BQ,'Пр. №3'!$G:$G,'Пр. №1.2.'!$E319,'Пр. №3'!$D:$D,'Пр. №1.2.'!$B319)","v":0},{"$f":"IFERROR(INDEX('Пр. №4'!$1:$1048576,MATCH($I319,'Пр. №4'!$C:$C,0),MATCH('Пр. №3'!$D$5,'Пр. №4'!$9:$9,0)),\"---\")","v":"---"},null,"---"]
[null,null,{"$f":"IFERROR(INDEX(справочник!$G$1:$I$7,MATCH('Пр. №1.2.'!$G320,справочник!$G$1:$G$7,0),3),\"---\")","v":"---"},{"$f":"IFERROR(INDEX('Пр. №1'!$B$11:$C$33,MATCH('Пр. №1.2.'!$C320,'Пр. №1'!$B$11:$B$33,0),2),\"---\")","v":"---"},null,{"$f":"IFERROR(INDEX('Состав ВТК-ВРГ'!$1:$1048576,MATCH('Пр. №1.2.'!$E320,'Состав ВТК-ВРГ'!$B:$B,0),MATCH('Пр. №1.2.'!F$3,'Состав ВТК-ВРГ'!$3:$3,0)),\"---\")","v":"---"},{"$f":"IFERROR(INDEX('Состав ВТК-ВРГ'!$1:$1048576,MATCH('Пр. №1.2.'!$E320,'Состав ВТК-ВРГ'!$B:$B,0),MATCH('Пр. №1.2.'!G$3,'Состав ВТК-ВРГ'!$3:$3,0)),\"---\")","v":"---"},{"$f":"IFERROR(INDEX(справочник!$G$1:$I$7,MATCH('Пр. №1.2.'!$G320,справочник!$G$1:$G$7,0),2),\"---\")","v":"---"},{"$f":"IFERROR(INDEX('Состав ВТК-ВРГ'!$1:$1048576,MATCH('Пр. №1.2.'!$E320,'Состав ВТК-ВРГ'!$B:$B,0),MATCH('Пр. №1.2.'!I$3,'Состав ВТК-ВРГ'!$3:$3,0)),\"---\")","v":"---"},{"$f":"SUMIFS('Пр. №3'!$BQ:$BQ,'Пр. №3'!$G:$G,'Пр. №1.2.'!$E320,'Пр. №3'!$D:$D,'Пр. №1.2.'!$B320)","v":0},{"$f":"IFERROR(INDEX('Пр. №4'!$1:$1048576,MATCH($I320,'Пр. №4'!$C:$C,0),MATCH('Пр. №3'!$D$5,'Пр. №4'!$9:$9,0)),\"---\")","v":"---"},null,"---"]
[null,null,{"$f":"IFERROR(INDEX(справочник!$G$1:$I$7,MATCH('Пр. №1.2.'!$G321,справочник!$G$1:$G$7,0),3),\"---\")","v":"---"},{"$f":"IFERROR(INDEX('Пр. №1'!$B$11:$C$33,MATCH('Пр. №1.2.'!$C321,'Пр. №1'!$B$11:$B$33,0),2),\"---\")","v":"---"},null,{"$f":"IFERROR(INDEX('Состав ВТК-ВРГ'!$1:$1048576,MATCH('Пр. №1.2.'!$E321,'Состав ВТК-ВРГ'!$B:$B,0),MATCH('Пр. №1.2.'!F$3,'Состав ВТК-ВРГ'!$3:$3,0)),\"---\")","v":"---"},{"$f":"IFERROR(INDEX('Состав ВТК-ВРГ'!$1:$1048576,MATCH('Пр. №1.2.'!$E321,'Состав ВТК-ВРГ'!$B:$B,0),MATCH('Пр. №1.2.'!G$3,'Состав ВТК-ВРГ'!$3:$3,0)),\"---\")","v":"---"},{"$f":"IFERROR(INDEX(справочник!$G$1:$I$7,MATCH('Пр. №1.2.'!$G321,справочник!$G$1:$G$7,0),2),\"---\")","v":"---"},{"$f":"IFERROR(INDEX('Состав ВТК-ВРГ'!$1:$1048576,MATCH('Пр. №1.2.'!$E321,'Состав ВТК-ВРГ'!$B:$B,0),MATCH('Пр. №1.2.'!I$3,'Состав ВТК-ВРГ'!$3:$3,0)),\"---\")","v":"---"},{"$f":"SUMIFS('Пр. №3'!$BQ:$BQ,'Пр. №3'!$G:$G,'Пр. №1.2.'!$E321,'Пр. №3'!$D:$D,'Пр. №1.2.'!$B321)","v":0},{"$f":"IFERROR(INDEX('Пр. №4'!$1:$1048576,MATCH($I321,'Пр. №4'!$C:$C,0),MATCH('Пр. №3'!$D$5,'Пр. №4'!$9:$9,0)),\"---\")","v":"---"},null,"---"]
[null,null,{"$f":"IFERROR(INDEX(справочник!$G$1:$I$7,MATCH('Пр. №1.2.'!$G322,справочник!$G$1:$G$7,0),3),\"---\")","v":"---"},{"$f":"IFERROR(INDEX('Пр. №1'!$B$11:$C$33,MATCH('Пр. №1.2.'!$C322,'Пр. №1'!$B$11:$B$33,0),2),\"---\")","v":"---"},null,{"$f":"IFERROR(INDEX('Состав ВТК-ВРГ'!$1:$1048576,MATCH('Пр. №1.2.'!$E322,'Состав ВТК-ВРГ'!$B:$B,0),MATCH('Пр. №1.2.'!F$3,'Состав ВТК-ВРГ'!$3:$3,0)),\"---\")","v":"---"},{"$f":"IFERROR(INDEX('Состав ВТК-ВРГ'!$1:$1048576,MATCH('Пр. №1.2.'!$E322,'Состав ВТК-ВРГ'!$B:$B,0),MATCH('Пр. №1.2.'!G$3,'Состав ВТК-ВРГ'!$3:$3,0)),\"---\")","v":"---"},{"$f":"IFERROR(INDEX(справочник!$G$1:$I$7,MATCH('Пр. №1.2.'!$G322,справочник!$G$1:$G$7,0),2),\"---\")","v":"---"},{"$f":"IFERROR(INDEX('Состав ВТК-ВРГ'!$1:$1048576,MATCH('Пр. №1.2.'!$E322,'Состав ВТК-ВРГ'!$B:$B,0),MATCH('Пр. №1.2.'!I$3,'Состав ВТК-ВРГ'!$3:$3,0)),\"---\")","v":"---"},{"$f":"SUMIFS('Пр. №3'!$BQ:$BQ,'Пр. №3'!$G:$G,'Пр. №1.2.'!$E322,'Пр. №3'!$D:$D,'Пр. №1.2.'!$B322)","v":0},{"$f":"IFERROR(INDEX('Пр. №4'!$1:$1048576,MATCH($I322,'Пр. №4'!$C:$C,0),MATCH('Пр. №3'!$D$5,'Пр. №4'!$9:$9,0)),\"---\")","v":"---"},null,"---"]
[null,null,{"$f":"IFERROR(INDEX(справочник!$G$1:$I$7,MATCH('Пр. №1.2.'!$G323,справочник!$G$1:$G$7,0),3),\"---\")","v":"---"},{"$f":"IFERROR(INDEX('Пр. №1'!$B$11:$C$33,MATCH('Пр. №1.2.'!$C323,'Пр. №1'!$B$11:$B$33,0),2),\"---\")","v":"---"},null,{"$f":"IFERROR(INDEX('Состав ВТК-ВРГ'!$1:$1048576,MATCH('Пр. №1.2.'!$E323,'Состав ВТК-ВРГ'!$B:$B,0),MATCH('Пр. №1.2.'!F$3,'Состав ВТК-ВРГ'!$3:$3,0)),\"---\")","v":"---"},{"$f":"IFERROR(INDEX('Состав ВТК-ВРГ'!$1:$1048576,MATCH('Пр. №1.2.'!$E323,'Состав ВТК-ВРГ'!$B:$B,0),MATCH('Пр. №1.2.'!G$3,'Состав ВТК-ВРГ'!$3:$3,0)),\"---\")","v":"---"},{"$f":"IFERROR(INDEX(справочник!$G$1:$I$7,MATCH('Пр. №1.2.'!$G323,справочник!$G$1:$G$7,0),2),\"---\")","v":"---"},{"$f":"IFERROR(INDEX('Состав ВТК-ВРГ'!$1:$1048576,MATCH('Пр. №1.2.'!$E323,'Состав ВТК-ВРГ'!$B:$B,0),MATCH('Пр. №1.2.'!I$3,'Состав ВТК-ВРГ'!$3:$3,0)),\"---\")","v":"---"},{"$f":"SUMIFS('Пр. №3'!$BQ:$BQ,'Пр. №3'!$G:$G,'Пр. №1.2.'!$E323,'Пр. №3'!$D:$D,'Пр. №1.2.'!$B323)","v":0},{"$f":"IFERROR(INDEX('Пр. №4'!$1:$1048576,MATCH($I323,'Пр. №4'!$C:$C,0),MATCH('Пр. №3'!$D$5,'Пр. №4'!$9:$9,0)),\"---\")","v":"---"},null,"---"]
[null,null,{"$f":"IFERROR(INDEX(справочник!$G$1:$I$7,MATCH('Пр. №1.2.'!$G324,справочник!$G$1:$G$7,0),3),\"---\")","v":"---"},{"$f":"IFERROR(INDEX('Пр. №1'!$B$11:$C$33,MATCH('Пр. №1.2.'!$C324,'Пр. №1'!$B$11:$B$33,0),2),\"---\")","v":"---"},null,{"$f":"IFERROR(INDEX('Состав ВТК-ВРГ'!$1:$1048576,MATCH('Пр. №1.2.'!$E324,'Состав ВТК-ВРГ'!$B:$B,0),MATCH('Пр. №1.2.'!F$3,'Состав ВТК-ВРГ'!$3:$3,0)),\"---\")","v":"---"},{"$f":"IFERROR(INDEX('Состав ВТК-ВРГ'!$1:$1048576,MATCH('Пр. №1.2.'!$E324,'Состав ВТК-ВРГ'!$B:$B,0),MATCH('Пр. №1.2.'!G$3,'Состав ВТК-ВРГ'!$3:$3,0)),\"---\")","v":"---"},{"$f":"IFERROR(INDEX(справочник!$G$1:$I$7,MATCH('Пр. №1.2.'!$G324,справочник!$G$1:$G$7,0),2),\"---\")","v":"---"},{"$f":"IFERROR(INDEX('Состав ВТК-ВРГ'!$1:$1048576,MATCH('Пр. №1.2.'!$E324,'Состав ВТК-ВРГ'!$B:$B,0),MATCH('Пр. №1.2.'!I$3,'Состав ВТК-ВРГ'!$3:$3,0)),\"---\")","v":"---"},{"$f":"SUMIFS('Пр. №3'!$BQ:$BQ,'Пр. №3'!$G:$G,'Пр. №1.2.'!$E324,'Пр. №3'!$D:$D,'Пр. №1.2.'!$B324)","v":0},{"$f":"IFERROR(INDEX('Пр. №4'!$1:$1048576,MATCH($I324,'Пр. №4'!$C:$C,0),MATCH('Пр. №3'!$D$5,'Пр. №4'!$9:$9,0)),\"---\")","v":"---"},null,"---"]
[null,null,{"$f":"IFERROR(INDEX(справочник!$G$1:$I$7,MATCH('Пр. №1.2.'!$G325,справочник!$G$1:$G$7,0),3),\"---\")","v":"---"},{"$f":"IFERROR(INDEX('Пр. №1'!$B$11:$C$33,MATCH('Пр. №1.2.'!$C325,'Пр. №1'!$B$11:$B$33,0),2),\"---\")","v":"---"},null,{"$f":"IFERROR(INDEX('Состав ВТК-ВРГ'!$1:$1048576,MATCH('Пр. №1.2.'!$E325,'Состав ВТК-ВРГ'!$B:$B,0),MATCH('Пр. №1.2.'!F$3,'Состав ВТК-ВРГ'!$3:$3,0)),\"---\")","v":"---"},{"$f":"IFERROR(INDEX('Состав ВТК-ВРГ'!$1:$1048576,MATCH('Пр. №1.2.'!$E325,'Состав ВТК-ВРГ'!$B:$B,0),MATCH('Пр. №1.2.'!G$3,'Состав ВТК-ВРГ'!$3:$3,0)),\"---\")","v":"---"},{"$f":"IFERROR(INDEX(справочник!$G$1:$I$7,MATCH('Пр. №1.2.'!$G325,справочник!$G$1:$G$7,0),2),\"---\")","v":"---"},{"$f":"IFERROR(INDEX('Состав ВТК-ВРГ'!$1:$1048576,MATCH('Пр. №1.2.'!$E325,'Состав ВТК-ВРГ'!$B:$B,0),MATCH('Пр. №1.2.'!I$3,'Состав ВТК-ВРГ'!$3:$3,0)),\"---\")","v":"---"},{"$f":"SUMIFS('Пр. №3'!$BQ:$BQ,'Пр. №3'!$G:$G,'Пр. №1.2.'!$E325,'Пр. №3'!$D:$D,'Пр. №1.2.'!$B325)","v":0},{"$f":"IFERROR(INDEX('Пр. №4'!$1:$1048576,MATCH($I325,'Пр. №4'!$C:$C,0),MATCH('Пр. №3'!$D$5,'Пр. №4'!$9:$9,0)),\"---\")","v":"---"},null,"---"]
[null,null,{"$f":"IFERROR(INDEX(справочник!$G$1:$I$7,MATCH('Пр. №1.2.'!$G326,справочник!$G$1:$G$7,0),3),\"---\")","v":"---"},{"$f":"IFERROR(INDEX('Пр. №1'!$B$11:$C$33,MATCH('Пр. №1.2.'!$C326,'Пр. №1'!$B$11:$B$33,0),2),\"---\")","v":"---"},null,{"$f":"IFERROR(INDEX('Состав ВТК-ВРГ'!$1:$1048576,MATCH('Пр. №1.2.'!$E326,'Состав ВТК-ВРГ'!$B:$B,0),MATCH('Пр. №1.2.'!F$3,'Состав ВТК-ВРГ'!$3:$3,0)),\"---\")","v":"---"},{"$f":"IFERROR(INDEX('Состав ВТК-ВРГ'!$1:$1048576,MATCH('Пр. №1.2.'!$E326,'Состав ВТК-ВРГ'!$B:$B,0),MATCH('Пр. №1.2.'!G$3,'Состав ВТК-ВРГ'!$3:$3,0)),\"---\")","v":"---"},{"$f":"IFERROR(INDEX(справочник!$G$1:$I$7,MATCH('Пр. №1.2.'!$G326,справочник!$G$1:$G$7,0),2),\"---\")","v":"---"},{"$f":"IFERROR(INDEX('Состав ВТК-ВРГ'!$1:$1048576,MATCH('Пр. №1.2.'!$E326,'Состав ВТК-ВРГ'!$B:$B,0),MATCH('Пр. №1.2.'!I$3,'Состав ВТК-ВРГ'!$3:$3,0)),\"---\")","v":"---"},{"$f":"SUMIFS('Пр. №3'!$BQ:$BQ,'Пр. №3'!$G:$G,'Пр. №1.2.'!$E326,'Пр. №3'!$D:$D,'Пр. №1.2.'!$B326)","v":0},{"$f":"IFERROR(INDEX('Пр. №4'!$1:$1048576,MATCH($I326,'Пр. №4'!$C:$C,0),MATCH('Пр. №3'!$D$5,'Пр. №4'!$9:$9,0)),\"---\")","v":"---"},null,"---"]
[null,null,{"$f":"IFERROR(INDEX(справочник!$G$1:$I$7,MATCH('Пр. №1.2.'!$G327,справочник!$G$1:$G$7,0),3),\"---\")","v":"---"},{"$f":"IFERROR(INDEX('Пр. №1'!$B$11:$C$33,MATCH('Пр. №1.2.'!$C327,'Пр. №1'!$B$11:$B$33,0),2),\"---\")","v":"---"},null,{"$f":"IFERROR(INDEX('Состав ВТК-ВРГ'!$1:$1048576,MATCH('Пр. №1.2.'!$E327,'Состав ВТК-ВРГ'!$B:$B,0),MATCH('Пр. №1.2.'!F$3,'Состав ВТК-ВРГ'!$3:$3,0)),\"---\")","v":"---"},{"$f":"IFERROR(INDEX('Состав ВТК-ВРГ'!$1:$1048576,MATCH('Пр. №1.2.'!$E327,'Состав ВТК-ВРГ'!$B:$B,0),MATCH('Пр. №1.2.'!G$3,'Состав ВТК-ВРГ'!$3:$3,0)),\"---\")","v":"---"},{"$f":"IFERROR(INDEX(справочник!$G$1:$I$7,MATCH('Пр. №1.2.'!$G327,справочник!$G$1:$G$7,0),2),\"---\")","v":"---"},{"$f":"IFERROR(INDEX('Состав ВТК-ВРГ'!$1:$1048576,MATCH('Пр. №1.2.'!$E327,'Состав ВТК-ВРГ'!$B:$B,0),MATCH('Пр. №1.2.'!I$3,'Состав ВТК-ВРГ'!$3:$3,0)),\"---\")","v":"---"},{"$f":"SUMIFS('Пр. №3'!$BQ:$BQ,'Пр. №3'!$G:$G,'Пр. №1.2.'!$E327,'Пр. №3'!$D:$D,'Пр. №1.2.'!$B327)","v":0},{"$f":"IFERROR(INDEX('Пр. №4'!$1:$1048576,MATCH($I327,'Пр. №4'!$C:$C,0),MATCH('Пр. №3'!$D$5,'Пр. №4'!$9:$9,0)),\"---\")","v":"---"},null,"---"]
[null,null,{"$f":"IFERROR(INDEX(справочник!$G$1:$I$7,MATCH('Пр. №1.2.'!$G328,справочник!$G$1:$G$7,0),3),\"---\")","v":"---"},{"$f":"IFERROR(INDEX('Пр. №1'!$B$11:$C$33,MATCH('Пр. №1.2.'!$C328,'Пр. №1'!$B$11:$B$33,0),2),\"---\")","v":"---"},null,{"$f":"IFERROR(INDEX('Состав ВТК-ВРГ'!$1:$1048576,MATCH('Пр. №1.2.'!$E328,'Состав ВТК-ВРГ'!$B:$B,0),MATCH('Пр. №1.2.'!F$3,'Состав ВТК-ВРГ'!$3:$3,0)),\"---\")","v":"---"},{"$f":"IFERROR(INDEX('Состав ВТК-ВРГ'!$1:$1048576,MATCH('Пр. №1.2.'!$E328,'Состав ВТК-ВРГ'!$B:$B,0),MATCH('Пр. №1.2.'!G$3,'Состав ВТК-ВРГ'!$3:$3,0)),\"---\")","v":"---"},{"$f":"IFERROR(INDEX(справочник!$G$1:$I$7,MATCH('Пр. №1.2.'!$G328,справочник!$G$1:$G$7,0),2),\"---\")","v":"---"},{"$f":"IFERROR(INDEX('Состав ВТК-ВРГ'!$1:$1048576,MATCH('Пр. №1.2.'!$E328,'Состав ВТК-ВРГ'!$B:$B,0),MATCH('Пр. №1.2.'!I$3,'Состав ВТК-ВРГ'!$3:$3,0)),\"---\")","v":"---"},{"$f":"SUMIFS('Пр. №3'!$BQ:$BQ,'Пр. №3'!$G:$G,'Пр. №1.2.'!$E328,'Пр. №3'!$D:$D,'Пр. №1.2.'!$B328)","v":0},{"$f":"IFERROR(INDEX('Пр. №4'!$1:$1048576,MATCH($I328,'Пр. №4'!$C:$C,0),MATCH('Пр. №3'!$D$5,'Пр. №4'!$9:$9,0)),\"---\")","v":"---"},null,"---"]
[null,null,{"$f":"IFERROR(INDEX(справочник!$G$1:$I$7,MATCH('Пр. №1.2.'!$G329,справочник!$G$1:$G$7,0),3),\"---\")","v":"---"},{"$f":"IFERROR(INDEX('Пр. №1'!$B$11:$C$33,MATCH('Пр. №1.2.'!$C329,'Пр. №1'!$B$11:$B$33,0),2),\"---\")","v":"---"},null,{"$f":"IFERROR(INDEX('Состав ВТК-ВРГ'!$1:$1048576,MATCH('Пр. №1.2.'!$E329,'Состав ВТК-ВРГ'!$B:$B,0),MATCH('Пр. №1.2.'!F$3,'Состав ВТК-ВРГ'!$3:$3,0)),\"---\")","v":"---"},{"$f":"IFERROR(INDEX('Состав ВТК-ВРГ'!$1:$1048576,MATCH('Пр. №1.2.'!$E329,'Состав ВТК-ВРГ'!$B:$B,0),MATCH('Пр. №1.2.'!G$3,'Состав ВТК-ВРГ'!$3:$3,0)),\"---\")","v":"---"},{"$f":"IFERROR(INDEX(справочник!$G$1:$I$7,MATCH('Пр. №1.2.'!$G329,справочник!$G$1:$G$7,0),2),\"---\")","v":"---"},{"$f":"IFERROR(INDEX('Состав ВТК-ВРГ'!$1:$1048576,MATCH('Пр. №1.2.'!$E329,'Состав ВТК-ВРГ'!$B:$B,0),MATCH('Пр. №1.2.'!I$3,'Состав ВТК-ВРГ'!$3:$3,0)),\"---\")","v":"---"},{"$f":"SUMIFS('Пр. №3'!$BQ:$BQ,'Пр. №3'!$G:$G,'Пр. №1.2.'!$E329,'Пр. №3'!$D:$D,'Пр. №1.2.'!$B329)","v":0},{"$f":"IFERROR(INDEX('Пр. №4'!$1:$1048576,MATCH($I329,'Пр. №4'!$C:$C,0),MATCH('Пр. №3'!$D$5,'Пр. №4'!$9:$9,0)),\"---\")","v":"---"},null,"---"]
[null,null,{"$f":"IFERROR(INDEX(справочник!$G$1:$I$7,MATCH('Пр. №1.2.'!$G330,справочник!$G$1:$G$7,0),3),\"---\")","v":"---"},{"$f":"IFERROR(INDEX('Пр. №1'!$B$11:$C$33,MATCH('Пр. №1.2.'!$C330,'Пр. №1'!$B$11:$B$33,0),2),\"---\")","v":"---"},null,{"$f":"IFERROR(INDEX('Состав ВТК-ВРГ'!$1:$1048576,MATCH('Пр. №1.2.'!$E330,'Состав ВТК-ВРГ'!$B:$B,0),MATCH('Пр. №1.2.'!F$3,'Состав ВТК-ВРГ'!$3:$3,0)),\"---\")","v":"---"},{"$f":"IFERROR(INDEX('Состав ВТК-ВРГ'!$1:$1048576,MATCH('Пр. №1.2.'!$E330,'Состав ВТК-ВРГ'!$B:$B,0),MATCH('Пр. №1.2.'!G$3,'Состав ВТК-ВРГ'!$3:$3,0)),\"---\")","v":"---"},{"$f":"IFERROR(INDEX(справочник!$G$1:$I$7,MATCH('Пр. №1.2.'!$G330,справочник!$G$1:$G$7,0),2),\"---\")","v":"---"},{"$f":"IFERROR(INDEX('Состав ВТК-ВРГ'!$1:$1048576,MATCH('Пр. №1.2.'!$E330,'Состав ВТК-ВРГ'!$B:$B,0),MATCH('Пр. №1.2.'!I$3,'Состав ВТК-ВРГ'!$3:$3,0)),\"---\")","v":"---"},{"$f":"SUMIFS('Пр. №3'!$BQ:$BQ,'Пр. №3'!$G:$G,'Пр. №1.2.'!$E330,'Пр. №3'!$D:$D,'Пр. №1.2.'!$B330)","v":0},{"$f":"IFERROR(INDEX('Пр. №4'!$1:$1048576,MATCH($I330,'Пр. №4'!$C:$C,0),MATCH('Пр. №3'!$D$5,'Пр. №4'!$9:$9,0)),\"---\")","v":"---"},null,"---"]
[null,null,{"$f":"IFERROR(INDEX(справочник!$G$1:$I$7,MATCH('Пр. №1.2.'!$G331,справочник!$G$1:$G$7,0),3),\"---\")","v":"---"},{"$f":"IFERROR(INDEX('Пр. №1'!$B$11:$C$33,MATCH('Пр. №1.2.'!$C331,'Пр. №1'!$B$11:$B$33,0),2),\"---\")","v":"---"},null,{"$f":"IFERROR(INDEX('Состав ВТК-ВРГ'!$1:$1048576,MATCH('Пр. №1.2.'!$E331,'Состав ВТК-ВРГ'!$B:$B,0),MATCH('Пр. №1.2.'!F$3,'Состав ВТК-ВРГ'!$3:$3,0)),\"---\")","v":"---"},{"$f":"IFERROR(INDEX('Состав ВТК-ВРГ'!$1:$1048576,MATCH('Пр. №1.2.'!$E331,'Состав ВТК-ВРГ'!$B:$B,0),MATCH('Пр. №1.2.'!G$3,'Состав ВТК-ВРГ'!$3:$3,0)),\"---\")","v":"---"},{"$f":"IFERROR(INDEX(справочник!$G$1:$I$7,MATCH('Пр. №1.2.'!$G331,справочник!$G$1:$G$7,0),2),\"---\")","v":"---"},{"$f":"IFERROR(INDEX('Состав ВТК-ВРГ'!$1:$1048576,MATCH('Пр. №1.2.'!$E331,'Состав ВТК-ВРГ'!$B:$B,0),MATCH('Пр. №1.2.'!I$3,'Состав ВТК-ВРГ'!$3:$3,0)),\"---\")","v":"---"},{"$f":"SUMIFS('Пр. №3'!$BQ:$BQ,'Пр. №3'!$G:$G,'Пр. №1.2.'!$E331,'Пр. №3'!$D:$D,'Пр. №1.2.'!$B331)","v":0},{"$f":"IFERROR(INDEX('Пр. №4'!$1:$1048576,MATCH($I331,'Пр. №4'!$C:$C,0),MATCH('Пр. №3'!$D$5,'Пр. №4'!$9:$9,0)),\"---\")","v":"---"},null,"---"]
[null,null,{"$f":"IFERROR(INDEX(справочник!$G$1:$I$7,MATCH('Пр. №1.2.'!$G332,справочник!$G$1:$G$7,0),3),\"---\")","v":"---"},{"$f":"IFERROR(INDEX('Пр. №1'!$B$11:$C$33,MATCH('Пр. №1.2.'!$C332,'Пр. №1'!$B$11:$B$33,0),2),\"---\")","v":"---"},null,{"$f":"IFERROR(INDEX('Состав ВТК-ВРГ'!$1:$1048576,MATCH('Пр. №1.2.'!$E332,'Состав ВТК-ВРГ'!$B:$B,0),MATCH('Пр. №1.2.'!F$3,'Состав ВТК-ВРГ'!$3:$3,0)),\"---\")","v":"---"},{"$f":"IFERROR(INDEX('Состав ВТК-ВРГ'!$1:$1048576,MATCH('Пр. №1.2.'!$E332,'Состав ВТК-ВРГ'!$B:$B,0),MATCH('Пр. №1.2.'!G$3,'Состав ВТК-ВРГ'!$3:$3,0)),\"---\")","v":"---"},{"$f":"IFERROR(INDEX(справочник!$G$1:$I$7,MATCH('Пр. №1.2.'!$G332,справочник!$G$1:$G$7,0),2),\"---\")","v":"---"},{"$f":"IFERROR(INDEX('Состав ВТК-ВРГ'!$1:$1048576,MATCH('Пр. №1.2.'!$E332,'Состав ВТК-ВРГ'!$B:$B,0),MATCH('Пр. №1.2.'!I$3,'Состав ВТК-ВРГ'!$3:$3,0)),\"---\")","v":"---"},{"$f":"SUMIFS('Пр. №3'!$BQ:$BQ,'Пр. №3'!$G:$G,'Пр. №1.2.'!$E332,'Пр. №3'!$D:$D,'Пр. №1.2.'!$B332)","v":0},{"$f":"IFERROR(INDEX('Пр. №4'!$1:$1048576,MATCH($I332,'Пр. №4'!$C:$C,0),MATCH('Пр. №3'!$D$5,'Пр. №4'!$9:$9,0)),\"---\")","v":"---"},null,"---"]
[null,null,{"$f":"IFERROR(INDEX(справочник!$G$1:$I$7,MATCH('Пр. №1.2.'!$G333,справочник!$G$1:$G$7,0),3),\"---\")","v":"---"},{"$f":"IFERROR(INDEX('Пр. №1'!$B$11:$C$33,MATCH('Пр. №1.2.'!$C333,'Пр. №1'!$B$11:$B$33,0),2),\"---\")","v":"---"},null,{"$f":"IFERROR(INDEX('Состав ВТК-ВРГ'!$1:$1048576,MATCH('Пр. №1.2.'!$E333,'Состав ВТК-ВРГ'!$B:$B,0),MATCH('Пр. №1.2.'!F$3,'Состав ВТК-ВРГ'!$3:$3,0)),\"---\")","v":"---"},{"$f":"IFERROR(INDEX('Состав ВТК-ВРГ'!$1:$1048576,MATCH('Пр. №1.2.'!$E333,'Состав ВТК-ВРГ'!$B:$B,0),MATCH('Пр. №1.2.'!G$3,'Состав ВТК-ВРГ'!$3:$3,0)),\"---\")","v":"---"},{"$f":"IFERROR(INDEX(справочник!$G$1:$I$7,MATCH('Пр. №1.2.'!$G333,справочник!$G$1:$G$7,0),2),\"---\")","v":"---"},{"$f":"IFERROR(INDEX('Состав ВТК-ВРГ'!$1:$1048576,MATCH('Пр. №1.2.'!$E333,'Состав ВТК-ВРГ'!$B:$B,0),MATCH('Пр. №1.2.'!I$3,'Состав ВТК-ВРГ'!$3:$3,0)),\"---\")","v":"---"},{"$f":"SUMIFS('Пр. №3'!$BQ:$BQ,'Пр. №3'!$G:$G,'Пр. №1.2.'!$E333,'Пр. №3'!$D:$D,'Пр. №1.2.'!$B333)","v":0},{"$f":"IFERROR(INDEX('Пр. №4'!$1:$1048576,MATCH($I333,'Пр. №4'!$C:$C,0),MATCH('Пр. №3'!$D$5,'Пр. №4'!$9:$9,0)),\"---\")","v":"---"},null,"---"]
[null,null,{"$f":"IFERROR(INDEX(справочник!$G$1:$I$7,MATCH('Пр. №1.2.'!$G334,справочник!$G$1:$G$7,0),3),\"---\")","v":"---"},{"$f":"IFERROR(INDEX('Пр. №1'!$B$11:$C$33,MATCH('Пр. №1.2.'!$C334,'Пр. №1'!$B$11:$B$33,0),2),\"---\")","v":"---"},null,{"$f":"IFERROR(INDEX('Состав ВТК-ВРГ'!$1:$1048576,MATCH('Пр. №1.2.'!$E334,'Состав ВТК-ВРГ'!$B:$B,0),MATCH('Пр. №1.2.'!F$3,'Состав ВТК-ВРГ'!$3:$3,0)),\"---\")","v":"---"},{"$f":"IFERROR(INDEX('Состав ВТК-ВРГ'!$1:$1048576,MATCH('Пр. №1.2.'!$E334,'Состав ВТК-ВРГ'!$B:$B,0),MATCH('Пр. №1.2.'!G$3,'Состав ВТК-ВРГ'!$3:$3,0)),\"---\")","v":"---"},{"$f":"IFERROR(INDEX(справочник!$G$1:$I$7,MATCH('Пр. №1.2.'!$G334,справочник!$G$1:$G$7,0),2),\"---\")","v":"---"},{"$f":"IFERROR(INDEX('Состав ВТК-ВРГ'!$1:$1048576,MATCH('Пр. №1.2.'!$E334,'Состав ВТК-ВРГ'!$B:$B,0),MATCH('Пр. №1.2.'!I$3,'Состав ВТК-ВРГ'!$3:$3,0)),\"---\")","v":"---"},{"$f":"SUMIFS('Пр. №3'!$BQ:$BQ,'Пр. №3'!$G:$G,'Пр. №1.2.'!$E334,'Пр. №3'!$D:$D,'Пр. №1.2.'!$B334)","v":0},{"$f":"IFERROR(INDEX('Пр. №4'!$1:$1048576,MATCH($I334,'Пр. №4'!$C:$C,0),MATCH('Пр. №3'!$D$5,'Пр. №4'!$9:$9,0)),\"---\")","v":"---"},null,"---"]
[null,null,{"$f":"IFERROR(INDEX(справочник!$G$1:$I$7,MATCH('Пр. №1.2.'!$G335,справочник!$G$1:$G$7,0),3),\"---\")","v":"---"},{"$f":"IFERROR(INDEX('Пр. №1'!$B$11:$C$33,MATCH('Пр. №1.2.'!$C335,'Пр. №1'!$B$11:$B$33,0),2),\"---\")","v":"---"},null,{"$f":"IFERROR(INDEX('Состав ВТК-ВРГ'!$1:$1048576,MATCH('Пр. №1.2.'!$E335,'Состав ВТК-ВРГ'!$B:$B,0),MATCH('Пр. №1.2.'!F$3,'Состав ВТК-ВРГ'!$3:$3,0)),\"---\")","v":"---"},{"$f":"IFERROR(INDEX('Состав ВТК-ВРГ'!$1:$1048576,MATCH('Пр. №1.2.'!$E335,'Состав ВТК-ВРГ'!$B:$B,0),MATCH('Пр. №1.2.'!G$3,'Состав ВТК-ВРГ'!$3:$3,0)),\"---\")","v":"---"},{"$f":"IFERROR(INDEX(справочник!$G$1:$I$7,MATCH('Пр. №1.2.'!$G335,справочник!$G$1:$G$7,0),2),\"---\")","v":"---"},{"$f":"IFERROR(INDEX('Состав ВТК-ВРГ'!$1:$1048576,MATCH('Пр. №1.2.'!$E335,'Состав ВТК-ВРГ'!$B:$B,0),MATCH('Пр. №1.2.'!I$3,'Состав ВТК-ВРГ'!$3:$3,0)),\"---\")","v":"---"},{"$f":"SUMIFS('Пр. №3'!$BQ:$BQ,'Пр. №3'!$G:$G,'Пр. №1.2.'!$E335,'Пр. №3'!$D:$D,'Пр. №1.2.'!$B335)","v":0},{"$f":"IFERROR(INDEX('Пр. №4'!$1:$1048576,MATCH($I335,'Пр. №4'!$C:$C,0),MATCH('Пр. №3'!$D$5,'Пр. №4'!$9:$9,0)),\"---\")","v":"---"},null,"---"]
[null,null,{"$f":"IFERROR(INDEX(справочник!$G$1:$I$7,MATCH('Пр. №1.2.'!$G336,справочник!$G$1:$G$7,0),3),\"---\")","v":"---"},{"$f":"IFERROR(INDEX('Пр. №1'!$B$11:$C$33,MATCH('Пр. №1.2.'!$C336,'Пр. №1'!$B$11:$B$33,0),2),\"---\")","v":"---"},null,{"$f":"IFERROR(INDEX('Состав ВТК-ВРГ'!$1:$1048576,MATCH('Пр. №1.2.'!$E336,'Состав ВТК-ВРГ'!$B:$B,0),MATCH('Пр. №1.2.'!F$3,'Состав ВТК-ВРГ'!$3:$3,0)),\"---\")","v":"---"},{"$f":"IFERROR(INDEX('Состав ВТК-ВРГ'!$1:$1048576,MATCH('Пр. №1.2.'!$E336,'Состав ВТК-ВРГ'!$B:$B,0),MATCH('Пр. №1.2.'!G$3,'Состав ВТК-ВРГ'!$3:$3,0)),\"---\")","v":"---"},{"$f":"IFERROR(INDEX(справочник!$G$1:$I$7,MATCH('Пр. №1.2.'!$G336,справочник!$G$1:$G$7,0),2),\"---\")","v":"---"},{"$f":"IFERROR(INDEX('Состав ВТК-ВРГ'!$1:$1048576,MATCH('Пр. №1.2.'!$E336,'Состав ВТК-ВРГ'!$B:$B,0),MATCH('Пр. №1.2.'!I$3,'Состав ВТК-ВРГ'!$3:$3,0)),\"---\")","v":"---"},{"$f":"SUMIFS('Пр. №3'!$BQ:$BQ,'Пр. №3'!$G:$G,'Пр. №1.2.'!$E336,'Пр. №3'!$D:$D,'Пр. №1.2.'!$B336)","v":0},{"$f":"IFERROR(INDEX('Пр. №4'!$1:$1048576,MATCH($I336,'Пр. №4'!$C:$C,0),MATCH('Пр. №3'!$D$5,'Пр. №4'!$9:$9,0)),\"---\")","v":"---"},null,"---"]
[null,null,{"$f":"IFERROR(INDEX(справочник!$G$1:$I$7,MATCH('Пр. №1.2.'!$G337,справочник!$G$1:$G$7,0),3),\"---\")","v":"---"},{"$f":"IFERROR(INDEX('Пр. №1'!$B$11:$C$33,MATCH('Пр. №1.2.'!$C337,'Пр. №1'!$B$11:$B$33,0),2),\"---\")","v":"---"},null,{"$f":"IFERROR(INDEX('Состав ВТК-ВРГ'!$1:$1048576,MATCH('Пр. №1.2.'!$E337,'Состав ВТК-ВРГ'!$B:$B,0),MATCH('Пр. №1.2.'!F$3,'Состав ВТК-ВРГ'!$3:$3,0)),\"---\")","v":"---"},{"$f":"IFERROR(INDEX('Состав ВТК-ВРГ'!$1:$1048576,MATCH('Пр. №1.2.'!$E337,'Состав ВТК-ВРГ'!$B:$B,0),MATCH('Пр. №1.2.'!G$3,'Состав ВТК-ВРГ'!$3:$3,0)),\"---\")","v":"---"},{"$f":"IFERROR(INDEX(справочник!$G$1:$I$7,MATCH('Пр. №1.2.'!$G337,справочник!$G$1:$G$7,0),2),\"---\")","v":"---"},{"$f":"IFERROR(INDEX('Состав ВТК-ВРГ'!$1:$1048576,MATCH('Пр. №1.2.'!$E337,'Состав ВТК-ВРГ'!$B:$B,0),MATCH('Пр. №1.2.'!I$3,'Состав ВТК-ВРГ'!$3:$3,0)),\"---\")","v":"---"},{"$f":"SUMIFS('Пр. №3'!$BQ:$BQ,'Пр. №3'!$G:$G,'Пр. №1.2.'!$E337,'Пр. №3'!$D:$D,'Пр. №1.2.'!$B337)","v":0},{"$f":"IFERROR(INDEX('Пр. №4'!$1:$1048576,MATCH($I337,'Пр. №4'!$C:$C,0),MATCH('Пр. №3'!$D$5,'Пр. №4'!$9:$9,0)),\"---\")","v":"---"},null,"---"]
[null,null,{"$f":"IFERROR(INDEX(справочник!$G$1:$I$7,MATCH('Пр. №1.2.'!$G338,справочник!$G$1:$G$7,0),3),\"---\")","v":"---"},{"$f":"IFERROR(INDEX('Пр. №1'!$B$11:$C$33,MATCH('Пр. №1.2.'!$C338,'Пр. №1'!$B$11:$B$33,0),2),\"---\")","v":"---"},null,{"$f":"IFERROR(INDEX('Состав ВТК-ВРГ'!$1:$1048576,MATCH('Пр. №1.2.'!$E338,'Состав ВТК-ВРГ'!$B:$B,0),MATCH('Пр. №1.2.'!F$3,'Состав ВТК-ВРГ'!$3:$3,0)),\"---\")","v":"---"},{"$f":"IFERROR(INDEX('Состав ВТК-ВРГ'!$1:$1048576,MATCH('Пр. №1.2.'!$E338,'Состав ВТК-ВРГ'!$B:$B,0),MATCH('Пр. №1.2.'!G$3,'Состав ВТК-ВРГ'!$3:$3,0)),\"---\")","v":"---"},{"$f":"IFERROR(INDEX(справочник!$G$1:$I$7,MATCH('Пр. №1.2.'!$G338,справочник!$G$1:$G$7,0),2),\"---\")","v":"---"},{"$f":"IFERROR(INDEX('Состав ВТК-ВРГ'!$1:$1048576,MATCH('Пр. №1.2.'!$E338,'Состав ВТК-ВРГ'!$B:$B,0),MATCH('Пр. №1.2.'!I$3,'Состав ВТК-ВРГ'!$3:$3,0)),\"---\")","v":"---"},{"$f":"SUMIFS('Пр. №3'!$BQ:$BQ,'Пр. №3'!$G:$G,'Пр. №1.2.'!$E338,'Пр. №3'!$D:$D,'Пр. №1.2.'!$B338)","v":0},{"$f":"IFERROR(INDEX('Пр. №4'!$1:$1048576,MATCH($I338,'Пр. №4'!$C:$C,0),MATCH('Пр. №3'!$D$5,'Пр. №4'!$9:$9,0)),\"---\")","v":"---"},null,"---"]
[null,null,{"$f":"IFERROR(INDEX(справочник!$G$1:$I$7,MATCH('Пр. №1.2.'!$G339,справочник!$G$1:$G$7,0),3),\"---\")","v":"---"},{"$f":"IFERROR(INDEX('Пр. №1'!$B$11:$C$33,MATCH('Пр. №1.2.'!$C339,'Пр. №1'!$B$11:$B$33,0),2),\"---\")","v":"---"},null,{"$f":"IFERROR(INDEX('Состав ВТК-ВРГ'!$1:$1048576,MATCH('Пр. №1.2.'!$E339,'Состав ВТК-ВРГ'!$B:$B,0),MATCH('Пр. №1.2.'!F$3,'Состав ВТК-ВРГ'!$3:$3,0)),\"---\")","v":"---"},{"$f":"IFERROR(INDEX('Состав ВТК-ВРГ'!$1:$1048576,MATCH('Пр. №1.2.'!$E339,'Состав ВТК-ВРГ'!$B:$B,0),MATCH('Пр. №1.2.'!G$3,'Состав ВТК-ВРГ'!$3:$3,0)),\"---\")","v":"---"},{"$f":"IFERROR(INDEX(справочник!$G$1:$I$7,MATCH('Пр. №1.2.'!$G339,справочник!$G$1:$G$7,0),2),\"---\")","v":"---"},{"$f":"IFERROR(INDEX('Состав ВТК-ВРГ'!$1:$1048576,MATCH('Пр. №1.2.'!$E339,'Состав ВТК-ВРГ'!$B:$B,0),MATCH('Пр. №1.2.'!I$3,'Состав ВТК-ВРГ'!$3:$3,0)),\"---\")","v":"---"},{"$f":"SUMIFS('Пр. №3'!$BQ:$BQ,'Пр. №3'!$G:$G,'Пр. №1.2.'!$E339,'Пр. №3'!$D:$D,'Пр. №1.2.'!$B339)","v":0},{"$f":"IFERROR(INDEX('Пр. №4'!$1:$1048576,MATCH($I339,'Пр. №4'!$C:$C,0),MATCH('Пр. №3'!$D$5,'Пр. №4'!$9:$9,0)),\"---\")","v":"---"},null,"---"]
[null,null,{"$f":"IFERROR(INDEX(справочник!$G$1:$I$7,MATCH('Пр. №1.2.'!$G340,справочник!$G$1:$G$7,0),3),\"---\")","v":"---"},{"$f":"IFERROR(INDEX('Пр. №1'!$B$11:$C$33,MATCH('Пр. №1.2.'!$C340,'Пр. №1'!$B$11:$B$33,0),2),\"---\")","v":"---"},null,{"$f":"IFERROR(INDEX('Состав ВТК-ВРГ'!$1:$1048576,MATCH('Пр. №1.2.'!$E340,'Состав ВТК-ВРГ'!$B:$B,0),MATCH('Пр. №1.2.'!F$3,'Состав ВТК-ВРГ'!$3:$3,0)),\"---\")","v":"---"},{"$f":"IFERROR(INDEX('Состав ВТК-ВРГ'!$1:$1048576,MATCH('Пр. №1.2.'!$E340,'Состав ВТК-ВРГ'!$B:$B,0),MATCH('Пр. №1.2.'!G$3,'Состав ВТК-ВРГ'!$3:$3,0)),\"---\")","v":"---"},{"$f":"IFERROR(INDEX(справочник!$G$1:$I$7,MATCH('Пр. №1.2.'!$G340,справочник!$G$1:$G$7,0),2),\"---\")","v":"---"},{"$f":"IFERROR(INDEX('Состав ВТК-ВРГ'!$1:$1048576,MATCH('Пр. №1.2.'!$E340,'Состав ВТК-ВРГ'!$B:$B,0),MATCH('Пр. №1.2.'!I$3,'Состав ВТК-ВРГ'!$3:$3,0)),\"---\")","v":"---"},{"$f":"SUMIFS('Пр. №3'!$BQ:$BQ,'Пр. №3'!$G:$G,'Пр. №1.2.'!$E340,'Пр. №3'!$D:$D,'Пр. №1.2.'!$B340)","v":0},{"$f":"IFERROR(INDEX('Пр. №4'!$1:$1048576,MATCH($I340,'Пр. №4'!$C:$C,0),MATCH('Пр. №3'!$D$5,'Пр. №4'!$9:$9,0)),\"---\")","v":"---"},null,"---"]
[null,null,{"$f":"IFERROR(INDEX(справочник!$G$1:$I$7,MATCH('Пр. №1.2.'!$G341,справочник!$G$1:$G$7,0),3),\"---\")","v":"---"},{"$f":"IFERROR(INDEX('Пр. №1'!$B$11:$C$33,MATCH('Пр. №1.2.'!$C341,'Пр. №1'!$B$11:$B$33,0),2),\"---\")","v":"---"},null,{"$f":"IFERROR(INDEX('Состав ВТК-ВРГ'!$1:$1048576,MATCH('Пр. №1.2.'!$E341,'Состав ВТК-ВРГ'!$B:$B,0),MATCH('Пр. №1.2.'!F$3,'Состав ВТК-ВРГ'!$3:$3,0)),\"---\")","v":"---"},{"$f":"IFERROR(INDEX('Состав ВТК-ВРГ'!$1:$1048576,MATCH('Пр. №1.2.'!$E341,'Состав ВТК-ВРГ'!$B:$B,0),MATCH('Пр. №1.2.'!G$3,'Состав ВТК-ВРГ'!$3:$3,0)),\"---\")","v":"---"},{"$f":"IFERROR(INDEX(справочник!$G$1:$I$7,MATCH('Пр. №1.2.'!$G341,справочник!$G$1:$G$7,0),2),\"---\")","v":"---"},{"$f":"IFERROR(INDEX('Состав ВТК-ВРГ'!$1:$1048576,MATCH('Пр. №1.2.'!$E341,'Состав ВТК-ВРГ'!$B:$B,0),MATCH('Пр. №1.2.'!I$3,'Состав ВТК-ВРГ'!$3:$3,0)),\"---\")","v":"---"},{"$f":"SUMIFS('Пр. №3'!$BQ:$BQ,'Пр. №3'!$G:$G,'Пр. №1.2.'!$E341,'Пр. №3'!$D:$D,'Пр. №1.2.'!$B341)","v":0},{"$f":"IFERROR(INDEX('Пр. №4'!$1:$1048576,MATCH($I341,'Пр. №4'!$C:$C,0),MATCH('Пр. №3'!$D$5,'Пр. №4'!$9:$9,0)),\"---\")","v":"---"},null,"---"]
[null,null,{"$f":"IFERROR(INDEX(справочник!$G$1:$I$7,MATCH('Пр. №1.2.'!$G342,справочник!$G$1:$G$7,0),3),\"---\")","v":"---"},{"$f":"IFERROR(INDEX('Пр. №1'!$B$11:$C$33,MATCH('Пр. №1.2.'!$C342,'Пр. №1'!$B$11:$B$33,0),2),\"---\")","v":"---"},null,{"$f":"IFERROR(INDEX('Состав ВТК-ВРГ'!$1:$1048576,MATCH('Пр. №1.2.'!$E342,'Состав ВТК-ВРГ'!$B:$B,0),MATCH('Пр. №1.2.'!F$3,'Состав ВТК-ВРГ'!$3:$3,0)),\"---\")","v":"---"},{"$f":"IFERROR(INDEX('Состав ВТК-ВРГ'!$1:$1048576,MATCH('Пр. №1.2.'!$E342,'Состав ВТК-ВРГ'!$B:$B,0),MATCH('Пр. №1.2.'!G$3,'Состав ВТК-ВРГ'!$3:$3,0)),\"---\")","v":"---"},{"$f":"IFERROR(INDEX(справочник!$G$1:$I$7,MATCH('Пр. №1.2.'!$G342,справочник!$G$1:$G$7,0),2),\"---\")","v":"---"},{"$f":"IFERROR(INDEX('Состав ВТК-ВРГ'!$1:$1048576,MATCH('Пр. №1.2.'!$E342,'Состав ВТК-ВРГ'!$B:$B,0),MATCH('Пр. №1.2.'!I$3,'Состав ВТК-ВРГ'!$3:$3,0)),\"---\")","v":"---"},{"$f":"SUMIFS('Пр. №3'!$BQ:$BQ,'Пр. №3'!$G:$G,'Пр. №1.2.'!$E342,'Пр. №3'!$D:$D,'Пр. №1.2.'!$B342)","v":0},{"$f":"IFERROR(INDEX('Пр. №4'!$1:$1048576,MATCH($I342,'Пр. №4'!$C:$C,0),MATCH('Пр. №3'!$D$5,'Пр. №4'!$9:$9,0)),\"---\")","v":"---"},null,"---"]
[null,null,{"$f":"IFERROR(INDEX(справочник!$G$1:$I$7,MATCH('Пр. №1.2.'!$G343,справочник!$G$1:$G$7,0),3),\"---\")","v":"---"},{"$f":"IFERROR(INDEX('Пр. №1'!$B$11:$C$33,MATCH('Пр. №1.2.'!$C343,'Пр. №1'!$B$11:$B$33,0),2),\"---\")","v":"---"},null,{"$f":"IFERROR(INDEX('Состав ВТК-ВРГ'!$1:$1048576,MATCH('Пр. №1.2.'!$E343,'Состав ВТК-ВРГ'!$B:$B,0),MATCH('Пр. №1.2.'!F$3,'Состав ВТК-ВРГ'!$3:$3,0)),\"---\")","v":"---"},{"$f":"IFERROR(INDEX('Состав ВТК-ВРГ'!$1:$1048576,MATCH('Пр. №1.2.'!$E343,'Состав ВТК-ВРГ'!$B:$B,0),MATCH('Пр. №1.2.'!G$3,'Состав ВТК-ВРГ'!$3:$3,0)),\"---\")","v":"---"},{"$f":"IFERROR(INDEX(справочник!$G$1:$I$7,MATCH('Пр. №1.2.'!$G343,справочник!$G$1:$G$7,0),2),\"---\")","v":"---"},{"$f":"IFERROR(INDEX('Состав ВТК-ВРГ'!$1:$1048576,MATCH('Пр. №1.2.'!$E343,'Состав ВТК-ВРГ'!$B:$B,0),MATCH('Пр. №1.2.'!I$3,'Состав ВТК-ВРГ'!$3:$3,0)),\"---\")","v":"---"},{"$f":"SUMIFS('Пр. №3'!$BQ:$BQ,'Пр. №3'!$G:$G,'Пр. №1.2.'!$E343,'Пр. №3'!$D:$D,'Пр. №1.2.'!$B343)","v":0},{"$f":"IFERROR(INDEX('Пр. №4'!$1:$1048576,MATCH($I343,'Пр. №4'!$C:$C,0),MATCH('Пр. №3'!$D$5,'Пр. №4'!$9:$9,0)),\"---\")","v":"---"},null,"---"]
[null,null,{"$f":"IFERROR(INDEX(справочник!$G$1:$I$7,MATCH('Пр. №1.2.'!$G344,справочник!$G$1:$G$7,0),3),\"---\")","v":"---"},{"$f":"IFERROR(INDEX('Пр. №1'!$B$11:$C$33,MATCH('Пр. №1.2.'!$C344,'Пр. №1'!$B$11:$B$33,0),2),\"---\")","v":"---"},null,{"$f":"IFERROR(INDEX('Состав ВТК-ВРГ'!$1:$1048576,MATCH('Пр. №1.2.'!$E344,'Состав ВТК-ВРГ'!$B:$B,0),MATCH('Пр. №1.2.'!F$3,'Состав ВТК-ВРГ'!$3:$3,0)),\"---\")","v":"---"},{"$f":"IFERROR(INDEX('Состав ВТК-ВРГ'!$1:$1048576,MATCH('Пр. №1.2.'!$E344,'Состав ВТК-ВРГ'!$B:$B,0),MATCH('Пр. №1.2.'!G$3,'Состав ВТК-ВРГ'!$3:$3,0)),\"---\")","v":"---"},{"$f":"IFERROR(INDEX(справочник!$G$1:$I$7,MATCH('Пр. №1.2.'!$G344,справочник!$G$1:$G$7,0),2),\"---\")","v":"---"},{"$f":"IFERROR(INDEX('Состав ВТК-ВРГ'!$1:$1048576,MATCH('Пр. №1.2.'!$E344,'Состав ВТК-ВРГ'!$B:$B,0),MATCH('Пр. №1.2.'!I$3,'Состав ВТК-ВРГ'!$3:$3,0)),\"---\")","v":"---"},{"$f":"SUMIFS('Пр. №3'!$BQ:$BQ,'Пр. №3'!$G:$G,'Пр. №1.2.'!$E344,'Пр. №3'!$D:$D,'Пр. №1.2.'!$B344)","v":0},{"$f":"IFERROR(INDEX('Пр. №4'!$1:$1048576,MATCH($I344,'Пр. №4'!$C:$C,0),MATCH('Пр. №3'!$D$5,'Пр. №4'!$9:$9,0)),\"---\")","v":"---"},null,"---"]
[null,null,{"$f":"IFERROR(INDEX(справочник!$G$1:$I$7,MATCH('Пр. №1.2.'!$G345,справочник!$G$1:$G$7,0),3),\"---\")","v":"---"},{"$f":"IFERROR(INDEX('Пр. №1'!$B$11:$C$33,MATCH('Пр. №1.2.'!$C345,'Пр. №1'!$B$11:$B$33,0),2),\"---\")","v":"---"},null,{"$f":"IFERROR(INDEX('Состав ВТК-ВРГ'!$1:$1048576,MATCH('Пр. №1.2.'!$E345,'Состав ВТК-ВРГ'!$B:$B,0),MATCH('Пр. №1.2.'!F$3,'Состав ВТК-ВРГ'!$3:$3,0)),\"---\")","v":"---"},{"$f":"IFERROR(INDEX('Состав ВТК-ВРГ'!$1:$1048576,MATCH('Пр. №1.2.'!$E345,'Состав ВТК-ВРГ'!$B:$B,0),MATCH('Пр. №1.2.'!G$3,'Состав ВТК-ВРГ'!$3:$3,0)),\"---\")","v":"---"},{"$f":"IFERROR(INDEX(справочник!$G$1:$I$7,MATCH('Пр. №1.2.'!$G345,справочник!$G$1:$G$7,0),2),\"---\")","v":"---"},{"$f":"IFERROR(INDEX('Состав ВТК-ВРГ'!$1:$1048576,MATCH('Пр. №1.2.'!$E345,'Состав ВТК-ВРГ'!$B:$B,0),MATCH('Пр. №1.2.'!I$3,'Состав ВТК-ВРГ'!$3:$3,0)),\"---\")","v":"---"},{"$f":"SUMIFS('Пр. №3'!$BQ:$BQ,'Пр. №3'!$G:$G,'Пр. №1.2.'!$E345,'Пр. №3'!$D:$D,'Пр. №1.2.'!$B345)","v":0},{"$f":"IFERROR(INDEX('Пр. №4'!$1:$1048576,MATCH($I345,'Пр. №4'!$C:$C,0),MATCH('Пр. №3'!$D$5,'Пр. №4'!$9:$9,0)),\"---\")","v":"---"},null,"---"]
[null,null,{"$f":"IFERROR(INDEX(справочник!$G$1:$I$7,MATCH('Пр. №1.2.'!$G346,справочник!$G$1:$G$7,0),3),\"---\")","v":"---"},{"$f":"IFERROR(INDEX('Пр. №1'!$B$11:$C$33,MATCH('Пр. №1.2.'!$C346,'Пр. №1'!$B$11:$B$33,0),2),\"---\")","v":"---"},null,{"$f":"IFERROR(INDEX('Состав ВТК-ВРГ'!$1:$1048576,MATCH('Пр. №1.2.'!$E346,'Состав ВТК-ВРГ'!$B:$B,0),MATCH('Пр. №1.2.'!F$3,'Состав ВТК-ВРГ'!$3:$3,0)),\"---\")","v":"---"},{"$f":"IFERROR(INDEX('Состав ВТК-ВРГ'!$1:$1048576,MATCH('Пр. №1.2.'!$E346,'Состав ВТК-ВРГ'!$B:$B,0),MATCH('Пр. №1.2.'!G$3,'Состав ВТК-ВРГ'!$3:$3,0)),\"---\")","v":"---"},{"$f":"IFERROR(INDEX(справочник!$G$1:$I$7,MATCH('Пр. №1.2.'!$G346,справочник!$G$1:$G$7,0),2),\"---\")","v":"---"},{"$f":"IFERROR(INDEX('Состав ВТК-ВРГ'!$1:$1048576,MATCH('Пр. №1.2.'!$E346,'Состав ВТК-ВРГ'!$B:$B,0),MATCH('Пр. №1.2.'!I$3,'Состав ВТК-ВРГ'!$3:$3,0)),\"---\")","v":"---"},{"$f":"SUMIFS('Пр. №3'!$BQ:$BQ,'Пр. №3'!$G:$G,'Пр. №1.2.'!$E346,'Пр. №3'!$D:$D,'Пр. №1.2.'!$B346)","v":0},{"$f":"IFERROR(INDEX('Пр. №4'!$1:$1048576,MATCH($I346,'Пр. №4'!$C:$C,0),MATCH('Пр. №3'!$D$5,'Пр. №4'!$9:$9,0)),\"---\")","v":"---"},null,"---"]
[null,null,{"$f":"IFERROR(INDEX(справочник!$G$1:$I$7,MATCH('Пр. №1.2.'!$G347,справочник!$G$1:$G$7,0),3),\"---\")","v":"---"},{"$f":"IFERROR(INDEX('Пр. №1'!$B$11:$C$33,MATCH('Пр. №1.2.'!$C347,'Пр. №1'!$B$11:$B$33,0),2),\"---\")","v":"---"},null,{"$f":"IFERROR(INDEX('Состав ВТК-ВРГ'!$1:$1048576,MATCH('Пр. №1.2.'!$E347,'Состав ВТК-ВРГ'!$B:$B,0),MATCH('Пр. №1.2.'!F$3,'Состав ВТК-ВРГ'!$3:$3,0)),\"---\")","v":"---"},{"$f":"IFERROR(INDEX('Состав ВТК-ВРГ'!$1:$1048576,MATCH('Пр. №1.2.'!$E347,'Состав ВТК-ВРГ'!$B:$B,0),MATCH('Пр. №1.2.'!G$3,'Состав ВТК-ВРГ'!$3:$3,0)),\"---\")","v":"---"},{"$f":"IFERROR(INDEX(справочник!$G$1:$I$7,MATCH('Пр. №1.2.'!$G347,справочник!$G$1:$G$7,0),2),\"---\")","v":"---"},{"$f":"IFERROR(INDEX('Состав ВТК-ВРГ'!$1:$1048576,MATCH('Пр. №1.2.'!$E347,'Состав ВТК-ВРГ'!$B:$B,0),MATCH('Пр. №1.2.'!I$3,'Состав ВТК-ВРГ'!$3:$3,0)),\"---\")","v":"---"},{"$f":"SUMIFS('Пр. №3'!$BQ:$BQ,'Пр. №3'!$G:$G,'Пр. №1.2.'!$E347,'Пр. №3'!$D:$D,'Пр. №1.2.'!$B347)","v":0},{"$f":"IFERROR(INDEX('Пр. №4'!$1:$1048576,MATCH($I347,'Пр. №4'!$C:$C,0),MATCH('Пр. №3'!$D$5,'Пр. №4'!$9:$9,0)),\"---\")","v":"---"},null,"---"]
[null,null,{"$f":"IFERROR(INDEX(справочник!$G$1:$I$7,MATCH('Пр. №1.2.'!$G348,справочник!$G$1:$G$7,0),3),\"---\")","v":"---"},{"$f":"IFERROR(INDEX('Пр. №1'!$B$11:$C$33,MATCH('Пр. №1.2.'!$C348,'Пр. №1'!$B$11:$B$33,0),2),\"---\")","v":"---"},null,{"$f":"IFERROR(INDEX('Состав ВТК-ВРГ'!$1:$1048576,MATCH('Пр. №1.2.'!$E348,'Состав ВТК-ВРГ'!$B:$B,0),MATCH('Пр. №1.2.'!F$3,'Состав ВТК-ВРГ'!$3:$3,0)),\"---\")","v":"---"},{"$f":"IFERROR(INDEX('Состав ВТК-ВРГ'!$1:$1048576,MATCH('Пр. №1.2.'!$E348,'Состав ВТК-ВРГ'!$B:$B,0),MATCH('Пр. №1.2.'!G$3,'Состав ВТК-ВРГ'!$3:$3,0)),\"---\")","v":"---"},{"$f":"IFERROR(INDEX(справочник!$G$1:$I$7,MATCH('Пр. №1.2.'!$G348,справочник!$G$1:$G$7,0),2),\"---\")","v":"---"},{"$f":"IFERROR(INDEX('Состав ВТК-ВРГ'!$1:$1048576,MATCH('Пр. №1.2.'!$E348,'Состав ВТК-ВРГ'!$B:$B,0),MATCH('Пр. №1.2.'!I$3,'Состав ВТК-ВРГ'!$3:$3,0)),\"---\")","v":"---"},{"$f":"SUMIFS('Пр. №3'!$BQ:$BQ,'Пр. №3'!$G:$G,'Пр. №1.2.'!$E348,'Пр. №3'!$D:$D,'Пр. №1.2.'!$B348)","v":0},{"$f":"IFERROR(INDEX('Пр. №4'!$1:$1048576,MATCH($I348,'Пр. №4'!$C:$C,0),MATCH('Пр. №3'!$D$5,'Пр. №4'!$9:$9,0)),\"---\")","v":"---"},null,"---"]
[null,null,{"$f":"IFERROR(INDEX(справочник!$G$1:$I$7,MATCH('Пр. №1.2.'!$G349,справочник!$G$1:$G$7,0),3),\"---\")","v":"---"},{"$f":"IFERROR(INDEX('Пр. №1'!$B$11:$C$33,MATCH('Пр. №1.2.'!$C349,'Пр. №1'!$B$11:$B$33,0),2),\"---\")","v":"---"},null,{"$f":"IFERROR(INDEX('Состав ВТК-ВРГ'!$1:$1048576,MATCH('Пр. №1.2.'!$E349,'Состав ВТК-ВРГ'!$B:$B,0),MATCH('Пр. №1.2.'!F$3,'Состав ВТК-ВРГ'!$3:$3,0)),\"---\")","v":"---"},{"$f":"IFERROR(INDEX('Состав ВТК-ВРГ'!$1:$1048576,MATCH('Пр. №1.2.'!$E349,'Состав ВТК-ВРГ'!$B:$B,0),MATCH('Пр. №1.2.'!G$3,'Состав ВТК-ВРГ'!$3:$3,0)),\"---\")","v":"---"},{"$f":"IFERROR(INDEX(справочник!$G$1:$I$7,MATCH('Пр. №1.2.'!$G349,справочник!$G$1:$G$7,0),2),\"---\")","v":"---"},{"$f":"IFERROR(INDEX('Состав ВТК-ВРГ'!$1:$1048576,MATCH('Пр. №1.2.'!$E349,'Состав ВТК-ВРГ'!$B:$B,0),MATCH('Пр. №1.2.'!I$3,'Состав ВТК-ВРГ'!$3:$3,0)),\"---\")","v":"---"},{"$f":"SUMIFS('Пр. №3'!$BQ:$BQ,'Пр. №3'!$G:$G,'Пр. №1.2.'!$E349,'Пр. №3'!$D:$D,'Пр. №1.2.'!$B349)","v":0},{"$f":"IFERROR(INDEX('Пр. №4'!$1:$1048576,MATCH($I349,'Пр. №4'!$C:$C,0),MATCH('Пр. №3'!$D$5,'Пр. №4'!$9:$9,0)),\"---\")","v":"---"},null,"---"]
[null,null,{"$f":"IFERROR(INDEX(справочник!$G$1:$I$7,MATCH('Пр. №1.2.'!$G350,справочник!$G$1:$G$7,0),3),\"---\")","v":"---"},{"$f":"IFERROR(INDEX('Пр. №1'!$B$11:$C$33,MATCH('Пр. №1.2.'!$C350,'Пр. №1'!$B$11:$B$33,0),2),\"---\")","v":"---"},null,{"$f":"IFERROR(INDEX('Состав ВТК-ВРГ'!$1:$1048576,MATCH('Пр. №1.2.'!$E350,'Состав ВТК-ВРГ'!$B:$B,0),MATCH('Пр. №1.2.'!F$3,'Состав ВТК-ВРГ'!$3:$3,0)),\"---\")","v":"---"},{"$f":"IFERROR(INDEX('Состав ВТК-ВРГ'!$1:$1048576,MATCH('Пр. №1.2.'!$E350,'Состав ВТК-ВРГ'!$B:$B,0),MATCH('Пр. №1.2.'!G$3,'Состав ВТК-ВРГ'!$3:$3,0)),\"---\")","v":"---"},{"$f":"IFERROR(INDEX(справочник!$G$1:$I$7,MATCH('Пр. №1.2.'!$G350,справочник!$G$1:$G$7,0),2),\"---\")","v":"---"},{"$f":"IFERROR(INDEX('Состав ВТК-ВРГ'!$1:$1048576,MATCH('Пр. №1.2.'!$E350,'Состав ВТК-ВРГ'!$B:$B,0),MATCH('Пр. №1.2.'!I$3,'Состав ВТК-ВРГ'!$3:$3,0)),\"---\")","v":"---"},{"$f":"SUMIFS('Пр. №3'!$BQ:$BQ,'Пр. №3'!$G:$G,'Пр. №1.2.'!$E350,'Пр. №3'!$D:$D,'Пр. №1.2.'!$B350)","v":0},{"$f":"IFERROR(INDEX('Пр. №4'!$1:$1048576,MATCH($I350,'Пр. №4'!$C:$C,0),MATCH('Пр. №3'!$D$5,'Пр. №4'!$9:$9,0)),\"---\")","v":"---"},null,"---"]
[null,null,{"$f":"IFERROR(INDEX(справочник!$G$1:$I$7,MATCH('Пр. №1.2.'!$G351,справочник!$G$1:$G$7,0),3),\"---\")","v":"---"},{"$f":"IFERROR(INDEX('Пр. №1'!$B$11:$C$33,MATCH('Пр. №1.2.'!$C351,'Пр. №1'!$B$11:$B$33,0),2),\"---\")","v":"---"},null,{"$f":"IFERROR(INDEX('Состав ВТК-ВРГ'!$1:$1048576,MATCH('Пр. №1.2.'!$E351,'Состав ВТК-ВРГ'!$B:$B,0),MATCH('Пр. №1.2.'!F$3,'Состав ВТК-ВРГ'!$3:$3,0)),\"---\")","v":"---"},{"$f":"IFERROR(INDEX('Состав ВТК-ВРГ'!$1:$1048576,MATCH('Пр. №1.2.'!$E351,'Состав ВТК-ВРГ'!$B:$B,0),MATCH('Пр. №1.2.'!G$3,'Состав ВТК-ВРГ'!$3:$3,0)),\"---\")","v":"---"},{"$f":"IFERROR(INDEX(справочник!$G$1:$I$7,MATCH('Пр. №1.2.'!$G351,справочник!$G$1:$G$7,0),2),\"---\")","v":"---"},{"$f":"IFERROR(INDEX('Состав ВТК-ВРГ'!$1:$1048576,MATCH('Пр. №1.2.'!$E351,'Состав ВТК-ВРГ'!$B:$B,0),MATCH('Пр. №1.2.'!I$3,'Состав ВТК-ВРГ'!$3:$3,0)),\"---\")","v":"---"},{"$f":"SUMIFS('Пр. №3'!$BQ:$BQ,'Пр. №3'!$G:$G,'Пр. №1.2.'!$E351,'Пр. №3'!$D:$D,'Пр. №1.2.'!$B351)","v":0},{"$f":"IFERROR(INDEX('Пр. №4'!$1:$1048576,MATCH($I351,'Пр. №4'!$C:$C,0),MATCH('Пр. №3'!$D$5,'Пр. №4'!$9:$9,0)),\"---\")","v":"---"},null,"---"]

{"sheet":"Пр. №1.3","index":5,"n_rows":27,"n_cols":13,"rows_kept":27,"cut":false,"hidden":false,"merged":[[24,7,26,7],[1,0,1,12],[6,7,8,7],[9,7,11,7],[12,7,14,7],[21,7,23,7]]}
[null,null,null,null,null,null,null,null,null,null,null,null,"Приложение 1.3"]
["Командировочные расходы"]
[]
["N п/п","Этап","№ статьи затрат","Статья затрат","описание расхода","КВР","КОСГУ","Период\nс … по…","Единица измерения","Кол-во человек","Кол-во\nдней","Единичная стоимость","Общая сумма, в руб."]
["Итого",null,"4.1.","Командировочные расходы",null,null,null,null,null,null,null,null,{"$f":"SUM(M7:M18)","v":0}]
[]
[1,null,"4.1.","Командировочные расходы","Проезд",112,222,null,"билет",null,null,null,{"$f":"L7*K7*J7","v":0}]
[2,null,"4.1.","Командировочные расходы","Проживание",112,226,null,"дни",null,null,null,0]
[3,null,"4.1.","Командировочные расходы","Суточные",112,212,null,"человеко-сутки",null,null,null,0]
[4,null,"4.1.","Командировочные расходы","Проезд",112,222,null,"билет",null,null,null,0]
[5,null,"4.1.","Командировочные расходы","Проживание",112,226,null,"дни",null,null,null,0]
[6,null,"4.1.","Командировочные расходы","Суточные",112,212,null,"человеко-сутки",null,null,null,0]
[7,null,"4.1.","Командировочные расходы","Проезд",112,222,null,"билет",null,null,null,0]
[8,null,"4.1.","Командировочные расходы","Проживание",112,226,null,"дни",null,null,null,0]
[9,null,"4.1.","Командировочные расходы","Суточные",112,212,null,"человеко-сутки",null,null,null,0]
[]
[]
[]
[]
[]
[null,"Пример заполнения:"]
[null,"Этап 1",null,null,"Проезд авиа Москва-Сочи-Москва",112,222,"с 10 октября по 15 октября","билет",2,1,10000]
[null,"Этап 1",null,null,null,112,226,null,"дни",2,5,2500]
[null,"Этап 1",null,null,null,112,212,null,"человеко-сутки",2,6,100]
[null,"Этап 2",null,null,"Проезд ЖД Москва-СПб-Москва",112,222,"с 1 февраля по 2 феврвля","билет",1,1,5000]
[null,"Этап 2",null,null,null,112,226,null,"дни",1,1,2000]
[null,"Этап 2",null,null,null,112,212,null,"человеко-сутки",1,2,100]

{"sheet":"Пр. №1.4","index":6,"n_rows":24,"n_cols":11,"rows_kept":24,"cut":false,"hidden":false,"merged":[[2,0,2,10]]}
[null,null,null,null,null,null,null,null,null,null,"Приложение 1.4"]
[]
["Прочие расходы"]
[]
["N п/п","№ этапа","№ статьи затрат","Статья затрат","Описание","КВР","КОСГУ","Ед. измерения","Кол-во","Стоимость за единицу, руб.","Сумма, руб."]
["Итого",null,"4.2.","Прочие расходы",null,null,null,null,null,null,{"$f":"SUMIFS($K8:$K18,$C$8:$C$18,$C6)","v":0}]
[]
[1,null,"4.2.","Прочие расходы",null,244,226,null,null,null,{"$f":"J8*I8","v":0}]
[2,null,"4.2.","Прочие расходы",null,244,226,null,null,null,{"$f":"J9*I9","v":0}]
[3,null,"4.2.","Прочие расходы",null,244,226,null,null,null,{"$f":"J10*I10","v":0}]
[4,null,"4.2.","Прочие расходы",null,244,226,null,null,null,0]
[5,null,"4.2.","Прочие расходы",null,244,226,null,null,null,0]
[6,null,"4.2.","Прочие расходы",null,244,226,null,null,null,0]
[7,null,"4.2.","Прочие расходы",null,244,226,null,null,null,0]
[8,null,"4.2.","Прочие расходы",null,244,226,null,null,null,0]
[9,null,"4.2.","Прочие расходы",null,244,226,null,null,null,0]
[10,null,"4.2.","Прочие расходы",null,244,226,null,null,null,0]
[]
[]
[]
[]
[]
[null,"Пример заполнения:"]
[null,"Этап 1",null,null,"полиграфические услуги",244,226,"шт.",2,1000]

{"sheet":"Пр. №2","index":7,"n_rows":244,"n_cols":60,"rows_kept":244,"cut":false,"hidden":false,"merged":[[1,0,1,56],[4,56,5,56],[4,3,5,3],[4,2,5,2],[4,1,5,1],[4,0,5,0]]}
["дата старта","2024-06-06",null,null,null,null,null,null,null,null,null,null,null,null,null,null,null,null,null,null,null,null,null,null,null,null,null,null,null,null,null,null,null,null,null,null,null,null,null,null,null,null,null,null,null,null,null,null,null,null,null,null,null,null,null,null,"Приложение 2",null,{"$f":"30/7","v":4.2857142857142856},"недель в мес."]
["ГРАФИК ВЫПОЛНЕНИЯ РАБОТ И ПРЕДОСТАВЛЕНИЯ ОТЧЕТНЫХ МАТЕРИАЛОВ ЗАКАЗЧИКУ"]
[]
[null,null,null,null,"недели"]
["№ СПП элемента","Этап","Отчет","Виды работ и период их выполнения",{"$f":"B1","v":"2024-06-06"},{"$f":"E5+7","v":"2024-06-13"},{"$f":"F5+7","v":"2024-06-20"},"2024-06-27","2024-07-04","2024-07-11",{"$f":"J5+7","v":"2024-07-18"},"2024-07-25","2024-08-01","2024-08-08","2024-08-15","2024-08-22","2024-08-29","2024-09-05","2024-09-12","2024-09-19","2024-09-26","2024-10-03","2024-10-10","2024-10-17","2024-10-24","2024-10-31","2024-11-07","2024-11-14","2024-11-21","2024-11-28","2024-12-05","2024-12-12","2024-12-19","2024-12-26","2025-01-02","2025-01-09",{"$f":"AJ5+7","v":"2025-01-16"},"2025-01-23","2025-01-30","2025-02-06","2025-02-13","2025-02-20","2025-02-27","2025-03-06","2025-03-13","2025-03-20","2025-03-27","2025-04-03","2025-04-10","2025-04-17","2025-04-24","2025-05-01","2025-05-08","2025-05-15","2025-05-22","2025-05-29","Итого, мес."]
[null,null,null,null,1,2,3,4,5,6,7,8,9,10,11,12,13,14,15,16,17,18,19,20,21,22,23,24,25,26,27,28,29,30,31,32,33,34,35,36,37,38,39,40,41,42,43,44,45,46,47,48,49,50,51,52]
["Итого",null,null,null,{"$f":"SUM(E9:E20)","v":0},{"$f":"SUM(F9:F20)","v":0},0,0,0,0,{"$f":"SUM(K9:K20)","v":0},0,0,0,0,0,{"$f":"SUM(Q9:Q20)","v":0},0,0,0,0,0,0,0,0,0,0,0,0,0,0,0,0,0,0,0,{"$f":"SUM(AK9:AK20)","v":0},0,0,0,0,0,0,0,0,0,0,0,0,0,0,0,{"$f":"SUM(BA9:BA20)","v":0},{"$f":"SUM(BB9:BB20)","v":0},{"$f":"SUM(BC9:BC20)","v":0},{"$f":"SUM(BD9:BD20)","v":0},{"$f":"COUNTIF(E7:BD7,\">0\")/($BG$1)","v":0}]
[null,"здесь заводится этап"]
[1,null,null,null,{"$f":"SUMIFS(E$21:E$94,$B$21:$B$94,$B9)","v":0},{"$f":"SUMIFS(F$21:F$94,$B$21:$B$94,$B9)","v":0},0,0,0,0,0,0,0,0,{"$f":"SUMIFS(O$21:O$94,$B$21:$B$94,$B9)","v":0},0,0,0,0,0,0,0,0,0,{"$f":"SUMIFS(Y$21:Y$94,$B$21:$B$94,$B9)","v":0},0,0,0,0,0,0,0,0,0,{"$f":"SUMIFS(AI$21:AI$94,$B$21:$B$94,$B9)","v":0},0,0,0,0,0,0,0,0,0,{"$f":"SUMIFS(AS$21:AS$94,$B$21:$B$94,$B9)","v":0},0,0,0,0,0,0,0,0,0,0,0,{"$f":"COUNTIF(E9:BD9,\">0\")/($BG$1)","v":0}]
[2,null,null,null,0,0,0,0,0,0,0,0,0,0,0,0,0,0,0,0,0,0,0,0,0,0,0,0,0,0,0,0,0,0,0,0,0,0,0,0,0,0,0,0,0,0,0,0,0,0,0,0,0,0,0,0,{"$f":"COUNTIF(E10:BD10,\">0\")/($BG$1)","v":0}]
[3,null,null,null,0,0,0,0,0,0,0,0,0,0,0,0,0,0,0,0,0,0,0,0,0,0,0,0,0,0,0,0,0,0,0,0,0,0,0,0,0,0,0,0,0,0,0,0,0,0,0,0,0,0,0,0,{"$f":"COUNTIF(E11:BD11,\">0\")/($BG$1)","v":0}]
[4,null,null,null,0,0,0,0,0,0,0,0,0,0,0,0,0,0,0,0,0,0,0,0,0,0,0,0,0,0,0,0,0,0,0,0,0,0,0,0,0,0,0,0,0,0,0,0,0,0,0,0,0,0,0,0,0]
[5,null,null,null,0,0,0,0,0,0,0,0,0,0,0,0,0,0,0,0,0,0,0,0,0,0,0,0,0,0,0,0,0,0,0,0,0,0,0,0,0,0,0,0,0,0,0,0,0,0,0,0,0,0,0,0,0]
[6,null,null,null,0,0,0,0,0,0,0,0,0,0,0,0,0,0,0,0,0,0,0,0,0,0,0,0,0,0,0,0,0,0,0,0,0,0,0,0,0,0,0,0,0,0,0,0,0,0,0,0,0,0,0,0,0]
[7,null,null,null,0,0,0,0,0,0,0,0,0,0,0,0,0,0,0,0,0,0,0,0,0,0,0,0,0,0,0,0,0,0,0,0,0,0,0,0,0,0,0,0,0,0,0,0,0,0,0,0,0,0,0,0,0]
[8,null,null,null,0,0,0,0,0,0,0,0,0,0,0,0,0,0,0,0,0,0,0,0,0,0,0,0,0,0,0,0,0,0,0,0,0,0,0,0,0,0,0,0,0,0,0,0,0,0,0,0,0,0,0,0,0]
[9,null,null,null,0,0,0,0,0,0,0,0,0,0,0,0,0,0,0,0,0,0,0,0,0,0,0,0,0,0,0,0,0,0,0,0,0,0,0,0,0,0,0,0,0,0,0,0,0,0,0,0,0,0,0,0,0]
[10,null,null,null,0,0,0,0,0,0,0,0,0,0,0,0,0,0,0,0,0,0,0,0,0,0,0,0,0,0,0,0,0,0,0,0,0,0,0,0,0,0,0,0,0,0,0,0,0,0,0,0,0,0,0,0,{"$f":"COUNTIF(E18:BD18,\">0\")/($BG$1)","v":0}]
[11,null,null,null,0,0,0,0,0,0,0,0,0,0,0,0,0,0,0,0,0,0,0,0,0,0,0,0,0,0,0,0,0,0,0,0,0,0,0,0,0,0,0,0,0,0,0,0,0,0,0,0,0,0,0,0,{"$f":"COUNTIF(E19:BD19,\">0\")/($BG$1)","v":0}]
[null,"здесь заводится этап","здесь заводится отчет"]
["1",null,null,null,{"$f":"SUMIFS(E$95:E$245,$C$95:$C$245,$C21)","v":0},0,0,0,0,0,0,0,0,0,{"$f":"SUMIFS(O$95:O$245,$C$95:$C$245,$C21)","v":0},0,0,0,0,0,0,0,0,0,{"$f":"SUMIFS(Y$95:Y$245,$C$95:$C$245,$C21)","v":0},0,0,0,0,0,0,0,0,0,{"$f":"SUMIFS(AI$95:AI$245,$C$95:$C$245,$C21)","v":0},0,0,0,0,0,0,0,0,0,{"$f":"SUMIFS(AS$95:AS$245,$C$95:$C$245,$C21)","v":0},0,0,0,0,0,0,0,0,0,0,0,{"$f":"COUNTIF(E21:BD21,\">0\")/($BG$1)","v":0}]
["2",null,null,null,0,0,0,0,0,0,0,0,0,0,0,0,0,0,0,0,0,0,0,0,0,0,0,0,0,0,0,0,0,0,0,0,0,0,0,0,0,0,0,0,0,0,0,0,0,0,0,0,0,0,0,0,0]
["3",null,null,null,0,0,0,0,0,0,0,0,0,0,0,0,0,0,0,0,0,0,0,0,0,0,0,0,0,0,0,0,0,0,0,0,0,0,0,0,0,0,0,0,0,0,0,0,0,0,0,0,0,0,0,0,0]
["4",null,null,null,0,0,0,0,0,0,0,0,0,0,0,0,0,0,0,0,0,0,0,0,0,0,0,0,0,0,0,0,0,0,0,0,0,0,0,0,0,0,0,0,0,0,0,0,0,0,0,0,0,0,0,0,0]
["5",null,null,null,0,0,0,0,0,0,0,0,0,0,0,0,0,0,0,0,0,0,0,0,0,0,0,0,0,0,0,0,0,0,0,0,0,0,0,0,0,0,0,0,0,0,0,0,0,0,0,0,0,0,0,0,0]
["6",null,null,null,0,0,0,0,0,0,0,0,0,0,0,0,0,0,0,0,0,0,0,0,0,0,0,0,0,0,0,0,0,0,0,0,0,0,0,0,0,0,0,0,0,0,0,0,0,0,0,0,0,0,0,0,0]
["7",null,null,null,0,0,0,0,0,0,0,0,0,0,0,0,0,0,0,0,0,0,0,0,0,0,0,0,0,0,0,0,0,0,0,0,0,0,0,0,0,0,0,0,0,0,0,0,0,0,0,0,0,0,0,0,0]
[null,null,null,null,0,0,0,0,0,0,0,0,0,0,0,0,0,0,0,0,0,0,0,0,0,0,0,0,0,0,0,0,0,0,0,0,0,0,0,0,0,0,0,0,0,0,0,0,0,0,0,0,0,0,0,0,0]
[null,null,null,null,0,0,0,0,0,0,0,0,0,0,0,0,0,0,0,0,0,0,0,0,0,0,0,0,0,0,0,0,0,0,0,0,0,0,0,0,0,0,0,0,0,0,0,0,0,0,0,0,0,0,0,0,0]
[]
[]
[]
[]
[]
[]
[]
[]
[]
[]
[]
[]
[]
[]
[]
[]
[]
[]
[]
[]
[]
[]
[]
[]
[]
[]
[]
[]
[]
[]
[]
[]
[]
[]
[]
[]
[]
[]
[]
[]
[]
[]
[]
[]
[]
[]
[]
[]
[]
[]
[]
[]
[]
[]
[]
[]
[]
[]
[]
[]
["1.10",null,null,null,{"$f":"SUMIFS(E$95:E$245,$C$95:$C$245,$C90)","v":0},0,0,0,0,0,0,0,0,0,0,0,0,0,0,0,0,0,0,0,0,0,0,0,0,0,0,0,0,0,0,0,{"$f":"SUMIFS(AK$95:AK$245,$C$95:$C$245,$C90)","v":0},0,0,0,0,0,0,0,0,0,0,0,0,0,0,0,0,0,0,0,{"$f":"COUNTIF(E90:BD90,\">0\")/($BG$1)","v":0}]
[]
[]
["1.11",null,null,null,{"$f":"SUMIFS(E$95:E$245,$C$95:$C$245,$C93)","v":0},0,0,0,0,0,0,0,0,0,0,0,0,0,0,0,0,0,0,0,0,0,0,0,0,0,0,0,0,0,0,0,{"$f":"SUMIFS(AK$95:AK$245,$C$95:$C$245,$C93)","v":0},0,0,0,0,0,0,0,0,0,0,0,0,0,0,0,0,0,0,0,{"$f":"COUNTIF(E93:BD93,\">0\")/($BG$1)","v":0}]
[null,null,"здесь заводится отчет","здесь заводится задача"]
["1",null,null,null,null,null,null,null,null,null,null,null,null,null,null,null,null,null,null,null,null,null,null,null,null,null,null,null,null,null,null,null,null,null,null,null,null,null,null,null,null,null,null,null,null,null,null,null,null,null,null,null,null,null,null,null,{"$f":"COUNTIF(E95:BD95,\">0\")/($BG$1)","v":0}]
["2",null,null,null,null,null,null,null,null,null,null,null,null,null,null,null,null,null,null,null,null,null,null,null,null,null,null,null,null,null,null,null,null,null,null,null,null,null,null,null,null,null,null,null,null,null,null,null,null,null,null,null,null,null,null,null,0]
["3",null,null,null,null,null,null,null,null,null,null,null,null,null,null,null,null,null,null,null,null,null,null,null,null,null,null,null,null,null,null,null,null,null,null,null,null,null,null,null,null,null,null,null,null,null,null,null,null,null,null,null,null,null,null,null,0]
["4",null,null,null,null,null,null,null,null,null,null,null,null,null,null,null,null,null,null,null,null,null,null,null,null,null,null,null,null,null,null,null,null,null,null,null,null,null,null,null,null,null,null,null,null,null,null,null,null,null,null,null,null,null,null,null,0]
["5",null,null,null,null,null,null,null,null,null,null,null,null,null,null,null,null,null,null,null,null,null,null,null,null,null,null,null,null,null,null,null,null,null,null,null,null,null,null,null,null,null,null,null,null,null,null,null,null,null,null,null,null,null,null,null,0]
["6",null,null,null,null,null,null,null,null,null,null,null,null,null,null,null,null,null,null,null,null,null,null,null,null,null,null,null,null,null,null,null,null,null,null,null,null,null,null,null,null,null,null,null,null,null,null,null,null,null,null,null,null,null,null,null,0]
["7",null,null,null,null,null,null,null,null,null,null,null,null,null,null,null,null,null,null,null,null,null,null,null,null,null,null,null,null,null,null,null,null,null,null,null,null,null,null,null,null,null,null,null,null,null,null,null,null,null,null,null,null,null,null,null,0]
["8",null,null,null,null,null,null,null,null,null,null,null,null,null,null,null,null,null,null,null,null,null,null,null,null,null,null,null,null,null,null,null,null,null,null,null,null,null,null,null,null,null,null,null,null,null,null,null,null,null,null,null,null,null,null,null,0]
["9",null,null,null,null,null,null,null,null,null,null,null,null,null,null,null,null,null,null,null,null,null,null,null,null,null,null,null,null,null,null,null,null,null,null,null,null,null,null,null,null,null,null,null,null,null,null,null,null,null,null,null,null,null,null,null,0]
["10",null,null,null,null,null,null,null,null,null,null,null,null,null,null,null,null,null,null,null,null,null,null,null,null,null,null,null,null,null,null,null,null,null,null,null,null,null,null,null,null,null,null,null,null,null,null,null,null,null,null,null,null,null,null,null,0]
["11",null,null,null,null,null,null,null,null,null,null,null,null,null,null,null,null,null,null,null,null,null,null,null,null,null,null,null,null,null,null,null,null,null,null,null,null,null,null,null,null,null,null,null,null,null,null,null,null,null,null,null,null,null,null,null,0]
["12",null,null,null,null,null,null,null,null,null,null,null,null,null,null,null,null,null,null,null,null,null,null,null,null,null,null,null,null,null,null,null,null,null,null,null,null,null,null,null,null,null,null,null,null,null,null,null,null,null,null,null,null,null,null,null,0]
["13",null,null,null,null,null,null,null,null,null,null,null,null,null,null,null,null,null,null,null,null,null,null,null,null,null,null,null,null,null,null,null,null,null,null,null,null,null,null,null,null,null,null,null,null,null,null,null,null,null,null,null,null,null,null,null,0]
["14",null,null,null,null,null,null,null,null,null,null,null,null,null,null,null,null,null,null,null,null,null,null,null,null,null,null,null,null,null,null,null,null,null,null,null,null,null,null,null,null,null,null,null,null,null,null,null,null,null,null,null,null,null,null,null,0]
["15",null,null,null,null,null,null,null,null,null,null,null,null,null,null,null,null,null,null,null,null,null,null,null,null,null,null,null,null,null,null,null,null,null,null,null,null,null,null,null,null,null,null,null,null,null,null,null,null,null,null,null,null,null,null,null,0]
["16",null,null,null,null,null,null,null,null,null,null,null,null,null,null,null,null,null,null,null,null,null,null,null,null,null,null,null,null,null,null,null,null,null,null,null,null,null,null,null,null,null,null,null,null,null,null,null,null,null,null,null,null,null,null,null,0]
["17",null,null,null,null,null,null,null,null,null,null,null,null,null,null,null,null,null,null,null,null,null,null,null,null,null,null,null,null,null,null,null,null,null,null,null,null,null,null,null,null,null,null,null,null,null,null,null,null,null,null,null,null,null,null,null,0]
["18",null,null,null,null,null,null,null,null,null,null,null,null,null,null,null,null,null,null,null,null,null,null,null,null,null,null,null,null,null,null,null,null,null,null,null,null,null,null,null,null,null,null,null,null,null,null,null,null,null,null,null,null,null,null,null,0]
["19",null,null,null,null,null,null,null,null,null,null,null,null,null,null,null,null,null,null,null,null,null,null,null,null,null,null,null,null,null,null,null,null,null,null,null,null,null,null,null,null,null,null,null,null,null,null,null,null,null,null,null,null,null,null,null,0]
["20",null,null,null,null,null,null,null,null,null,null,null,null,null,null,null,null,null,null,null,null,null,null,null,null,null,null,null,null,null,null,null,null,null,null,null,null,null,null,null,null,null,null,null,null,null,null,null,null,null,null,null,null,null,null,null,0]
["21",null,null,null,null,null,null,null,null,null,null,null,null,null,null,null,null,null,null,null,null,null,null,null,null,null,null,null,null,null,null,null,null,null,null,null,null,null,null,null,null,null,null,null,null,null,null,null,null,null,null,null,null,null,null,null,0]
["22",null,null,null,null,null,null,null,null,null,null,null,null,null,null,null,null,null,null,null,null,null,null,null,null,null,null,null,null,null,null,null,null,null,null,null,null,null,null,null,null,null,null,null,null,null,null,null,null,null,null,null,null,null,null,null,0]
["23",null,null,null,null,null,null,null,null,null,null,null,null,null,null,null,null,null,null,null,null,null,null,null,null,null,null,null,null,null,null,null,null,null,null,null,null,null,null,null,null,null,null,null,null,null,null,null,null,null,null,null,null,null,null,null,0]
["24",null,null,null,null,null,null,null,null,null,null,null,null,null,null,null,null,null,null,null,null,null,null,null,null,null,null,null,null,null,null,null,null,null,null,null,null,null,null,null,null,null,null,null,null,null,null,null,null,null,null,null,null,null,null,null,0]
["25",null,null,null,null,null,null,null,null,null,null,null,null,null,null,null,null,null,null,null,null,null,null,null,null,null,null,null,null,null,null,null,null,null,null,null,null,null,null,null,null,null,null,null,null,null,null,null,null,null,null,null,null,null,null,null,0]
["26",null,null,null,null,null,null,null,null,null,null,null,null,null,null,null,null,null,null,null,null,null,null,null,null,null,null,null,null,null,null,null,null,null,null,null,null,null,null,null,null,null,null,null,null,null,null,null,null,null,null,null,null,null,null,null,0]
["27",null,null,null,null,null,null,null,null,null,null,null,null,null,null,null,null,null,null,null,null,null,null,null,null,null,null,null,null,null,null,null,null,null,null,null,null,null,null,null,null,null,null,null,null,null,null,null,null,null,null,null,null,null,null,null,0]
["28",null,null,null,null,null,null,null,null,null,null,null,null,null,null,null,null,null,null,null,null,null,null,null,null,null,null,null,null,null,null,null,null,null,null,null,null,null,null,null,null,null,null,null,null,null,null,null,null,null,null,null,null,null,null,null,0]
["29",null,null,null,null,null,null,null,null,null,null,null,null,null,null,null,null,null,null,null,null,null,null,null,null,null,null,null,null,null,null,null,null,null,null,null,null,null,null,null,null,null,null,null,null,null,null,null,null,null,null,null,null,null,null,null,0]
["30",null,null,null,null,null,null,null,null,null,null,null,null,null,null,null,null,null,null,null,null,null,null,null,null,null,null,null,null,null,null,null,null,null,null,null,null,null,null,null,null,null,null,null,null,null,null,null,null,null,null,null,null,null,null,null,0]
["31",null,null,null,null,null,null,null,null,null,null,null,null,null,null,null,null,null,null,null,null,null,null,null,null,null,null,null,null,null,null,null,null,null,null,null,null,null,null,null,null,null,null,null,null,null,null,null,null,null,null,null,null,null,null,null,0]
["32",null,null,null,null,null,null,null,null,null,null,null,null,null,null,null,null,null,null,null,null,null,null,null,null,null,null,null,null,null,null,null,null,null,null,null,null,null,null,null,null,null,null,null,null,null,null,null,null,null,null,null,null,null,null,null,0]
["33",null,null,null,null,null,null,null,null,null,null,null,null,null,null,null,null,null,null,null,null,null,null,null,null,null,null,null,null,null,null,null,null,null,null,null,null,null,null,null,null,null,null,null,null,null,null,null,null,null,null,null,null,null,null,null,0]
["34",null,null,null,null,null,null,null,null,null,null,null,null,null,null,null,null,null,null,null,null,null,null,null,null,null,null,null,null,null,null,null,null,null,null,null,null,null,null,null,null,null,null,null,null,null,null,null,null,null,null,null,null,null,null,null,0]
["35",null,null,null,null,null,null,null,null,null,null,null,null,null,null,null,null,null,null,null,null,null,null,null,null,null,null,null,null,null,null,null,null,null,null,null,null,null,null,null,null,null,null,null,null,null,null,null,null,null,null,null,null,null,null,null,0]
["36",null,null,null,null,null,null,null,null,null,null,null,null,null,null,null,null,null,null,null,null,null,null,null,null,null,null,null,null,null,null,null,null,null,null,null,null,null,null,null,null,null,null,null,null,null,null,null,null,null,null,null,null,null,null,null,0]
["37",null,null,null,null,null,null,null,null,null,null,null,null,null,null,null,null,null,null,null,null,null,null,null,null,null,null,null,null,null,null,null,null,null,null,null,null,null,null,null,null,null,null,null,null,null,null,null,null,null,null,null,null,null,null,null,0]
["38",null,null,null,null,null,null,null,null,null,null,null,null,null,null,null,null,null,null,null,null,null,null,null,null,null,null,null,null,null,null,null,null,null,null,null,null,null,null,null,null,null,null,null,null,null,null,null,null,null,null,null,null,null,null,null,0]
["39",null,null,null,null,null,null,null,null,null,null,null,null,null,null,null,null,null,null,null,null,null,null,null,null,null,null,null,null,null,null,null,null,null,null,null,null,null,null,null,null,null,null,null,null,null,null,null,null,null,null,null,null,null,null,null,0]
["40",null,null,null,null,null,null,null,null,null,null,null,null,null,null,null,null,null,null,null,null,null,null,null,null,null,null,null,null,null,null,null,null,null,null,null,null,null,null,null,null,null,null,null,null,null,null,null,null,null,null,null,null,null,null,null,0]
["41",null,null,null,null,null,null,null,null,null,null,null,null,null,null,null,null,null,null,null,null,null,null,null,null,null,null,null,null,null,null,null,null,null,null,null,null,null,null,null,null,null,null,null,null,null,null,null,null,null,null,null,null,null,null,null,0]
["42",null,null,null,null,null,null,null,null,null,null,null,null,null,null,null,null,null,null,null,null,null,null,null,null,null,null,null,null,null,null,null,null,null,null,null,null,null,null,null,null,null,null,null,null,null,null,null,null,null,null,null,null,null,null,null,0]
["43",null,null,null,null,null,null,null,null,null,null,null,null,null,null,null,null,null,null,null,null,null,null,null,null,null,null,null,null,null,null,null,null,null,null,null,null,null,null,null,null,null,null,null,null,null,null,null,null,null,null,null,null,null,null,null,0]
["44",null,null,null,null,null,null,null,null,null,null,null,null,null,null,null,null,null,null,null,null,null,null,null,null,null,null,null,null,null,null,null,null,null,null,null,null,null,null,null,null,null,null,null,null,null,null,null,null,null,null,null,null,null,null,null,0]
["45",null,null,null,null,null,null,null,null,null,null,null,null,null,null,null,null,null,null,null,null,null,null,null,null,null,null,null,null,null,null,null,null,null,null,null,null,null,null,null,null,null,null,null,null,null,null,null,null,null,null,null,null,null,null,null,0]
["46",null,null,null,null,null,null,null,null,null,null,null,null,null,null,null,null,null,null,null,null,null,null,null,null,null,null,null,null,null,null,null,null,null,null,null,null,null,null,null,null,null,null,null,null,null,null,null,null,null,null,null,null,null,null,null,0]
["47",null,null,null,null,null,null,null,null,null,null,null,null,null,null,null,null,null,null,null,null,null,null,null,null,null,null,null,null,null,null,null,null,null,null,null,null,null,null,null,null,null,null,null,null,null,null,null,null,null,null,null,null,null,null,null,0]
["48",null,null,null,null,null,null,null,null,null,null,null,null,null,null,null,null,null,null,null,null,null,null,null,null,null,null,null,null,null,null,null,null,null,null,null,null,null,null,null,null,null,null,null,null,null,null,null,null,null,null,null,null,null,null,null,0]
["49",null,null,null,null,null,null,null,null,null,null,null,null,null,null,null,null,null,null,null,null,null,null,null,null,null,null,null,null,null,null,null,null,null,null,null,null,null,null,null,null,null,null,null,null,null,null,null,null,null,null,null,null,null,null,null,0]
["50",null,null,null,null,null,null,null,null,null,null,null,null,null,null,null,null,null,null,null,null,null,null,null,null,null,null,null,null,null,null,null,null,null,null,null,null,null,null,null,null,null,null,null,null,null,null,null,null,null,null,null,null,null,null,null,0]
["51",null,null,null,null,null,null,null,null,null,null,null,null,null,null,null,null,null,null,null,null,null,null,null,null,null,null,null,null,null,null,null,null,null,null,null,null,null,null,null,null,null,null,null,null,null,null,null,null,null,null,null,null,null,null,null,0]
["52",null,null,null,null,null,null,null,null,null,null,null,null,null,null,null,null,null,null,null,null,null,null,null,null,null,null,null,null,null,null,null,null,null,null,null,null,null,null,null,null,null,null,null,null,null,null,null,null,null,null,null,null,null,null,null,0]
["53",null,null,null,null,null,null,null,null,null,null,null,null,null,null,null,null,null,null,null,null,null,null,null,null,null,null,null,null,null,null,null,null,null,null,null,null,null,null,null,null,null,null,null,null,null,null,null,null,null,null,null,null,null,null,null,0]
["54",null,null,null,null,null,null,null,null,null,null,null,null,null,null,null,null,null,null,null,null,null,null,null,null,null,null,null,null,null,null,null,null,null,null,null,null,null,null,null,null,null,null,null,null,null,null,null,null,null,null,null,null,null,null,null,0]
["55",null,null,null,null,null,null,null,null,null,null,null,null,null,null,null,null,null,null,null,null,null,null,null,null,null,null,null,null,null,null,null,null,null,null,null,null,null,null,null,null,null,null,null,null,null,null,null,null,null,null,null,null,null,null,null,0]
["56",null,null,null,null,null,null,null,null,null,null,null,null,null,null,null,null,null,null,null,null,null,null,null,null,null,null,null,null,null,null,null,null,null,null,null,null,null,null,null,null,null,null,null,null,null,null,null,null,null,null,null,null,null,null,null,0]
["57",null,null,null,null,null,null,null,null,null,null,null,null,null,null,null,null,null,null,null,null,null,null,null,null,null,null,null,null,null,null,null,null,null,null,null,null,null,null,null,null,null,null,null,null,null,null,null,null,null,null,null,null,null,null,null,0]
["58",null,null,null,null,null,null,null,null,null,null,null,null,null,null,null,null,null,null,null,null,null,null,null,null,null,null,null,null,null,null,null,null,null,null,null,null,null,null,null,null,null,null,null,null,null,null,null,null,null,null,null,null,null,null,null,{"$f":"COUNTIF(E152:BD152,\">0\")/($BG$1)","v":0}]
["59",null,null,null,null,null,null,null,null,null,null,null,null,null,null,null,null,null,null,null,null,null,null,null,null,null,null,null,null,null,null,null,null,null,null,null,null,null,null,null,null,null,null,null,null,null,null,null,null,null,null,null,null,null,null,null,0]
["60",null,null,null,null,null,null,null,null,null,null,null,null,null,null,null,null,null,null,null,null,null,null,null,null,null,null,null,null,null,null,null,null,null,null,null,null,null,null,null,null,null,null,null,null,null,null,null,null,null,null,null,null,null,null,null,0]
["61",null,null,null,null,null,null,null,null,null,null,null,null,null,null,null,null,null,null,null,null,null,null,null,null,null,null,null,null,null,null,null,null,null,null,null,null,null,null,null,null,null,null,null,null,null,null,null,null,null,null,null,null,null,null,null,0]
["62",null,null,null,null,null,null,null,null,null,null,null,null,null,null,null,null,null,null,null,null,null,null,null,null,null,null,null,null,null,null,null,null,null,null,null,null,null,null,null,null,null,null,null,null,null,null,null,null,null,null,null,null,null,null,null,0]
["63",null,null,null,null,null,null,null,null,null,null,null,null,null,null,null,null,null,null,null,null,null,null,null,null,null,null,null,null,null,null,null,null,null,null,null,null,null,null,null,null,null,null,null,null,null,null,null,null,null,null,null,null,null,null,null,0]
["64",null,null,null,null,null,null,null,null,null,null,null,null,null,null,null,null,null,null,null,null,null,null,null,null,null,null,null,null,null,null,null,null,null,null,null,null,null,null,null,null,null,null,null,null,null,null,null,null,null,null,null,null,null,null,null,0]
["65",null,null,null,null,null,null,null,null,null,null,null,null,null,null,null,null,null,null,null,null,null,null,null,null,null,null,null,null,null,null,null,null,null,null,null,null,null,null,null,null,null,null,null,null,null,null,null,null,null,null,null,null,null,null,null,0]
["66",null,null,null,null,null,null,null,null,null,null,null,null,null,null,null,null,null,null,null,null,null,null,null,null,null,null,null,null,null,null,null,null,null,null,null,null,null,null,null,null,null,null,null,null,null,null,null,null,null,null,null,null,null,null,null,0]
["67",null,null,null,null,null,null,null,null,null,null,null,null,null,null,null,null,null,null,null,null,null,null,null,null,null,null,null,null,null,null,null,null,null,null,null,null,null,null,null,null,null,null,null,null,null,null,null,null,null,null,null,null,null,null,null,0]
["68",null,null,null,null,null,null,null,null,null,null,null,null,null,null,null,null,null,null,null,null,null,null,null,null,null,null,null,null,null,null,null,null,null,null,null,null,null,null,null,null,null,null,null,null,null,null,null,null,null,null,null,null,null,null,null,0]
["69",null,null,null,null,null,null,null,null,null,null,null,null,null,null,null,null,null,null,null,null,null,null,null,null,null,null,null,null,null,null,null,null,null,null,null,null,null,null,null,null,null,null,null,null,null,null,null,null,null,null,null,null,null,null,null,0]
["70",null,null,null,null,null,null,null,null,null,null,null,null,null,null,null,null,null,null,null,null,null,null,null,null,null,null,null,null,null,null,null,null,null,null,null,null,null,null,null,null,null,null,null,null,null,null,null,null,null,null,null,null,null,null,null,0]
["71",null,null,null,null,null,null,null,null,null,null,null,null,null,null,null,null,null,null,null,null,null,null,null,null,null,null,null,null,null,null,null,null,null,null,null,null,null,null,null,null,null,null,null,null,null,null,null,null,null,null,null,null,null,null,null,0]
["72",null,null,null,null,null,null,null,null,null,null,null,null,null,null,null,null,null,null,null,null,null,null,null,null,null,null,null,null,null,null,null,null,null,null,null,null,null,null,null,null,null,null,null,null,null,null,null,null,null,null,null,null,null,null,null,0]
["73",null,null,null,null,null,null,null,null,null,null,null,null,null,null,null,null,null,null,null,null,null,null,null,null,null,null,null,null,null,null,null,null,null,null,null,null,null,null,null,null,null,null,null,null,null,null,null,null,null,null,null,null,null,null,null,0]
["74",null,null,null,null,null,null,null,null,null,null,null,null,null,null,null,null,null,null,null,null,null,null,null,null,null,null,null,null,null,null,null,null,null,null,null,null,null,null,null,null,null,null,null,null,null,null,null,null,null,null,null,null,null,null,null,0]
["75",null,null,null,null,null,null,null,null,null,null,null,null,null,null,null,null,null,null,null,null,null,null,null,null,null,null,null,null,null,null,null,null,null,null,null,null,null,null,null,null,null,null,null,null,null,null,null,null,null,null,null,null,null,null,null,0]
["76",null,null,null,null,null,null,null,null,null,null,null,null,null,null,null,null,null,null,null,null,null,null,null,null,null,null,null,null,null,null,null,null,null,null,null,null,null,null,null,null,null,null,null,null,null,null,null,null,null,null,null,null,null,null,null,0]
["77",null,null,null,null,null,null,null,null,null,null,null,null,null,null,null,null,null,null,null,null,null,null,null,null,null,null,null,null,null,null,null,null,null,null,null,null,null,null,null,null,null,null,null,null,null,null,null,null,null,null,null,null,null,null,null,0]
["78",null,null,null,null,null,null,null,null,null,null,null,null,null,null,null,null,null,null,null,null,null,null,null,null,null,null,null,null,null,null,null,null,null,null,null,null,null,null,null,null,null,null,null,null,null,null,null,null,null,null,null,null,null,null,null,0]
["79",null,null,null,null,null,null,null,null,null,null,null,null,null,null,null,null,null,null,null,null,null,null,null,null,null,null,null,null,null,null,null,null,null,null,null,null,null,null,null,null,null,null,null,null,null,null,null,null,null,null,null,null,null,null,null,0]
["80",null,null,null,null,null,null,null,null,null,null,null,null,null,null,null,null,null,null,null,null,null,null,null,null,null,null,null,null,null,null,null,null,null,null,null,null,null,null,null,null,null,null,null,null,null,null,null,null,null,null,null,null,null,null,null,0]
["81",null,null,null,null,null,null,null,null,null,null,null,null,null,null,null,null,null,null,null,null,null,null,null,null,null,null,null,null,null,null,null,null,null,null,null,null,null,null,null,null,null,null,null,null,null,null,null,null,null,null,null,null,null,null,null,0]
["82",null,null,null,null,null,null,null,null,null,null,null,null,null,null,null,null,null,null,null,null,null,null,null,null,null,null,null,null,null,null,null,null,null,null,null,null,null,null,null,null,null,null,null,null,null,null,null,null,null,null,null,null,null,null,null,0]
["83",null,null,null,null,null,null,null,null,null,null,null,null,null,null,null,null,null,null,null,null,null,null,null,null,null,null,null,null,null,null,null,null,null,null,null,null,null,null,null,null,null,null,null,null,null,null,null,null,null,null,null,null,null,null,null,{"$f":"COUNTIF(E177:BD177,\">0\")/($BG$1)","v":0}]
["84",null,null,null,null,null,null,null,null,null,null,null,null,null,null,null,null,null,null,null,null,null,null,null,null,null,null,null,null,null,null,null,null,null,null,null,null,null,null,null,null,null,null,null,null,null,null,null,null,null,null,null,null,null,null,null,0]
["85",null,null,null,null,null,null,null,null,null,null,null,null,null,null,null,null,null,null,null,null,null,null,null,null,null,null,null,null,null,null,null,null,null,null,null,null,null,null,null,null,null,null,null,null,null,null,null,null,null,null,null,null,null,null,null,0]
["86",null,null,null,null,null,null,null,null,null,null,null,null,null,null,null,null,null,null,null,null,null,null,null,null,null,null,null,null,null,null,null,null,null,null,null,null,null,null,null,null,null,null,null,null,null,null,null,null,null,null,null,null,null,null,null,0]
["87",null,null,null,null,null,null,null,null,null,null,null,null,null,null,null,null,null,null,null,null,null,null,null,null,null,null,null,null,null,null,null,null,null,null,null,null,null,null,null,null,null,null,null,null,null,null,null,null,null,null,null,null,null,null,null,0]
["88",null,null,null,null,null,null,null,null,null,null,null,null,null,null,null,null,null,null,null,null,null,null,null,null,null,null,null,null,null,null,null,null,null,null,null,null,null,null,null,null,null,null,null,null,null,null,null,null,null,null,null,null,null,null,null,0]
["89",null,null,null,null,null,null,null,null,null,null,null,null,null,null,null,null,null,null,null,null,null,null,null,null,null,null,null,null,null,null,null,null,null,null,null,null,null,null,null,null,null,null,null,null,null,null,null,null,null,null,null,null,null,null,null,0]
["90",null,null,null,null,null,null,null,null,null,null,null,null,null,null,null,null,null,null,null,null,null,null,null,null,null,null,null,null,null,null,null,null,null,null,null,null,null,null,null,null,null,null,null,null,null,null,null,null,null,null,null,null,null,null,null,0]
["91",null,null,null,null,null,null,null,null,null,null,null,null,null,null,null,null,null,null,null,null,null,null,null,null,null,null,null,null,null,null,null,null,null,null,null,null,null,null,null,null,null,null,null,null,null,null,null,null,null,null,null,null,null,null,null,0]
["92",null,null,null,null,null,null,null,null,null,null,null,null,null,null,null,null,null,null,null,null,null,null,null,null,null,null,null,null,null,null,null,null,null,null,null,null,null,null,null,null,null,null,null,null,null,null,null,null,null,null,null,null,null,null,null,0]
["93",null,null,null,null,null,null,null,null,null,null,null,null,null,null,null,null,null,null,null,null,null,null,null,null,null,null,null,null,null,null,null,null,null,null,null,null,null,null,null,null,null,null,null,null,null,null,null,null,null,null,null,null,null,null,null,0]
["94",null,null,null,null,null,null,null,null,null,null,null,null,null,null,null,null,null,null,null,null,null,null,null,null,null,null,null,null,null,null,null,null,null,null,null,null,null,null,null,null,null,null,null,null,null,null,null,null,null,null,null,null,null,null,null,0]
["95",null,null,null,null,null,null,null,null,null,null,null,null,null,null,null,null,null,null,null,null,null,null,null,null,null,null,null,null,null,null,null,null,null,null,null,null,null,null,null,null,null,null,null,null,null,null,null,null,null,null,null,null,null,null,null,0]
["96",null,null,null,null,null,null,null,null,null,null,null,null,null,null,null,null,null,null,null,null,null,null,null,null,null,null,null,null,null,null,null,null,null,null,null,null,null,null,null,null,null,null,null,null,null,null,null,null,null,null,null,null,null,null,null,0]
["97",null,null,null,null,null,null,null,null,null,null,null,null,null,null,null,null,null,null,null,null,null,null,null,null,null,null,null,null,null,null,null,null,null,null,null,null,null,null,null,null,null,null,null,null,null,null,null,null,null,null,null,null,null,null,null,0]
["98",null,null,null,null,null,null,null,null,null,null,null,null,null,null,null,null,null,null,null,null,null,null,null,null,null,null,null,null,null,null,null,null,null,null,null,null,null,null,null,null,null,null,null,null,null,null,null,null,null,null,null,null,null,null,null,0]
["99",null,null,null,null,null,null,null,null,null,null,null,null,null,null,null,null,null,null,null,null,null,null,null,null,null,null,null,null,null,null,null,null,null,null,null,null,null,null,null,null,null,null,null,null,null,null,null,null,null,null,null,null,null,null,null,{"$f":"COUNTIF(E193:BD193,\">0\")/($BG$1)","v":0}]
["100",null,null,null,null,null,null,null,null,null,null,null,null,null,null,null,null,null,null,null,null,null,null,null,null,null,null,null,null,null,null,null,null,null,null,null,null,null,null,null,null,null,null,null,null,null,null,null,null,null,null,null,null,null,null,null,0]
["101",null,null,null,null,null,null,null,null,null,null,null,null,null,null,null,null,null,null,null,null,null,null,null,null,null,null,null,null,null,null,null,null,null,null,null,null,null,null,null,null,null,null,null,null,null,null,null,null,null,null,null,null,null,null,null,0]
["102",null,null,null,null,null,null,null,null,null,null,null,null,null,null,null,null,null,null,null,null,null,null,null,null,null,null,null,null,null,null,null,null,null,null,null,null,null,null,null,null,null,null,null,null,null,null,null,null,null,null,null,null,null,null,null,0]
["103",null,null,null,null,null,null,null,null,null,null,null,null,null,null,null,null,null,null,null,null,null,null,null,null,null,null,null,null,null,null,null,null,null,null,null,null,null,null,null,null,null,null,null,null,null,null,null,null,null,null,null,null,null,null,null,0]
["104",null,null,null,null,null,null,null,null,null,null,null,null,null,null,null,null,null,null,null,null,null,null,null,null,null,null,null,null,null,null,null,null,null,null,null,null,null,null,null,null,null,null,null,null,null,null,null,null,null,null,null,null,null,null,null,0]
["105",null,null,null,null,null,null,null,null,null,null,null,null,null,null,null,null,null,null,null,null,null,null,null,null,null,null,null,null,null,null,null,null,null,null,null,null,null,null,null,null,null,null,null,null,null,null,null,null,null,null,null,null,null,null,null,0]
["106",null,null,null,null,null,null,null,null,null,null,null,null,null,null,null,null,null,null,null,null,null,null,null,null,null,null,null,null,null,null,null,null,null,null,null,null,null,null,null,null,null,null,null,null,null,null,null,null,null,null,null,null,null,null,null,0]
["107",null,null,null,null,null,null,null,null,null,null,null,null,null,null,null,null,null,null,null,null,null,null,null,null,null,null,null,null,null,null,null,null,null,null,null,null,null,null,null,null,null,null,null,null,null,null,null,null,null,null,null,null,null,null,null,0]
["108",null,null,null,null,null,null,null,null,null,null,null,null,null,null,null,null,null,null,null,null,null,null,null,null,null,null,null,null,null,null,null,null,null,null,null,null,null,null,null,null,null,null,null,null,null,null,null,null,null,null,null,null,null,null,null,0]
["109",null,null,null,null,null,null,null,null,null,null,null,null,null,null,null,null,null,null,null,null,null,null,null,null,null,null,null,null,null,null,null,null,null,null,null,null,null,null,null,null,null,null,null,null,null,null,null,null,null,null,null,null,null,null,null,0]
["110",null,null,null,null,null,null,null,null,null,null,null,null,null,null,null,null,null,null,null,null,null,null,null,null,null,null,null,null,null,null,null,null,null,null,null,null,null,null,null,null,null,null,null,null,null,null,null,null,null,null,null,null,null,null,null,0]
["111",null,null,null,null,null,null,null,null,null,null,null,null,null,null,null,null,null,null,null,null,null,null,null,null,null,null,null,null,null,null,null,null,null,null,null,null,null,null,null,null,null,null,null,null,null,null,null,null,null,null,null,null,null,null,null,0]
["112",null,null,null,null,null,null,null,null,null,null,null,null,null,null,null,null,null,null,null,null,null,null,null,null,null,null,null,null,null,null,null,null,null,null,null,null,null,null,null,null,null,null,null,null,null,null,null,null,null,null,null,null,null,null,null,0]
["113",null,null,null,null,null,null,null,null,null,null,null,null,null,null,null,null,null,null,null,null,null,null,null,null,null,null,null,null,null,null,null,null,null,null,null,null,null,null,null,null,null,null,null,null,null,null,null,null,null,null,null,null,null,null,null,0]
["114",null,null,null,null,null,null,null,null,null,null,null,null,null,null,null,null,null,null,null,null,null,null,null,null,null,null,null,null,null,null,null,null,null,null,null,null,null,null,null,null,null,null,null,null,null,null,null,null,null,null,null,null,null,null,null,0]
["115",null,null,null,null,null,null,null,null,null,null,null,null,null,null,null,null,null,null,null,null,null,null,null,null,null,null,null,null,null,null,null,null,null,null,null,null,null,null,null,null,null,null,null,null,null,null,null,null,null,null,null,null,null,null,null,{"$f":"COUNTIF(E209:BD209,\">0\")/($BG$1)","v":0}]
["116",null,null,null,null,null,null,null,null,null,null,null,null,null,null,null,null,null,null,null,null,null,null,null,null,null,null,null,null,null,null,null,null,null,null,null,null,null,null,null,null,null,null,null,null,null,null,null,null,null,null,null,null,null,null,null,0]
["117",null,null,null,null,null,null,null,null,null,null,null,null,null,null,null,null,null,null,null,null,null,null,null,null,null,null,null,null,null,null,null,null,null,null,null,null,null,null,null,null,null,null,null,null,null,null,null,null,null,null,null,null,null,null,null,0]
["118",null,null,null,null,null,null,null,null,null,null,null,null,null,null,null,null,null,null,null,null,null,null,null,null,null,null,null,null,null,null,null,null,null,null,null,null,null,null,null,null,null,null,null,null,null,null,null,null,null,null,null,null,null,null,null,0]
["119",null,null,null,null,null,null,null,null,null,null,null,null,null,null,null,null,null,null,null,null,null,null,null,null,null,null,null,null,null,null,null,null,null,null,null,null,null,null,null,null,null,null,null,null,null,null,null,null,null,null,null,null,null,null,null,0]
["120",null,null,null,null,null,null,null,null,null,null,null,null,null,null,null,null,null,null,null,null,null,null,null,null,null,null,null,null,null,null,null,null,null,null,null,null,null,null,null,null,null,null,null,null,null,null,null,null,null,null,null,null,null,null,null,0]
["121",null,null,null,null,null,null,null,null,null,null,null,null,null,null,null,null,null,null,null,null,null,null,null,null,null,null,null,null,null,null,null,null,null,null,null,null,null,null,null,null,null,null,null,null,null,null,null,null,null,null,null,null,null,null,null,0]
["122",null,null,null,null,null,null,null,null,null,null,null,null,null,null,null,null,null,null,null,null,null,null,null,null,null,null,null,null,null,null,null,null,null,null,null,null,null,null,null,null,null,null,null,null,null,null,null,null,null,null,null,null,null,null,null,0]
["123",null,null,null,null,null,null,null,null,null,null,null,null,null,null,null,null,null,null,null,null,null,null,null,null,null,null,null,null,null,null,null,null,null,null,null,null,null,null,null,null,null,null,null,null,null,null,null,null,null,null,null,null,null,null,null,0]
["124",null,null,null,null,null,null,null,null,null,null,null,null,null,null,null,null,null,null,null,null,null,null,null,null,null,null,null,null,null,null,null,null,null,null,null,null,null,null,null,null,null,null,null,null,null,null,null,null,null,null,null,null,null,null,null,0]
["125",null,null,null,null,null,null,null,null,null,null,null,null,null,null,null,null,null,null,null,null,null,null,null,null,null,null,null,null,null,null,null,null,null,null,null,null,null,null,null,null,null,null,null,null,null,null,null,null,null,null,null,null,null,null,null,{"$f":"COUNTIF(E219:BD219,\">0\")/($BG$1)","v":0}]
["126",null,null,null,null,null,null,null,null,null,null,null,null,null,null,null,null,null,null,null,null,null,null,null,null,null,null,null,null,null,null,null,null,null,null,null,null,null,null,null,null,null,null,null,null,null,null,null,null,null,null,null,null,null,null,null,0]
["127",null,null,null,null,null,null,null,null,null,null,null,null,null,null,null,null,null,null,null,null,null,null,null,null,null,null,null,null,null,null,null,null,null,null,null,null,null,null,null,null,null,null,null,null,null,null,null,null,null,null,null,null,null,null,null,0]
["128",null,null,null,null,null,null,null,null,null,null,null,null,null,null,null,null,null,null,null,null,null,null,null,null,null,null,null,null,null,null,null,null,null,null,null,null,null,null,null,null,null,null,null,null,null,null,null,null,null,null,null,null,null,null,null,0]
["129",null,null,null,null,null,null,null,null,null,null,null,null,null,null,null,null,null,null,null,null,null,null,null,null,null,null,null,null,null,null,null,null,null,null,null,null,null,null,null,null,null,null,null,null,null,null,null,null,null,null,null,null,null,null,null,0]
["130",null,null,null,null,null,null,null,null,null,null,null,null,null,null,null,null,null,null,null,null,null,null,null,null,null,null,null,null,null,null,null,null,null,null,null,null,null,null,null,null,null,null,null,null,null,null,null,null,null,null,null,null,null,null,null,0]
["131",null,null,null,null,null,null,null,null,null,null,null,null,null,null,null,null,null,null,null,null,null,null,null,null,null,null,null,null,null,null,null,null,null,null,null,null,null,null,null,null,null,null,null,null,null,null,null,null,null,null,null,null,null,null,null,0]
["132",null,null,null,null,null,null,null,null,null,null,null,null,null,null,null,null,null,null,null,null,null,null,null,null,null,null,null,null,null,null,null,null,null,null,null,null,null,null,null,null,null,null,null,null,null,null,null,null,null,null,null,null,null,null,null,0]
["133",null,null,null,null,null,null,null,null,null,null,null,null,null,null,null,null,null,null,null,null,null,null,null,null,null,null,null,null,null,null,null,null,null,null,null,null,null,null,null,null,null,null,null,null,null,null,null,null,null,null,null,null,null,null,null,0]
["134",null,null,null,null,null,null,null,null,null,null,null,null,null,null,null,null,null,null,null,null,null,null,null,null,null,null,null,null,null,null,null,null,null,null,null,null,null,null,null,null,null,null,null,null,null,null,null,null,null,null,null,null,null,null,null,0]
["135",null,null,null,null,null,null,null,null,null,null,null,null,null,null,null,null,null,null,null,null,null,null,null,null,null,null,null,null,null,null,null,null,null,null,null,null,null,null,null,null,null,null,null,null,null,null,null,null,null,null,null,null,null,null,null,0]
["136",null,null,null,null,null,null,null,null,null,null,null,null,null,null,null,null,null,null,null,null,null,null,null,null,null,null,null,null,null,null,null,null,null,null,null,null,null,null,null,null,null,null,null,null,null,null,null,null,null,null,null,null,null,null,null,0]
["137",null,null,null,null,null,null,null,null,null,null,null,null,null,null,null,null,null,null,null,null,null,null,null,null,null,null,null,null,null,null,null,null,null,null,null,null,null,null,null,null,null,null,null,null,null,null,null,null,null,null,null,null,null,null,null,0]
["138",null,null,null,null,null,null,null,null,null,null,null,null,null,null,null,null,null,null,null,null,null,null,null,null,null,null,null,null,null,null,null,null,null,null,null,null,null,null,null,null,null,null,null,null,null,null,null,null,null,null,null,null,null,null,null,0]
["139",null,null,null,null,null,null,null,null,null,null,null,null,null,null,null,null,null,null,null,null,null,null,null,null,null,null,null,null,null,null,null,null,null,null,null,null,null,null,null,null,null,null,null,null,null,null,null,null,null,null,null,null,null,null,null,0]
["140",null,null,null,null,null,null,null,null,null,null,null,null,null,null,null,null,null,null,null,null,null,null,null,null,null,null,null,null,null,null,null,null,null,null,null,null,null,null,null,null,null,null,null,null,null,null,null,null,null,null,null,null,null,null,null,0]
["141",null,null,null,null,null,null,null,null,null,null,null,null,null,null,null,null,null,null,null,null,null,null,null,null,null,null,null,null,null,null,null,null,null,null,null,null,null,null,null,null,null,null,null,null,null,null,null,null,null,null,null,null,null,null,null,0]
["142",null,null,null,null,null,null,null,null,null,null,null,null,null,null,null,null,null,null,null,null,null,null,null,null,null,null,null,null,null,null,null,null,null,null,null,null,null,null,null,null,null,null,null,null,null,null,null,null,null,null,null,null,null,null,null,0]
["143",null,null,null,null,null,null,null,null,null,null,null,null,null,null,null,null,null,null,null,null,null,null,null,null,null,null,null,null,null,null,null,null,null,null,null,null,null,null,null,null,null,null,null,null,null,null,null,null,null,null,null,null,null,null,null,0]
["144",null,null,null,null,null,null,null,null,null,null,null,null,null,null,null,null,null,null,null,null,null,null,null,null,null,null,null,null,null,null,null,null,null,null,null,null,null,null,null,null,null,null,null,null,null,null,null,null,null,null,null,null,null,null,null,0]
["145",null,null,null,null,null,null,null,null,null,null,null,null,null,null,null,null,null,null,null,null,null,null,null,null,null,null,null,null,null,null,null,null,null,null,null,null,null,null,null,null,null,null,null,null,null,null,null,null,null,null,null,null,null,null,null,0]
["146",null,null,null,null,null,null,null,null,null,null,null,null,null,null,null,null,null,null,null,null,null,null,null,null,null,null,null,null,null,null,null,null,null,null,null,null,null,null,null,null,null,null,null,null,null,null,null,null,null,null,null,null,null,null,null,0]
["147",null,null,null,null,null,null,null,null,null,null,null,null,null,null,null,null,null,null,null,null,null,null,null,null,null,null,null,null,null,null,null,null,null,null,null,null,null,null,null,null,null,null,null,null,null,null,null,null,null,null,null,null,null,null,null,0]
["148",null,null,null,null,null,null,null,null,null,null,null,null,null,null,null,null,null,null,null,null,null,null,null,null,null,null,null,null,null,null,null,null,null,null,null,null,null,null,null,null,null,null,null,null,null,null,null,null,null,null,null,null,null,null,null,{"$f":"COUNTIF(E242:BD242,\">0\")/($BG$1)","v":0}]
["149",null,null,null,null,null,null,null,null,null,null,null,null,null,null,null,null,null,null,null,null,null,null,null,null,null,null,null,null,null,null,null,null,null,null,null,null,null,null,null,null,null,null,null,null,null,null,null,null,null,null,null,null,null,null,null,{"$f":"COUNTIF(E243:BD243,\">0\")/($BG$1)","v":0}]
["150",null,null,null,null,null,null,null,null,null,null,null,null,null,null,null,null,null,null,null,null,null,null,null,null,null,null,null,null,null,null,null,null,null,null,null,null,null,null,null,null,null,null,null,null,null,null,null,null,null,null,null,null,null,null,null,{"$f":"COUNTIF(E244:BD244,\">0\")/($BG$1)","v":0}]

{"sheet":"Пр. №3","index":8,"n_rows":305,"n_cols":80,"rows_kept":305,"cut":false,"hidden":false,"merged":[[5,68,6,68],[1,2,1,25],[5,2,6,2],[5,3,6,3],[5,4,6,4],[5,5,6,5],[5,6,6,6]]}
[null,null,null,null,null,null,null,null,null,null,null,null,null,null,null,null,null,null,null,null,null,null,null,null,null,null,null,null,null,null,null,null,null,null,null,null,null,null,null,null,null,null,null,null,null,null,null,null,null,null,null,null,null,null,null,null,null,null,null,null,null,null,null,null,null,null,null,null,null,null,{"$f":"COLUMN()","v":71},{"$f":"COLUMN()","v":72},{"$f":"COLUMN()","v":73},{"$f":"COLUMN()","v":74},{"$f":"COLUMN()","v":75},{"$f":"COLUMN()","v":76},{"$f":"COLUMN()","v":77},{"$f":"COLUMN()","v":78},{"$f":"COLUMN()","v":79},{"$f":"COLUMN()","v":80}]
[null,null,"СОСТАВ ВТК (ВРГ) И ЗАНЯТОСТЬ ЧЛЕНОВ ВТК (ВРГ)"]
[]
[null,null,"дата старта",{"$f":"'Пр. №2'!B1","v":"2024-06-06"}]
[null,null,"Единица планирования","В часах",null,null,null,"недели"]
[null,null,"№ СПП элемента","Этап","Отчет","Виды работ и период их выполнения","ФИО",{"$f":"D4","v":"2024-06-06"},{"$f":"H6+7","v":"2024-06-13"},{"$f":"I6+7","v":"2024-06-20"},"2024-06-27","2024-07-04","2024-07-11","2024-07-18","2024-07-25","2024-08-01","2024-08-08","2024-08-15","2024-08-22","2024-08-29","2024-09-05","2024-09-12","2024-09-19","2024-09-26","2024-10-03","2024-10-10","2024-10-17","2024-10-24","2024-10-31","2024-11-07","2024-11-14","2024-11-21","2024-11-28","2024-12-05","2024-12-12","2024-12-19","2024-12-26","2025-01-02","2025-01-09",{"$f":"AM6+7","v":"2025-01-16"},"2025-01-23","2025-01-30","2025-02-06","2025-02-13","2025-02-20","2025-02-27",{"$f":"AK6+7","v":"2025-01-02"},{"$f":"AU6+7","v":"2025-01-09"},"2025-01-16","2025-01-23","2025-01-30","2025-02-06","2025-02-13","2025-02-20","2025-02-27",{"$f":"AT6+7","v":"2025-03-06"},{"$f":"BD6+7","v":"2025-03-13"},"2025-03-20","2025-03-27","2025-04-03","2025-04-10","2025-04-17","2025-04-24","2025-05-01","2025-05-08","2025-05-15","2025-05-22","2025-05-29",{"$f":"CONCATENATE(\"Итого, \",INDEX(справочник!$M$1:$N$3,MATCH('Пр. №3'!$D$5,справочник!$M$1:$M$3,0),2))","v":"Итого, Часов"},"х","№ статьи затрат","Статья затрат","Роль","Способ оплаты труда","Вид  оплаты","Должность по ОСНОВНОМУ месту работы",{"$f":"CONCATENATE(\"Ставка, человеко-\",INDEX(справочник!$M$1:$O$3,MATCH('Пр. №3'!$D$5,справочник!$M$1:$M$3,0),3))","v":"Ставка, человеко-час"},"Повышающий коэффициент (Коэфф1/Коэфф2)","Ставка с учетом коэффициента","Сумма, в руб."]
[null,null,null,null,null,null,null,1,2,3,4,5,6,7,8,9,10,11,12,13,14,15,16,17,18,19,20,21,22,23,24,25,26,27,28,29,30,31,32,33,34,35,36,37,38,39,40,41,42,43,44,45,46,47,48,40,41,42,43,44,45,46,47,48,49,50,51,52]
[null,null,"Итого",null,null,null,null,{"$f":"SUM(H10:H21)","v":0},0,0,0,0,0,0,0,0,0,0,0,0,0,0,0,0,0,0,0,0,0,0,0,0,0,0,0,0,0,0,0,{"$f":"SUM(AN10:AN21)","v":0},0,0,0,0,0,0,{"$f":"SUM(AU10:AU21)","v":0},0,0,0,0,0,0,0,0,0,0,0,0,0,0,0,0,0,0,0,0,0,{"$f":"SUM(G8:BK8)","v":0}]
[]
[null,null,"По этапам",{"$f":"'Пр. №2'!B9","v":0},null,null,null,{"$f":"SUMIFS(H$22:H$56,$D$22:$D$56,$D10)","v":0},0,0,0,0,0,0,0,0,0,{"$f":"SUMIFS(R$22:R$56,$D$22:$D$56,$D10)","v":0},0,0,0,0,0,0,0,0,0,{"$f":"SUMIFS(AB$22:AB$56,$D$22:$D$56,$D10)","v":0},0,0,0,0,0,0,0,0,0,{"$f":"SUMIFS(AL$22:AL$56,$D$22:$D$56,$D10)","v":0},0,0,0,0,0,0,0,0,0,0,0,0,0,0,0,0,0,0,{"$f":"SUMIFS(BE$22:BE$56,$D$22:$D$56,$D10)","v":0},0,0,0,0,0,0,0,0,0,0,0,{"$f":"SUM(G10:BK10)","v":0}]
[null,null,"По этапам",{"$f":"'Пр. №2'!B10","v":0},null,null,null,0,0,0,0,0,0,0,0,0,0,0,0,0,0,0,0,0,0,0,0,0,0,0,0,0,0,0,0,0,0,0,0,0,0,0,0,0,0,0,0,0,0,0,0,0,0,0,0,0,0,0,0,0,0,0,0,0,0,0,0,0,0]
[null,null,"По этапам",{"$f":"'Пр. №2'!B11","v":0},null,null,null,0,0,0,0,0,0,0,0,0,0,0,0,0,0,0,0,0,0,0,0,0,0,0,0,0,0,0,0,0,0,0,0,0,0,0,0,0,0,0,0,0,0,0,0,0,0,0,0,0,0,0,0,0,0,0,0,0,0,0,0,0,0]
[null,null,"По этапам",{"$f":"'Пр. №2'!B12","v":0},null,null,null,0,0,0,0,0,0,0,0,0,0,0,0,0,0,0,0,0,0,0,0,0,0,0,0,0,0,0,0,0,0,0,0,0,0,0,0,0,0,0,0,0,0,0,0,0,0,0,0,0,0,0,0,0,0,0,0,0,0,0,0,0,0]
[null,null,"По этапам",{"$f":"'Пр. №2'!B13","v":0},null,null,null,0,0,0,0,0,0,0,0,0,0,0,0,0,0,0,0,0,0,0,0,0,0,0,0,0,0,0,0,0,0,0,0,0,0,0,0,0,0,0,0,0,0,0,0,0,0,0,0,0,0,0,0,0,0,0,0,0,0,0,0,0,0]
[null,null,"По этапам",{"$f":"'Пр. №2'!B14","v":0},null,null,null,0,0,0,0,0,0,0,0,0,0,0,0,0,0,0,0,0,0,0,0,0,0,0,0,0,0,0,0,0,0,0,0,0,0,0,0,0,0,0,0,0,0,0,0,0,0,0,0,0,0,0,0,0,0,0,0,0,0,0,0,0,0]
[null,null,"По этапам",{"$f":"'Пр. №2'!B15","v":0},null,null,null,0,0,0,0,0,0,0,0,0,0,0,0,0,0,0,0,0,0,0,0,0,0,0,0,0,0,0,0,0,0,0,0,0,0,0,0,0,0,0,0,0,0,0,0,0,0,0,0,0,0,0,0,0,0,0,0,0,0,0,0,0,0]
[null,null,"По этапам",{"$f":"'Пр. №2'!B16","v":0},null,null,null,0,0,0,0,0,0,0,0,0,0,0,0,0,0,0,0,0,0,0,0,0,0,0,0,0,0,0,0,0,0,0,0,0,0,0,0,0,0,0,0,0,0,0,0,0,0,0,0,0,0,0,0,0,0,0,0,0,0,0,0,0,0]
[null,null,"По этапам",{"$f":"'Пр. №2'!B17","v":0},null,null,null,0,0,0,0,0,0,0,0,0,0,0,0,0,0,0,0,0,0,0,0,0,0,0,0,0,0,0,0,0,0,0,0,0,0,0,0,0,0,0,0,0,0,0,0,0,0,0,0,0,0,0,0,0,0,0,0,0,0,0,0,0,0]
[null,null,"По этапам",{"$f":"'Пр. №2'!B18","v":0},null,null,null,0,0,0,0,0,0,0,0,0,0,0,0,0,0,0,0,0,0,0,0,0,0,0,0,0,0,0,0,0,0,0,0,0,0,0,0,0,0,0,0,0,0,0,0,0,0,0,0,0,0,0,0,0,0,0,0,0,0,0,0,0,0]
[null,null,"По этапам",{"$f":"'Пр. №2'!B19","v":0},null,null,null,0,0,0,0,0,0,0,0,0,0,0,0,0,0,0,0,0,0,0,0,0,0,0,0,0,0,0,0,0,0,0,0,0,0,0,0,0,0,0,0,0,0,0,0,0,0,0,0,0,0,0,0,0,0,0,0,0,0,0,0,0,{"$f":"SUM(G20:BK20)","v":0}]
[]
[null,null,"По отчетам",{"$f":"'Пр. №2'!B21","v":0},{"$f":"'Пр. №2'!C21","v":0},null,null,{"$f":"SUMIFS(H$57:H$136,$E$57:$E$136,$E22)","v":0},0,0,0,0,0,0,0,0,0,0,0,0,0,0,0,{"$f":"SUMIFS(X$57:X$136,$E$57:$E$136,$E22)","v":0},0,0,0,0,0,0,0,0,0,0,0,0,0,0,0,0,0,0,0,0,0,0,0,0,0,0,0,0,0,0,0,0,0,0,0,0,0,0,0,0,0,0,0,0,{"$f":"SUM(G22:BK22)","v":0}]
[null,null,"По отчетам",{"$f":"'Пр. №2'!B22","v":0},{"$f":"'Пр. №2'!C22","v":0},null,null,{"$f":"SUMIFS(H$57:H$136,$E$57:$E$136,$E23)","v":0},0,0,0,0,0,0,0,0,0,0,0,0,0,0,0,0,0,0,0,0,0,0,0,0,0,0,0,0,0,0,0,0,0,0,0,0,0,0,0,0,0,0,0,0,0,0,0,0,0,0,0,0,0,0,0,0,0,0,0,0,0]
[null,null,"По отчетам",{"$f":"'Пр. №2'!B23","v":0},{"$f":"'Пр. №2'!C23","v":0},null,null,0,0,0,0,0,0,0,0,0,0,0,0,0,0,0,0,0,0,0,0,0,0,0,0,0,0,0,0,0,0,0,0,0,0,0,0,0,0,0,0,0,0,0,0,0,0,0,0,0,0,0,0,0,0,0,0,0,0,0,0,0,0]
[null,null,"По отчетам",{"$f":"'Пр. №2'!B24","v":0},{"$f":"'Пр. №2'!C24","v":0},null,null,0,0,0,0,0,0,0,0,0,0,0,0,0,0,0,0,0,0,0,0,0,0,0,0,0,0,0,0,0,0,0,0,0,0,0,0,0,0,0,0,0,0,0,0,0,0,0,0,0,0,0,0,0,0,0,0,0,0,0,0,0,0]
[null,null,"По отчетам",{"$f":"'Пр. №2'!B25","v":0},{"$f":"'Пр. №2'!C25","v":0},null,null,0,0,0,0,0,0,0,0,0,0,0,0,0,0,0,0,0,0,0,0,0,0,0,0,0,0,0,0,0,0,0,{"$f":"SUMIFS(AM$57:AM$136,$E$57:$E$136,$E26)","v":0},0,0,0,0,0,0,0,0,0,0,0,0,0,0,0,0,0,0,0,0,0,0,0,0,0,0,0,0,0,0]
[null,null,"По отчетам",{"$f":"'Пр. №2'!B26","v":0},{"$f":"'Пр. №2'!C26","v":0},null,null,0,0,0,0,0,0,0,0,0,0,0,0,0,0,0,0,0,0,0,0,0,0,0,0,0,0,0,0,0,0,0,0,0,0,0,0,0,0,0,0,0,0,0,0,0,0,0,0,0,0,0,0,0,0,0,0,0,0,0,0,0,0]
[null,null,"По отчетам",{"$f":"'Пр. №2'!B27","v":0},{"$f":"'Пр. №2'!C27","v":0},null,null,0,0,0,0,0,0,0,0,0,0,0,0,0,0,0,0,0,0,0,0,0,0,0,0,0,0,0,0,0,0,0,0,0,0,0,0,0,0,0,0,0,0,0,0,0,0,0,0,0,0,0,0,0,0,0,0,0,0,0,0,0,0]
[null,null,"По отчетам",{"$f":"'Пр. №2'!B28","v":0},{"$f":"'Пр. №2'!C28","v":0},null,null,{"$f":"SUMIFS(H$57:H$118,$E$57:$E$118,$E29)","v":0},0,0,0,0,0,0,0,0,0,0,0,0,0,0,0,{"$f":"SUMIFS(X$57:X$118,$E$57:$E$118,$E29)","v":0},0,0,0,0,0,0,0,0,0,0,0,0,0,0,0,{"$f":"SUMIFS(AN$57:AN$118,$E$57:$E$118,$E29)","v":0},0,0,0,0,0,0,0,0,0,0,0,0,0,0,0,0,0,0,0,0,0,0,0,0,{"$f":"SUMIFS(BM$57:BM$118,$E$57:$E$118,$E29)","v":0},0,0,0,0]
[null,null,"По отчетам",{"$f":"'Пр. №2'!B29","v":0},{"$f":"'Пр. №2'!C29","v":0},null,null,0,0,0,0,0,0,0,0,0,0,0,0,0,0,0,0,0,0,0,0,0,0,0,0,0,0,0,0,0,0,0,0,0,0,0,0,0,0,0,0,0,0,0,0,0,0,0,0,0,0,0,0,0,0,0,0,0,0,0,0,0,0]
[null,null,"По отчетам",{"$f":"'Пр. №2'!B90","v":0},{"$f":"'Пр. №2'!C90","v":0},null,null,{"$f":"SUMIFS(H$57:H$118,$E$57:$E$118,$E31)","v":0},0,0,0,0,0,0,0,0,0,0,0,0,0,0,0,0,0,0,0,0,0,0,0,0,0,0,0,0,0,0,0,{"$f":"SUMIFS(AN$57:AN$118,$E$57:$E$118,$E31)","v":0},0,0,0,0,0,0,0,0,0,0,0,0,0,0,0,0,0,0,0,0,0,0,0,0,0,0,0,0,0]
[]
[]
[null,null,"По отчетам",{"$f":"'Пр. №2'!B93","v":0},{"$f":"'Пр. №2'!C93","v":0},null,null,0,0,0,0,0,0,0,0,0,0,0,0,0,0,0,0,0,0,0,0,0,0,0,0,0,0,0,0,0,0,0,0,0,0,0,0,0,0,0,0,0,0,0,0,0,0,0,0,0,0,0,0,0,0,0,0,0,0,0,0,0,{"$f":"SUM(G34:BK34)","v":0}]
[]
[null,null,"По ФИО",null,null,null,null,{"$f":"SUMIF($G$57:$G$150,$G36,H$57:H$150)","v":0},{"$f":"SUMIF($G$57:$G$150,$G36,I$57:I$150)","v":0},0,0,0,0,0,0,0,0,0,0,0,0,0,0,0,0,0,0,0,0,0,0,0,0,{"$f":"SUMIF($G$57:$G$150,$G36,AH$57:AH$150)","v":0},{"$f":"SUMIF($G$57:$G$136,$G36,AI$57:AI$136)","v":0},0,0,0,0,0,0,0,0,0,0,0,0,0,0,0,0,0,0,0,0,0,0,0,0,0,0,0,0,0,0,0,0,0,{"$f":"SUM(G36:BK36)","v":0}]
[null,null,"По ФИО",null,null,null,null,{"$f":"SUMIF($G$57:$G$150,$G37,H$57:H$150)","v":0},{"$f":"SUMIF($G$57:$G$150,$G37,I$57:I$150)","v":0},0,0,0,0,0,0,0,0,0,0,0,0,0,0,0,0,0,0,0,0,0,0,0,0,0,0,0,0,0,0,0,0,0,0,0,0,0,0,0,0,0,0,0,0,0,0,0,0,0,0,0,0,0,0,0,0,0,0,0,{"$f":"SUM(G37:BK37)","v":0}]
[null,null,"По ФИО",null,null,null,null,0,0,0,0,0,0,0,0,0,0,0,0,0,0,0,0,0,0,0,0,0,0,0,0,0,0,0,0,0,0,0,0,0,0,0,0,0,0,0,0,0,0,0,0,0,0,0,0,0,0,0,0,0,0,0,0,0,0,0,0,0,{"$f":"SUM(G38:BK38)","v":0}]
[null,null,"По ФИО",null,null,null,null,0,0,0,0,0,0,0,0,0,0,0,0,0,0,0,0,0,0,0,0,0,0,0,0,0,0,0,0,0,0,0,0,0,0,0,0,0,0,0,0,0,0,0,0,0,0,0,0,0,0,0,0,0,0,0,0,0,0,0,0,0,{"$f":"SUM(G39:BK39)","v":0}]
[null,null,"По ФИО",null,null,null,null,0,0,0,0,0,0,0,0,0,0,0,0,0,0,0,0,0,0,0,0,0,0,0,0,0,0,0,0,0,0,0,{"$f":"SUMIF($G$57:$G$136,$G40,AM$57:AM$136)","v":0},0,0,0,0,0,0,0,0,0,0,0,0,0,0,0,0,0,0,0,0,0,0,0,0,0,0,0,0,0,{"$f":"SUM(G40:BK40)","v":0}]
[null,null,"По ФИО",null,null,null,null,0,0,0,0,0,0,0,0,0,0,0,0,0,0,0,0,0,0,0,0,0,0,0,0,0,0,{"$f":"SUMIF($G$57:$G$136,$G41,AH$57:AH$136)","v":0},0,0,0,0,0,0,0,0,0,0,0,0,0,0,0,0,0,0,0,0,0,0,0,0,0,0,0,0,0,0,0,0,0,0,0]
[null,null,"По ФИО",null,null,null,null,0,0,0,0,0,0,0,0,0,0,0,0,0,0,0,0,0,0,0,0,0,0,0,0,0,0,0,0,0,0,0,0,0,0,0,0,0,0,0,0,0,0,0,0,0,0,0,0,0,0,0,0,0,0,0,0,0,0,0,0,0,0]
[null,null,"По ФИО",null,null,null,null,0,0,0,0,0,0,0,0,0,0,0,0,0,0,0,0,0,0,0,0,0,0,0,0,0,0,{"$f":"SUMIF($G$57:$G$136,$G43,AH$57:AH$136)","v":0},0,0,0,0,0,0,0,0,0,0,0,0,0,0,0,0,0,0,0,0,0,0,0,0,0,0,0,0,0,0,0,0,0,0,0]
[null,null,"По ФИО",null,null,null,null,0,0,0,0,0,0,0,0,0,0,0,0,0,0,0,0,0,0,0,0,0,0,0,0,0,0,0,0,0,0,0,0,0,0,0,0,0,0,0,0,0,0,0,0,0,0,0,0,0,0,0,0,0,0,0,0,0,0,0,0,0,0]
[null,null,"По ФИО",null,null,null,null,0,0,0,0,0,0,0,0,0,0,0,0,0,0,0,0,0,0,0,0,0,0,0,0,0,0,0,0,0,0,0,0,0,0,0,0,0,0,0,0,0,0,0,0,0,0,0,0,0,0,0,0,0,0,0,0,0,0,0,0,0,0]
[null,null,"По ФИО",null,null,null,null,0,0,0,0,0,0,0,0,0,0,0,0,0,0,0,0,0,0,0,0,0,{"$f":"SUMIF($G$57:$G$150,$G46,AC$57:AC$150)","v":0},0,0,0,0,0,0,0,0,0,0,0,0,0,0,0,0,0,0,0,0,0,0,0,0,0,0,0,0,0,0,0,0,0,0,0,0,0,0,0,0]
[null,null,"По ФИО",null,null,null,null,0,0,0,0,0,0,0,0,0,0,0,0,0,0,0,0,0,0,0,0,0,0,0,0,0,0,{"$f":"SUMIF($G$57:$G$136,$G47,AH$57:AH$136)","v":0},0,0,0,0,0,0,0,0,0,0,0,0,0,0,0,0,0,0,0,0,0,0,0,0,0,0,0,0,0,0,0,0,0,0,0]
[null,null,"По ФИО",null,null,null,null,0,0,0,0,0,0,0,0,0,0,0,0,0,0,0,0,0,0,0,0,0,0,0,0,0,0,{"$f":"SUMIF($G$57:$G$150,$G48,AH$57:AH$150)","v":0},0,{"$f":"SUMIF($G$57:$G$115,$G48,AJ$57:AJ$115)","v":0},0,{"$f":"SUMIF($G$57:$G$115,$G48,AL$57:AL$115)","v":0},0,0,0,0,0,0,0,0,0,0,0,0,0,0,0,0,0,0,{"$f":"SUMIF($G$57:$G$115,$G48,BE$57:BE$115)","v":0},0,0,0,0,0,0,0,0,0,0,0,0]
[null,null,"По ФИО",null,null,null,null,{"$f":"SUMIF($G$57:$G$115,$G49,H$57:H$115)","v":0},0,0,0,0,0,0,0,0,0,{"$f":"SUMIF($G$57:$G$115,$G49,R$57:R$115)","v":0},0,0,0,0,0,0,0,0,0,0,0,0,0,0,0,0,0,0,0,0,0,0,0,0,0,0,0,{"$f":"SUMIF($G$57:$G$115,$G49,AT$57:AT$115)","v":0},0,0,0,0,0,0,0,0,0,0,0,0,0,0,0,0,0,0,0,0,0,0,0]
[null,null,"По ФИО",null,null,null,null,0,0,0,0,0,0,0,0,0,0,0,0,0,0,0,0,0,0,0,0,0,0,0,0,0,0,0,0,0,0,0,0,0,0,0,0,{"$f":"SUMIF($G$57:$G$115,$G50,AR$57:AR$115)","v":0},0,0,0,0,0,0,0,0,0,0,0,0,0,0,0,0,0,0,0,0,0,0,0,0,0]
[null,null,"По ФИО",null,null,null,null,0,0,0,0,0,0,0,0,0,0,0,0,0,0,0,0,0,0,0,0,0,0,0,0,0,0,0,0,0,0,0,0,0,0,0,0,0,0,0,0,0,0,0,0,0,0,0,0,0,0,0,0,0,0,0,0,0,0,0,0,0,0]
[null,null,"По ФИО",null,null,null,null,{"$f":"SUMIF($G$57:$G$115,$G52,H$57:H$115)","v":0},0,0,0,0,0,0,0,0,0,0,0,0,0,0,0,{"$f":"SUMIF($G$57:$G$115,$G52,X$57:X$115)","v":0},0,0,0,0,0,0,0,0,0,0,0,0,0,0,0,{"$f":"SUMIF($G$57:$G$115,$G52,AN$57:AN$115)","v":0},0,0,0,0,0,0,0,0,0,0,0,0,0,0,0,{"$f":"SUMIF($G$57:$G$115,$G52,BD$57:BD$115)","v":0},{"$f":"SUMIF($G$57:$G$115,$G52,BE$57:BE$115)","v":0},{"$f":"SUMIF($G$57:$G$115,$G52,BF$57:BF$115)","v":0},{"$f":"SUMIF($G$57:$G$115,$G52,BG$57:BG$115)","v":0},{"$f":"SUMIF($G$57:$G$115,$G52,BH$57:BH$115)","v":0},0,0,0,0,0,0,0,0,0]
[null,null,"По ФИО",null,null,null,null,0,0,0,0,0,0,0,0,0,0,0,0,0,0,0,0,0,0,0,0,0,0,0,0,0,0,0,0,0,0,0,0,0,0,0,0,0,0,0,0,0,0,0,0,0,0,0,0,{"$f":"SUMIF($G$57:$G$115,$G53,BD$57:BD$115)","v":0},0,0,0,0,0,0,0,0,0,0,0,0,0]
[null,null,"По ФИО",null,null,null,null,0,0,0,0,0,0,0,0,0,0,0,0,0,0,0,0,0,0,0,0,0,0,0,0,0,0,0,0,0,0,0,0,0,0,0,0,0,0,0,0,0,0,0,0,0,0,0,0,{"$f":"SUMIF($G$57:$G$115,$G54,BD$57:BD$115)","v":0},0,0,0,0,0,0,0,0,0,0,0,0,0]
[null,null,"По ФИО",null,null,null,null,0,0,0,0,0,0,0,0,0,0,0,0,0,0,0,0,0,0,0,0,0,0,0,0,0,0,0,0,0,0,0,0,0,0,0,0,0,0,0,0,0,0,0,0,0,0,0,0,{"$f":"SUMIF($G$57:$G$115,$G55,BD$57:BD$115)","v":0},0,0,0,0,0,0,0,0,0,0,0,0,0]
[]
[{"$f":"ROW()","v":57},1,"Ввод данных",{"$f":"INDEX($D$22:$E$35,MATCH(E57,$E$22:$E$35,0),1)","v":{"$error":"#N/A"}},{"$f":"INDEX('Пр. №2'!$1:$1048576,MATCH('Пр. №3'!$F57,'Пр. №2'!$D:$D,0),COLUMN('Пр. №2'!$C$5))","v":{"$error":"#N/A"}},null,null,null,null,null,null,null,null,null,null,null,null,null,null,null,null,null,null,null,null,null,null,null,null,null,null,null,null,null,null,null,null,null,null,null,null,null,null,null,null,null,null,null,null,null,null,null,null,null,null,null,null,null,null,null,null,null,null,null,null,null,null,null,{"$f":"SUM(H57:BP57)","v":0},null,{"$f":"IFERROR(INDEX(справочник!$G$1:$I$7,MATCH($BV57,справочник!$G$1:$G$7,0),3),\"---\")","v":"---"},{"$f":"IFERROR(INDEX('Пр. №1'!$B$11:$C$34,MATCH(BS57,'Пр. №1'!$B$11:$B$34,0),2),\"---\")","v":"---"},{"$f":"IFERROR(INDEX('Состав ВТК-ВРГ'!$1:$1048576,MATCH($G57,'Состав ВТК-ВРГ'!$B:$B,0),MATCH(BU$6,'Состав ВТК-ВРГ'!$3:$3,0)),\"---\")","v":"---"},{"$f":"IFERROR(INDEX('Состав ВТК-ВРГ'!$1:$1048576,MATCH($G57,'Состав ВТК-ВРГ'!$B:$B,0),MATCH(BV$6,'Состав ВТК-ВРГ'!$3:$3,0)),\"---\")","v":"---"},{"$f":"IFERROR(INDEX(справочник!$G$1:$I$7,MATCH($BV57,справочник!$G$1:$G$7,0),2),\"---\")","v":"---"},{"$f":"IFERROR(INDEX('Состав ВТК-ВРГ'!$1:$1048576,MATCH($G57,'Состав ВТК-ВРГ'!$B:$B,0),MATCH(BX$6,'Состав ВТК-ВРГ'!$3:$3,0)),\"---\")","v":"---"},{"$f":"IFERROR(INDEX('Пр. №4'!$1:$1048576,MATCH(BX57,'Пр. №4'!$C:$C,0),MATCH('Пр. №3'!$D$5,'Пр. №4'!$9:$9,0)),\"---\")","v":"---"},{"$f":"SUMIFS('Пр. №1.2.'!$L:$L,'Пр. №1.2.'!$B:$B,'Пр. №3'!$D57,'Пр. №1.2.'!$E:$E,'Пр. №3'!$G57)","v":0},{"$f":"BY57*BZ57","v":{"$error":"#VALUE!"}},{"$f":"BQ57*BZ57*BY57","v":{"$error":"#VALUE!"}}]
[{"$f":"ROW()","v":58},2,"Ввод данных",{"$error":"#N/A"},{"$f":"INDEX('Пр. №2'!$1:$1048576,MATCH('Пр. №3'!$F58,'Пр. №2'!$D:$D,0),COLUMN('Пр. №2'!$C$5))","v":{"$error":"#N/A"}},null,null,null,null,null,null,null,null,null,null,null,null,null,null,null,null,null,null,null,null,null,null,null,null,null,null,null,null,null,null,null,null,null,null,null,null,null,null,null,null,null,null,null,null,null,null,null,null,null,null,null,null,null,null,null,null,null,null,null,null,null,null,null,0,null,{"$f":"IFERROR(INDEX(справочник!$G$1:$I$7,MATCH($BV58,справочник!$G$1:$G$7,0),3),\"---\")","v":"---"},{"$f":"IFERROR(INDEX('Пр. №1'!$B$11:$C$34,MATCH(BS58,'Пр. №1'!$B$11:$B$34,0),2),\"---\")","v":"---"},{"$f":"IFERROR(INDEX('Состав ВТК-ВРГ'!$1:$1048576,MATCH($G58,'Состав ВТК-ВРГ'!$B:$B,0),MATCH(BU$6,'Состав ВТК-ВРГ'!$3:$3,0)),\"---\")","v":"---"},{"$f":"IFERROR(INDEX('Состав ВТК-ВРГ'!$1:$1048576,MATCH($G58,'Состав ВТК-ВРГ'!$B:$B,0),MATCH(BV$6,'Состав ВТК-ВРГ'!$3:$3,0)),\"---\")","v":"---"},{"$f":"IFERROR(INDEX(справочник!$G$1:$I$7,MATCH($BV58,справочник!$G$1:$G$7,0),2),\"---\")","v":"---"},{"$f":"IFERROR(INDEX('Состав ВТК-ВРГ'!$1:$1048576,MATCH($G58,'Состав ВТК-ВРГ'!$B:$B,0),MATCH(BX$6,'Состав ВТК-ВРГ'!$3:$3,0)),\"---\")","v":"---"},{"$f":"IFERROR(INDEX('Пр. №4'!$1:$1048576,MATCH(BX58,'Пр. №4'!$C:$C,0),MATCH('Пр. №3'!$D$5,'Пр. №4'!$9:$9,0)),\"---\")","v":"---"},{"$f":"SUMIFS('Пр. №1.2.'!$L:$L,'Пр. №1.2.'!$B:$B,'Пр. №3'!$D58,'Пр. №1.2.'!$E:$E,'Пр. №3'!$G58)","v":0},{"$f":"BY58*BZ58","v":{"$error":"#VALUE!"}},{"$f":"BQ58*BZ58*BY58","v":{"$error":"#VALUE!"}}]
[{"$f":"ROW()","v":59},3,"Ввод данных",{"$error":"#N/A"},{"$f":"INDEX('Пр. №2'!$1:$1048576,MATCH('Пр. №3'!$F59,'Пр. №2'!$D:$D,0),COLUMN('Пр. №2'!$C$5))","v":{"$error":"#N/A"}},null,null,null,null,null,null,null,null,null,null,null,null,null,null,null,null,null,null,null,null,null,null,null,null,null,null,null,null,null,null,null,null,null,null,null,null,null,null,null,null,null,null,null,null,null,null,null,null,null,null,null,null,null,null,null,null,null,null,null,null,null,null,null,{"$f":"SUM(H59:BP59)","v":0},null,{"$f":"IFERROR(INDEX(справочник!$G$1:$I$7,MATCH($BV59,справочник!$G$1:$G$7,0),3),\"---\")","v":"---"},{"$f":"IFERROR(INDEX('Пр. №1'!$B$11:$C$34,MATCH(BS59,'Пр. №1'!$B$11:$B$34,0),2),\"---\")","v":"---"},{"$f":"IFERROR(INDEX('Состав ВТК-ВРГ'!$1:$1048576,MATCH($G59,'Состав ВТК-ВРГ'!$B:$B,0),MATCH(BU$6,'Состав ВТК-ВРГ'!$3:$3,0)),\"---\")","v":"---"},{"$f":"IFERROR(INDEX('Состав ВТК-ВРГ'!$1:$1048576,MATCH($G59,'Состав ВТК-ВРГ'!$B:$B,0),MATCH(BV$6,'Состав ВТК-ВРГ'!$3:$3,0)),\"---\")","v":"---"},{"$f":"IFERROR(INDEX(справочник!$G$1:$I$7,MATCH($BV59,справочник!$G$1:$G$7,0),2),\"---\")","v":"---"},{"$f":"IFERROR(INDEX('Состав ВТК-ВРГ'!$1:$1048576,MATCH($G59,'Состав ВТК-ВРГ'!$B:$B,0),MATCH(BX$6,'Состав ВТК-ВРГ'!$3:$3,0)),\"---\")","v":"---"},{"$f":"IFERROR(INDEX('Пр. №4'!$1:$1048576,MATCH(BX59,'Пр. №4'!$C:$C,0),MATCH('Пр. №3'!$D$5,'Пр. №4'!$9:$9,0)),\"---\")","v":"---"},{"$f":"SUMIFS('Пр. №1.2.'!$L:$L,'Пр. №1.2.'!$B:$B,'Пр. №3'!$D59,'Пр. №1.2.'!$E:$E,'Пр. №3'!$G59)","v":0},{"$f":"BY59*BZ59","v":{"$error":"#VALUE!"}},{"$error":"#VALUE!"}]
[{"$f":"ROW()","v":60},4,"Ввод данных",{"$error":"#N/A"},{"$f":"INDEX('Пр. №2'!$1:$1048576,MATCH('Пр. №3'!$F60,'Пр. №2'!$D:$D,0),COLUMN('Пр. №2'!$C$5))","v":{"$error":"#N/A"}},null,null,null,null,null,null,null,null,null,null,null,null,null,null,null,null,null,null,null,null,null,null,null,null,null,null,null,null,null,null,null,null,null,null,null,null,null,null,null,null,null,null,null,null,null,null,null,null,null,null,null,null,null,null,null,null,null,null,null,null,null,null,null,0,null,{"$f":"IFERROR(INDEX(справочник!$G$1:$I$7,MATCH($BV60,справочник!$G$1:$G$7,0),3),\"---\")","v":"---"},{"$f":"IFERROR(INDEX('Пр. №1'!$B$11:$C$34,MATCH(BS60,'Пр. №1'!$B$11:$B$34,0),2),\"---\")","v":"---"},{"$f":"IFERROR(INDEX('Состав ВТК-ВРГ'!$1:$1048576,MATCH($G60,'Состав ВТК-ВРГ'!$B:$B,0),MATCH(BU$6,'Состав ВТК-ВРГ'!$3:$3,0)),\"---\")","v":"---"},{"$f":"IFERROR(INDEX('Состав ВТК-ВРГ'!$1:$1048576,MATCH($G60,'Состав ВТК-ВРГ'!$B:$B,0),MATCH(BV$6,'Состав ВТК-ВРГ'!$3:$3,0)),\"---\")","v":"---"},{"$f":"IFERROR(INDEX(справочник!$G$1:$I$7,MATCH($BV60,справочник!$G$1:$G$7,0),2),\"---\")","v":"---"},{"$f":"IFERROR(INDEX('Состав ВТК-ВРГ'!$1:$1048576,MATCH($G60,'Состав ВТК-ВРГ'!$B:$B,0),MATCH(BX$6,'Состав ВТК-ВРГ'!$3:$3,0)),\"---\")","v":"---"},{"$f":"IFERROR(INDEX('Пр. №4'!$1:$1048576,MATCH(BX60,'Пр. №4'!$C:$C,0),MATCH('Пр. №3'!$D$5,'Пр. №4'!$9:$9,0)),\"---\")","v":"---"},{"$f":"SUMIFS('Пр. №1.2.'!$L:$L,'Пр. №1.2.'!$B:$B,'Пр. №3'!$D60,'Пр. №1.2.'!$E:$E,'Пр. №3'!$G60)","v":0},{"$error":"#VALUE!"},{"$error":"#VALUE!"}]
[{"$f":"ROW()","v":61},5,"Ввод данных",{"$error":"#N/A"},{"$f":"INDEX('Пр. №2'!$1:$1048576,MATCH('Пр. №3'!$F61,'Пр. №2'!$D:$D,0),COLUMN('Пр. №2'!$C$5))","v":{"$error":"#N/A"}},null,null,null,null,null,null,null,null,null,null,null,null,null,null,null,null,null,null,null,null,null,null,null,null,null,null,null,null,null,null,null,null,null,null,null,null,null,null,null,null,null,null,null,null,null,null,null,null,null,null,null,null,null,null,null,null,null,null,null,null,null,null,null,0,null,{"$f":"IFERROR(INDEX(справочник!$G$1:$I$7,MATCH($BV61,справочник!$G$1:$G$7,0),3),\"---\")","v":"---"},{"$f":"IFERROR(INDEX('Пр. №1'!$B$11:$C$34,MATCH(BS61,'Пр. №1'!$B$11:$B$34,0),2),\"---\")","v":"---"},{"$f":"IFERROR(INDEX('Состав ВТК-ВРГ'!$1:$1048576,MATCH($G61,'Состав ВТК-ВРГ'!$B:$B,0),MATCH(BU$6,'Состав ВТК-ВРГ'!$3:$3,0)),\"---\")","v":"---"},{"$f":"IFERROR(INDEX('Состав ВТК-ВРГ'!$1:$1048576,MATCH($G61,'Состав ВТК-ВРГ'!$B:$B,0),MATCH(BV$6,'Состав ВТК-ВРГ'!$3:$3,0)),\"---\")","v":"---"},{"$f":"IFERROR(INDEX(справочник!$G$1:$I$7,MATCH($BV61,справочник!$G$1:$G$7,0),2),\"---\")","v":"---"},{"$f":"IFERROR(INDEX('Состав ВТК-ВРГ'!$1:$1048576,MATCH($G61,'Состав ВТК-ВРГ'!$B:$B,0),MATCH(BX$6,'Состав ВТК-ВРГ'!$3:$3,0)),\"---\")","v":"---"},{"$f":"IFERROR(INDEX('Пр. №4'!$1:$1048576,MATCH(BX61,'Пр. №4'!$C:$C,0),MATCH('Пр. №3'!$D$5,'Пр. №4'!$9:$9,0)),\"---\")","v":"---"},{"$f":"SUMIFS('Пр. №1.2.'!$L:$L,'Пр. №1.2.'!$B:$B,'Пр. №3'!$D61,'Пр. №1.2.'!$E:$E,'Пр. №3'!$G61)","v":0},{"$error":"#VALUE!"},{"$error":"#VALUE!"}]
[{"$f":"ROW()","v":62},6,"Ввод данных",{"$error":"#N/A"},{"$f":"INDEX('Пр. №2'!$1:$1048576,MATCH('Пр. №3'!$F62,'Пр. №2'!$D:$D,0),COLUMN('Пр. №2'!$C$5))","v":{"$error":"#N/A"}},null,null,null,null,null,null,null,null,null,null,null,null,null,null,null,null,null,null,null,null,null,null,null,null,null,null,null,null,null,null,null,null,null,null,null,null,null,null,null,null,null,null,null,null,null,null,null,null,null,null,null,null,null,null,null,null,null,null,null,null,null,null,null,0,null,{"$f":"IFERROR(INDEX(справочник!$G$1:$I$7,MATCH($BV62,справочник!$G$1:$G$7,0),3),\"---\")","v":"---"},{"$f":"IFERROR(INDEX('Пр. №1'!$B$11:$C$34,MATCH(BS62,'Пр. №1'!$B$11:$B$34,0),2),\"---\")","v":"---"},{"$f":"IFERROR(INDEX('Состав ВТК-ВРГ'!$1:$1048576,MATCH($G62,'Состав ВТК-ВРГ'!$B:$B,0),MATCH(BU$6,'Состав ВТК-ВРГ'!$3:$3,0)),\"---\")","v":"---"},{"$f":"IFERROR(INDEX('Состав ВТК-ВРГ'!$1:$1048576,MATCH($G62,'Состав ВТК-ВРГ'!$B:$B,0),MATCH(BV$6,'Состав ВТК-ВРГ'!$3:$3,0)),\"---\")","v":"---"},{"$f":"IFERROR(INDEX(справочник!$G$1:$I$7,MATCH($BV62,справочник!$G$1:$G$7,0),2),\"---\")","v":"---"},{"$f":"IFERROR(INDEX('Состав ВТК-ВРГ'!$1:$1048576,MATCH($G62,'Состав ВТК-ВРГ'!$B:$B,0),MATCH(BX$6,'Состав ВТК-ВРГ'!$3:$3,0)),\"---\")","v":"---"},{"$f":"IFERROR(INDEX('Пр. №4'!$1:$1048576,MATCH(BX62,'Пр. №4'!$C:$C,0),MATCH('Пр. №3'!$D$5,'Пр. №4'!$9:$9,0)),\"---\")","v":"---"},{"$f":"SUMIFS('Пр. №1.2.'!$L:$L,'Пр. №1.2.'!$B:$B,'Пр. №3'!$D62,'Пр. №1.2.'!$E:$E,'Пр. №3'!$G62)","v":0},{"$error":"#VALUE!"},{"$error":"#VALUE!"}]
[{"$f":"ROW()","v":63},7,"Ввод данных",{"$error":"#N/A"},{"$f":"INDEX('Пр. №2'!$1:$1048576,MATCH('Пр. №3'!$F63,'Пр. №2'!$D:$D,0),COLUMN('Пр. №2'!$C$5))","v":{"$error":"#N/A"}},null,null,null,null,null,null,null,null,null,null,null,null,null,null,null,null,null,null,null,null,null,null,null,null,null,null,null,null,null,null,null,null,null,null,null,null,null,null,null,null,null,null,null,null,null,null,null,null,null,null,null,null,null,null,null,null,null,null,null,null,null,null,null,0,null,{"$f":"IFERROR(INDEX(справочник!$G$1:$I$7,MATCH($BV63,справочник!$G$1:$G$7,0),3),\"---\")","v":"---"},{"$f":"IFERROR(INDEX('Пр. №1'!$B$11:$C$34,MATCH(BS63,'Пр. №1'!$B$11:$B$34,0),2),\"---\")","v":"---"},{"$f":"IFERROR(INDEX('Состав ВТК-ВРГ'!$1:$1048576,MATCH($G63,'Состав ВТК-ВРГ'!$B:$B,0),MATCH(BU$6,'Состав ВТК-ВРГ'!$3:$3,0)),\"---\")","v":"---"},{"$f":"IFERROR(INDEX('Состав ВТК-ВРГ'!$1:$1048576,MATCH($G63,'Состав ВТК-ВРГ'!$B:$B,0),MATCH(BV$6,'Состав ВТК-ВРГ'!$3:$3,0)),\"---\")","v":"---"},{"$f":"IFERROR(INDEX(справочник!$G$1:$I$7,MATCH($BV63,справочник!$G$1:$G$7,0),2),\"---\")","v":"---"},{"$f":"IFERROR(INDEX('Состав ВТК-ВРГ'!$1:$1048576,MATCH($G63,'Состав ВТК-ВРГ'!$B:$B,0),MATCH(BX$6,'Состав ВТК-ВРГ'!$3:$3,0)),\"---\")","v":"---"},{"$f":"IFERROR(INDEX('Пр. №4'!$1:$1048576,MATCH(BX63,'Пр. №4'!$C:$C,0),MATCH('Пр. №3'!$D$5,'Пр. №4'!$9:$9,0)),\"---\")","v":"---"},{"$f":"SUMIFS('Пр. №1.2.'!$L:$L,'Пр. №1.2.'!$B:$B,'Пр. №3'!$D63,'Пр. №1.2.'!$E:$E,'Пр. №3'!$G63)","v":0},{"$error":"#VALUE!"},{"$error":"#VALUE!"}]
[{"$f":"ROW()","v":64},8,"Ввод данных",{"$error":"#N/A"},{"$f":"INDEX('Пр. №2'!$1:$1048576,MATCH('Пр. №3'!$F64,'Пр. №2'!$D:$D,0),COLUMN('Пр. №2'!$C$5))","v":{"$error":"#N/A"}},null,null,null,null,null,null,null,null,null,null,null,null,null,null,null,null,null,null,null,null,null,null,null,null,null,null,null,null,null,null,null,null,null,null,null,null,null,null,null,null,null,null,null,null,null,null,null,null,null,null,null,null,null,null,null,null,null,null,null,null,null,null,null,0,null,{"$f":"IFERROR(INDEX(справочник!$G$1:$I$7,MATCH($BV64,справочник!$G$1:$G$7,0),3),\"---\")","v":"---"},{"$f":"IFERROR(INDEX('Пр. №1'!$B$11:$C$34,MATCH(BS64,'Пр. №1'!$B$11:$B$34,0),2),\"---\")","v":"---"},{"$f":"IFERROR(INDEX('Состав ВТК-ВРГ'!$1:$1048576,MATCH($G64,'Состав ВТК-ВРГ'!$B:$B,0),MATCH(BU$6,'Состав ВТК-ВРГ'!$3:$3,0)),\"---\")","v":"---"},{"$f":"IFERROR(INDEX('Состав ВТК-ВРГ'!$1:$1048576,MATCH($G64,'Состав ВТК-ВРГ'!$B:$B,0),MATCH(BV$6,'Состав ВТК-ВРГ'!$3:$3,0)),\"---\")","v":"---"},{"$f":"IFERROR(INDEX(справочник!$G$1:$I$7,MATCH($BV64,справочник!$G$1:$G$7,0),2),\"---\")","v":"---"},{"$f":"IFERROR(INDEX('Состав ВТК-ВРГ'!$1:$1048576,MATCH($G64,'Состав ВТК-ВРГ'!$B:$B,0),MATCH(BX$6,'Состав ВТК-ВРГ'!$3:$3,0)),\"---\")","v":"---"},{"$f":"IFERROR(INDEX('Пр. №4'!$1:$1048576,MATCH(BX64,'Пр. №4'!$C:$C,0),MATCH('Пр. №3'!$D$5,'Пр. №4'!$9:$9,0)),\"---\")","v":"---"},{"$f":"SUMIFS('Пр. №1.2.'!$L:$L,'Пр. №1.2.'!$B:$B,'Пр. №3'!$D64,'Пр. №1.2.'!$E:$E,'Пр. №3'!$G64)","v":0},{"$error":"#VALUE!"},{"$f":"BQ64*BZ64*BY64","v":{"$error":"#VALUE!"}}]
[{"$f":"ROW()","v":65},9,"Ввод данных",{"$error":"#N/A"},{"$f":"INDEX('Пр. №2'!$1:$1048576,MATCH('Пр. №3'!$F65,'Пр. №2'!$D:$D,0),COLUMN('Пр. №2'!$C$5))","v":{"$error":"#N/A"}},null,null,null,null,null,null,null,null,null,null,null,null,null,null,null,null,null,null,null,null,null,null,null,null,null,null,null,null,null,null,null,null,null,null,null,null,null,null,null,null,null,null,null,null,null,null,null,null,null,null,null,null,null,null,null,null,null,null,null,null,null,null,null,0,null,{"$f":"IFERROR(INDEX(справочник!$G$1:$I$7,MATCH($BV65,справочник!$G$1:$G$7,0),3),\"---\")","v":"---"},{"$f":"IFERROR(INDEX('Пр. №1'!$B$11:$C$34,MATCH(BS65,'Пр. №1'!$B$11:$B$34,0),2),\"---\")","v":"---"},{"$f":"IFERROR(INDEX('Состав ВТК-ВРГ'!$1:$1048576,MATCH($G65,'Состав ВТК-ВРГ'!$B:$B,0),MATCH(BU$6,'Состав ВТК-ВРГ'!$3:$3,0)),\"---\")","v":"---"},{"$f":"IFERROR(INDEX('Состав ВТК-ВРГ'!$1:$1048576,MATCH($G65,'Состав ВТК-ВРГ'!$B:$B,0),MATCH(BV$6,'Состав ВТК-ВРГ'!$3:$3,0)),\"---\")","v":"---"},{"$f":"IFERROR(INDEX(справочник!$G$1:$I$7,MATCH($BV65,справочник!$G$1:$G$7,0),2),\"---\")","v":"---"},{"$f":"IFERROR(INDEX('Состав ВТК-ВРГ'!$1:$1048576,MATCH($G65,'Состав ВТК-ВРГ'!$B:$B,0),MATCH(BX$6,'Состав ВТК-ВРГ'!$3:$3,0)),\"---\")","v":"---"},{"$f":"IFERROR(INDEX('Пр. №4'!$1:$1048576,MATCH(BX65,'Пр. №4'!$C:$C,0),MATCH('Пр. №3'!$D$5,'Пр. №4'!$9:$9,0)),\"---\")","v":"---"},{"$f":"SUMIFS('Пр. №1.2.'!$L:$L,'Пр. №1.2.'!$B:$B,'Пр. №3'!$D65,'Пр. №1.2.'!$E:$E,'Пр. №3'!$G65)","v":0},{"$error":"#VALUE!"},{"$error":"#VALUE!"}]
[{"$f":"ROW()","v":66},10,"Ввод данных",{"$error":"#N/A"},{"$f":"INDEX('Пр. №2'!$1:$1048576,MATCH('Пр. №3'!$F66,'Пр. №2'!$D:$D,0),COLUMN('Пр. №2'!$C$5))","v":{"$error":"#N/A"}},null,null,null,null,null,null,null,null,null,null,null,null,null,null,null,null,null,null,null,null,null,null,null,null,null,null,null,null,null,null,null,null,null,null,null,null,null,null,null,null,null,null,null,null,null,null,null,null,null,null,null,null,null,null,null,null,null,null,null,null,null,null,null,0,null,{"$f":"IFERROR(INDEX(справочник!$G$1:$I$7,MATCH($BV66,справочник!$G$1:$G$7,0),3),\"---\")","v":"---"},{"$f":"IFERROR(INDEX('Пр. №1'!$B$11:$C$34,MATCH(BS66,'Пр. №1'!$B$11:$B$34,0),2),\"---\")","v":"---"},{"$f":"IFERROR(INDEX('Состав ВТК-ВРГ'!$1:$1048576,MATCH($G66,'Состав ВТК-ВРГ'!$B:$B,0),MATCH(BU$6,'Состав ВТК-ВРГ'!$3:$3,0)),\"---\")","v":"---"},{"$f":"IFERROR(INDEX('Состав ВТК-ВРГ'!$1:$1048576,MATCH($G66,'Состав ВТК-ВРГ'!$B:$B,0),MATCH(BV$6,'Состав ВТК-ВРГ'!$3:$3,0)),\"---\")","v":"---"},{"$f":"IFERROR(INDEX(справочник!$G$1:$I$7,MATCH($BV66,справочник!$G$1:$G$7,0),2),\"---\")","v":"---"},{"$f":"IFERROR(INDEX('Состав ВТК-ВРГ'!$1:$1048576,MATCH($G66,'Состав ВТК-ВРГ'!$B:$B,0),MATCH(BX$6,'Состав ВТК-ВРГ'!$3:$3,0)),\"---\")","v":"---"},{"$f":"IFERROR(INDEX('Пр. №4'!$1:$1048576,MATCH(BX66,'Пр. №4'!$C:$C,0),MATCH('Пр. №3'!$D$5,'Пр. №4'!$9:$9,0)),\"---\")","v":"---"},{"$f":"SUMIFS('Пр. №1.2.'!$L:$L,'Пр. №1.2.'!$B:$B,'Пр. №3'!$D66,'Пр. №1.2.'!$E:$E,'Пр. №3'!$G66)","v":0},{"$error":"#VALUE!"},{"$error":"#VALUE!"}]
[{"$f":"ROW()","v":67},11,"Ввод данных",{"$error":"#N/A"},{"$f":"INDEX('Пр. №2'!$1:$1048576,MATCH('Пр. №3'!$F67,'Пр. №2'!$D:$D,0),COLUMN('Пр. №2'!$C$5))","v":{"$error":"#N/A"}},null,null,null,null,null,null,null,null,null,null,null,null,null,null,null,null,null,null,null,null,null,null,null,null,null,null,null,null,null,null,null,null,null,null,null,null,null,null,null,null,null,null,null,null,null,null,null,null,null,null,null,null,null,null,null,null,null,null,null,null,null,null,null,0,null,{"$f":"IFERROR(INDEX(справочник!$G$1:$I$7,MATCH($BV67,справочник!$G$1:$G$7,0),3),\"---\")","v":"---"},{"$f":"IFERROR(INDEX('Пр. №1'!$B$11:$C$34,MATCH(BS67,'Пр. №1'!$B$11:$B$34,0),2),\"---\")","v":"---"},{"$f":"IFERROR(INDEX('Состав ВТК-ВРГ'!$1:$1048576,MATCH($G67,'Состав ВТК-ВРГ'!$B:$B,0),MATCH(BU$6,'Состав ВТК-ВРГ'!$3:$3,0)),\"---\")","v":"---"},{"$f":"IFERROR(INDEX('Состав ВТК-ВРГ'!$1:$1048576,MATCH($G67,'Состав ВТК-ВРГ'!$B:$B,0),MATCH(BV$6,'Состав ВТК-ВРГ'!$3:$3,0)),\"---\")","v":"---"},{"$f":"IFERROR(INDEX(справочник!$G$1:$I$7,MATCH($BV67,справочник!$G$1:$G$7,0),2),\"---\")","v":"---"},{"$f":"IFERROR(INDEX('Состав ВТК-ВРГ'!$1:$1048576,MATCH($G67,'Состав ВТК-ВРГ'!$B:$B,0),MATCH(BX$6,'Состав ВТК-ВРГ'!$3:$3,0)),\"---\")","v":"---"},{"$f":"IFERROR(INDEX('Пр. №4'!$1:$1048576,MATCH(BX67,'Пр. №4'!$C:$C,0),MATCH('Пр. №3'!$D$5,'Пр. №4'!$9:$9,0)),\"---\")","v":"---"},{"$f":"SUMIFS('Пр. №1.2.'!$L:$L,'Пр. №1.2.'!$B:$B,'Пр. №3'!$D67,'Пр. №1.2.'!$E:$E,'Пр. №3'!$G67)","v":0},{"$error":"#VALUE!"},{"$error":"#VALUE!"}]
[{"$f":"ROW()","v":68},12,"Ввод данных",{"$error":"#N/A"},{"$f":"INDEX('Пр. №2'!$1:$1048576,MATCH('Пр. №3'!$F68,'Пр. №2'!$D:$D,0),COLUMN('Пр. №2'!$C$5))","v":{"$error":"#N/A"}},null,null,null,null,null,null,null,null,null,null,null,null,null,null,null,null,null,null,null,null,null,null,null,null,null,null,null,null,null,null,null,null,null,null,null,null,null,null,null,null,null,null,null,null,null,null,null,null,null,null,null,null,null,null,null,null,null,null,null,null,null,null,null,0,null,{"$f":"IFERROR(INDEX(справочник!$G$1:$I$7,MATCH($BV68,справочник!$G$1:$G$7,0),3),\"---\")","v":"---"},{"$f":"IFERROR(INDEX('Пр. №1'!$B$11:$C$34,MATCH(BS68,'Пр. №1'!$B$11:$B$34,0),2),\"---\")","v":"---"},{"$f":"IFERROR(INDEX('Состав ВТК-ВРГ'!$1:$1048576,MATCH($G68,'Состав ВТК-ВРГ'!$B:$B,0),MATCH(BU$6,'Состав ВТК-ВРГ'!$3:$3,0)),\"---\")","v":"---"},{"$f":"IFERROR(INDEX('Состав ВТК-ВРГ'!$1:$1048576,MATCH($G68,'Состав ВТК-ВРГ'!$B:$B,0),MATCH(BV$6,'Состав ВТК-ВРГ'!$3:$3,0)),\"---\")","v":"---"},{"$f":"IFERROR(INDEX(справочник!$G$1:$I$7,MATCH($BV68,справочник!$G$1:$G$7,0),2),\"---\")","v":"---"},{"$f":"IFERROR(INDEX('Состав ВТК-ВРГ'!$1:$1048576,MATCH($G68,'Состав ВТК-ВРГ'!$B:$B,0),MATCH(BX$6,'Состав ВТК-ВРГ'!$3:$3,0)),\"---\")","v":"---"},{"$f":"IFERROR(INDEX('Пр. №4'!$1:$1048576,MATCH(BX68,'Пр. №4'!$C:$C,0),MATCH('Пр. №3'!$D$5,'Пр. №4'!$9:$9,0)),\"---\")","v":"---"},{"$f":"SUMIFS('Пр. №1.2.'!$L:$L,'Пр. №1.2.'!$B:$B,'Пр. №3'!$D68,'Пр. №1.2.'!$E:$E,'Пр. №3'!$G68)","v":0},{"$error":"#VALUE!"},{"$error":"#VALUE!"}]
[{"$f":"ROW()","v":69},13,"Ввод данных",{"$error":"#N/A"},{"$f":"INDEX('Пр. №2'!$1:$1048576,MATCH('Пр. №3'!$F69,'Пр. №2'!$D:$D,0),COLUMN('Пр. №2'!$C$5))","v":{"$error":"#N/A"}},null,null,null,null,null,null,null,null,null,null,null,null,null,null,null,null,null,null,null,null,null,null,null,null,null,null,null,null,null,null,null,null,null,null,null,null,null,null,null,null,null,null,null,null,null,null,null,null,null,null,null,null,null,null,null,null,null,null,null,null,null,null,null,0,null,{"$f":"IFERROR(INDEX(справочник!$G$1:$I$7,MATCH($BV69,справочник!$G$1:$G$7,0),3),\"---\")","v":"---"},{"$f":"IFERROR(INDEX('Пр. №1'!$B$11:$C$34,MATCH(BS69,'Пр. №1'!$B$11:$B$34,0),2),\"---\")","v":"---"},{"$f":"IFERROR(INDEX('Состав ВТК-ВРГ'!$1:$1048576,MATCH($G69,'Состав ВТК-ВРГ'!$B:$B,0),MATCH(BU$6,'Состав ВТК-ВРГ'!$3:$3,0)),\"---\")","v":"---"},{"$f":"IFERROR(INDEX('Состав ВТК-ВРГ'!$1:$1048576,MATCH($G69,'Состав ВТК-ВРГ'!$B:$B,0),MATCH(BV$6,'Состав ВТК-ВРГ'!$3:$3,0)),\"---\")","v":"---"},{"$f":"IFERROR(INDEX(справочник!$G$1:$I$7,MATCH($BV69,справочник!$G$1:$G$7,0),2),\"---\")","v":"---"},{"$f":"IFERROR(INDEX('Состав ВТК-ВРГ'!$1:$1048576,MATCH($G69,'Состав ВТК-ВРГ'!$B:$B,0),MATCH(BX$6,'Состав ВТК-ВРГ'!$3:$3,0)),\"---\")","v":"---"},{"$f":"IFERROR(INDEX('Пр. №4'!$1:$1048576,MATCH(BX69,'Пр. №4'!$C:$C,0),MATCH('Пр. №3'!$D$5,'Пр. №4'!$9:$9,0)),\"---\")","v":"---"},{"$f":"SUMIFS('Пр. №1.2.'!$L:$L,'Пр. №1.2.'!$B:$B,'Пр. №3'!$D69,'Пр. №1.2.'!$E:$E,'Пр. №3'!$G69)","v":0},{"$error":"#VALUE!"},{"$error":"#VALUE!"}]
[{"$f":"ROW()","v":70},14,"Ввод данных",{"$error":"#N/A"},{"$f":"INDEX('Пр. №2'!$1:$1048576,MATCH('Пр. №3'!$F70,'Пр. №2'!$D:$D,0),COLUMN('Пр. №2'!$C$5))","v":{"$error":"#N/A"}},null,null,null,null,null,null,null,null,null,null,null,null,null,null,null,null,null,null,null,null,null,null,null,null,null,null,null,null,null,null,null,null,null,null,null,null,null,null,null,null,null,null,null,null,null,null,null,null,null,null,null,null,null,null,null,null,null,null,null,null,null,null,null,0,null,{"$f":"IFERROR(INDEX(справочник!$G$1:$I$7,MATCH($BV70,справочник!$G$1:$G$7,0),3),\"---\")","v":"---"},{"$f":"IFERROR(INDEX('Пр. №1'!$B$11:$C$34,MATCH(BS70,'Пр. №1'!$B$11:$B$34,0),2),\"---\")","v":"---"},{"$f":"IFERROR(INDEX('Состав ВТК-ВРГ'!$1:$1048576,MATCH($G70,'Состав ВТК-ВРГ'!$B:$B,0),MATCH(BU$6,'Состав ВТК-ВРГ'!$3:$3,0)),\"---\")","v":"---"},{"$f":"IFERROR(INDEX('Состав ВТК-ВРГ'!$1:$1048576,MATCH($G70,'Состав ВТК-ВРГ'!$B:$B,0),MATCH(BV$6,'Состав ВТК-ВРГ'!$3:$3,0)),\"---\")","v":"---"},{"$f":"IFERROR(INDEX(справочник!$G$1:$I$7,MATCH($BV70,справочник!$G$1:$G$7,0),2),\"---\")","v":"---"},{"$f":"IFERROR(INDEX('Состав ВТК-ВРГ'!$1:$1048576,MATCH($G70,'Состав ВТК-ВРГ'!$B:$B,0),MATCH(BX$6,'Состав ВТК-ВРГ'!$3:$3,0)),\"---\")","v":"---"},{"$f":"IFERROR(INDEX('Пр. №4'!$1:$1048576,MATCH(BX70,'Пр. №4'!$C:$C,0),MATCH('Пр. №3'!$D$5,'Пр. №4'!$9:$9,0)),\"---\")","v":"---"},{"$f":"SUMIFS('Пр. №1.2.'!$L:$L,'Пр. №1.2.'!$B:$B,'Пр. №3'!$D70,'Пр. №1.2.'!$E:$E,'Пр. №3'!$G70)","v":0},{"$error":"#VALUE!"},{"$error":"#VALUE!"}]
[{"$f":"ROW()","v":71},15,"Ввод данных",{"$error":"#N/A"},{"$f":"INDEX('Пр. №2'!$1:$1048576,MATCH('Пр. №3'!$F71,'Пр. №2'!$D:$D,0),COLUMN('Пр. №2'!$C$5))","v":{"$error":"#N/A"}},null,null,null,null,null,null,null,null,null,null,null,null,null,null,null,null,null,null,null,null,null,null,null,null,null,null,null,null,null,null,null,null,null,null,null,null,null,null,null,null,null,null,null,null,null,null,null,null,null,null,null,null,null,null,null,null,null,null,null,null,null,null,null,0,null,{"$f":"IFERROR(INDEX(справочник!$G$1:$I$7,MATCH($BV71,справочник!$G$1:$G$7,0),3),\"---\")","v":"---"},{"$f":"IFERROR(INDEX('Пр. №1'!$B$11:$C$34,MATCH(BS71,'Пр. №1'!$B$11:$B$34,0),2),\"---\")","v":"---"},{"$f":"IFERROR(INDEX('Состав ВТК-ВРГ'!$1:$1048576,MATCH($G71,'Состав ВТК-ВРГ'!$B:$B,0),MATCH(BU$6,'Состав ВТК-ВРГ'!$3:$3,0)),\"---\")","v":"---"},{"$f":"IFERROR(INDEX('Состав ВТК-ВРГ'!$1:$1048576,MATCH($G71,'Состав ВТК-ВРГ'!$B:$B,0),MATCH(BV$6,'Состав ВТК-ВРГ'!$3:$3,0)),\"---\")","v":"---"},{"$f":"IFERROR(INDEX(справочник!$G$1:$I$7,MATCH($BV71,справочник!$G$1:$G$7,0),2),\"---\")","v":"---"},{"$f":"IFERROR(INDEX('Состав ВТК-ВРГ'!$1:$1048576,MATCH($G71,'Состав ВТК-ВРГ'!$B:$B,0),MATCH(BX$6,'Состав ВТК-ВРГ'!$3:$3,0)),\"---\")","v":"---"},{"$f":"IFERROR(INDEX('Пр. №4'!$1:$1048576,MATCH(BX71,'Пр. №4'!$C:$C,0),MATCH('Пр. №3'!$D$5,'Пр. №4'!$9:$9,0)),\"---\")","v":"---"},{"$f":"SUMIFS('Пр. №1.2.'!$L:$L,'Пр. №1.2.'!$B:$B,'Пр. №3'!$D71,'Пр. №1.2.'!$E:$E,'Пр. №3'!$G71)","v":0},{"$error":"#VALUE!"},{"$error":"#VALUE!"}]
[{"$f":"ROW()","v":72},16,"Ввод данных",{"$error":"#N/A"},{"$f":"INDEX('Пр. №2'!$1:$1048576,MATCH('Пр. №3'!$F72,'Пр. №2'!$D:$D,0),COLUMN('Пр. №2'!$C$5))","v":{"$error":"#N/A"}},null,null,null,null,null,null,null,null,null,null,null,null,null,null,null,null,null,null,null,null,null,null,null,null,null,null,null,null,null,null,null,null,null,null,null,null,null,null,null,null,null,null,null,null,null,null,null,null,null,null,null,null,null,null,null,null,null,null,null,null,null,null,null,0,null,{"$f":"IFERROR(INDEX(справочник!$G$1:$I$7,MATCH($BV72,справочник!$G$1:$G$7,0),3),\"---\")","v":"---"},{"$f":"IFERROR(INDEX('Пр. №1'!$B$11:$C$34,MATCH(BS72,'Пр. №1'!$B$11:$B$34,0),2),\"---\")","v":"---"},{"$f":"IFERROR(INDEX('Состав ВТК-ВРГ'!$1:$1048576,MATCH($G72,'Состав ВТК-ВРГ'!$B:$B,0),MATCH(BU$6,'Состав ВТК-ВРГ'!$3:$3,0)),\"---\")","v":"---"},{"$f":"IFERROR(INDEX('Состав ВТК-ВРГ'!$1:$1048576,MATCH($G72,'Состав ВТК-ВРГ'!$B:$B,0),MATCH(BV$6,'Состав ВТК-ВРГ'!$3:$3,0)),\"---\")","v":"---"},{"$f":"IFERROR(INDEX(справочник!$G$1:$I$7,MATCH($BV72,справочник!$G$1:$G$7,0),2),\"---\")","v":"---"},{"$f":"IFERROR(INDEX('Состав ВТК-ВРГ'!$1:$1048576,MATCH($G72,'Состав ВТК-ВРГ'!$B:$B,0),MATCH(BX$6,'Состав ВТК-ВРГ'!$3:$3,0)),\"---\")","v":"---"},{"$f":"IFERROR(INDEX('Пр. №4'!$1:$1048576,MATCH(BX72,'Пр. №4'!$C:$C,0),MATCH('Пр. №3'!$D$5,'Пр. №4'!$9:$9,0)),\"---\")","v":"---"},{"$f":"SUMIFS('Пр. №1.2.'!$L:$L,'Пр. №1.2.'!$B:$B,'Пр. №3'!$D72,'Пр. №1.2.'!$E:$E,'Пр. №3'!$G72)","v":0},{"$error":"#VALUE!"},{"$error":"#VALUE!"}]
[{"$f":"ROW()","v":73},17,"Ввод данных",{"$error":"#N/A"},{"$f":"INDEX('Пр. №2'!$1:$1048576,MATCH('Пр. №3'!$F73,'Пр. №2'!$D:$D,0),COLUMN('Пр. №2'!$C$5))","v":{"$error":"#N/A"}},null,null,null,null,null,null,null,null,null,null,null,null,null,null,null,null,null,null,null,null,null,null,null,null,null,null,null,null,null,null,null,null,null,null,null,null,null,null,null,null,null,null,null,null,null,null,null,null,null,null,null,null,null,null,null,null,null,null,null,null,null,null,null,0,null,{"$f":"IFERROR(INDEX(справочник!$G$1:$I$7,MATCH($BV73,справочник!$G$1:$G$7,0),3),\"---\")","v":"---"},{"$f":"IFERROR(INDEX('Пр. №1'!$B$11:$C$34,MATCH(BS73,'Пр. №1'!$B$11:$B$34,0),2),\"---\")","v":"---"},{"$f":"IFERROR(INDEX('Состав ВТК-ВРГ'!$1:$1048576,MATCH($G73,'Состав ВТК-ВРГ'!$B:$B,0),MATCH(BU$6,'Состав ВТК-ВРГ'!$3:$3,0)),\"---\")","v":"---"},{"$f":"IFERROR(INDEX('Состав ВТК-ВРГ'!$1:$1048576,MATCH($G73,'Состав ВТК-ВРГ'!$B:$B,0),MATCH(BV$6,'Состав ВТК-ВРГ'!$3:$3,0)),\"---\")","v":"---"},{"$f":"IFERROR(INDEX(справочник!$G$1:$I$7,MATCH($BV73,справочник!$G$1:$G$7,0),2),\"---\")","v":"---"},{"$f":"IFERROR(INDEX('Состав ВТК-ВРГ'!$1:$1048576,MATCH($G73,'Состав ВТК-ВРГ'!$B:$B,0),MATCH(BX$6,'Состав ВТК-ВРГ'!$3:$3,0)),\"---\")","v":"---"},{"$f":"IFERROR(INDEX('Пр. №4'!$1:$1048576,MATCH(BX73,'Пр. №4'!$C:$C,0),MATCH('Пр. №3'!$D$5,'Пр. №4'!$9:$9,0)),\"---\")","v":"---"},{"$f":"SUMIFS('Пр. №1.2.'!$L:$L,'Пр. №1.2.'!$B:$B,'Пр. №3'!$D73,'Пр. №1.2.'!$E:$E,'Пр. №3'!$G73)","v":0},{"$error":"#VALUE!"},{"$error":"#VALUE!"}]
[{"$f":"ROW()","v":74},18,"Ввод данных",{"$error":"#N/A"},{"$f":"INDEX('Пр. №2'!$1:$1048576,MATCH('Пр. №3'!$F74,'Пр. №2'!$D:$D,0),COLUMN('Пр. №2'!$C$5))","v":{"$error":"#N/A"}},null,null,null,null,null,null,null,null,null,null,null,null,null,null,null,null,null,null,null,null,null,null,null,null,null,null,null,null,null,null,null,null,null,null,null,null,null,null,null,null,null,null,null,null,null,null,null,null,null,null,null,null,null,null,null,null,null,null,null,null,null,null,null,0,null,{"$f":"IFERROR(INDEX(справочник!$G$1:$I$7,MATCH($BV74,справочник!$G$1:$G$7,0),3),\"---\")","v":"---"},{"$f":"IFERROR(INDEX('Пр. №1'!$B$11:$C$34,MATCH(BS74,'Пр. №1'!$B$11:$B$34,0),2),\"---\")","v":"---"},{"$f":"IFERROR(INDEX('Состав ВТК-ВРГ'!$1:$1048576,MATCH($G74,'Состав ВТК-ВРГ'!$B:$B,0),MATCH(BU$6,'Состав ВТК-ВРГ'!$3:$3,0)),\"---\")","v":"---"},{"$f":"IFERROR(INDEX('Состав ВТК-ВРГ'!$1:$1048576,MATCH($G74,'Состав ВТК-ВРГ'!$B:$B,0),MATCH(BV$6,'Состав ВТК-ВРГ'!$3:$3,0)),\"---\")","v":"---"},{"$f":"IFERROR(INDEX(справочник!$G$1:$I$7,MATCH($BV74,справочник!$G$1:$G$7,0),2),\"---\")","v":"---"},{"$f":"IFERROR(INDEX('Состав ВТК-ВРГ'!$1:$1048576,MATCH($G74,'Состав ВТК-ВРГ'!$B:$B,0),MATCH(BX$6,'Состав ВТК-ВРГ'!$3:$3,0)),\"---\")","v":"---"},{"$f":"IFERROR(INDEX('Пр. №4'!$1:$1048576,MATCH(BX74,'Пр. №4'!$C:$C,0),MATCH('Пр. №3'!$D$5,'Пр. №4'!$9:$9,0)),\"---\")","v":"---"},{"$f":"SUMIFS('Пр. №1.2.'!$L:$L,'Пр. №1.2.'!$B:$B,'Пр. №3'!$D74,'Пр. №1.2.'!$E:$E,'Пр. №3'!$G74)","v":0},{"$error":"#VALUE!"},{"$f":"BQ74*BZ74*BY74","v":{"$error":"#VALUE!"}}]
[{"$f":"ROW()","v":75},19,"Ввод данных",{"$error":"#N/A"},{"$f":"INDEX('Пр. №2'!$1:$1048576,MATCH('Пр. №3'!$F75,'Пр. №2'!$D:$D,0),COLUMN('Пр. №2'!$C$5))","v":{"$error":"#N/A"}},null,null,null,null,null,null,null,null,null,null,null,null,null,null,null,null,null,null,null,null,null,null,null,null,null,null,null,null,null,null,null,null,null,null,null,null,null,null,null,null,null,null,null,null,null,null,null,null,null,null,null,null,null,null,null,null,null,null,null,null,null,null,null,0,null,{"$f":"IFERROR(INDEX(справочник!$G$1:$I$7,MATCH($BV75,справочник!$G$1:$G$7,0),3),\"---\")","v":"---"},{"$f":"IFERROR(INDEX('Пр. №1'!$B$11:$C$34,MATCH(BS75,'Пр. №1'!$B$11:$B$34,0),2),\"---\")","v":"---"},{"$f":"IFERROR(INDEX('Состав ВТК-ВРГ'!$1:$1048576,MATCH($G75,'Состав ВТК-ВРГ'!$B:$B,0),MATCH(BU$6,'Состав ВТК-ВРГ'!$3:$3,0)),\"---\")","v":"---"},{"$f":"IFERROR(INDEX('Состав ВТК-ВРГ'!$1:$1048576,MATCH($G75,'Состав ВТК-ВРГ'!$B:$B,0),MATCH(BV$6,'Состав ВТК-ВРГ'!$3:$3,0)),\"---\")","v":"---"},{"$f":"IFERROR(INDEX(справочник!$G$1:$I$7,MATCH($BV75,справочник!$G$1:$G$7,0),2),\"---\")","v":"---"},{"$f":"IFERROR(INDEX('Состав ВТК-ВРГ'!$1:$1048576,MATCH($G75,'Состав ВТК-ВРГ'!$B:$B,0),MATCH(BX$6,'Состав ВТК-ВРГ'!$3:$3,0)),\"---\")","v":"---"},{"$f":"IFERROR(INDEX('Пр. №4'!$1:$1048576,MATCH(BX75,'Пр. №4'!$C:$C,0),MATCH('Пр. №3'!$D$5,'Пр. №4'!$9:$9,0)),\"---\")","v":"---"},{"$f":"SUMIFS('Пр. №1.2.'!$L:$L,'Пр. №1.2.'!$B:$B,'Пр. №3'!$D75,'Пр. №1.2.'!$E:$E,'Пр. №3'!$G75)","v":0},{"$error":"#VALUE!"},{"$error":"#VALUE!"}]
[{"$f":"ROW()","v":76},20,"Ввод данных",{"$error":"#N/A"},{"$f":"INDEX('Пр. №2'!$1:$1048576,MATCH('Пр. №3'!$F76,'Пр. №2'!$D:$D,0),COLUMN('Пр. №2'!$C$5))","v":{"$error":"#N/A"}},null,null,null,null,null,null,null,null,null,null,null,null,null,null,null,null,null,null,null,null,null,null,null,null,null,null,null,null,null,null,null,null,null,null,null,null,null,null,null,null,null,null,null,null,null,null,null,null,null,null,null,null,null,null,null,null,null,null,null,null,null,null,null,0,null,{"$f":"IFERROR(INDEX(справочник!$G$1:$I$7,MATCH($BV76,справочник!$G$1:$G$7,0),3),\"---\")","v":"---"},{"$f":"IFERROR(INDEX('Пр. №1'!$B$11:$C$34,MATCH(BS76,'Пр. №1'!$B$11:$B$34,0),2),\"---\")","v":"---"},{"$f":"IFERROR(INDEX('Состав ВТК-ВРГ'!$1:$1048576,MATCH($G76,'Состав ВТК-ВРГ'!$B:$B,0),MATCH(BU$6,'Состав ВТК-ВРГ'!$3:$3,0)),\"---\")","v":"---"},{"$f":"IFERROR(INDEX('Состав ВТК-ВРГ'!$1:$1048576,MATCH($G76,'Состав ВТК-ВРГ'!$B:$B,0),MATCH(BV$6,'Состав ВТК-ВРГ'!$3:$3,0)),\"---\")","v":"---"},{"$f":"IFERROR(INDEX(справочник!$G$1:$I$7,MATCH($BV76,справочник!$G$1:$G$7,0),2),\"---\")","v":"---"},{"$f":"IFERROR(INDEX('Состав ВТК-ВРГ'!$1:$1048576,MATCH($G76,'Состав ВТК-ВРГ'!$B:$B,0),MATCH(BX$6,'Состав ВТК-ВРГ'!$3:$3,0)),\"---\")","v":"---"},{"$f":"IFERROR(INDEX('Пр. №4'!$1:$1048576,MATCH(BX76,'Пр. №4'!$C:$C,0),MATCH('Пр. №3'!$D$5,'Пр. №4'!$9:$9,0)),\"---\")","v":"---"},{"$f":"SUMIFS('Пр. №1.2.'!$L:$L,'Пр. №1.2.'!$B:$B,'Пр. №3'!$D76,'Пр. №1.2.'!$E:$E,'Пр. №3'!$G76)","v":0},{"$error":"#VALUE!"},{"$error":"#VALUE!"}]
[{"$f":"ROW()","v":77},21,"Ввод данных",{"$error":"#N/A"},{"$f":"INDEX('Пр. №2'!$1:$1048576,MATCH('Пр. №3'!$F77,'Пр. №2'!$D:$D,0),COLUMN('Пр. №2'!$C$5))","v":{"$error":"#N/A"}},null,null,null,null,null,null,null,null,null,null,null,null,null,null,null,null,null,null,null,null,null,null,null,null,null,null,null,null,null,null,null,null,null,null,null,null,null,null,null,null,null,null,null,null,null,null,null,null,null,null,null,null,null,null,null,null,null,null,null,null,null,null,null,0,null,{"$f":"IFERROR(INDEX(справочник!$G$1:$I$7,MATCH($BV77,справочник!$G$1:$G$7,0),3),\"---\")","v":"---"},{"$f":"IFERROR(INDEX('Пр. №1'!$B$11:$C$34,MATCH(BS77,'Пр. №1'!$B$11:$B$34,0),2),\"---\")","v":"---"},{"$f":"IFERROR(INDEX('Состав ВТК-ВРГ'!$1:$1048576,MATCH($G77,'Состав ВТК-ВРГ'!$B:$B,0),MATCH(BU$6,'Состав ВТК-ВРГ'!$3:$3,0)),\"---\")","v":"---"},{"$f":"IFERROR(INDEX('Состав ВТК-ВРГ'!$1:$1048576,MATCH($G77,'Состав ВТК-ВРГ'!$B:$B,0),MATCH(BV$6,'Состав ВТК-ВРГ'!$3:$3,0)),\"---\")","v":"---"},{"$f":"IFERROR(INDEX(справочник!$G$1:$I$7,MATCH($BV77,справочник!$G$1:$G$7,0),2),\"---\")","v":"---"},{"$f":"IFERROR(INDEX('Состав ВТК-ВРГ'!$1:$1048576,MATCH($G77,'Состав ВТК-ВРГ'!$B:$B,0),MATCH(BX$6,'Состав ВТК-ВРГ'!$3:$3,0)),\"---\")","v":"---"},{"$f":"IFERROR(INDEX('Пр. №4'!$1:$1048576,MATCH(BX77,'Пр. №4'!$C:$C,0),MATCH('Пр. №3'!$D$5,'Пр. №4'!$9:$9,0)),\"---\")","v":"---"},{"$f":"SUMIFS('Пр. №1.2.'!$L:$L,'Пр. №1.2.'!$B:$B,'Пр. №3'!$D77,'Пр. №1.2.'!$E:$E,'Пр. №3'!$G77)","v":0},{"$error":"#VALUE!"},{"$error":"#VALUE!"}]
[{"$f":"ROW()","v":78},22,"Ввод данных",{"$error":"#N/A"},{"$f":"INDEX('Пр. №2'!$1:$1048576,MATCH('Пр. №3'!$F78,'Пр. №2'!$D:$D,0),COLUMN('Пр. №2'!$C$5))","v":{"$error":"#N/A"}},null,null,null,null,null,null,null,null,null,null,null,null,null,null,null,null,null,null,null,null,null,null,null,null,null,null,null,null,null,null,null,null,null,null,null,null,null,null,null,null,null,null,null,null,null,null,null,null,null,null,null,null,null,null,null,null,null,null,null,null,null,null,null,0,null,{"$f":"IFERROR(INDEX(справочник!$G$1:$I$7,MATCH($BV78,справочник!$G$1:$G$7,0),3),\"---\")","v":"---"},{"$f":"IFERROR(INDEX('Пр. №1'!$B$11:$C$34,MATCH(BS78,'Пр. №1'!$B$11:$B$34,0),2),\"---\")","v":"---"},{"$f":"IFERROR(INDEX('Состав ВТК-ВРГ'!$1:$1048576,MATCH($G78,'Состав ВТК-ВРГ'!$B:$B,0),MATCH(BU$6,'Состав ВТК-ВРГ'!$3:$3,0)),\"---\")","v":"---"},{"$f":"IFERROR(INDEX('Состав ВТК-ВРГ'!$1:$1048576,MATCH($G78,'Состав ВТК-ВРГ'!$B:$B,0),MATCH(BV$6,'Состав ВТК-ВРГ'!$3:$3,0)),\"---\")","v":"---"},{"$f":"IFERROR(INDEX(справочник!$G$1:$I$7,MATCH($BV78,справочник!$G$1:$G$7,0),2),\"---\")","v":"---"},{"$f":"IFERROR(INDEX('Состав ВТК-ВРГ'!$1:$1048576,MATCH($G78,'Состав ВТК-ВРГ'!$B:$B,0),MATCH(BX$6,'Состав ВТК-ВРГ'!$3:$3,0)),\"---\")","v":"---"},{"$f":"IFERROR(INDEX('Пр. №4'!$1:$1048576,MATCH(BX78,'Пр. №4'!$C:$C,0),MATCH('Пр. №3'!$D$5,'Пр. №4'!$9:$9,0)),\"---\")","v":"---"},{"$f":"SUMIFS('Пр. №1.2.'!$L:$L,'Пр. №1.2.'!$B:$B,'Пр. №3'!$D78,'Пр. №1.2.'!$E:$E,'Пр. №3'!$G78)","v":0},{"$error":"#VALUE!"},{"$error":"#VALUE!"}]
[{"$f":"ROW()","v":79},23,"Ввод данных",{"$error":"#N/A"},{"$f":"INDEX('Пр. №2'!$1:$1048576,MATCH('Пр. №3'!$F79,'Пр. №2'!$D:$D,0),COLUMN('Пр. №2'!$C$5))","v":{"$error":"#N/A"}},null,null,null,null,null,null,null,null,null,null,null,null,null,null,null,null,null,null,null,null,null,null,null,null,null,null,null,null,null,null,null,null,null,null,null,null,null,null,null,null,null,null,null,null,null,null,null,null,null,null,null,null,null,null,null,null,null,null,null,null,null,null,null,0,null,{"$f":"IFERROR(INDEX(справочник!$G$1:$I$7,MATCH($BV79,справочник!$G$1:$G$7,0),3),\"---\")","v":"---"},{"$f":"IFERROR(INDEX('Пр. №1'!$B$11:$C$34,MATCH(BS79,'Пр. №1'!$B$11:$B$34,0),2),\"---\")","v":"---"},{"$f":"IFERROR(INDEX('Состав ВТК-ВРГ'!$1:$1048576,MATCH($G79,'Состав ВТК-ВРГ'!$B:$B,0),MATCH(BU$6,'Состав ВТК-ВРГ'!$3:$3,0)),\"---\")","v":"---"},{"$f":"IFERROR(INDEX('Состав ВТК-ВРГ'!$1:$1048576,MATCH($G79,'Состав ВТК-ВРГ'!$B:$B,0),MATCH(BV$6,'Состав ВТК-ВРГ'!$3:$3,0)),\"---\")","v":"---"},{"$f":"IFERROR(INDEX(справочник!$G$1:$I$7,MATCH($BV79,справочник!$G$1:$G$7,0),2),\"---\")","v":"---"},{"$f":"IFERROR(INDEX('Состав ВТК-ВРГ'!$1:$1048576,MATCH($G79,'Состав ВТК-ВРГ'!$B:$B,0),MATCH(BX$6,'Состав ВТК-ВРГ'!$3:$3,0)),\"---\")","v":"---"},{"$f":"IFERROR(INDEX('Пр. №4'!$1:$1048576,MATCH(BX79,'Пр. №4'!$C:$C,0),MATCH('Пр. №3'!$D$5,'Пр. №4'!$9:$9,0)),\"---\")","v":"---"},{"$f":"SUMIFS('Пр. №1.2.'!$L:$L,'Пр. №1.2.'!$B:$B,'Пр. №3'!$D79,'Пр. №1.2.'!$E:$E,'Пр. №3'!$G79)","v":0},{"$error":"#VALUE!"},{"$error":"#VALUE!"}]
[{"$f":"ROW()","v":80},24,"Ввод данных",{"$error":"#N/A"},{"$f":"INDEX('Пр. №2'!$1:$1048576,MATCH('Пр. №3'!$F80,'Пр. №2'!$D:$D,0),COLUMN('Пр. №2'!$C$5))","v":{"$error":"#N/A"}},null,null,null,null,null,null,null,null,null,null,null,null,null,null,null,null,null,null,null,null,null,null,null,null,null,null,null,null,null,null,null,null,null,null,null,null,null,null,null,null,null,null,null,null,null,null,null,null,null,null,null,null,null,null,null,null,null,null,null,null,null,null,null,0,null,{"$f":"IFERROR(INDEX(справочник!$G$1:$I$7,MATCH($BV80,справочник!$G$1:$G$7,0),3),\"---\")","v":"---"},{"$f":"IFERROR(INDEX('Пр. №1'!$B$11:$C$34,MATCH(BS80,'Пр. №1'!$B$11:$B$34,0),2),\"---\")","v":"---"},{"$f":"IFERROR(INDEX('Состав ВТК-ВРГ'!$1:$1048576,MATCH($G80,'Состав ВТК-ВРГ'!$B:$B,0),MATCH(BU$6,'Состав ВТК-ВРГ'!$3:$3,0)),\"---\")","v":"---"},{"$f":"IFERROR(INDEX('Состав ВТК-ВРГ'!$1:$1048576,MATCH($G80,'Состав ВТК-ВРГ'!$B:$B,0),MATCH(BV$6,'Состав ВТК-ВРГ'!$3:$3,0)),\"---\")","v":"---"},{"$f":"IFERROR(INDEX(справочник!$G$1:$I$7,MATCH($BV80,справочник!$G$1:$G$7,0),2),\"---\")","v":"---"},{"$f":"IFERROR(INDEX('Состав ВТК-ВРГ'!$1:$1048576,MATCH($G80,'Состав ВТК-ВРГ'!$B:$B,0),MATCH(BX$6,'Состав ВТК-ВРГ'!$3:$3,0)),\"---\")","v":"---"},{"$f":"IFERROR(INDEX('Пр. №4'!$1:$1048576,MATCH(BX80,'Пр. №4'!$C:$C,0),MATCH('Пр. №3'!$D$5,'Пр. №4'!$9:$9,0)),\"---\")","v":"---"},{"$f":"SUMIFS('Пр. №1.2.'!$L:$L,'Пр. №1.2.'!$B:$B,'Пр. №3'!$D80,'Пр. №1.2.'!$E:$E,'Пр. №3'!$G80)","v":0},{"$error":"#VALUE!"},{"$error":"#VALUE!"}]
[{"$f":"ROW()","v":81},25,"Ввод данных",{"$error":"#N/A"},{"$f":"INDEX('Пр. №2'!$1:$1048576,MATCH('Пр. №3'!$F81,'Пр. №2'!$D:$D,0),COLUMN('Пр. №2'!$C$5))","v":{"$error":"#N/A"}},null,null,null,null,null,null,null,null,null,null,null,null,null,null,null,null,null,null,null,null,null,null,null,null,null,null,null,null,null,null,null,null,null,null,null,null,null,null,null,null,null,null,null,null,null,null,null,null,null,null,null,null,null,null,null,null,null,null,null,null,null,null,null,0,null,{"$f":"IFERROR(INDEX(справочник!$G$1:$I$7,MATCH($BV81,справочник!$G$1:$G$7,0),3),\"---\")","v":"---"},{"$f":"IFERROR(INDEX('Пр. №1'!$B$11:$C$34,MATCH(BS81,'Пр. №1'!$B$11:$B$34,0),2),\"---\")","v":"---"},{"$f":"IFERROR(INDEX('Состав ВТК-ВРГ'!$1:$1048576,MATCH($G81,'Состав ВТК-ВРГ'!$B:$B,0),MATCH(BU$6,'Состав ВТК-ВРГ'!$3:$3,0)),\"---\")","v":"---"},{"$f":"IFERROR(INDEX('Состав ВТК-ВРГ'!$1:$1048576,MATCH($G81,'Состав ВТК-ВРГ'!$B:$B,0),MATCH(BV$6,'Состав ВТК-ВРГ'!$3:$3,0)),\"---\")","v":"---"},{"$f":"IFERROR(INDEX(справочник!$G$1:$I$7,MATCH($BV81,справочник!$G$1:$G$7,0),2),\"---\")","v":"---"},{"$f":"IFERROR(INDEX('Состав ВТК-ВРГ'!$1:$1048576,MATCH($G81,'Состав ВТК-ВРГ'!$B:$B,0),MATCH(BX$6,'Состав ВТК-ВРГ'!$3:$3,0)),\"---\")","v":"---"},{"$f":"IFERROR(INDEX('Пр. №4'!$1:$1048576,MATCH(BX81,'Пр. №4'!$C:$C,0),MATCH('Пр. №3'!$D$5,'Пр. №4'!$9:$9,0)),\"---\")","v":"---"},{"$f":"SUMIFS('Пр. №1.2.'!$L:$L,'Пр. №1.2.'!$B:$B,'Пр. №3'!$D81,'Пр. №1.2.'!$E:$E,'Пр. №3'!$G81)","v":0},{"$error":"#VALUE!"},{"$error":"#VALUE!"}]
[{"$f":"ROW()","v":82},26,"Ввод данных",{"$error":"#N/A"},{"$f":"INDEX('Пр. №2'!$1:$1048576,MATCH('Пр. №3'!$F82,'Пр. №2'!$D:$D,0),COLUMN('Пр. №2'!$C$5))","v":{"$error":"#N/A"}},null,null,null,null,null,null,null,null,null,null,null,null,null,null,null,null,null,null,null,null,null,null,null,null,null,null,null,null,null,null,null,null,null,null,null,null,null,null,null,null,null,null,null,null,null,null,null,null,null,null,null,null,null,null,null,null,null,null,null,null,null,null,null,0,null,{"$f":"IFERROR(INDEX(справочник!$G$1:$I$7,MATCH($BV82,справочник!$G$1:$G$7,0),3),\"---\")","v":"---"},{"$f":"IFERROR(INDEX('Пр. №1'!$B$11:$C$34,MATCH(BS82,'Пр. №1'!$B$11:$B$34,0),2),\"---\")","v":"---"},{"$f":"IFERROR(INDEX('Состав ВТК-ВРГ'!$1:$1048576,MATCH($G82,'Состав ВТК-ВРГ'!$B:$B,0),MATCH(BU$6,'Состав ВТК-ВРГ'!$3:$3,0)),\"---\")","v":"---"},{"$f":"IFERROR(INDEX('Состав ВТК-ВРГ'!$1:$1048576,MATCH($G82,'Состав ВТК-ВРГ'!$B:$B,0),MATCH(BV$6,'Состав ВТК-ВРГ'!$3:$3,0)),\"---\")","v":"---"},{"$f":"IFERROR(INDEX(справочник!$G$1:$I$7,MATCH($BV82,справочник!$G$1:$G$7,0),2),\"---\")","v":"---"},{"$f":"IFERROR(INDEX('Состав ВТК-ВРГ'!$1:$1048576,MATCH($G82,'Состав ВТК-ВРГ'!$B:$B,0),MATCH(BX$6,'Состав ВТК-ВРГ'!$3:$3,0)),\"---\")","v":"---"},{"$f":"IFERROR(INDEX('Пр. №4'!$1:$1048576,MATCH(BX82,'Пр. №4'!$C:$C,0),MATCH('Пр. №3'!$D$5,'Пр. №4'!$9:$9,0)),\"---\")","v":"---"},{"$f":"SUMIFS('Пр. №1.2.'!$L:$L,'Пр. №1.2.'!$B:$B,'Пр. №3'!$D82,'Пр. №1.2.'!$E:$E,'Пр. №3'!$G82)","v":0},{"$error":"#VALUE!"},{"$error":"#VALUE!"}]
[{"$f":"ROW()","v":83},27,"Ввод данных",{"$error":"#N/A"},{"$f":"INDEX('Пр. №2'!$1:$1048576,MATCH('Пр. №3'!$F83,'Пр. №2'!$D:$D,0),COLUMN('Пр. №2'!$C$5))","v":{"$error":"#N/A"}},null,null,null,null,null,null,null,null,null,null,null,null,null,null,null,null,null,null,null,null,null,null,null,null,null,null,null,null,null,null,null,null,null,null,null,null,null,null,null,null,null,null,null,null,null,null,null,null,null,null,null,null,null,null,null,null,null,null,null,null,null,null,null,0,null,{"$f":"IFERROR(INDEX(справочник!$G$1:$I$7,MATCH($BV83,справочник!$G$1:$G$7,0),3),\"---\")","v":"---"},{"$f":"IFERROR(INDEX('Пр. №1'!$B$11:$C$34,MATCH(BS83,'Пр. №1'!$B$11:$B$34,0),2),\"---\")","v":"---"},{"$f":"IFERROR(INDEX('Состав ВТК-ВРГ'!$1:$1048576,MATCH($G83,'Состав ВТК-ВРГ'!$B:$B,0),MATCH(BU$6,'Состав ВТК-ВРГ'!$3:$3,0)),\"---\")","v":"---"},{"$f":"IFERROR(INDEX('Состав ВТК-ВРГ'!$1:$1048576,MATCH($G83,'Состав ВТК-ВРГ'!$B:$B,0),MATCH(BV$6,'Состав ВТК-ВРГ'!$3:$3,0)),\"---\")","v":"---"},{"$f":"IFERROR(INDEX(справочник!$G$1:$I$7,MATCH($BV83,справочник!$G$1:$G$7,0),2),\"---\")","v":"---"},{"$f":"IFERROR(INDEX('Состав ВТК-ВРГ'!$1:$1048576,MATCH($G83,'Состав ВТК-ВРГ'!$B:$B,0),MATCH(BX$6,'Состав ВТК-ВРГ'!$3:$3,0)),\"---\")","v":"---"},{"$f":"IFERROR(INDEX('Пр. №4'!$1:$1048576,MATCH(BX83,'Пр. №4'!$C:$C,0),MATCH('Пр. №3'!$D$5,'Пр. №4'!$9:$9,0)),\"---\")","v":"---"},{"$f":"SUMIFS('Пр. №1.2.'!$L:$L,'Пр. №1.2.'!$B:$B,'Пр. №3'!$D83,'Пр. №1.2.'!$E:$E,'Пр. №3'!$G83)","v":0},{"$error":"#VALUE!"},{"$error":"#VALUE!"}]
[{"$f":"ROW()","v":84},28,"Ввод данных",{"$error":"#N/A"},{"$f":"INDEX('Пр. №2'!$1:$1048576,MATCH('Пр. №3'!$F84,'Пр. №2'!$D:$D,0),COLUMN('Пр. №2'!$C$5))","v":{"$error":"#N/A"}},null,null,null,null,null,null,null,null,null,null,null,null,null,null,null,null,null,null,null,null,null,null,null,null,null,null,null,null,null,null,null,null,null,null,null,null,null,null,null,null,null,null,null,null,null,null,null,null,null,null,null,null,null,null,null,null,null,null,null,null,null,null,null,0,null,{"$f":"IFERROR(INDEX(справочник!$G$1:$I$7,MATCH($BV84,справочник!$G$1:$G$7,0),3),\"---\")","v":"---"},{"$f":"IFERROR(INDEX('Пр. №1'!$B$11:$C$34,MATCH(BS84,'Пр. №1'!$B$11:$B$34,0),2),\"---\")","v":"---"},{"$f":"IFERROR(INDEX('Состав ВТК-ВРГ'!$1:$1048576,MATCH($G84,'Состав ВТК-ВРГ'!$B:$B,0),MATCH(BU$6,'Состав ВТК-ВРГ'!$3:$3,0)),\"---\")","v":"---"},{"$f":"IFERROR(INDEX('Состав ВТК-ВРГ'!$1:$1048576,MATCH($G84,'Состав ВТК-ВРГ'!$B:$B,0),MATCH(BV$6,'Состав ВТК-ВРГ'!$3:$3,0)),\"---\")","v":"---"},{"$f":"IFERROR(INDEX(справочник!$G$1:$I$7,MATCH($BV84,справочник!$G$1:$G$7,0),2),\"---\")","v":"---"},{"$f":"IFERROR(INDEX('Состав ВТК-ВРГ'!$1:$1048576,MATCH($G84,'Состав ВТК-ВРГ'!$B:$B,0),MATCH(BX$6,'Состав ВТК-ВРГ'!$3:$3,0)),\"---\")","v":"---"},{"$f":"IFERROR(INDEX('Пр. №4'!$1:$1048576,MATCH(BX84,'Пр. №4'!$C:$C,0),MATCH('Пр. №3'!$D$5,'Пр. №4'!$9:$9,0)),\"---\")","v":"---"},{"$f":"SUMIFS('Пр. №1.2.'!$L:$L,'Пр. №1.2.'!$B:$B,'Пр. №3'!$D84,'Пр. №1.2.'!$E:$E,'Пр. №3'!$G84)","v":0},{"$error":"#VALUE!"},{"$error":"#VALUE!"}]
[{"$f":"ROW()","v":85},29,"Ввод данных",{"$error":"#N/A"},{"$f":"INDEX('Пр. №2'!$1:$1048576,MATCH('Пр. №3'!$F85,'Пр. №2'!$D:$D,0),COLUMN('Пр. №2'!$C$5))","v":{"$error":"#N/A"}},null,null,null,null,null,null,null,null,null,null,null,null,null,null,null,null,null,null,null,null,null,null,null,null,null,null,null,null,null,null,null,null,null,null,null,null,null,null,null,null,null,null,null,null,null,null,null,null,null,null,null,null,null,null,null,null,null,null,null,null,null,null,null,0,null,{"$f":"IFERROR(INDEX(справочник!$G$1:$I$7,MATCH($BV85,справочник!$G$1:$G$7,0),3),\"---\")","v":"---"},{"$f":"IFERROR(INDEX('Пр. №1'!$B$11:$C$34,MATCH(BS85,'Пр. №1'!$B$11:$B$34,0),2),\"---\")","v":"---"},{"$f":"IFERROR(INDEX('Состав ВТК-ВРГ'!$1:$1048576,MATCH($G85,'Состав ВТК-ВРГ'!$B:$B,0),MATCH(BU$6,'Состав ВТК-ВРГ'!$3:$3,0)),\"---\")","v":"---"},{"$f":"IFERROR(INDEX('Состав ВТК-ВРГ'!$1:$1048576,MATCH($G85,'Состав ВТК-ВРГ'!$B:$B,0),MATCH(BV$6,'Состав ВТК-ВРГ'!$3:$3,0)),\"---\")","v":"---"},{"$f":"IFERROR(INDEX(справочник!$G$1:$I$7,MATCH($BV85,справочник!$G$1:$G$7,0),2),\"---\")","v":"---"},{"$f":"IFERROR(INDEX('Состав ВТК-ВРГ'!$1:$1048576,MATCH($G85,'Состав ВТК-ВРГ'!$B:$B,0),MATCH(BX$6,'Состав ВТК-ВРГ'!$3:$3,0)),\"---\")","v":"---"},{"$f":"IFERROR(INDEX('Пр. №4'!$1:$1048576,MATCH(BX85,'Пр. №4'!$C:$C,0),MATCH('Пр. №3'!$D$5,'Пр. №4'!$9:$9,0)),\"---\")","v":"---"},{"$f":"SUMIFS('Пр. №1.2.'!$L:$L,'Пр. №1.2.'!$B:$B,'Пр. №3'!$D85,'Пр. №1.2.'!$E:$E,'Пр. №3'!$G85)","v":0},{"$error":"#VALUE!"},{"$error":"#VALUE!"}]
[{"$f":"ROW()","v":86},30,"Ввод данных",{"$error":"#N/A"},{"$f":"INDEX('Пр. №2'!$1:$1048576,MATCH('Пр. №3'!$F86,'Пр. №2'!$D:$D,0),COLUMN('Пр. №2'!$C$5))","v":{"$error":"#N/A"}},null,null,null,null,null,null,null,null,null,null,null,null,null,null,null,null,null,null,null,null,null,null,null,null,null,null,null,null,null,null,null,null,null,null,null,null,null,null,null,null,null,null,null,null,null,null,null,null,null,null,null,null,null,null,null,null,null,null,null,null,null,null,null,0,null,{"$f":"IFERROR(INDEX(справочник!$G$1:$I$7,MATCH($BV86,справочник!$G$1:$G$7,0),3),\"---\")","v":"---"},{"$f":"IFERROR(INDEX('Пр. №1'!$B$11:$C$34,MATCH(BS86,'Пр. №1'!$B$11:$B$34,0),2),\"---\")","v":"---"},{"$f":"IFERROR(INDEX('Состав ВТК-ВРГ'!$1:$1048576,MATCH($G86,'Состав ВТК-ВРГ'!$B:$B,0),MATCH(BU$6,'Состав ВТК-ВРГ'!$3:$3,0)),\"---\")","v":"---"},{"$f":"IFERROR(INDEX('Состав ВТК-ВРГ'!$1:$1048576,MATCH($G86,'Состав ВТК-ВРГ'!$B:$B,0),MATCH(BV$6,'Состав ВТК-ВРГ'!$3:$3,0)),\"---\")","v":"---"},{"$f":"IFERROR(INDEX(справочник!$G$1:$I$7,MATCH($BV86,справочник!$G$1:$G$7,0),2),\"---\")","v":"---"},{"$f":"IFERROR(INDEX('Состав ВТК-ВРГ'!$1:$1048576,MATCH($G86,'Состав ВТК-ВРГ'!$B:$B,0),MATCH(BX$6,'Состав ВТК-ВРГ'!$3:$3,0)),\"---\")","v":"---"},{"$f":"IFERROR(INDEX('Пр. №4'!$1:$1048576,MATCH(BX86,'Пр. №4'!$C:$C,0),MATCH('Пр. №3'!$D$5,'Пр. №4'!$9:$9,0)),\"---\")","v":"---"},{"$f":"SUMIFS('Пр. №1.2.'!$L:$L,'Пр. №1.2.'!$B:$B,'Пр. №3'!$D86,'Пр. №1.2.'!$E:$E,'Пр. №3'!$G86)","v":0},{"$error":"#VALUE!"},{"$error":"#VALUE!"}]
[{"$f":"ROW()","v":87},31,"Ввод данных",{"$error":"#N/A"},{"$f":"INDEX('Пр. №2'!$1:$1048576,MATCH('Пр. №3'!$F87,'Пр. №2'!$D:$D,0),COLUMN('Пр. №2'!$C$5))","v":{"$error":"#N/A"}},null,null,null,null,null,null,null,null,null,null,null,null,null,null,null,null,null,null,null,null,null,null,null,null,null,null,null,null,null,null,null,null,null,null,null,null,null,null,null,null,null,null,null,null,null,null,null,null,null,null,null,null,null,null,null,null,null,null,null,null,null,null,null,0,null,{"$f":"IFERROR(INDEX(справочник!$G$1:$I$7,MATCH($BV87,справочник!$G$1:$G$7,0),3),\"---\")","v":"---"},{"$f":"IFERROR(INDEX('Пр. №1'!$B$11:$C$34,MATCH(BS87,'Пр. №1'!$B$11:$B$34,0),2),\"---\")","v":"---"},{"$f":"IFERROR(INDEX('Состав ВТК-ВРГ'!$1:$1048576,MATCH($G87,'Состав ВТК-ВРГ'!$B:$B,0),MATCH(BU$6,'Состав ВТК-ВРГ'!$3:$3,0)),\"---\")","v":"---"},{"$f":"IFERROR(INDEX('Состав ВТК-ВРГ'!$1:$1048576,MATCH($G87,'Состав ВТК-ВРГ'!$B:$B,0),MATCH(BV$6,'Состав ВТК-ВРГ'!$3:$3,0)),\"---\")","v":"---"},{"$f":"IFERROR(INDEX(справочник!$G$1:$I$7,MATCH($BV87,справочник!$G$1:$G$7,0),2),\"---\")","v":"---"},{"$f":"IFERROR(INDEX('Состав ВТК-ВРГ'!$1:$1048576,MATCH($G87,'Состав ВТК-ВРГ'!$B:$B,0),MATCH(BX$6,'Состав ВТК-ВРГ'!$3:$3,0)),\"---\")","v":"---"},{"$f":"IFERROR(INDEX('Пр. №4'!$1:$1048576,MATCH(BX87,'Пр. №4'!$C:$C,0),MATCH('Пр. №3'!$D$5,'Пр. №4'!$9:$9,0)),\"---\")","v":"---"},{"$f":"SUMIFS('Пр. №1.2.'!$L:$L,'Пр. №1.2.'!$B:$B,'Пр. №3'!$D87,'Пр. №1.2.'!$E:$E,'Пр. №3'!$G87)","v":0},{"$error":"#VALUE!"},{"$error":"#VALUE!"}]
[{"$f":"ROW()","v":88},32,"Ввод данных",{"$error":"#N/A"},{"$f":"INDEX('Пр. №2'!$1:$1048576,MATCH('Пр. №3'!$F88,'Пр. №2'!$D:$D,0),COLUMN('Пр. №2'!$C$5))","v":{"$error":"#N/A"}},null,null,null,null,null,null,null,null,null,null,null,null,null,null,null,null,null,null,null,null,null,null,null,null,null,null,null,null,null,null,null,null,null,null,null,null,null,null,null,null,null,null,null,null,null,null,null,null,null,null,null,null,null,null,null,null,null,null,null,null,null,null,null,0,null,{"$f":"IFERROR(INDEX(справочник!$G$1:$I$7,MATCH($BV88,справочник!$G$1:$G$7,0),3),\"---\")","v":"---"},{"$f":"IFERROR(INDEX('Пр. №1'!$B$11:$C$34,MATCH(BS88,'Пр. №1'!$B$11:$B$34,0),2),\"---\")","v":"---"},{"$f":"IFERROR(INDEX('Состав ВТК-ВРГ'!$1:$1048576,MATCH($G88,'Состав ВТК-ВРГ'!$B:$B,0),MATCH(BU$6,'Состав ВТК-ВРГ'!$3:$3,0)),\"---\")","v":"---"},{"$f":"IFERROR(INDEX('Состав ВТК-ВРГ'!$1:$1048576,MATCH($G88,'Состав ВТК-ВРГ'!$B:$B,0),MATCH(BV$6,'Состав ВТК-ВРГ'!$3:$3,0)),\"---\")","v":"---"},{"$f":"IFERROR(INDEX(справочник!$G$1:$I$7,MATCH($BV88,справочник!$G$1:$G$7,0),2),\"---\")","v":"---"},{"$f":"IFERROR(INDEX('Состав ВТК-ВРГ'!$1:$1048576,MATCH($G88,'Состав ВТК-ВРГ'!$B:$B,0),MATCH(BX$6,'Состав ВТК-ВРГ'!$3:$3,0)),\"---\")","v":"---"},{"$f":"IFERROR(INDEX('Пр. №4'!$1:$1048576,MATCH(BX88,'Пр. №4'!$C:$C,0),MATCH('Пр. №3'!$D$5,'Пр. №4'!$9:$9,0)),\"---\")","v":"---"},{"$f":"SUMIFS('Пр. №1.2.'!$L:$L,'Пр. №1.2.'!$B:$B,'Пр. №3'!$D88,'Пр. №1.2.'!$E:$E,'Пр. №3'!$G88)","v":0},{"$error":"#VALUE!"},{"$error":"#VALUE!"}]
[{"$f":"ROW()","v":89},33,"Ввод данных",{"$f":"INDEX($D$22:$E$35,MATCH(E89,$E$22:$E$35,0),1)","v":{"$error":"#N/A"}},{"$f":"INDEX('Пр. №2'!$1:$1048576,MATCH('Пр. №3'!$F89,'Пр. №2'!$D:$D,0),COLUMN('Пр. №2'!$C$5))","v":{"$error":"#N/A"}},null,null,null,null,null,null,null,null,null,null,null,null,null,null,null,null,null,null,null,null,null,null,null,null,null,null,null,null,null,null,null,null,null,null,null,null,null,null,null,null,null,null,null,null,null,null,null,null,null,null,null,null,null,null,null,null,null,null,null,null,null,null,null,{"$f":"SUM(H89:BP89)","v":0},null,{"$f":"IFERROR(INDEX(справочник!$G$1:$I$7,MATCH($BV89,справочник!$G$1:$G$7,0),3),\"---\")","v":"---"},{"$f":"IFERROR(INDEX('Пр. №1'!$B$11:$C$34,MATCH(BS89,'Пр. №1'!$B$11:$B$34,0),2),\"---\")","v":"---"},{"$f":"IFERROR(INDEX('Состав ВТК-ВРГ'!$1:$1048576,MATCH($G89,'Состав ВТК-ВРГ'!$B:$B,0),MATCH(BU$6,'Состав ВТК-ВРГ'!$3:$3,0)),\"---\")","v":"---"},{"$f":"IFERROR(INDEX('Состав ВТК-ВРГ'!$1:$1048576,MATCH($G89,'Состав ВТК-ВРГ'!$B:$B,0),MATCH(BV$6,'Состав ВТК-ВРГ'!$3:$3,0)),\"---\")","v":"---"},{"$f":"IFERROR(INDEX(справочник!$G$1:$I$7,MATCH($BV89,справочник!$G$1:$G$7,0),2),\"---\")","v":"---"},{"$f":"IFERROR(INDEX('Состав ВТК-ВРГ'!$1:$1048576,MATCH($G89,'Состав ВТК-ВРГ'!$B:$B,0),MATCH(BX$6,'Состав ВТК-ВРГ'!$3:$3,0)),\"---\")","v":"---"},{"$f":"IFERROR(INDEX('Пр. №4'!$1:$1048576,MATCH(BX89,'Пр. №4'!$C:$C,0),MATCH('Пр. №3'!$D$5,'Пр. №4'!$9:$9,0)),\"---\")","v":"---"},{"$f":"SUMIFS('Пр. №1.2.'!$L:$L,'Пр. №1.2.'!$B:$B,'Пр. №3'!$D89,'Пр. №1.2.'!$E:$E,'Пр. №3'!$G89)","v":0},{"$error":"#VALUE!"},{"$error":"#VALUE!"}]
[{"$f":"ROW()","v":90},34,"Ввод данных",{"$error":"#N/A"},{"$f":"INDEX('Пр. №2'!$1:$1048576,MATCH('Пр. №3'!$F90,'Пр. №2'!$D:$D,0),COLUMN('Пр. №2'!$C$5))","v":{"$error":"#N/A"}},null,null,null,null,null,null,null,null,null,null,null,null,null,null,null,null,null,null,null,null,null,null,null,null,null,null,null,null,null,null,null,null,null,null,null,null,null,null,null,null,null,null,null,null,null,null,null,null,null,null,null,null,null,null,null,null,null,null,null,null,null,null,null,0,null,{"$f":"IFERROR(INDEX(справочник!$G$1:$I$7,MATCH($BV90,справочник!$G$1:$G$7,0),3),\"---\")","v":"---"},{"$f":"IFERROR(INDEX('Пр. №1'!$B$11:$C$34,MATCH(BS90,'Пр. №1'!$B$11:$B$34,0),2),\"---\")","v":"---"},{"$f":"IFERROR(INDEX('Состав ВТК-ВРГ'!$1:$1048576,MATCH($G90,'Состав ВТК-ВРГ'!$B:$B,0),MATCH(BU$6,'Состав ВТК-ВРГ'!$3:$3,0)),\"---\")","v":"---"},{"$f":"IFERROR(INDEX('Состав ВТК-ВРГ'!$1:$1048576,MATCH($G90,'Состав ВТК-ВРГ'!$B:$B,0),MATCH(BV$6,'Состав ВТК-ВРГ'!$3:$3,0)),\"---\")","v":"---"},{"$f":"IFERROR(INDEX(справочник!$G$1:$I$7,MATCH($BV90,справочник!$G$1:$G$7,0),2),\"---\")","v":"---"},{"$f":"IFERROR(INDEX('Состав ВТК-ВРГ'!$1:$1048576,MATCH($G90,'Состав ВТК-ВРГ'!$B:$B,0),MATCH(BX$6,'Состав ВТК-ВРГ'!$3:$3,0)),\"---\")","v":"---"},{"$f":"IFERROR(INDEX('Пр. №4'!$1:$1048576,MATCH(BX90,'Пр. №4'!$C:$C,0),MATCH('Пр. №3'!$D$5,'Пр. №4'!$9:$9,0)),\"---\")","v":"---"},{"$f":"SUMIFS('Пр. №1.2.'!$L:$L,'Пр. №1.2.'!$B:$B,'Пр. №3'!$D90,'Пр. №1.2.'!$E:$E,'Пр. №3'!$G90)","v":0},{"$error":"#VALUE!"},{"$error":"#VALUE!"}]
[{"$f":"ROW()","v":91},35,"Ввод данных",{"$error":"#N/A"},{"$f":"INDEX('Пр. №2'!$1:$1048576,MATCH('Пр. №3'!$F91,'Пр. №2'!$D:$D,0),COLUMN('Пр. №2'!$C$5))","v":{"$error":"#N/A"}},null,null,null,null,null,null,null,null,null,null,null,null,null,null,null,null,null,null,null,null,null,null,null,null,null,null,null,null,null,null,null,null,null,null,null,null,null,null,null,null,null,null,null,null,null,null,null,null,null,null,null,null,null,null,null,null,null,null,null,null,null,null,null,0,null,{"$f":"IFERROR(INDEX(справочник!$G$1:$I$7,MATCH($BV91,справочник!$G$1:$G$7,0),3),\"---\")","v":"---"},{"$f":"IFERROR(INDEX('Пр. №1'!$B$11:$C$34,MATCH(BS91,'Пр. №1'!$B$11:$B$34,0),2),\"---\")","v":"---"},{"$f":"IFERROR(INDEX('Состав ВТК-ВРГ'!$1:$1048576,MATCH($G91,'Состав ВТК-ВРГ'!$B:$B,0),MATCH(BU$6,'Состав ВТК-ВРГ'!$3:$3,0)),\"---\")","v":"---"},{"$f":"IFERROR(INDEX('Состав ВТК-ВРГ'!$1:$1048576,MATCH($G91,'Состав ВТК-ВРГ'!$B:$B,0),MATCH(BV$6,'Состав ВТК-ВРГ'!$3:$3,0)),\"---\")","v":"---"},{"$f":"IFERROR(INDEX(справочник!$G$1:$I$7,MATCH($BV91,справочник!$G$1:$G$7,0),2),\"---\")","v":"---"},{"$f":"IFERROR(INDEX('Состав ВТК-ВРГ'!$1:$1048576,MATCH($G91,'Состав ВТК-ВРГ'!$B:$B,0),MATCH(BX$6,'Состав ВТК-ВРГ'!$3:$3,0)),\"---\")","v":"---"},{"$f":"IFERROR(INDEX('Пр. №4'!$1:$1048576,MATCH(BX91,'Пр. №4'!$C:$C,0),MATCH('Пр. №3'!$D$5,'Пр. №4'!$9:$9,0)),\"---\")","v":"---"},{"$f":"SUMIFS('Пр. №1.2.'!$L:$L,'Пр. №1.2.'!$B:$B,'Пр. №3'!$D91,'Пр. №1.2.'!$E:$E,'Пр. №3'!$G91)","v":0},{"$error":"#VALUE!"},{"$error":"#VALUE!"}]
[{"$f":"ROW()","v":92},36,"Ввод данных",{"$error":"#N/A"},{"$f":"INDEX('Пр. №2'!$1:$1048576,MATCH('Пр. №3'!$F92,'Пр. №2'!$D:$D,0),COLUMN('Пр. №2'!$C$5))","v":{"$error":"#N/A"}},null,null,null,null,null,null,null,null,null,null,null,null,null,null,null,null,null,null,null,null,null,null,null,null,null,null,null,null,null,null,null,null,null,null,null,null,null,null,null,null,null,null,null,null,null,null,null,null,null,null,null,null,null,null,null,null,null,null,null,null,null,null,null,0,null,{"$f":"IFERROR(INDEX(справочник!$G$1:$I$7,MATCH($BV92,справочник!$G$1:$G$7,0),3),\"---\")","v":"---"},{"$f":"IFERROR(INDEX('Пр. №1'!$B$11:$C$34,MATCH(BS92,'Пр. №1'!$B$11:$B$34,0),2),\"---\")","v":"---"},{"$f":"IFERROR(INDEX('Состав ВТК-ВРГ'!$1:$1048576,MATCH($G92,'Состав ВТК-ВРГ'!$B:$B,0),MATCH(BU$6,'Состав ВТК-ВРГ'!$3:$3,0)),\"---\")","v":"---"},{"$f":"IFERROR(INDEX('Состав ВТК-ВРГ'!$1:$1048576,MATCH($G92,'Состав ВТК-ВРГ'!$B:$B,0),MATCH(BV$6,'Состав ВТК-ВРГ'!$3:$3,0)),\"---\")","v":"---"},{"$f":"IFERROR(INDEX(справочник!$G$1:$I$7,MATCH($BV92,справочник!$G$1:$G$7,0),2),\"---\")","v":"---"},{"$f":"IFERROR(INDEX('Состав ВТК-ВРГ'!$1:$1048576,MATCH($G92,'Состав ВТК-ВРГ'!$B:$B,0),MATCH(BX$6,'Состав ВТК-ВРГ'!$3:$3,0)),\"---\")","v":"---"},{"$f":"IFERROR(INDEX('Пр. №4'!$1:$1048576,MATCH(BX92,'Пр. №4'!$C:$C,0),MATCH('Пр. №3'!$D$5,'Пр. №4'!$9:$9,0)),\"---\")","v":"---"},{"$f":"SUMIFS('Пр. №1.2.'!$L:$L,'Пр. №1.2.'!$B:$B,'Пр. №3'!$D92,'Пр. №1.2.'!$E:$E,'Пр. №3'!$G92)","v":0},{"$error":"#VALUE!"},{"$error":"#VALUE!"}]
[{"$f":"ROW()","v":93},37,"Ввод данных",{"$error":"#N/A"},{"$f":"INDEX('Пр. №2'!$1:$1048576,MATCH('Пр. №3'!$F93,'Пр. №2'!$D:$D,0),COLUMN('Пр. №2'!$C$5))","v":{"$error":"#N/A"}},null,null,null,null,null,null,null,null,null,null,null,null,null,null,null,null,null,null,null,null,null,null,null,null,null,null,null,null,null,null,null,null,null,null,null,null,null,null,null,null,null,null,null,null,null,null,null,null,null,null,null,null,null,null,null,null,null,null,null,null,null,null,null,0,null,{"$f":"IFERROR(INDEX(справочник!$G$1:$I$7,MATCH($BV93,справочник!$G$1:$G$7,0),3),\"---\")","v":"---"},{"$f":"IFERROR(INDEX('Пр. №1'!$B$11:$C$34,MATCH(BS93,'Пр. №1'!$B$11:$B$34,0),2),\"---\")","v":"---"},{"$f":"IFERROR(INDEX('Состав ВТК-ВРГ'!$1:$1048576,MATCH($G93,'Состав ВТК-ВРГ'!$B:$B,0),MATCH(BU$6,'Состав ВТК-ВРГ'!$3:$3,0)),\"---\")","v":"---"},{"$f":"IFERROR(INDEX('Состав ВТК-ВРГ'!$1:$1048576,MATCH($G93,'Состав ВТК-ВРГ'!$B:$B,0),MATCH(BV$6,'Состав ВТК-ВРГ'!$3:$3,0)),\"---\")","v":"---"},{"$f":"IFERROR(INDEX(справочник!$G$1:$I$7,MATCH($BV93,справочник!$G$1:$G$7,0),2),\"---\")","v":"---"},{"$f":"IFERROR(INDEX('Состав ВТК-ВРГ'!$1:$1048576,MATCH($G93,'Состав ВТК-ВРГ'!$B:$B,0),MATCH(BX$6,'Состав ВТК-ВРГ'!$3:$3,0)),\"---\")","v":"---"},{"$f":"IFERROR(INDEX('Пр. №4'!$1:$1048576,MATCH(BX93,'Пр. №4'!$C:$C,0),MATCH('Пр. №3'!$D$5,'Пр. №4'!$9:$9,0)),\"---\")","v":"---"},{"$f":"SUMIFS('Пр. №1.2.'!$L:$L,'Пр. №1.2.'!$B:$B,'Пр. №3'!$D93,'Пр. №1.2.'!$E:$E,'Пр. №3'!$G93)","v":0},{"$error":"#VALUE!"},{"$error":"#VALUE!"}]
[{"$f":"ROW()","v":94},38,"Ввод данных",{"$error":"#N/A"},{"$f":"INDEX('Пр. №2'!$1:$1048576,MATCH('Пр. №3'!$F94,'Пр. №2'!$D:$D,0),COLUMN('Пр. №2'!$C$5))","v":{"$error":"#N/A"}},null,null,null,null,null,null,null,null,null,null,null,null,null,null,null,null,null,null,null,null,null,null,null,null,null,null,null,null,null,null,null,null,null,null,null,null,null,null,null,null,null,null,null,null,null,null,null,null,null,null,null,null,null,null,null,null,null,null,null,null,null,null,null,0,null,{"$f":"IFERROR(INDEX(справочник!$G$1:$I$7,MATCH($BV94,справочник!$G$1:$G$7,0),3),\"---\")","v":"---"},{"$f":"IFERROR(INDEX('Пр. №1'!$B$11:$C$34,MATCH(BS94,'Пр. №1'!$B$11:$B$34,0),2),\"---\")","v":"---"},{"$f":"IFERROR(INDEX('Состав ВТК-ВРГ'!$1:$1048576,MATCH($G94,'Состав ВТК-ВРГ'!$B:$B,0),MATCH(BU$6,'Состав ВТК-ВРГ'!$3:$3,0)),\"---\")","v":"---"},{"$f":"IFERROR(INDEX('Состав ВТК-ВРГ'!$1:$1048576,MATCH($G94,'Состав ВТК-ВРГ'!$B:$B,0),MATCH(BV$6,'Состав ВТК-ВРГ'!$3:$3,0)),\"---\")","v":"---"},{"$f":"IFERROR(INDEX(справочник!$G$1:$I$7,MATCH($BV94,справочник!$G$1:$G$7,0),2),\"---\")","v":"---"},{"$f":"IFERROR(INDEX('Состав ВТК-ВРГ'!$1:$1048576,MATCH($G94,'Состав ВТК-ВРГ'!$B:$B,0),MATCH(BX$6,'Состав ВТК-ВРГ'!$3:$3,0)),\"---\")","v":"---"},{"$f":"IFERROR(INDEX('Пр. №4'!$1:$1048576,MATCH(BX94,'Пр. №4'!$C:$C,0),MATCH('Пр. №3'!$D$5,'Пр. №4'!$9:$9,0)),\"---\")","v":"---"},{"$f":"SUMIFS('Пр. №1.2.'!$L:$L,'Пр. №1.2.'!$B:$B,'Пр. №3'!$D94,'Пр. №1.2.'!$E:$E,'Пр. №3'!$G94)","v":0},{"$f":"BY94*BZ94","v":{"$error":"#VALUE!"}},{"$f":"BQ94*BZ94*BY94","v":{"$error":"#VALUE!"}}]
[{"$f":"ROW()","v":95},39,"Ввод данных",{"$error":"#N/A"},{"$f":"INDEX('Пр. №2'!$1:$1048576,MATCH('Пр. №3'!$F95,'Пр. №2'!$D:$D,0),COLUMN('Пр. №2'!$C$5))","v":{"$error":"#N/A"}},null,null,null,null,null,null,null,null,null,null,null,null,null,null,null,null,null,null,null,null,null,null,null,null,null,null,null,null,null,null,null,null,null,null,null,null,null,null,null,null,null,null,null,null,null,null,null,null,null,null,null,null,null,null,null,null,null,null,null,null,null,null,null,0,null,{"$f":"IFERROR(INDEX(справочник!$G$1:$I$7,MATCH($BV95,справочник!$G$1:$G$7,0),3),\"---\")","v":"---"},{"$f":"IFERROR(INDEX('Пр. №1'!$B$11:$C$34,MATCH(BS95,'Пр. №1'!$B$11:$B$34,0),2),\"---\")","v":"---"},{"$f":"IFERROR(INDEX('Состав ВТК-ВРГ'!$1:$1048576,MATCH($G95,'Состав ВТК-ВРГ'!$B:$B,0),MATCH(BU$6,'Состав ВТК-ВРГ'!$3:$3,0)),\"---\")","v":"---"},{"$f":"IFERROR(INDEX('Состав ВТК-ВРГ'!$1:$1048576,MATCH($G95,'Состав ВТК-ВРГ'!$B:$B,0),MATCH(BV$6,'Состав ВТК-ВРГ'!$3:$3,0)),\"---\")","v":"---"},{"$f":"IFERROR(INDEX(справочник!$G$1:$I$7,MATCH($BV95,справочник!$G$1:$G$7,0),2),\"---\")","v":"---"},{"$f":"IFERROR(INDEX('Состав ВТК-ВРГ'!$1:$1048576,MATCH($G95,'Состав ВТК-ВРГ'!$B:$B,0),MATCH(BX$6,'Состав ВТК-ВРГ'!$3:$3,0)),\"---\")","v":"---"},{"$f":"IFERROR(INDEX('Пр. №4'!$1:$1048576,MATCH(BX95,'Пр. №4'!$C:$C,0),MATCH('Пр. №3'!$D$5,'Пр. №4'!$9:$9,0)),\"---\")","v":"---"},{"$f":"SUMIFS('Пр. №1.2.'!$L:$L,'Пр. №1.2.'!$B:$B,'Пр. №3'!$D95,'Пр. №1.2.'!$E:$E,'Пр. №3'!$G95)","v":0},{"$error":"#VALUE!"},{"$error":"#VALUE!"}]
[{"$f":"ROW()","v":96},40,"Ввод данных",{"$error":"#N/A"},{"$f":"INDEX('Пр. №2'!$1:$1048576,MATCH('Пр. №3'!$F96,'Пр. №2'!$D:$D,0),COLUMN('Пр. №2'!$C$5))","v":{"$error":"#N/A"}},null,null,null,null,null,null,null,null,null,null,null,null,null,null,null,null,null,null,null,null,null,null,null,null,null,null,null,null,null,null,null,null,null,null,null,null,null,null,null,null,null,null,null,null,null,null,null,null,null,null,null,null,null,null,null,null,null,null,null,null,null,null,null,0,null,{"$f":"IFERROR(INDEX(справочник!$G$1:$I$7,MATCH($BV96,справочник!$G$1:$G$7,0),3),\"---\")","v":"---"},{"$f":"IFERROR(INDEX('Пр. №1'!$B$11:$C$34,MATCH(BS96,'Пр. №1'!$B$11:$B$34,0),2),\"---\")","v":"---"},{"$f":"IFERROR(INDEX('Состав ВТК-ВРГ'!$1:$1048576,MATCH($G96,'Состав ВТК-ВРГ'!$B:$B,0),MATCH(BU$6,'Состав ВТК-ВРГ'!$3:$3,0)),\"---\")","v":"---"},{"$f":"IFERROR(INDEX('Состав ВТК-ВРГ'!$1:$1048576,MATCH($G96,'Состав ВТК-ВРГ'!$B:$B,0),MATCH(BV$6,'Состав ВТК-ВРГ'!$3:$3,0)),\"---\")","v":"---"},{"$f":"IFERROR(INDEX(справочник!$G$1:$I$7,MATCH($BV96,справочник!$G$1:$G$7,0),2),\"---\")","v":"---"},{"$f":"IFERROR(INDEX('Состав ВТК-ВРГ'!$1:$1048576,MATCH($G96,'Состав ВТК-ВРГ'!$B:$B,0),MATCH(BX$6,'Состав ВТК-ВРГ'!$3:$3,0)),\"---\")","v":"---"},{"$f":"IFERROR(INDEX('Пр. №4'!$1:$1048576,MATCH(BX96,'Пр. №4'!$C:$C,0),MATCH('Пр. №3'!$D$5,'Пр. №4'!$9:$9,0)),\"---\")","v":"---"},{"$f":"SUMIFS('Пр. №1.2.'!$L:$L,'Пр. №1.2.'!$B:$B,'Пр. №3'!$D96,'Пр. №1.2.'!$E:$E,'Пр. №3'!$G96)","v":0},{"$error":"#VALUE!"},{"$error":"#VALUE!"}]
[{"$f":"ROW()","v":97},41,"Ввод данных",{"$error":"#N/A"},{"$f":"INDEX('Пр. №2'!$1:$1048576,MATCH('Пр. №3'!$F97,'Пр. №2'!$D:$D,0),COLUMN('Пр. №2'!$C$5))","v":{"$error":"#N/A"}},null,null,null,null,null,null,null,null,null,null,null,null,null,null,null,null,null,null,null,null,null,null,null,null,null,null,null,null,null,null,null,null,null,null,null,null,null,null,null,null,null,null,null,null,null,null,null,null,null,null,null,null,null,null,null,null,null,null,null,null,null,null,null,0,null,{"$f":"IFERROR(INDEX(справочник!$G$1:$I$7,MATCH($BV97,справочник!$G$1:$G$7,0),3),\"---\")","v":"---"},{"$f":"IFERROR(INDEX('Пр. №1'!$B$11:$C$34,MATCH(BS97,'Пр. №1'!$B$11:$B$34,0),2),\"---\")","v":"---"},{"$f":"IFERROR(INDEX('Состав ВТК-ВРГ'!$1:$1048576,MATCH($G97,'Состав ВТК-ВРГ'!$B:$B,0),MATCH(BU$6,'Состав ВТК-ВРГ'!$3:$3,0)),\"---\")","v":"---"},{"$f":"IFERROR(INDEX('Состав ВТК-ВРГ'!$1:$1048576,MATCH($G97,'Состав ВТК-ВРГ'!$B:$B,0),MATCH(BV$6,'Состав ВТК-ВРГ'!$3:$3,0)),\"---\")","v":"---"},{"$f":"IFERROR(INDEX(справочник!$G$1:$I$7,MATCH($BV97,справочник!$G$1:$G$7,0),2),\"---\")","v":"---"},{"$f":"IFERROR(INDEX('Состав ВТК-ВРГ'!$1:$1048576,MATCH($G97,'Состав ВТК-ВРГ'!$B:$B,0),MATCH(BX$6,'Состав ВТК-ВРГ'!$3:$3,0)),\"---\")","v":"---"},{"$f":"IFERROR(INDEX('Пр. №4'!$1:$1048576,MATCH(BX97,'Пр. №4'!$C:$C,0),MATCH('Пр. №3'!$D$5,'Пр. №4'!$9:$9,0)),\"---\")","v":"---"},{"$f":"SUMIFS('Пр. №1.2.'!$L:$L,'Пр. №1.2.'!$B:$B,'Пр. №3'!$D97,'Пр. №1.2.'!$E:$E,'Пр. №3'!$G97)","v":0},{"$error":"#VALUE!"},{"$error":"#VALUE!"}]
[{"$f":"ROW()","v":98},42,"Ввод данных",{"$error":"#N/A"},{"$f":"INDEX('Пр. №2'!$1:$1048576,MATCH('Пр. №3'!$F98,'Пр. №2'!$D:$D,0),COLUMN('Пр. №2'!$C$5))","v":{"$error":"#N/A"}},null,null,null,null,null,null,null,null,null,null,null,null,null,null,null,null,null,null,null,null,null,null,null,null,null,null,null,null,null,null,null,null,null,null,null,null,null,null,null,null,null,null,null,null,null,null,null,null,null,null,null,null,null,null,null,null,null,null,null,null,null,null,null,0,null,{"$f":"IFERROR(INDEX(справочник!$G$1:$I$7,MATCH($BV98,справочник!$G$1:$G$7,0),3),\"---\")","v":"---"},{"$f":"IFERROR(INDEX('Пр. №1'!$B$11:$C$34,MATCH(BS98,'Пр. №1'!$B$11:$B$34,0),2),\"---\")","v":"---"},{"$f":"IFERROR(INDEX('Состав ВТК-ВРГ'!$1:$1048576,MATCH($G98,'Состав ВТК-ВРГ'!$B:$B,0),MATCH(BU$6,'Состав ВТК-ВРГ'!$3:$3,0)),\"---\")","v":"---"},{"$f":"IFERROR(INDEX('Состав ВТК-ВРГ'!$1:$1048576,MATCH($G98,'Состав ВТК-ВРГ'!$B:$B,0),MATCH(BV$6,'Состав ВТК-ВРГ'!$3:$3,0)),\"---\")","v":"---"},{"$f":"IFERROR(INDEX(справочник!$G$1:$I$7,MATCH($BV98,справочник!$G$1:$G$7,0),2),\"---\")","v":"---"},{"$f":"IFERROR(INDEX('Состав ВТК-ВРГ'!$1:$1048576,MATCH($G98,'Состав ВТК-ВРГ'!$B:$B,0),MATCH(BX$6,'Состав ВТК-ВРГ'!$3:$3,0)),\"---\")","v":"---"},{"$f":"IFERROR(INDEX('Пр. №4'!$1:$1048576,MATCH(BX98,'Пр. №4'!$C:$C,0),MATCH('Пр. №3'!$D$5,'Пр. №4'!$9:$9,0)),\"---\")","v":"---"},{"$f":"SUMIFS('Пр. №1.2.'!$L:$L,'Пр. №1.2.'!$B:$B,'Пр. №3'!$D98,'Пр. №1.2.'!$E:$E,'Пр. №3'!$G98)","v":0},{"$error":"#VALUE!"},{"$error":"#VALUE!"}]
[{"$f":"ROW()","v":99},43,"Ввод данных",{"$error":"#N/A"},{"$f":"INDEX('Пр. №2'!$1:$1048576,MATCH('Пр. №3'!$F99,'Пр. №2'!$D:$D,0),COLUMN('Пр. №2'!$C$5))","v":{"$error":"#N/A"}},null,null,null,null,null,null,null,null,null,null,null,null,null,null,null,null,null,null,null,null,null,null,null,null,null,null,null,null,null,null,null,null,null,null,null,null,null,null,null,null,null,null,null,null,null,null,null,null,null,null,null,null,null,null,null,null,null,null,null,null,null,null,null,0,null,{"$f":"IFERROR(INDEX(справочник!$G$1:$I$7,MATCH($BV99,справочник!$G$1:$G$7,0),3),\"---\")","v":"---"},{"$f":"IFERROR(INDEX('Пр. №1'!$B$11:$C$34,MATCH(BS99,'Пр. №1'!$B$11:$B$34,0),2),\"---\")","v":"---"},{"$f":"IFERROR(INDEX('Состав ВТК-ВРГ'!$1:$1048576,MATCH($G99,'Состав ВТК-ВРГ'!$B:$B,0),MATCH(BU$6,'Состав ВТК-ВРГ'!$3:$3,0)),\"---\")","v":"---"},{"$f":"IFERROR(INDEX('Состав ВТК-ВРГ'!$1:$1048576,MATCH($G99,'Состав ВТК-ВРГ'!$B:$B,0),MATCH(BV$6,'Состав ВТК-ВРГ'!$3:$3,0)),\"---\")","v":"---"},{"$f":"IFERROR(INDEX(справочник!$G$1:$I$7,MATCH($BV99,справочник!$G$1:$G$7,0),2),\"---\")","v":"---"},{"$f":"IFERROR(INDEX('Состав ВТК-ВРГ'!$1:$1048576,MATCH($G99,'Состав ВТК-ВРГ'!$B:$B,0),MATCH(BX$6,'Состав ВТК-ВРГ'!$3:$3,0)),\"---\")","v":"---"},{"$f":"IFERROR(INDEX('Пр. №4'!$1:$1048576,MATCH(BX99,'Пр. №4'!$C:$C,0),MATCH('Пр. №3'!$D$5,'Пр. №4'!$9:$9,0)),\"---\")","v":"---"},{"$f":"SUMIFS('Пр. №1.2.'!$L:$L,'Пр. №1.2.'!$B:$B,'Пр. №3'!$D99,'Пр. №1.2.'!$E:$E,'Пр. №3'!$G99)","v":0},{"$error":"#VALUE!"},{"$error":"#VALUE!"}]
[{"$f":"ROW()","v":100},44,"Ввод данных",{"$error":"#N/A"},{"$f":"INDEX('Пр. №2'!$1:$1048576,MATCH('Пр. №3'!$F100,'Пр. №2'!$D:$D,0),COLUMN('Пр. №2'!$C$5))","v":{"$error":"#N/A"}},null,null,null,null,null,null,null,null,null,null,null,null,null,null,null,null,null,null,null,null,null,null,null,null,null,null,null,null,null,null,null,null,null,null,null,null,null,null,null,null,null,null,null,null,null,null,null,null,null,null,null,null,null,null,null,null,null,null,null,null,null,null,null,0,null,{"$f":"IFERROR(INDEX(справочник!$G$1:$I$7,MATCH($BV100,справочник!$G$1:$G$7,0),3),\"---\")","v":"---"},{"$f":"IFERROR(INDEX('Пр. №1'!$B$11:$C$34,MATCH(BS100,'Пр. №1'!$B$11:$B$34,0),2),\"---\")","v":"---"},{"$f":"IFERROR(INDEX('Состав ВТК-ВРГ'!$1:$1048576,MATCH($G100,'Состав ВТК-ВРГ'!$B:$B,0),MATCH(BU$6,'Состав ВТК-ВРГ'!$3:$3,0)),\"---\")","v":"---"},{"$f":"IFERROR(INDEX('Состав ВТК-ВРГ'!$1:$1048576,MATCH($G100,'Состав ВТК-ВРГ'!$B:$B,0),MATCH(BV$6,'Состав ВТК-ВРГ'!$3:$3,0)),\"---\")","v":"---"},{"$f":"IFERROR(INDEX(справочник!$G$1:$I$7,MATCH($BV100,справочник!$G$1:$G$7,0),2),\"---\")","v":"---"},{"$f":"IFERROR(INDEX('Состав ВТК-ВРГ'!$1:$1048576,MATCH($G100,'Состав ВТК-ВРГ'!$B:$B,0),MATCH(BX$6,'Состав ВТК-ВРГ'!$3:$3,0)),\"---\")","v":"---"},{"$f":"IFERROR(INDEX('Пр. №4'!$1:$1048576,MATCH(BX100,'Пр. №4'!$C:$C,0),MATCH('Пр. №3'!$D$5,'Пр. №4'!$9:$9,0)),\"---\")","v":"---"},{"$f":"SUMIFS('Пр. №1.2.'!$L:$L,'Пр. №1.2.'!$B:$B,'Пр. №3'!$D100,'Пр. №1.2.'!$E:$E,'Пр. №3'!$G100)","v":0},{"$error":"#VALUE!"},{"$error":"#VALUE!"}]
[{"$f":"ROW()","v":101},45,"Ввод данных",{"$error":"#N/A"},{"$f":"INDEX('Пр. №2'!$1:$1048576,MATCH('Пр. №3'!$F101,'Пр. №2'!$D:$D,0),COLUMN('Пр. №2'!$C$5))","v":{"$error":"#N/A"}},null,null,null,null,null,null,null,null,null,null,null,null,null,null,null,null,null,null,null,null,null,null,null,null,null,null,null,null,null,null,null,null,null,null,null,null,null,null,null,null,null,null,null,null,null,null,null,null,null,null,null,null,null,null,null,null,null,null,null,null,null,null,null,0,null,{"$f":"IFERROR(INDEX(справочник!$G$1:$I$7,MATCH($BV101,справочник!$G$1:$G$7,0),3),\"---\")","v":"---"},{"$f":"IFERROR(INDEX('Пр. №1'!$B$11:$C$34,MATCH(BS101,'Пр. №1'!$B$11:$B$34,0),2),\"---\")","v":"---"},{"$f":"IFERROR(INDEX('Состав ВТК-ВРГ'!$1:$1048576,MATCH($G101,'Состав ВТК-ВРГ'!$B:$B,0),MATCH(BU$6,'Состав ВТК-ВРГ'!$3:$3,0)),\"---\")","v":"---"},{"$f":"IFERROR(INDEX('Состав ВТК-ВРГ'!$1:$1048576,MATCH($G101,'Состав ВТК-ВРГ'!$B:$B,0),MATCH(BV$6,'Состав ВТК-ВРГ'!$3:$3,0)),\"---\")","v":"---"},{"$f":"IFERROR(INDEX(справочник!$G$1:$I$7,MATCH($BV101,справочник!$G$1:$G$7,0),2),\"---\")","v":"---"},{"$f":"IFERROR(INDEX('Состав ВТК-ВРГ'!$1:$1048576,MATCH($G101,'Состав ВТК-ВРГ'!$B:$B,0),MATCH(BX$6,'Состав ВТК-ВРГ'!$3:$3,0)),\"---\")","v":"---"},{"$f":"IFERROR(INDEX('Пр. №4'!$1:$1048576,MATCH(BX101,'Пр. №4'!$C:$C,0),MATCH('Пр. №3'!$D$5,'Пр. №4'!$9:$9,0)),\"---\")","v":"---"},{"$f":"SUMIFS('Пр. №1.2.'!$L:$L,'Пр. №1.2.'!$B:$B,'Пр. №3'!$D101,'Пр. №1.2.'!$E:$E,'Пр. №3'!$G101)","v":0},{"$error":"#VALUE!"},{"$error":"#VALUE!"}]
[{"$f":"ROW()","v":102},46,"Ввод данных",{"$error":"#N/A"},{"$f":"INDEX('Пр. №2'!$1:$1048576,MATCH('Пр. №3'!$F102,'Пр. №2'!$D:$D,0),COLUMN('Пр. №2'!$C$5))","v":{"$error":"#N/A"}},null,null,null,null,null,null,null,null,null,null,null,null,null,null,null,null,null,null,null,null,null,null,null,null,null,null,null,null,null,null,null,null,null,null,null,null,null,null,null,null,null,null,null,null,null,null,null,null,null,null,null,null,null,null,null,null,null,null,null,null,null,null,null,0,null,{"$f":"IFERROR(INDEX(справочник!$G$1:$I$7,MATCH($BV102,справочник!$G$1:$G$7,0),3),\"---\")","v":"---"},{"$f":"IFERROR(INDEX('Пр. №1'!$B$11:$C$34,MATCH(BS102,'Пр. №1'!$B$11:$B$34,0),2),\"---\")","v":"---"},{"$f":"IFERROR(INDEX('Состав ВТК-ВРГ'!$1:$1048576,MATCH($G102,'Состав ВТК-ВРГ'!$B:$B,0),MATCH(BU$6,'Состав ВТК-ВРГ'!$3:$3,0)),\"---\")","v":"---"},{"$f":"IFERROR(INDEX('Состав ВТК-ВРГ'!$1:$1048576,MATCH($G102,'Состав ВТК-ВРГ'!$B:$B,0),MATCH(BV$6,'Состав ВТК-ВРГ'!$3:$3,0)),\"---\")","v":"---"},{"$f":"IFERROR(INDEX(справочник!$G$1:$I$7,MATCH($BV102,справочник!$G$1:$G$7,0),2),\"---\")","v":"---"},{"$f":"IFERROR(INDEX('Состав ВТК-ВРГ'!$1:$1048576,MATCH($G102,'Состав ВТК-ВРГ'!$B:$B,0),MATCH(BX$6,'Состав ВТК-ВРГ'!$3:$3,0)),\"---\")","v":"---"},{"$f":"IFERROR(INDEX('Пр. №4'!$1:$1048576,MATCH(BX102,'Пр. №4'!$C:$C,0),MATCH('Пр. №3'!$D$5,'Пр. №4'!$9:$9,0)),\"---\")","v":"---"},{"$f":"SUMIFS('Пр. №1.2.'!$L:$L,'Пр. №1.2.'!$B:$B,'Пр. №3'!$D102,'Пр. №1.2.'!$E:$E,'Пр. №3'!$G102)","v":0},{"$error":"#VALUE!"},{"$error":"#VALUE!"}]
[{"$f":"ROW()","v":103},47,"Ввод данных",{"$error":"#N/A"},{"$f":"INDEX('Пр. №2'!$1:$1048576,MATCH('Пр. №3'!$F103,'Пр. №2'!$D:$D,0),COLUMN('Пр. №2'!$C$5))","v":{"$error":"#N/A"}},null,null,null,null,null,null,null,null,null,null,null,null,null,null,null,null,null,null,null,null,null,null,null,null,null,null,null,null,null,null,null,null,null,null,null,null,null,null,null,null,null,null,null,null,null,null,null,null,null,null,null,null,null,null,null,null,null,null,null,null,null,null,null,0,null,{"$f":"IFERROR(INDEX(справочник!$G$1:$I$7,MATCH($BV103,справочник!$G$1:$G$7,0),3),\"---\")","v":"---"},{"$f":"IFERROR(INDEX('Пр. №1'!$B$11:$C$34,MATCH(BS103,'Пр. №1'!$B$11:$B$34,0),2),\"---\")","v":"---"},{"$f":"IFERROR(INDEX('Состав ВТК-ВРГ'!$1:$1048576,MATCH($G103,'Состав ВТК-ВРГ'!$B:$B,0),MATCH(BU$6,'Состав ВТК-ВРГ'!$3:$3,0)),\"---\")","v":"---"},{"$f":"IFERROR(INDEX('Состав ВТК-ВРГ'!$1:$1048576,MATCH($G103,'Состав ВТК-ВРГ'!$B:$B,0),MATCH(BV$6,'Состав ВТК-ВРГ'!$3:$3,0)),\"---\")","v":"---"},{"$f":"IFERROR(INDEX(справочник!$G$1:$I$7,MATCH($BV103,справочник!$G$1:$G$7,0),2),\"---\")","v":"---"},{"$f":"IFERROR(INDEX('Состав ВТК-ВРГ'!$1:$1048576,MATCH($G103,'Состав ВТК-ВРГ'!$B:$B,0),MATCH(BX$6,'Состав ВТК-ВРГ'!$3:$3,0)),\"---\")","v":"---"},{"$f":"IFERROR(INDEX('Пр. №4'!$1:$1048576,MATCH(BX103,'Пр. №4'!$C:$C,0),MATCH('Пр. №3'!$D$5,'Пр. №4'!$9:$9,0)),\"---\")","v":"---"},{"$f":"SUMIFS('Пр. №1.2.'!$L:$L,'Пр. №1.2.'!$B:$B,'Пр. №3'!$D103,'Пр. №1.2.'!$E:$E,'Пр. №3'!$G103)","v":0},{"$error":"#VALUE!"},{"$error":"#VALUE!"}]
[{"$f":"ROW()","v":104},48,"Ввод данных",{"$error":"#N/A"},{"$f":"INDEX('Пр. №2'!$1:$1048576,MATCH('Пр. №3'!$F104,'Пр. №2'!$D:$D,0),COLUMN('Пр. №2'!$C$5))","v":{"$error":"#N/A"}},null,null,null,null,null,null,null,null,null,null,null,null,null,null,null,null,null,null,null,null,null,null,null,null,null,null,null,null,null,null,null,null,null,null,null,null,null,null,null,null,null,null,null,null,null,null,null,null,null,null,null,null,null,null,null,null,null,null,null,null,null,null,null,0,null,{"$f":"IFERROR(INDEX(справочник!$G$1:$I$7,MATCH($BV104,справочник!$G$1:$G$7,0),3),\"---\")","v":"---"},{"$f":"IFERROR(INDEX('Пр. №1'!$B$11:$C$34,MATCH(BS104,'Пр. №1'!$B$11:$B$34,0),2),\"---\")","v":"---"},{"$f":"IFERROR(INDEX('Состав ВТК-ВРГ'!$1:$1048576,MATCH($G104,'Состав ВТК-ВРГ'!$B:$B,0),MATCH(BU$6,'Состав ВТК-ВРГ'!$3:$3,0)),\"---\")","v":"---"},{"$f":"IFERROR(INDEX('Состав ВТК-ВРГ'!$1:$1048576,MATCH($G104,'Состав ВТК-ВРГ'!$B:$B,0),MATCH(BV$6,'Состав ВТК-ВРГ'!$3:$3,0)),\"---\")","v":"---"},{"$f":"IFERROR(INDEX(справочник!$G$1:$I$7,MATCH($BV104,справочник!$G$1:$G$7,0),2),\"---\")","v":"---"},{"$f":"IFERROR(INDEX('Состав ВТК-ВРГ'!$1:$1048576,MATCH($G104,'Состав ВТК-ВРГ'!$B:$B,0),MATCH(BX$6,'Состав ВТК-ВРГ'!$3:$3,0)),\"---\")","v":"---"},{"$f":"IFERROR(INDEX('Пр. №4'!$1:$1048576,MATCH(BX104,'Пр. №4'!$C:$C,0),MATCH('Пр. №3'!$D$5,'Пр. №4'!$9:$9,0)),\"---\")","v":"---"},{"$f":"SUMIFS('Пр. №1.2.'!$L:$L,'Пр. №1.2.'!$B:$B,'Пр. №3'!$D104,'Пр. №1.2.'!$E:$E,'Пр. №3'!$G104)","v":0},{"$error":"#VALUE!"},{"$error":"#VALUE!"}]
[{"$f":"ROW()","v":105},49,"Ввод данных",{"$error":"#N/A"},{"$f":"INDEX('Пр. №2'!$1:$1048576,MATCH('Пр. №3'!$F105,'Пр. №2'!$D:$D,0),COLUMN('Пр. №2'!$C$5))","v":{"$error":"#N/A"}},null,null,null,null,null,null,null,null,null,null,null,null,null,null,null,null,null,null,null,null,null,null,null,null,null,null,null,null,null,null,null,null,null,null,null,null,null,null,null,null,null,null,null,null,null,null,null,null,null,null,null,null,null,null,null,null,null,null,null,null,null,null,null,0,null,{"$f":"IFERROR(INDEX(справочник!$G$1:$I$7,MATCH($BV105,справочник!$G$1:$G$7,0),3),\"---\")","v":"---"},{"$f":"IFERROR(INDEX('Пр. №1'!$B$11:$C$34,MATCH(BS105,'Пр. №1'!$B$11:$B$34,0),2),\"---\")","v":"---"},{"$f":"IFERROR(INDEX('Состав ВТК-ВРГ'!$1:$1048576,MATCH($G105,'Состав ВТК-ВРГ'!$B:$B,0),MATCH(BU$6,'Состав ВТК-ВРГ'!$3:$3,0)),\"---\")","v":"---"},{"$f":"IFERROR(INDEX('Состав ВТК-ВРГ'!$1:$1048576,MATCH($G105,'Состав ВТК-ВРГ'!$B:$B,0),MATCH(BV$6,'Состав ВТК-ВРГ'!$3:$3,0)),\"---\")","v":"---"},{"$f":"IFERROR(INDEX(справочник!$G$1:$I$7,MATCH($BV105,справочник!$G$1:$G$7,0),2),\"---\")","v":"---"},{"$f":"IFERROR(INDEX('Состав ВТК-ВРГ'!$1:$1048576,MATCH($G105,'Состав ВТК-ВРГ'!$B:$B,0),MATCH(BX$6,'Состав ВТК-ВРГ'!$3:$3,0)),\"---\")","v":"---"},{"$f":"IFERROR(INDEX('Пр. №4'!$1:$1048576,MATCH(BX105,'Пр. №4'!$C:$C,0),MATCH('Пр. №3'!$D$5,'Пр. №4'!$9:$9,0)),\"---\")","v":"---"},{"$f":"SUMIFS('Пр. №1.2.'!$L:$L,'Пр. №1.2.'!$B:$B,'Пр. №3'!$D105,'Пр. №1.2.'!$E:$E,'Пр. №3'!$G105)","v":0},{"$error":"#VALUE!"},{"$error":"#VALUE!"}]
[{"$f":"ROW()","v":106},50,"Ввод данных",{"$error":"#N/A"},{"$f":"INDEX('Пр. №2'!$1:$1048576,MATCH('Пр. №3'!$F106,'Пр. №2'!$D:$D,0),COLUMN('Пр. №2'!$C$5))","v":{"$error":"#N/A"}},null,null,null,null,null,null,null,null,null,null,null,null,null,null,null,null,null,null,null,null,null,null,null,null,null,null,null,null,null,null,null,null,null,null,null,null,null,null,null,null,null,null,null,null,null,null,null,null,null,null,null,null,null,null,null,null,null,null,null,null,null,null,null,0,null,{"$f":"IFERROR(INDEX(справочник!$G$1:$I$7,MATCH($BV106,справочник!$G$1:$G$7,0),3),\"---\")","v":"---"},{"$f":"IFERROR(INDEX('Пр. №1'!$B$11:$C$34,MATCH(BS106,'Пр. №1'!$B$11:$B$34,0),2),\"---\")","v":"---"},{"$f":"IFERROR(INDEX('Состав ВТК-ВРГ'!$1:$1048576,MATCH($G106,'Состав ВТК-ВРГ'!$B:$B,0),MATCH(BU$6,'Состав ВТК-ВРГ'!$3:$3,0)),\"---\")","v":"---"},{"$f":"IFERROR(INDEX('Состав ВТК-ВРГ'!$1:$1048576,MATCH($G106,'Состав ВТК-ВРГ'!$B:$B,0),MATCH(BV$6,'Состав ВТК-ВРГ'!$3:$3,0)),\"---\")","v":"---"},{"$f":"IFERROR(INDEX(справочник!$G$1:$I$7,MATCH($BV106,справочник!$G$1:$G$7,0),2),\"---\")","v":"---"},{"$f":"IFERROR(INDEX('Состав ВТК-ВРГ'!$1:$1048576,MATCH($G106,'Состав ВТК-ВРГ'!$B:$B,0),MATCH(BX$6,'Состав ВТК-ВРГ'!$3:$3,0)),\"---\")","v":"---"},{"$f":"IFERROR(INDEX('Пр. №4'!$1:$1048576,MATCH(BX106,'Пр. №4'!$C:$C,0),MATCH('Пр. №3'!$D$5,'Пр. №4'!$9:$9,0)),\"---\")","v":"---"},{"$f":"SUMIFS('Пр. №1.2.'!$L:$L,'Пр. №1.2.'!$B:$B,'Пр. №3'!$D106,'Пр. №1.2.'!$E:$E,'Пр. №3'!$G106)","v":0},{"$error":"#VALUE!"},{"$error":"#VALUE!"}]
[{"$f":"ROW()","v":107},51,"Ввод данных",{"$error":"#N/A"},{"$f":"INDEX('Пр. №2'!$1:$1048576,MATCH('Пр. №3'!$F107,'Пр. №2'!$D:$D,0),COLUMN('Пр. №2'!$C$5))","v":{"$error":"#N/A"}},null,null,null,null,null,null,null,null,null,null,null,null,null,null,null,null,null,null,null,null,null,null,null,null,null,null,null,null,null,null,null,null,null,null,null,null,null,null,null,null,null,null,null,null,null,null,null,null,null,null,null,null,null,null,null,null,null,null,null,null,null,null,null,0,null,{"$f":"IFERROR(INDEX(справочник!$G$1:$I$7,MATCH($BV107,справочник!$G$1:$G$7,0),3),\"---\")","v":"---"},{"$f":"IFERROR(INDEX('Пр. №1'!$B$11:$C$34,MATCH(BS107,'Пр. №1'!$B$11:$B$34,0),2),\"---\")","v":"---"},{"$f":"IFERROR(INDEX('Состав ВТК-ВРГ'!$1:$1048576,MATCH($G107,'Состав ВТК-ВРГ'!$B:$B,0),MATCH(BU$6,'Состав ВТК-ВРГ'!$3:$3,0)),\"---\")","v":"---"},{"$f":"IFERROR(INDEX('Состав ВТК-ВРГ'!$1:$1048576,MATCH($G107,'Состав ВТК-ВРГ'!$B:$B,0),MATCH(BV$6,'Состав ВТК-ВРГ'!$3:$3,0)),\"---\")","v":"---"},{"$f":"IFERROR(INDEX(справочник!$G$1:$I$7,MATCH($BV107,справочник!$G$1:$G$7,0),2),\"---\")","v":"---"},{"$f":"IFERROR(INDEX('Состав ВТК-ВРГ'!$1:$1048576,MATCH($G107,'Состав ВТК-ВРГ'!$B:$B,0),MATCH(BX$6,'Состав ВТК-ВРГ'!$3:$3,0)),\"---\")","v":"---"},{"$f":"IFERROR(INDEX('Пр. №4'!$1:$1048576,MATCH(BX107,'Пр. №4'!$C:$C,0),MATCH('Пр. №3'!$D$5,'Пр. №4'!$9:$9,0)),\"---\")","v":"---"},{"$f":"SUMIFS('Пр. №1.2.'!$L:$L,'Пр. №1.2.'!$B:$B,'Пр. №3'!$D107,'Пр. №1.2.'!$E:$E,'Пр. №3'!$G107)","v":0},{"$error":"#VALUE!"},{"$error":"#VALUE!"}]
[{"$f":"ROW()","v":108},52,"Ввод данных",{"$error":"#N/A"},{"$f":"INDEX('Пр. №2'!$1:$1048576,MATCH('Пр. №3'!$F108,'Пр. №2'!$D:$D,0),COLUMN('Пр. №2'!$C$5))","v":{"$error":"#N/A"}},null,null,null,null,null,null,null,null,null,null,null,null,null,null,null,null,null,null,null,null,null,null,null,null,null,null,null,null,null,null,null,null,null,null,null,null,null,null,null,null,null,null,null,null,null,null,null,null,null,null,null,null,null,null,null,null,null,null,null,null,null,null,null,0,null,{"$f":"IFERROR(INDEX(справочник!$G$1:$I$7,MATCH($BV108,справочник!$G$1:$G$7,0),3),\"---\")","v":"---"},{"$f":"IFERROR(INDEX('Пр. №1'!$B$11:$C$34,MATCH(BS108,'Пр. №1'!$B$11:$B$34,0),2),\"---\")","v":"---"},{"$f":"IFERROR(INDEX('Состав ВТК-ВРГ'!$1:$1048576,MATCH($G108,'Состав ВТК-ВРГ'!$B:$B,0),MATCH(BU$6,'Состав ВТК-ВРГ'!$3:$3,0)),\"---\")","v":"---"},{"$f":"IFERROR(INDEX('Состав ВТК-ВРГ'!$1:$1048576,MATCH($G108,'Состав ВТК-ВРГ'!$B:$B,0),MATCH(BV$6,'Состав ВТК-ВРГ'!$3:$3,0)),\"---\")","v":"---"},{"$f":"IFERROR(INDEX(справочник!$G$1:$I$7,MATCH($BV108,справочник!$G$1:$G$7,0),2),\"---\")","v":"---"},{"$f":"IFERROR(INDEX('Состав ВТК-ВРГ'!$1:$1048576,MATCH($G108,'Состав ВТК-ВРГ'!$B:$B,0),MATCH(BX$6,'Состав ВТК-ВРГ'!$3:$3,0)),\"---\")","v":"---"},{"$f":"IFERROR(INDEX('Пр. №4'!$1:$1048576,MATCH(BX108,'Пр. №4'!$C:$C,0),MATCH('Пр. №3'!$D$5,'Пр. №4'!$9:$9,0)),\"---\")","v":"---"},{"$f":"SUMIFS('Пр. №1.2.'!$L:$L,'Пр. №1.2.'!$B:$B,'Пр. №3'!$D108,'Пр. №1.2.'!$E:$E,'Пр. №3'!$G108)","v":0},{"$error":"#VALUE!"},{"$error":"#VALUE!"}]
[{"$f":"ROW()","v":109},53,"Ввод данных",{"$error":"#N/A"},{"$f":"INDEX('Пр. №2'!$1:$1048576,MATCH('Пр. №3'!$F109,'Пр. №2'!$D:$D,0),COLUMN('Пр. №2'!$C$5))","v":{"$error":"#N/A"}},null,null,null,null,null,null,null,null,null,null,null,null,null,null,null,null,null,null,null,null,null,null,null,null,null,null,null,null,null,null,null,null,null,null,null,null,null,null,null,null,null,null,null,null,null,null,null,null,null,null,null,null,null,null,null,null,null,null,null,null,null,null,null,0,null,{"$f":"IFERROR(INDEX(справочник!$G$1:$I$7,MATCH($BV109,справочник!$G$1:$G$7,0),3),\"---\")","v":"---"},{"$f":"IFERROR(INDEX('Пр. №1'!$B$11:$C$34,MATCH(BS109,'Пр. №1'!$B$11:$B$34,0),2),\"---\")","v":"---"},{"$f":"IFERROR(INDEX('Состав ВТК-ВРГ'!$1:$1048576,MATCH($G109,'Состав ВТК-ВРГ'!$B:$B,0),MATCH(BU$6,'Состав ВТК-ВРГ'!$3:$3,0)),\"---\")","v":"---"},{"$f":"IFERROR(INDEX('Состав ВТК-ВРГ'!$1:$1048576,MATCH($G109,'Состав ВТК-ВРГ'!$B:$B,0),MATCH(BV$6,'Состав ВТК-ВРГ'!$3:$3,0)),\"---\")","v":"---"},{"$f":"IFERROR(INDEX(справочник!$G$1:$I$7,MATCH($BV109,справочник!$G$1:$G$7,0),2),\"---\")","v":"---"},{"$f":"IFERROR(INDEX('Состав ВТК-ВРГ'!$1:$1048576,MATCH($G109,'Состав ВТК-ВРГ'!$B:$B,0),MATCH(BX$6,'Состав ВТК-ВРГ'!$3:$3,0)),\"---\")","v":"---"},{"$f":"IFERROR(INDEX('Пр. №4'!$1:$1048576,MATCH(BX109,'Пр. №4'!$C:$C,0),MATCH('Пр. №3'!$D$5,'Пр. №4'!$9:$9,0)),\"---\")","v":"---"},{"$f":"SUMIFS('Пр. №1.2.'!$L:$L,'Пр. №1.2.'!$B:$B,'Пр. №3'!$D109,'Пр. №1.2.'!$E:$E,'Пр. №3'!$G109)","v":0},{"$error":"#VALUE!"},{"$error":"#VALUE!"}]
[{"$f":"ROW()","v":110},54,"Ввод данных",{"$error":"#N/A"},{"$f":"INDEX('Пр. №2'!$1:$1048576,MATCH('Пр. №3'!$F110,'Пр. №2'!$D:$D,0),COLUMN('Пр. №2'!$C$5))","v":{"$error":"#N/A"}},null,null,null,null,null,null,null,null,null,null,null,null,null,null,null,null,null,null,null,null,null,null,null,null,null,null,null,null,null,null,null,null,null,null,null,null,null,null,null,null,null,null,null,null,null,null,null,null,null,null,null,null,null,null,null,null,null,null,null,null,null,null,null,0,null,{"$f":"IFERROR(INDEX(справочник!$G$1:$I$7,MATCH($BV110,справочник!$G$1:$G$7,0),3),\"---\")","v":"---"},{"$f":"IFERROR(INDEX('Пр. №1'!$B$11:$C$34,MATCH(BS110,'Пр. №1'!$B$11:$B$34,0),2),\"---\")","v":"---"},{"$f":"IFERROR(INDEX('Состав ВТК-ВРГ'!$1:$1048576,MATCH($G110,'Состав ВТК-ВРГ'!$B:$B,0),MATCH(BU$6,'Состав ВТК-ВРГ'!$3:$3,0)),\"---\")","v":"---"},{"$f":"IFERROR(INDEX('Состав ВТК-ВРГ'!$1:$1048576,MATCH($G110,'Состав ВТК-ВРГ'!$B:$B,0),MATCH(BV$6,'Состав ВТК-ВРГ'!$3:$3,0)),\"---\")","v":"---"},{"$f":"IFERROR(INDEX(справочник!$G$1:$I$7,MATCH($BV110,справочник!$G$1:$G$7,0),2),\"---\")","v":"---"},{"$f":"IFERROR(INDEX('Состав ВТК-ВРГ'!$1:$1048576,MATCH($G110,'Состав ВТК-ВРГ'!$B:$B,0),MATCH(BX$6,'Состав ВТК-ВРГ'!$3:$3,0)),\"---\")","v":"---"},{"$f":"IFERROR(INDEX('Пр. №4'!$1:$1048576,MATCH(BX110,'Пр. №4'!$C:$C,0),MATCH('Пр. №3'!$D$5,'Пр. №4'!$9:$9,0)),\"---\")","v":"---"},{"$f":"SUMIFS('Пр. №1.2.'!$L:$L,'Пр. №1.2.'!$B:$B,'Пр. №3'!$D110,'Пр. №1.2.'!$E:$E,'Пр. №3'!$G110)","v":0},{"$error":"#VALUE!"},{"$error":"#VALUE!"}]
[{"$f":"ROW()","v":111},55,"Ввод данных",{"$error":"#N/A"},{"$f":"INDEX('Пр. №2'!$1:$1048576,MATCH('Пр. №3'!$F111,'Пр. №2'!$D:$D,0),COLUMN('Пр. №2'!$C$5))","v":{"$error":"#N/A"}},null,null,null,null,null,null,null,null,null,null,null,null,null,null,null,null,null,null,null,null,null,null,null,null,null,null,null,null,null,null,null,null,null,null,null,null,null,null,null,null,null,null,null,null,null,null,null,null,null,null,null,null,null,null,null,null,null,null,null,null,null,null,null,0,null,{"$f":"IFERROR(INDEX(справочник!$G$1:$I$7,MATCH($BV111,справочник!$G$1:$G$7,0),3),\"---\")","v":"---"},{"$f":"IFERROR(INDEX('Пр. №1'!$B$11:$C$34,MATCH(BS111,'Пр. №1'!$B$11:$B$34,0),2),\"---\")","v":"---"},{"$f":"IFERROR(INDEX('Состав ВТК-ВРГ'!$1:$1048576,MATCH($G111,'Состав ВТК-ВРГ'!$B:$B,0),MATCH(BU$6,'Состав ВТК-ВРГ'!$3:$3,0)),\"---\")","v":"---"},{"$f":"IFERROR(INDEX('Состав ВТК-ВРГ'!$1:$1048576,MATCH($G111,'Состав ВТК-ВРГ'!$B:$B,0),MATCH(BV$6,'Состав ВТК-ВРГ'!$3:$3,0)),\"---\")","v":"---"},{"$f":"IFERROR(INDEX(справочник!$G$1:$I$7,MATCH($BV111,справочник!$G$1:$G$7,0),2),\"---\")","v":"---"},{"$f":"IFERROR(INDEX('Состав ВТК-ВРГ'!$1:$1048576,MATCH($G111,'Состав ВТК-ВРГ'!$B:$B,0),MATCH(BX$6,'Состав ВТК-ВРГ'!$3:$3,0)),\"---\")","v":"---"},{"$f":"IFERROR(INDEX('Пр. №4'!$1:$1048576,MATCH(BX111,'Пр. №4'!$C:$C,0),MATCH('Пр. №3'!$D$5,'Пр. №4'!$9:$9,0)),\"---\")","v":"---"},{"$f":"SUMIFS('Пр. №1.2.'!$L:$L,'Пр. №1.2.'!$B:$B,'Пр. №3'!$D111,'Пр. №1.2.'!$E:$E,'Пр. №3'!$G111)","v":0},{"$error":"#VALUE!"},{"$error":"#VALUE!"}]
[{"$f":"ROW()","v":112},56,"Ввод данных",{"$error":"#N/A"},{"$f":"INDEX('Пр. №2'!$1:$1048576,MATCH('Пр. №3'!$F112,'Пр. №2'!$D:$D,0),COLUMN('Пр. №2'!$C$5))","v":{"$error":"#N/A"}},null,null,null,null,null,null,null,null,null,null,null,null,null,null,null,null,null,null,null,null,null,null,null,null,null,null,null,null,null,null,null,null,null,null,null,null,null,null,null,null,null,null,null,null,null,null,null,null,null,null,null,null,null,null,null,null,null,null,null,null,null,null,null,0,null,{"$f":"IFERROR(INDEX(справочник!$G$1:$I$7,MATCH($BV112,справочник!$G$1:$G$7,0),3),\"---\")","v":"---"},{"$f":"IFERROR(INDEX('Пр. №1'!$B$11:$C$34,MATCH(BS112,'Пр. №1'!$B$11:$B$34,0),2),\"---\")","v":"---"},{"$f":"IFERROR(INDEX('Состав ВТК-ВРГ'!$1:$1048576,MATCH($G112,'Состав ВТК-ВРГ'!$B:$B,0),MATCH(BU$6,'Состав ВТК-ВРГ'!$3:$3,0)),\"---\")","v":"---"},{"$f":"IFERROR(INDEX('Состав ВТК-ВРГ'!$1:$1048576,MATCH($G112,'Состав ВТК-ВРГ'!$B:$B,0),MATCH(BV$6,'Состав ВТК-ВРГ'!$3:$3,0)),\"---\")","v":"---"},{"$f":"IFERROR(INDEX(справочник!$G$1:$I$7,MATCH($BV112,справочник!$G$1:$G$7,0),2),\"---\")","v":"---"},{"$f":"IFERROR(INDEX('Состав ВТК-ВРГ'!$1:$1048576,MATCH($G112,'Состав ВТК-ВРГ'!$B:$B,0),MATCH(BX$6,'Состав ВТК-ВРГ'!$3:$3,0)),\"---\")","v":"---"},{"$f":"IFERROR(INDEX('Пр. №4'!$1:$1048576,MATCH(BX112,'Пр. №4'!$C:$C,0),MATCH('Пр. №3'!$D$5,'Пр. №4'!$9:$9,0)),\"---\")","v":"---"},{"$f":"SUMIFS('Пр. №1.2.'!$L:$L,'Пр. №1.2.'!$B:$B,'Пр. №3'!$D112,'Пр. №1.2.'!$E:$E,'Пр. №3'!$G112)","v":0},{"$error":"#VALUE!"},{"$error":"#VALUE!"}]
[{"$f":"ROW()","v":113},57,"Ввод данных",{"$error":"#N/A"},{"$f":"INDEX('Пр. №2'!$1:$1048576,MATCH('Пр. №3'!$F113,'Пр. №2'!$D:$D,0),COLUMN('Пр. №2'!$C$5))","v":{"$error":"#N/A"}},null,null,null,null,null,null,null,null,null,null,null,null,null,null,null,null,null,null,null,null,null,null,null,null,null,null,null,null,null,null,null,null,null,null,null,null,null,null,null,null,null,null,null,null,null,null,null,null,null,null,null,null,null,null,null,null,null,null,null,null,null,null,null,0,null,{"$f":"IFERROR(INDEX(справочник!$G$1:$I$7,MATCH($BV113,справочник!$G$1:$G$7,0),3),\"---\")","v":"---"},{"$f":"IFERROR(INDEX('Пр. №1'!$B$11:$C$34,MATCH(BS113,'Пр. №1'!$B$11:$B$34,0),2),\"---\")","v":"---"},{"$f":"IFERROR(INDEX('Состав ВТК-ВРГ'!$1:$1048576,MATCH($G113,'Состав ВТК-ВРГ'!$B:$B,0),MATCH(BU$6,'Состав ВТК-ВРГ'!$3:$3,0)),\"---\")","v":"---"},{"$f":"IFERROR(INDEX('Состав ВТК-ВРГ'!$1:$1048576,MATCH($G113,'Состав ВТК-ВРГ'!$B:$B,0),MATCH(BV$6,'Состав ВТК-ВРГ'!$3:$3,0)),\"---\")","v":"---"},{"$f":"IFERROR(INDEX(справочник!$G$1:$I$7,MATCH($BV113,справочник!$G$1:$G$7,0),2),\"---\")","v":"---"},{"$f":"IFERROR(INDEX('Состав ВТК-ВРГ'!$1:$1048576,MATCH($G113,'Состав ВТК-ВРГ'!$B:$B,0),MATCH(BX$6,'Состав ВТК-ВРГ'!$3:$3,0)),\"---\")","v":"---"},{"$f":"IFERROR(INDEX('Пр. №4'!$1:$1048576,MATCH(BX113,'Пр. №4'!$C:$C,0),MATCH('Пр. №3'!$D$5,'Пр. №4'!$9:$9,0)),\"---\")","v":"---"},{"$f":"SUMIFS('Пр. №1.2.'!$L:$L,'Пр. №1.2.'!$B:$B,'Пр. №3'!$D113,'Пр. №1.2.'!$E:$E,'Пр. №3'!$G113)","v":0},{"$error":"#VALUE!"},{"$error":"#VALUE!"}]
[{"$f":"ROW()","v":114},58,"Ввод данных",{"$error":"#N/A"},{"$f":"INDEX('Пр. №2'!$1:$1048576,MATCH('Пр. №3'!$F114,'Пр. №2'!$D:$D,0),COLUMN('Пр. №2'!$C$5))","v":{"$error":"#N/A"}},null,null,null,null,null,null,null,null,null,null,null,null,null,null,null,null,null,null,null,null,null,null,null,null,null,null,null,null,null,null,null,null,null,null,null,null,null,null,null,null,null,null,null,null,null,null,null,null,null,null,null,null,null,null,null,null,null,null,null,null,null,null,null,0,null,{"$f":"IFERROR(INDEX(справочник!$G$1:$I$7,MATCH($BV114,справочник!$G$1:$G$7,0),3),\"---\")","v":"---"},{"$f":"IFERROR(INDEX('Пр. №1'!$B$11:$C$34,MATCH(BS114,'Пр. №1'!$B$11:$B$34,0),2),\"---\")","v":"---"},{"$f":"IFERROR(INDEX('Состав ВТК-ВРГ'!$1:$1048576,MATCH($G114,'Состав ВТК-ВРГ'!$B:$B,0),MATCH(BU$6,'Состав ВТК-ВРГ'!$3:$3,0)),\"---\")","v":"---"},{"$f":"IFERROR(INDEX('Состав ВТК-ВРГ'!$1:$1048576,MATCH($G114,'Состав ВТК-ВРГ'!$B:$B,0),MATCH(BV$6,'Состав ВТК-ВРГ'!$3:$3,0)),\"---\")","v":"---"},{"$f":"IFERROR(INDEX(справочник!$G$1:$I$7,MATCH($BV114,справочник!$G$1:$G$7,0),2),\"---\")","v":"---"},{"$f":"IFERROR(INDEX('Состав ВТК-ВРГ'!$1:$1048576,MATCH($G114,'Состав ВТК-ВРГ'!$B:$B,0),MATCH(BX$6,'Состав ВТК-ВРГ'!$3:$3,0)),\"---\")","v":"---"},{"$f":"IFERROR(INDEX('Пр. №4'!$1:$1048576,MATCH(BX114,'Пр. №4'!$C:$C,0),MATCH('Пр. №3'!$D$5,'Пр. №4'!$9:$9,0)),\"---\")","v":"---"},{"$f":"SUMIFS('Пр. №1.2.'!$L:$L,'Пр. №1.2.'!$B:$B,'Пр. №3'!$D114,'Пр. №1.2.'!$E:$E,'Пр. №3'!$G114)","v":0},{"$error":"#VALUE!"},{"$error":"#VALUE!"}]
[{"$f":"ROW()","v":115},59,"Ввод данных",{"$error":"#N/A"},{"$f":"INDEX('Пр. №2'!$1:$1048576,MATCH('Пр. №3'!$F115,'Пр. №2'!$D:$D,0),COLUMN('Пр. №2'!$C$5))","v":{"$error":"#N/A"}},null,null,null,null,null,null,null,null,null,null,null,null,null,null,null,null,null,null,null,null,null,null,null,null,null,null,null,null,null,null,null,null,null,null,null,null,null,null,null,null,null,null,null,null,null,null,null,null,null,null,null,null,null,null,null,null,null,null,null,null,null,null,null,0,null,{"$f":"IFERROR(INDEX(справочник!$G$1:$I$7,MATCH($BV115,справочник!$G$1:$G$7,0),3),\"---\")","v":"---"},{"$f":"IFERROR(INDEX('Пр. №1'!$B$11:$C$34,MATCH(BS115,'Пр. №1'!$B$11:$B$34,0),2),\"---\")","v":"---"},{"$f":"IFERROR(INDEX('Состав ВТК-ВРГ'!$1:$1048576,MATCH($G115,'Состав ВТК-ВРГ'!$B:$B,0),MATCH(BU$6,'Состав ВТК-ВРГ'!$3:$3,0)),\"---\")","v":"---"},{"$f":"IFERROR(INDEX('Состав ВТК-ВРГ'!$1:$1048576,MATCH($G115,'Состав ВТК-ВРГ'!$B:$B,0),MATCH(BV$6,'Состав ВТК-ВРГ'!$3:$3,0)),\"---\")","v":"---"},{"$f":"IFERROR(INDEX(справочник!$G$1:$I$7,MATCH($BV115,справочник!$G$1:$G$7,0),2),\"---\")","v":"---"},{"$f":"IFERROR(INDEX('Состав ВТК-ВРГ'!$1:$1048576,MATCH($G115,'Состав ВТК-ВРГ'!$B:$B,0),MATCH(BX$6,'Состав ВТК-ВРГ'!$3:$3,0)),\"---\")","v":"---"},{"$f":"IFERROR(INDEX('Пр. №4'!$1:$1048576,MATCH(BX115,'Пр. №4'!$C:$C,0),MATCH('Пр. №3'!$D$5,'Пр. №4'!$9:$9,0)),\"---\")","v":"---"},{"$f":"SUMIFS('Пр. №1.2.'!$L:$L,'Пр. №1.2.'!$B:$B,'Пр. №3'!$D115,'Пр. №1.2.'!$E:$E,'Пр. №3'!$G115)","v":0},{"$error":"#VALUE!"},{"$error":"#VALUE!"}]
[{"$f":"ROW()","v":116},60,"Ввод данных",{"$f":"INDEX($D$22:$E$35,MATCH(E116,$E$22:$E$35,0),1)","v":{"$error":"#N/A"}},{"$f":"INDEX('Пр. №2'!$1:$1048576,MATCH('Пр. №3'!$F116,'Пр. №2'!$D:$D,0),COLUMN('Пр. №2'!$C$5))","v":{"$error":"#N/A"}},null,null,null,null,null,null,null,null,null,null,null,null,null,null,null,null,null,null,null,null,null,null,null,null,null,null,null,null,null,null,null,null,null,null,null,null,null,null,null,null,null,null,null,null,null,null,null,null,null,null,null,null,null,null,null,null,null,null,null,null,null,null,null,{"$f":"SUM(H116:BP116)","v":0},null,{"$f":"IFERROR(INDEX(справочник!$G$1:$I$7,MATCH($BV116,справочник!$G$1:$G$7,0),3),\"---\")","v":"---"},{"$f":"IFERROR(INDEX('Пр. №1'!$B$11:$C$34,MATCH(BS116,'Пр. №1'!$B$11:$B$34,0),2),\"---\")","v":"---"},{"$f":"IFERROR(INDEX('Состав ВТК-ВРГ'!$1:$1048576,MATCH($G116,'Состав ВТК-ВРГ'!$B:$B,0),MATCH(BU$6,'Состав ВТК-ВРГ'!$3:$3,0)),\"---\")","v":"---"},{"$f":"IFERROR(INDEX('Состав ВТК-ВРГ'!$1:$1048576,MATCH($G116,'Состав ВТК-ВРГ'!$B:$B,0),MATCH(BV$6,'Состав ВТК-ВРГ'!$3:$3,0)),\"---\")","v":"---"},{"$f":"IFERROR(INDEX(справочник!$G$1:$I$7,MATCH($BV116,справочник!$G$1:$G$7,0),2),\"---\")","v":"---"},{"$f":"IFERROR(INDEX('Состав ВТК-ВРГ'!$1:$1048576,MATCH($G116,'Состав ВТК-ВРГ'!$B:$B,0),MATCH(BX$6,'Состав ВТК-ВРГ'!$3:$3,0)),\"---\")","v":"---"},{"$f":"IFERROR(INDEX('Пр. №4'!$1:$1048576,MATCH(BX116,'Пр. №4'!$C:$C,0),MATCH('Пр. №3'!$D$5,'Пр. №4'!$9:$9,0)),\"---\")","v":"---"},{"$f":"SUMIFS('Пр. №1.2.'!$L:$L,'Пр. №1.2.'!$B:$B,'Пр. №3'!$D116,'Пр. №1.2.'!$E:$E,'Пр. №3'!$G116)","v":0},{"$f":"BY116*BZ116","v":{"$error":"#VALUE!"}},{"$f":"BQ116*BZ116*BY116","v":{"$error":"#VALUE!"}}]
[{"$f":"ROW()","v":117},61,"Ввод данных",{"$error":"#N/A"},{"$f":"INDEX('Пр. №2'!$1:$1048576,MATCH('Пр. №3'!$F117,'Пр. №2'!$D:$D,0),COLUMN('Пр. №2'!$C$5))","v":{"$error":"#N/A"}},null,null,null,null,null,null,null,null,null,null,null,null,null,null,null,null,null,null,null,null,null,null,null,null,null,null,null,null,null,null,null,null,null,null,null,null,null,null,null,null,null,null,null,null,null,null,null,null,null,null,null,null,null,null,null,null,null,null,null,null,null,null,null,0,null,{"$f":"IFERROR(INDEX(справочник!$G$1:$I$7,MATCH($BV117,справочник!$G$1:$G$7,0),3),\"---\")","v":"---"},{"$f":"IFERROR(INDEX('Пр. №1'!$B$11:$C$34,MATCH(BS117,'Пр. №1'!$B$11:$B$34,0),2),\"---\")","v":"---"},{"$f":"IFERROR(INDEX('Состав ВТК-ВРГ'!$1:$1048576,MATCH($G117,'Состав ВТК-ВРГ'!$B:$B,0),MATCH(BU$6,'Состав ВТК-ВРГ'!$3:$3,0)),\"---\")","v":"---"},{"$f":"IFERROR(INDEX('Состав ВТК-ВРГ'!$1:$1048576,MATCH($G117,'Состав ВТК-ВРГ'!$B:$B,0),MATCH(BV$6,'Состав ВТК-ВРГ'!$3:$3,0)),\"---\")","v":"---"},{"$f":"IFERROR(INDEX(справочник!$G$1:$I$7,MATCH($BV117,справочник!$G$1:$G$7,0),2),\"---\")","v":"---"},{"$f":"IFERROR(INDEX('Состав ВТК-ВРГ'!$1:$1048576,MATCH($G117,'Состав ВТК-ВРГ'!$B:$B,0),MATCH(BX$6,'Состав ВТК-ВРГ'!$3:$3,0)),\"---\")","v":"---"},{"$f":"IFERROR(INDEX('Пр. №4'!$1:$1048576,MATCH(BX117,'Пр. №4'!$C:$C,0),MATCH('Пр. №3'!$D$5,'Пр. №4'!$9:$9,0)),\"---\")","v":"---"},{"$f":"SUMIFS('Пр. №1.2.'!$L:$L,'Пр. №1.2.'!$B:$B,'Пр. №3'!$D117,'Пр. №1.2.'!$E:$E,'Пр. №3'!$G117)","v":0},{"$error":"#VALUE!"},{"$error":"#VALUE!"}]
[{"$f":"ROW()","v":118},62,"Ввод данных",{"$error":"#N/A"},{"$f":"INDEX('Пр. №2'!$1:$1048576,MATCH('Пр. №3'!$F118,'Пр. №2'!$D:$D,0),COLUMN('Пр. №2'!$C$5))","v":{"$error":"#N/A"}},null,null,null,null,null,null,null,null,null,null,null,null,null,null,null,null,null,null,null,null,null,null,null,null,null,null,null,null,null,null,null,null,null,null,null,null,null,null,null,null,null,null,null,null,null,null,null,null,null,null,null,null,null,null,null,null,null,null,null,null,null,null,null,0,null,{"$f":"IFERROR(INDEX(справочник!$G$1:$I$7,MATCH($BV118,справочник!$G$1:$G$7,0),3),\"---\")","v":"---"},{"$f":"IFERROR(INDEX('Пр. №1'!$B$11:$C$34,MATCH(BS118,'Пр. №1'!$B$11:$B$34,0),2),\"---\")","v":"---"},{"$f":"IFERROR(INDEX('Состав ВТК-ВРГ'!$1:$1048576,MATCH($G118,'Состав ВТК-ВРГ'!$B:$B,0),MATCH(BU$6,'Состав ВТК-ВРГ'!$3:$3,0)),\"---\")","v":"---"},{"$f":"IFERROR(INDEX('Состав ВТК-ВРГ'!$1:$1048576,MATCH($G118,'Состав ВТК-ВРГ'!$B:$B,0),MATCH(BV$6,'Состав ВТК-ВРГ'!$3:$3,0)),\"---\")","v":"---"},{"$f":"IFERROR(INDEX(справочник!$G$1:$I$7,MATCH($BV118,справочник!$G$1:$G$7,0),2),\"---\")","v":"---"},{"$f":"IFERROR(INDEX('Состав ВТК-ВРГ'!$1:$1048576,MATCH($G118,'Состав ВТК-ВРГ'!$B:$B,0),MATCH(BX$6,'Состав ВТК-ВРГ'!$3:$3,0)),\"---\")","v":"---"},{"$f":"IFERROR(INDEX('Пр. №4'!$1:$1048576,MATCH(BX118,'Пр. №4'!$C:$C,0),MATCH('Пр. №3'!$D$5,'Пр. №4'!$9:$9,0)),\"---\")","v":"---"},{"$f":"SUMIFS('Пр. №1.2.'!$L:$L,'Пр. №1.2.'!$B:$B,'Пр. №3'!$D118,'Пр. №1.2.'!$E:$E,'Пр. №3'!$G118)","v":0},{"$error":"#VALUE!"},{"$error":"#VALUE!"}]
[{"$f":"ROW()","v":119},63,"Ввод данных",{"$error":"#N/A"},{"$f":"INDEX('Пр. №2'!$1:$1048576,MATCH('Пр. №3'!$F119,'Пр. №2'!$D:$D,0),COLUMN('Пр. №2'!$C$5))","v":{"$error":"#N/A"}},null,null,null,null,null,null,null,null,null,null,null,null,null,null,null,null,null,null,null,null,null,null,null,null,null,null,null,null,null,null,null,null,null,null,null,null,null,null,null,null,null,null,null,null,null,null,null,null,null,null,null,null,null,null,null,null,null,null,null,null,null,null,null,0,null,{"$f":"IFERROR(INDEX(справочник!$G$1:$I$7,MATCH($BV119,справочник!$G$1:$G$7,0),3),\"---\")","v":"---"},{"$f":"IFERROR(INDEX('Пр. №1'!$B$11:$C$34,MATCH(BS119,'Пр. №1'!$B$11:$B$34,0),2),\"---\")","v":"---"},{"$f":"IFERROR(INDEX('Состав ВТК-ВРГ'!$1:$1048576,MATCH($G119,'Состав ВТК-ВРГ'!$B:$B,0),MATCH(BU$6,'Состав ВТК-ВРГ'!$3:$3,0)),\"---\")","v":"---"},{"$f":"IFERROR(INDEX('Состав ВТК-ВРГ'!$1:$1048576,MATCH($G119,'Состав ВТК-ВРГ'!$B:$B,0),MATCH(BV$6,'Состав ВТК-ВРГ'!$3:$3,0)),\"---\")","v":"---"},{"$f":"IFERROR(INDEX(справочник!$G$1:$I$7,MATCH($BV119,справочник!$G$1:$G$7,0),2),\"---\")","v":"---"},{"$f":"IFERROR(INDEX('Состав ВТК-ВРГ'!$1:$1048576,MATCH($G119,'Состав ВТК-ВРГ'!$B:$B,0),MATCH(BX$6,'Состав ВТК-ВРГ'!$3:$3,0)),\"---\")","v":"---"},{"$f":"IFERROR(INDEX('Пр. №4'!$1:$1048576,MATCH(BX119,'Пр. №4'!$C:$C,0),MATCH('Пр. №3'!$D$5,'Пр. №4'!$9:$9,0)),\"---\")","v":"---"},{"$f":"SUMIFS('Пр. №1.2.'!$L:$L,'Пр. №1.2.'!$B:$B,'Пр. №3'!$D119,'Пр. №1.2.'!$E:$E,'Пр. №3'!$G119)","v":0},{"$error":"#VALUE!"},{"$error":"#VALUE!"}]
[{"$f":"ROW()","v":120},64,"Ввод данных",{"$error":"#N/A"},{"$f":"INDEX('Пр. №2'!$1:$1048576,MATCH('Пр. №3'!$F120,'Пр. №2'!$D:$D,0),COLUMN('Пр. №2'!$C$5))","v":{"$error":"#N/A"}},null,null,null,null,null,null,null,null,null,null,null,null,null,null,null,null,null,null,null,null,null,null,null,null,null,null,null,null,null,null,null,null,null,null,null,null,null,null,null,null,null,null,null,null,null,null,null,null,null,null,null,null,null,null,null,null,null,null,null,null,null,null,null,0,null,{"$f":"IFERROR(INDEX(справочник!$G$1:$I$7,MATCH($BV120,справочник!$G$1:$G$7,0),3),\"---\")","v":"---"},{"$f":"IFERROR(INDEX('Пр. №1'!$B$11:$C$34,MATCH(BS120,'Пр. №1'!$B$11:$B$34,0),2),\"---\")","v":"---"},{"$f":"IFERROR(INDEX('Состав ВТК-ВРГ'!$1:$1048576,MATCH($G120,'Состав ВТК-ВРГ'!$B:$B,0),MATCH(BU$6,'Состав ВТК-ВРГ'!$3:$3,0)),\"---\")","v":"---"},{"$f":"IFERROR(INDEX('Состав ВТК-ВРГ'!$1:$1048576,MATCH($G120,'Состав ВТК-ВРГ'!$B:$B,0),MATCH(BV$6,'Состав ВТК-ВРГ'!$3:$3,0)),\"---\")","v":"---"},{"$f":"IFERROR(INDEX(справочник!$G$1:$I$7,MATCH($BV120,справочник!$G$1:$G$7,0),2),\"---\")","v":"---"},{"$f":"IFERROR(INDEX('Состав ВТК-ВРГ'!$1:$1048576,MATCH($G120,'Состав ВТК-ВРГ'!$B:$B,0),MATCH(BX$6,'Состав ВТК-ВРГ'!$3:$3,0)),\"---\")","v":"---"},{"$f":"IFERROR(INDEX('Пр. №4'!$1:$1048576,MATCH(BX120,'Пр. №4'!$C:$C,0),MATCH('Пр. №3'!$D$5,'Пр. №4'!$9:$9,0)),\"---\")","v":"---"},{"$f":"SUMIFS('Пр. №1.2.'!$L:$L,'Пр. №1.2.'!$B:$B,'Пр. №3'!$D120,'Пр. №1.2.'!$E:$E,'Пр. №3'!$G120)","v":0},{"$error":"#VALUE!"},{"$error":"#VALUE!"}]
[{"$f":"ROW()","v":121},65,"Ввод данных",{"$error":"#N/A"},{"$f":"INDEX('Пр. №2'!$1:$1048576,MATCH('Пр. №3'!$F121,'Пр. №2'!$D:$D,0),COLUMN('Пр. №2'!$C$5))","v":{"$error":"#N/A"}},null,null,null,null,null,null,null,null,null,null,null,null,null,null,null,null,null,null,null,null,null,null,null,null,null,null,null,null,null,null,null,null,null,null,null,null,null,null,null,null,null,null,null,null,null,null,null,null,null,null,null,null,null,null,null,null,null,null,null,null,null,null,null,0,null,{"$f":"IFERROR(INDEX(справочник!$G$1:$I$7,MATCH($BV121,справочник!$G$1:$G$7,0),3),\"---\")","v":"---"},{"$f":"IFERROR(INDEX('Пр. №1'!$B$11:$C$34,MATCH(BS121,'Пр. №1'!$B$11:$B$34,0),2),\"---\")","v":"---"},{"$f":"IFERROR(INDEX('Состав ВТК-ВРГ'!$1:$1048576,MATCH($G121,'Состав ВТК-ВРГ'!$B:$B,0),MATCH(BU$6,'Состав ВТК-ВРГ'!$3:$3,0)),\"---\")","v":"---"},{"$f":"IFERROR(INDEX('Состав ВТК-ВРГ'!$1:$1048576,MATCH($G121,'Состав ВТК-ВРГ'!$B:$B,0),MATCH(BV$6,'Состав ВТК-ВРГ'!$3:$3,0)),\"---\")","v":"---"},{"$f":"IFERROR(INDEX(справочник!$G$1:$I$7,MATCH($BV121,справочник!$G$1:$G$7,0),2),\"---\")","v":"---"},{"$f":"IFERROR(INDEX('Состав ВТК-ВРГ'!$1:$1048576,MATCH($G121,'Состав ВТК-ВРГ'!$B:$B,0),MATCH(BX$6,'Состав ВТК-ВРГ'!$3:$3,0)),\"---\")","v":"---"},{"$f":"IFERROR(INDEX('Пр. №4'!$1:$1048576,MATCH(BX121,'Пр. №4'!$C:$C,0),MATCH('Пр. №3'!$D$5,'Пр. №4'!$9:$9,0)),\"---\")","v":"---"},{"$f":"SUMIFS('Пр. №1.2.'!$L:$L,'Пр. №1.2.'!$B:$B,'Пр. №3'!$D121,'Пр. №1.2.'!$E:$E,'Пр. №3'!$G121)","v":0},{"$error":"#VALUE!"},{"$error":"#VALUE!"}]
[{"$f":"ROW()","v":122},66,"Ввод данных",{"$error":"#N/A"},{"$f":"INDEX('Пр. №2'!$1:$1048576,MATCH('Пр. №3'!$F122,'Пр. №2'!$D:$D,0),COLUMN('Пр. №2'!$C$5))","v":{"$error":"#N/A"}},null,null,null,null,null,null,null,null,null,null,null,null,null,null,null,null,null,null,null,null,null,null,null,null,null,null,null,null,null,null,null,null,null,null,null,null,null,null,null,null,null,null,null,null,null,null,null,null,null,null,null,null,null,null,null,null,null,null,null,null,null,null,null,0,null,{"$f":"IFERROR(INDEX(справочник!$G$1:$I$7,MATCH($BV122,справочник!$G$1:$G$7,0),3),\"---\")","v":"---"},{"$f":"IFERROR(INDEX('Пр. №1'!$B$11:$C$34,MATCH(BS122,'Пр. №1'!$B$11:$B$34,0),2),\"---\")","v":"---"},{"$f":"IFERROR(INDEX('Состав ВТК-ВРГ'!$1:$1048576,MATCH($G122,'Состав ВТК-ВРГ'!$B:$B,0),MATCH(BU$6,'Состав ВТК-ВРГ'!$3:$3,0)),\"---\")","v":"---"},{"$f":"IFERROR(INDEX('Состав ВТК-ВРГ'!$1:$1048576,MATCH($G122,'Состав ВТК-ВРГ'!$B:$B,0),MATCH(BV$6,'Состав ВТК-ВРГ'!$3:$3,0)),\"---\")","v":"---"},{"$f":"IFERROR(INDEX(справочник!$G$1:$I$7,MATCH($BV122,справочник!$G$1:$G$7,0),2),\"---\")","v":"---"},{"$f":"IFERROR(INDEX('Состав ВТК-ВРГ'!$1:$1048576,MATCH($G122,'Состав ВТК-ВРГ'!$B:$B,0),MATCH(BX$6,'Состав ВТК-ВРГ'!$3:$3,0)),\"---\")","v":"---"},{"$f":"IFERROR(INDEX('Пр. №4'!$1:$1048576,MATCH(BX122,'Пр. №4'!$C:$C,0),MATCH('Пр. №3'!$D$5,'Пр. №4'!$9:$9,0)),\"---\")","v":"---"},{"$f":"SUMIFS('Пр. №1.2.'!$L:$L,'Пр. №1.2.'!$B:$B,'Пр. №3'!$D122,'Пр. №1.2.'!$E:$E,'Пр. №3'!$G122)","v":0},{"$error":"#VALUE!"},{"$error":"#VALUE!"}]
[{"$f":"ROW()","v":123},67,"Ввод данных",{"$error":"#N/A"},{"$f":"INDEX('Пр. №2'!$1:$1048576,MATCH('Пр. №3'!$F123,'Пр. №2'!$D:$D,0),COLUMN('Пр. №2'!$C$5))","v":{"$error":"#N/A"}},null,null,null,null,null,null,null,null,null,null,null,null,null,null,null,null,null,null,null,null,null,null,null,null,null,null,null,null,null,null,null,null,null,null,null,null,null,null,null,null,null,null,null,null,null,null,null,null,null,null,null,null,null,null,null,null,null,null,null,null,null,null,null,0,null,{"$f":"IFERROR(INDEX(справочник!$G$1:$I$7,MATCH($BV123,справочник!$G$1:$G$7,0),3),\"---\")","v":"---"},{"$f":"IFERROR(INDEX('Пр. №1'!$B$11:$C$34,MATCH(BS123,'Пр. №1'!$B$11:$B$34,0),2),\"---\")","v":"---"},{"$f":"IFERROR(INDEX('Состав ВТК-ВРГ'!$1:$1048576,MATCH($G123,'Состав ВТК-ВРГ'!$B:$B,0),MATCH(BU$6,'Состав ВТК-ВРГ'!$3:$3,0)),\"---\")","v":"---"},{"$f":"IFERROR(INDEX('Состав ВТК-ВРГ'!$1:$1048576,MATCH($G123,'Состав ВТК-ВРГ'!$B:$B,0),MATCH(BV$6,'Состав ВТК-ВРГ'!$3:$3,0)),\"---\")","v":"---"},{"$f":"IFERROR(INDEX(справочник!$G$1:$I$7,MATCH($BV123,справочник!$G$1:$G$7,0),2),\"---\")","v":"---"},{"$f":"IFERROR(INDEX('Состав ВТК-ВРГ'!$1:$1048576,MATCH($G123,'Состав ВТК-ВРГ'!$B:$B,0),MATCH(BX$6,'Состав ВТК-ВРГ'!$3:$3,0)),\"---\")","v":"---"},{"$f":"IFERROR(INDEX('Пр. №4'!$1:$1048576,MATCH(BX123,'Пр. №4'!$C:$C,0),MATCH('Пр. №3'!$D$5,'Пр. №4'!$9:$9,0)),\"---\")","v":"---"},{"$f":"SUMIFS('Пр. №1.2.'!$L:$L,'Пр. №1.2.'!$B:$B,'Пр. №3'!$D123,'Пр. №1.2.'!$E:$E,'Пр. №3'!$G123)","v":0},{"$error":"#VALUE!"},{"$error":"#VALUE!"}]
[{"$f":"ROW()","v":124},68,"Ввод данных",{"$error":"#N/A"},{"$f":"INDEX('Пр. №2'!$1:$1048576,MATCH('Пр. №3'!$F124,'Пр. №2'!$D:$D,0),COLUMN('Пр. №2'!$C$5))","v":{"$error":"#N/A"}},null,null,null,null,null,null,null,null,null,null,null,null,null,null,null,null,null,null,null,null,null,null,null,null,null,null,null,null,null,null,null,null,null,null,null,null,null,null,null,null,null,null,null,null,null,null,null,null,null,null,null,null,null,null,null,null,null,null,null,null,null,null,null,0,null,{"$f":"IFERROR(INDEX(справочник!$G$1:$I$7,MATCH($BV124,справочник!$G$1:$G$7,0),3),\"---\")","v":"---"},{"$f":"IFERROR(INDEX('Пр. №1'!$B$11:$C$34,MATCH(BS124,'Пр. №1'!$B$11:$B$34,0),2),\"---\")","v":"---"},{"$f":"IFERROR(INDEX('Состав ВТК-ВРГ'!$1:$1048576,MATCH($G124,'Состав ВТК-ВРГ'!$B:$B,0),MATCH(BU$6,'Состав ВТК-ВРГ'!$3:$3,0)),\"---\")","v":"---"},{"$f":"IFERROR(INDEX('Состав ВТК-ВРГ'!$1:$1048576,MATCH($G124,'Состав ВТК-ВРГ'!$B:$B,0),MATCH(BV$6,'Состав ВТК-ВРГ'!$3:$3,0)),\"---\")","v":"---"},{"$f":"IFERROR(INDEX(справочник!$G$1:$I$7,MATCH($BV124,справочник!$G$1:$G$7,0),2),\"---\")","v":"---"},{"$f":"IFERROR(INDEX('Состав ВТК-ВРГ'!$1:$1048576,MATCH($G124,'Состав ВТК-ВРГ'!$B:$B,0),MATCH(BX$6,'Состав ВТК-ВРГ'!$3:$3,0)),\"---\")","v":"---"},{"$f":"IFERROR(INDEX('Пр. №4'!$1:$1048576,MATCH(BX124,'Пр. №4'!$C:$C,0),MATCH('Пр. №3'!$D$5,'Пр. №4'!$9:$9,0)),\"---\")","v":"---"},{"$f":"SUMIFS('Пр. №1.2.'!$L:$L,'Пр. №1.2.'!$B:$B,'Пр. №3'!$D124,'Пр. №1.2.'!$E:$E,'Пр. №3'!$G124)","v":0},{"$error":"#VALUE!"},{"$error":"#VALUE!"}]
[{"$f":"ROW()","v":125},69,"Ввод данных",{"$error":"#N/A"},{"$f":"INDEX('Пр. №2'!$1:$1048576,MATCH('Пр. №3'!$F125,'Пр. №2'!$D:$D,0),COLUMN('Пр. №2'!$C$5))","v":{"$error":"#N/A"}},null,null,null,null,null,null,null,null,null,null,null,null,null,null,null,null,null,null,null,null,null,null,null,null,null,null,null,null,null,null,null,null,null,null,null,null,null,null,null,null,null,null,null,null,null,null,null,null,null,null,null,null,null,null,null,null,null,null,null,null,null,null,null,0,null,{"$f":"IFERROR(INDEX(справочник!$G$1:$I$7,MATCH($BV125,справочник!$G$1:$G$7,0),3),\"---\")","v":"---"},{"$f":"IFERROR(INDEX('Пр. №1'!$B$11:$C$34,MATCH(BS125,'Пр. №1'!$B$11:$B$34,0),2),\"---\")","v":"---"},{"$f":"IFERROR(INDEX('Состав ВТК-ВРГ'!$1:$1048576,MATCH($G125,'Состав ВТК-ВРГ'!$B:$B,0),MATCH(BU$6,'Состав ВТК-ВРГ'!$3:$3,0)),\"---\")","v":"---"},{"$f":"IFERROR(INDEX('Состав ВТК-ВРГ'!$1:$1048576,MATCH($G125,'Состав ВТК-ВРГ'!$B:$B,0),MATCH(BV$6,'Состав ВТК-ВРГ'!$3:$3,0)),\"---\")","v":"---"},{"$f":"IFERROR(INDEX(справочник!$G$1:$I$7,MATCH($BV125,справочник!$G$1:$G$7,0),2),\"---\")","v":"---"},{"$f":"IFERROR(INDEX('Состав ВТК-ВРГ'!$1:$1048576,MATCH($G125,'Состав ВТК-ВРГ'!$B:$B,0),MATCH(BX$6,'Состав ВТК-ВРГ'!$3:$3,0)),\"---\")","v":"---"},{"$f":"IFERROR(INDEX('Пр. №4'!$1:$1048576,MATCH(BX125,'Пр. №4'!$C:$C,0),MATCH('Пр. №3'!$D$5,'Пр. №4'!$9:$9,0)),\"---\")","v":"---"},{"$f":"SUMIFS('Пр. №1.2.'!$L:$L,'Пр. №1.2.'!$B:$B,'Пр. №3'!$D125,'Пр. №1.2.'!$E:$E,'Пр. №3'!$G125)","v":0},{"$error":"#VALUE!"},{"$error":"#VALUE!"}]
[{"$f":"ROW()","v":126},70,"Ввод данных",{"$error":"#N/A"},{"$f":"INDEX('Пр. №2'!$1:$1048576,MATCH('Пр. №3'!$F126,'Пр. №2'!$D:$D,0),COLUMN('Пр. №2'!$C$5))","v":{"$error":"#N/A"}},null,null,null,null,null,null,null,null,null,null,null,null,null,null,null,null,null,null,null,null,null,null,null,null,null,null,null,null,null,null,null,null,null,null,null,null,null,null,null,null,null,null,null,null,null,null,null,null,null,null,null,null,null,null,null,null,null,null,null,null,null,null,null,0,null,{"$f":"IFERROR(INDEX(справочник!$G$1:$I$7,MATCH($BV126,справочник!$G$1:$G$7,0),3),\"---\")","v":"---"},{"$f":"IFERROR(INDEX('Пр. №1'!$B$11:$C$34,MATCH(BS126,'Пр. №1'!$B$11:$B$34,0),2),\"---\")","v":"---"},{"$f":"IFERROR(INDEX('Состав ВТК-ВРГ'!$1:$1048576,MATCH($G126,'Состав ВТК-ВРГ'!$B:$B,0),MATCH(BU$6,'Состав ВТК-ВРГ'!$3:$3,0)),\"---\")","v":"---"},{"$f":"IFERROR(INDEX('Состав ВТК-ВРГ'!$1:$1048576,MATCH($G126,'Состав ВТК-ВРГ'!$B:$B,0),MATCH(BV$6,'Состав ВТК-ВРГ'!$3:$3,0)),\"---\")","v":"---"},{"$f":"IFERROR(INDEX(справочник!$G$1:$I$7,MATCH($BV126,справочник!$G$1:$G$7,0),2),\"---\")","v":"---"},{"$f":"IFERROR(INDEX('Состав ВТК-ВРГ'!$1:$1048576,MATCH($G126,'Состав ВТК-ВРГ'!$B:$B,0),MATCH(BX$6,'Состав ВТК-ВРГ'!$3:$3,0)),\"---\")","v":"---"},{"$f":"IFERROR(INDEX('Пр. №4'!$1:$1048576,MATCH(BX126,'Пр. №4'!$C:$C,0),MATCH('Пр. №3'!$D$5,'Пр. №4'!$9:$9,0)),\"---\")","v":"---"},{"$f":"SUMIFS('Пр. №1.2.'!$L:$L,'Пр. №1.2.'!$B:$B,'Пр. №3'!$D126,'Пр. №1.2.'!$E:$E,'Пр. №3'!$G126)","v":0},{"$error":"#VALUE!"},{"$error":"#VALUE!"}]
[{"$f":"ROW()","v":127},71,"Ввод данных",{"$error":"#N/A"},{"$f":"INDEX('Пр. №2'!$1:$1048576,MATCH('Пр. №3'!$F127,'Пр. №2'!$D:$D,0),COLUMN('Пр. №2'!$C$5))","v":{"$error":"#N/A"}},null,null,null,null,null,null,null,null,null,null,null,null,null,null,null,null,null,null,null,null,null,null,null,null,null,null,null,null,null,null,null,null,null,null,null,null,null,null,null,null,null,null,null,null,null,null,null,null,null,null,null,null,null,null,null,null,null,null,null,null,null,null,null,0,null,{"$f":"IFERROR(INDEX(справочник!$G$1:$I$7,MATCH($BV127,справочник!$G$1:$G$7,0),3),\"---\")","v":"---"},{"$f":"IFERROR(INDEX('Пр. №1'!$B$11:$C$34,MATCH(BS127,'Пр. №1'!$B$11:$B$34,0),2),\"---\")","v":"---"},{"$f":"IFERROR(INDEX('Состав ВТК-ВРГ'!$1:$1048576,MATCH($G127,'Состав ВТК-ВРГ'!$B:$B,0),MATCH(BU$6,'Состав ВТК-ВРГ'!$3:$3,0)),\"---\")","v":"---"},{"$f":"IFERROR(INDEX('Состав ВТК-ВРГ'!$1:$1048576,MATCH($G127,'Состав ВТК-ВРГ'!$B:$B,0),MATCH(BV$6,'Состав ВТК-ВРГ'!$3:$3,0)),\"---\")","v":"---"},{"$f":"IFERROR(INDEX(справочник!$G$1:$I$7,MATCH($BV127,справочник!$G$1:$G$7,0),2),\"---\")","v":"---"},{"$f":"IFERROR(INDEX('Состав ВТК-ВРГ'!$1:$1048576,MATCH($G127,'Состав ВТК-ВРГ'!$B:$B,0),MATCH(BX$6,'Состав ВТК-ВРГ'!$3:$3,0)),\"---\")","v":"---"},{"$f":"IFERROR(INDEX('Пр. №4'!$1:$1048576,MATCH(BX127,'Пр. №4'!$C:$C,0),MATCH('Пр. №3'!$D$5,'Пр. №4'!$9:$9,0)),\"---\")","v":"---"},{"$f":"SUMIFS('Пр. №1.2.'!$L:$L,'Пр. №1.2.'!$B:$B,'Пр. №3'!$D127,'Пр. №1.2.'!$E:$E,'Пр. №3'!$G127)","v":0},{"$error":"#VALUE!"},{"$error":"#VALUE!"}]
[{"$f":"ROW()","v":128},72,"Ввод данных",{"$error":"#N/A"},{"$f":"INDEX('Пр. №2'!$1:$1048576,MATCH('Пр. №3'!$F128,'Пр. №2'!$D:$D,0),COLUMN('Пр. №2'!$C$5))","v":{"$error":"#N/A"}},null,null,null,null,null,null,null,null,null,null,null,null,null,null,null,null,null,null,null,null,null,null,null,null,null,null,null,null,null,null,null,null,null,null,null,null,null,null,null,null,null,null,null,null,null,null,null,null,null,null,null,null,null,null,null,null,null,null,null,null,null,null,null,0,null,{"$f":"IFERROR(INDEX(справочник!$G$1:$I$7,MATCH($BV128,справочник!$G$1:$G$7,0),3),\"---\")","v":"---"},{"$f":"IFERROR(INDEX('Пр. №1'!$B$11:$C$34,MATCH(BS128,'Пр. №1'!$B$11:$B$34,0),2),\"---\")","v":"---"},{"$f":"IFERROR(INDEX('Состав ВТК-ВРГ'!$1:$1048576,MATCH($G128,'Состав ВТК-ВРГ'!$B:$B,0),MATCH(BU$6,'Состав ВТК-ВРГ'!$3:$3,0)),\"---\")","v":"---"},{"$f":"IFERROR(INDEX('Состав ВТК-ВРГ'!$1:$1048576,MATCH($G128,'Состав ВТК-ВРГ'!$B:$B,0),MATCH(BV$6,'Состав ВТК-ВРГ'!$3:$3,0)),\"---\")","v":"---"},{"$f":"IFERROR(INDEX(справочник!$G$1:$I$7,MATCH($BV128,справочник!$G$1:$G$7,0),2),\"---\")","v":"---"},{"$f":"IFERROR(INDEX('Состав ВТК-ВРГ'!$1:$1048576,MATCH($G128,'Состав ВТК-ВРГ'!$B:$B,0),MATCH(BX$6,'Состав ВТК-ВРГ'!$3:$3,0)),\"---\")","v":"---"},{"$f":"IFERROR(INDEX('Пр. №4'!$1:$1048576,MATCH(BX128,'Пр. №4'!$C:$C,0),MATCH('Пр. №3'!$D$5,'Пр. №4'!$9:$9,0)),\"---\")","v":"---"},{"$f":"SUMIFS('Пр. №1.2.'!$L:$L,'Пр. №1.2.'!$B:$B,'Пр. №3'!$D128,'Пр. №1.2.'!$E:$E,'Пр. №3'!$G128)","v":0},{"$error":"#VALUE!"},{"$error":"#VALUE!"}]
[{"$f":"ROW()","v":129},73,"Ввод данных",{"$error":"#N/A"},{"$f":"INDEX('Пр. №2'!$1:$1048576,MATCH('Пр. №3'!$F129,'Пр. №2'!$D:$D,0),COLUMN('Пр. №2'!$C$5))","v":{"$error":"#N/A"}},null,null,null,null,null,null,null,null,null,null,null,null,null,null,null,null,null,null,null,null,null,null,null,null,null,null,null,null,null,null,null,null,null,null,null,null,null,null,null,null,null,null,null,null,null,null,null,null,null,null,null,null,null,null,null,null,null,null,null,null,null,null,null,0,null,{"$f":"IFERROR(INDEX(справочник!$G$1:$I$7,MATCH($BV129,справочник!$G$1:$G$7,0),3),\"---\")","v":"---"},{"$f":"IFERROR(INDEX('Пр. №1'!$B$11:$C$34,MATCH(BS129,'Пр. №1'!$B$11:$B$34,0),2),\"---\")","v":"---"},{"$f":"IFERROR(INDEX('Состав ВТК-ВРГ'!$1:$1048576,MATCH($G129,'Состав ВТК-ВРГ'!$B:$B,0),MATCH(BU$6,'Состав ВТК-ВРГ'!$3:$3,0)),\"---\")","v":"---"},{"$f":"IFERROR(INDEX('Состав ВТК-ВРГ'!$1:$1048576,MATCH($G129,'Состав ВТК-ВРГ'!$B:$B,0),MATCH(BV$6,'Состав ВТК-ВРГ'!$3:$3,0)),\"---\")","v":"---"},{"$f":"IFERROR(INDEX(справочник!$G$1:$I$7,MATCH($BV129,справочник!$G$1:$G$7,0),2),\"---\")","v":"---"},{"$f":"IFERROR(INDEX('Состав ВТК-ВРГ'!$1:$1048576,MATCH($G129,'Состав ВТК-ВРГ'!$B:$B,0),MATCH(BX$6,'Состав ВТК-ВРГ'!$3:$3,0)),\"---\")","v":"---"},{"$f":"IFERROR(INDEX('Пр. №4'!$1:$1048576,MATCH(BX129,'Пр. №4'!$C:$C,0),MATCH('Пр. №3'!$D$5,'Пр. №4'!$9:$9,0)),\"---\")","v":"---"},{"$f":"SUMIFS('Пр. №1.2.'!$L:$L,'Пр. №1.2.'!$B:$B,'Пр. №3'!$D129,'Пр. №1.2.'!$E:$E,'Пр. №3'!$G129)","v":0},{"$error":"#VALUE!"},{"$error":"#VALUE!"}]
[{"$f":"ROW()","v":130},74,"Ввод данных",{"$error":"#N/A"},{"$f":"INDEX('Пр. №2'!$1:$1048576,MATCH('Пр. №3'!$F130,'Пр. №2'!$D:$D,0),COLUMN('Пр. №2'!$C$5))","v":{"$error":"#N/A"}},null,null,null,null,null,null,null,null,null,null,null,null,null,null,null,null,null,null,null,null,null,null,null,null,null,null,null,null,null,null,null,null,null,null,null,null,null,null,null,null,null,null,null,null,null,null,null,null,null,null,null,null,null,null,null,null,null,null,null,null,null,null,null,0,null,{"$f":"IFERROR(INDEX(справочник!$G$1:$I$7,MATCH($BV130,справочник!$G$1:$G$7,0),3),\"---\")","v":"---"},{"$f":"IFERROR(INDEX('Пр. №1'!$B$11:$C$34,MATCH(BS130,'Пр. №1'!$B$11:$B$34,0),2),\"---\")","v":"---"},{"$f":"IFERROR(INDEX('Состав ВТК-ВРГ'!$1:$1048576,MATCH($G130,'Состав ВТК-ВРГ'!$B:$B,0),MATCH(BU$6,'Состав ВТК-ВРГ'!$3:$3,0)),\"---\")","v":"---"},{"$f":"IFERROR(INDEX('Состав ВТК-ВРГ'!$1:$1048576,MATCH($G130,'Состав ВТК-ВРГ'!$B:$B,0),MATCH(BV$6,'Состав ВТК-ВРГ'!$3:$3,0)),\"---\")","v":"---"},{"$f":"IFERROR(INDEX(справочник!$G$1:$I$7,MATCH($BV130,справочник!$G$1:$G$7,0),2),\"---\")","v":"---"},{"$f":"IFERROR(INDEX('Состав ВТК-ВРГ'!$1:$1048576,MATCH($G130,'Состав ВТК-ВРГ'!$B:$B,0),MATCH(BX$6,'Состав ВТК-ВРГ'!$3:$3,0)),\"---\")","v":"---"},{"$f":"IFERROR(INDEX('Пр. №4'!$1:$1048576,MATCH(BX130,'Пр. №4'!$C:$C,0),MATCH('Пр. №3'!$D$5,'Пр. №4'!$9:$9,0)),\"---\")","v":"---"},{"$f":"SUMIFS('Пр. №1.2.'!$L:$L,'Пр. №1.2.'!$B:$B,'Пр. №3'!$D130,'Пр. №1.2.'!$E:$E,'Пр. №3'!$G130)","v":0},{"$error":"#VALUE!"},{"$error":"#VALUE!"}]
[{"$f":"ROW()","v":131},75,"Ввод данных",{"$error":"#N/A"},{"$f":"INDEX('Пр. №2'!$1:$1048576,MATCH('Пр. №3'!$F131,'Пр. №2'!$D:$D,0),COLUMN('Пр. №2'!$C$5))","v":{"$error":"#N/A"}},null,null,null,null,null,null,null,null,null,null,null,null,null,null,null,null,null,null,null,null,null,null,null,null,null,null,null,null,null,null,null,null,null,null,null,null,null,null,null,null,null,null,null,null,null,null,null,null,null,null,null,null,null,null,null,null,null,null,null,null,null,null,null,0,null,{"$f":"IFERROR(INDEX(справочник!$G$1:$I$7,MATCH($BV131,справочник!$G$1:$G$7,0),3),\"---\")","v":"---"},{"$f":"IFERROR(INDEX('Пр. №1'!$B$11:$C$34,MATCH(BS131,'Пр. №1'!$B$11:$B$34,0),2),\"---\")","v":"---"},{"$f":"IFERROR(INDEX('Состав ВТК-ВРГ'!$1:$1048576,MATCH($G131,'Состав ВТК-ВРГ'!$B:$B,0),MATCH(BU$6,'Состав ВТК-ВРГ'!$3:$3,0)),\"---\")","v":"---"},{"$f":"IFERROR(INDEX('Состав ВТК-ВРГ'!$1:$1048576,MATCH($G131,'Состав ВТК-ВРГ'!$B:$B,0),MATCH(BV$6,'Состав ВТК-ВРГ'!$3:$3,0)),\"---\")","v":"---"},{"$f":"IFERROR(INDEX(справочник!$G$1:$I$7,MATCH($BV131,справочник!$G$1:$G$7,0),2),\"---\")","v":"---"},{"$f":"IFERROR(INDEX('Состав ВТК-ВРГ'!$1:$1048576,MATCH($G131,'Состав ВТК-ВРГ'!$B:$B,0),MATCH(BX$6,'Состав ВТК-ВРГ'!$3:$3,0)),\"---\")","v":"---"},{"$f":"IFERROR(INDEX('Пр. №4'!$1:$1048576,MATCH(BX131,'Пр. №4'!$C:$C,0),MATCH('Пр. №3'!$D$5,'Пр. №4'!$9:$9,0)),\"---\")","v":"---"},{"$f":"SUMIFS('Пр. №1.2.'!$L:$L,'Пр. №1.2.'!$B:$B,'Пр. №3'!$D131,'Пр. №1.2.'!$E:$E,'Пр. №3'!$G131)","v":0},{"$error":"#VALUE!"},{"$error":"#VALUE!"}]
[{"$f":"ROW()","v":132},76,"Ввод данных",{"$error":"#N/A"},{"$f":"INDEX('Пр. №2'!$1:$1048576,MATCH('Пр. №3'!$F132,'Пр. №2'!$D:$D,0),COLUMN('Пр. №2'!$C$5))","v":{"$error":"#N/A"}},null,null,null,null,null,null,null,null,null,null,null,null,null,null,null,null,null,null,null,null,null,null,null,null,null,null,null,null,null,null,null,null,null,null,null,null,null,null,null,null,null,null,null,null,null,null,null,null,null,null,null,null,null,null,null,null,null,null,null,null,null,null,null,0,null,{"$f":"IFERROR(INDEX(справочник!$G$1:$I$7,MATCH($BV132,справочник!$G$1:$G$7,0),3),\"---\")","v":"---"},{"$f":"IFERROR(INDEX('Пр. №1'!$B$11:$C$34,MATCH(BS132,'Пр. №1'!$B$11:$B$34,0),2),\"---\")","v":"---"},{"$f":"IFERROR(INDEX('Состав ВТК-ВРГ'!$1:$1048576,MATCH($G132,'Состав ВТК-ВРГ'!$B:$B,0),MATCH(BU$6,'Состав ВТК-ВРГ'!$3:$3,0)),\"---\")","v":"---"},{"$f":"IFERROR(INDEX('Состав ВТК-ВРГ'!$1:$1048576,MATCH($G132,'Состав ВТК-ВРГ'!$B:$B,0),MATCH(BV$6,'Состав ВТК-ВРГ'!$3:$3,0)),\"---\")","v":"---"},{"$f":"IFERROR(INDEX(справочник!$G$1:$I$7,MATCH($BV132,справочник!$G$1:$G$7,0),2),\"---\")","v":"---"},{"$f":"IFERROR(INDEX('Состав ВТК-ВРГ'!$1:$1048576,MATCH($G132,'Состав ВТК-ВРГ'!$B:$B,0),MATCH(BX$6,'Состав ВТК-ВРГ'!$3:$3,0)),\"---\")","v":"---"},{"$f":"IFERROR(INDEX('Пр. №4'!$1:$1048576,MATCH(BX132,'Пр. №4'!$C:$C,0),MATCH('Пр. №3'!$D$5,'Пр. №4'!$9:$9,0)),\"---\")","v":"---"},{"$f":"SUMIFS('Пр. №1.2.'!$L:$L,'Пр. №1.2.'!$B:$B,'Пр. №3'!$D132,'Пр. №1.2.'!$E:$E,'Пр. №3'!$G132)","v":0},{"$error":"#VALUE!"},{"$error":"#VALUE!"}]
[{"$f":"ROW()","v":133},77,"Ввод данных",{"$error":"#N/A"},{"$f":"INDEX('Пр. №2'!$1:$1048576,MATCH('Пр. №3'!$F133,'Пр. №2'!$D:$D,0),COLUMN('Пр. №2'!$C$5))","v":{"$error":"#N/A"}},null,null,null,null,null,null,null,null,null,null,null,null,null,null,null,null,null,null,null,null,null,null,null,null,null,null,null,null,null,null,null,null,null,null,null,null,null,null,null,null,null,null,null,null,null,null,null,null,null,null,null,null,null,null,null,null,null,null,null,null,null,null,null,0,null,{"$f":"IFERROR(INDEX(справочник!$G$1:$I$7,MATCH($BV133,справочник!$G$1:$G$7,0),3),\"---\")","v":"---"},{"$f":"IFERROR(INDEX('Пр. №1'!$B$11:$C$34,MATCH(BS133,'Пр. №1'!$B$11:$B$34,0),2),\"---\")","v":"---"},{"$f":"IFERROR(INDEX('Состав ВТК-ВРГ'!$1:$1048576,MATCH($G133,'Состав ВТК-ВРГ'!$B:$B,0),MATCH(BU$6,'Состав ВТК-ВРГ'!$3:$3,0)),\"---\")","v":"---"},{"$f":"IFERROR(INDEX('Состав ВТК-ВРГ'!$1:$1048576,MATCH($G133,'Состав ВТК-ВРГ'!$B:$B,0),MATCH(BV$6,'Состав ВТК-ВРГ'!$3:$3,0)),\"---\")","v":"---"},{"$f":"IFERROR(INDEX(справочник!$G$1:$I$7,MATCH($BV133,справочник!$G$1:$G$7,0),2),\"---\")","v":"---"},{"$f":"IFERROR(INDEX('Состав ВТК-ВРГ'!$1:$1048576,MATCH($G133,'Состав ВТК-ВРГ'!$B:$B,0),MATCH(BX$6,'Состав ВТК-ВРГ'!$3:$3,0)),\"---\")","v":"---"},{"$f":"IFERROR(INDEX('Пр. №4'!$1:$1048576,MATCH(BX133,'Пр. №4'!$C:$C,0),MATCH('Пр. №3'!$D$5,'Пр. №4'!$9:$9,0)),\"---\")","v":"---"},{"$f":"SUMIFS('Пр. №1.2.'!$L:$L,'Пр. №1.2.'!$B:$B,'Пр. №3'!$D133,'Пр. №1.2.'!$E:$E,'Пр. №3'!$G133)","v":0},{"$error":"#VALUE!"},{"$error":"#VALUE!"}]
[{"$f":"ROW()","v":134},78,"Ввод данных",{"$error":"#N/A"},{"$f":"INDEX('Пр. №2'!$1:$1048576,MATCH('Пр. №3'!$F134,'Пр. №2'!$D:$D,0),COLUMN('Пр. №2'!$C$5))","v":{"$error":"#N/A"}},null,null,null,null,null,null,null,null,null,null,null,null,null,null,null,null,null,null,null,null,null,null,null,null,null,null,null,null,null,null,null,null,null,null,null,null,null,null,null,null,null,null,null,null,null,null,null,null,null,null,null,null,null,null,null,null,null,null,null,null,null,null,null,0,null,{"$f":"IFERROR(INDEX(справочник!$G$1:$I$7,MATCH($BV134,справочник!$G$1:$G$7,0),3),\"---\")","v":"---"},{"$f":"IFERROR(INDEX('Пр. №1'!$B$11:$C$34,MATCH(BS134,'Пр. №1'!$B$11:$B$34,0),2),\"---\")","v":"---"},{"$f":"IFERROR(INDEX('Состав ВТК-ВРГ'!$1:$1048576,MATCH($G134,'Состав ВТК-ВРГ'!$B:$B,0),MATCH(BU$6,'Состав ВТК-ВРГ'!$3:$3,0)),\"---\")","v":"---"},{"$f":"IFERROR(INDEX('Состав ВТК-ВРГ'!$1:$1048576,MATCH($G134,'Состав ВТК-ВРГ'!$B:$B,0),MATCH(BV$6,'Состав ВТК-ВРГ'!$3:$3,0)),\"---\")","v":"---"},{"$f":"IFERROR(INDEX(справочник!$G$1:$I$7,MATCH($BV134,справочник!$G$1:$G$7,0),2),\"---\")","v":"---"},{"$f":"IFERROR(INDEX('Состав ВТК-ВРГ'!$1:$1048576,MATCH($G134,'Состав ВТК-ВРГ'!$B:$B,0),MATCH(BX$6,'Состав ВТК-ВРГ'!$3:$3,0)),\"---\")","v":"---"},{"$f":"IFERROR(INDEX('Пр. №4'!$1:$1048576,MATCH(BX134,'Пр. №4'!$C:$C,0),MATCH('Пр. №3'!$D$5,'Пр. №4'!$9:$9,0)),\"---\")","v":"---"},{"$f":"SUMIFS('Пр. №1.2.'!$L:$L,'Пр. №1.2.'!$B:$B,'Пр. №3'!$D134,'Пр. №1.2.'!$E:$E,'Пр. №3'!$G134)","v":0},{"$error":"#VALUE!"},{"$error":"#VALUE!"}]
[{"$f":"ROW()","v":135},79,"Ввод данных",{"$error":"#N/A"},{"$f":"INDEX('Пр. №2'!$1:$1048576,MATCH('Пр. №3'!$F135,'Пр. №2'!$D:$D,0),COLUMN('Пр. №2'!$C$5))","v":{"$error":"#N/A"}},null,null,null,null,null,null,null,null,null,null,null,null,null,null,null,null,null,null,null,null,null,null,null,null,null,null,null,null,null,null,null,null,null,null,null,null,null,null,null,null,null,null,null,null,null,null,null,null,null,null,null,null,null,null,null,null,null,null,null,null,null,null,null,0,null,{"$f":"IFERROR(INDEX(справочник!$G$1:$I$7,MATCH($BV135,справочник!$G$1:$G$7,0),3),\"---\")","v":"---"},{"$f":"IFERROR(INDEX('Пр. №1'!$B$11:$C$34,MATCH(BS135,'Пр. №1'!$B$11:$B$34,0),2),\"---\")","v":"---"},{"$f":"IFERROR(INDEX('Состав ВТК-ВРГ'!$1:$1048576,MATCH($G135,'Состав ВТК-ВРГ'!$B:$B,0),MATCH(BU$6,'Состав ВТК-ВРГ'!$3:$3,0)),\"---\")","v":"---"},{"$f":"IFERROR(INDEX('Состав ВТК-ВРГ'!$1:$1048576,MATCH($G135,'Состав ВТК-ВРГ'!$B:$B,0),MATCH(BV$6,'Состав ВТК-ВРГ'!$3:$3,0)),\"---\")","v":"---"},{"$f":"IFERROR(INDEX(справочник!$G$1:$I$7,MATCH($BV135,справочник!$G$1:$G$7,0),2),\"---\")","v":"---"},{"$f":"IFERROR(INDEX('Состав ВТК-ВРГ'!$1:$1048576,MATCH($G135,'Состав ВТК-ВРГ'!$B:$B,0),MATCH(BX$6,'Состав ВТК-ВРГ'!$3:$3,0)),\"---\")","v":"---"},{"$f":"IFERROR(INDEX('Пр. №4'!$1:$1048576,MATCH(BX135,'Пр. №4'!$C:$C,0),MATCH('Пр. №3'!$D$5,'Пр. №4'!$9:$9,0)),\"---\")","v":"---"},{"$f":"SUMIFS('Пр. №1.2.'!$L:$L,'Пр. №1.2.'!$B:$B,'Пр. №3'!$D135,'Пр. №1.2.'!$E:$E,'Пр. №3'!$G135)","v":0},{"$error":"#VALUE!"},{"$error":"#VALUE!"}]
[{"$f":"ROW()","v":136},80,"Ввод данных",{"$error":"#N/A"},{"$f":"INDEX('Пр. №2'!$1:$1048576,MATCH('Пр. №3'!$F136,'Пр. №2'!$D:$D,0),COLUMN('Пр. №2'!$C$5))","v":{"$error":"#N/A"}},null,null,null,null,null,null,null,null,null,null,null,null,null,null,null,null,null,null,null,null,null,null,null,null,null,null,null,null,null,null,null,null,null,null,null,null,null,null,null,null,null,null,null,null,null,null,null,null,null,null,null,null,null,null,null,null,null,null,null,null,null,null,null,0,null,{"$f":"IFERROR(INDEX(справочник!$G$1:$I$7,MATCH($BV136,справочник!$G$1:$G$7,0),3),\"---\")","v":"---"},{"$f":"IFERROR(INDEX('Пр. №1'!$B$11:$C$34,MATCH(BS136,'Пр. №1'!$B$11:$B$34,0),2),\"---\")","v":"---"},{"$f":"IFERROR(INDEX('Состав ВТК-ВРГ'!$1:$1048576,MATCH($G136,'Состав ВТК-ВРГ'!$B:$B,0),MATCH(BU$6,'Состав ВТК-ВРГ'!$3:$3,0)),\"---\")","v":"---"},{"$f":"IFERROR(INDEX('Состав ВТК-ВРГ'!$1:$1048576,MATCH($G136,'Состав ВТК-ВРГ'!$B:$B,0),MATCH(BV$6,'Состав ВТК-ВРГ'!$3:$3,0)),\"---\")","v":"---"},{"$f":"IFERROR(INDEX(справочник!$G$1:$I$7,MATCH($BV136,справочник!$G$1:$G$7,0),2),\"---\")","v":"---"},{"$f":"IFERROR(INDEX('Состав ВТК-ВРГ'!$1:$1048576,MATCH($G136,'Состав ВТК-ВРГ'!$B:$B,0),MATCH(BX$6,'Состав ВТК-ВРГ'!$3:$3,0)),\"---\")","v":"---"},{"$f":"IFERROR(INDEX('Пр. №4'!$1:$1048576,MATCH(BX136,'Пр. №4'!$C:$C,0),MATCH('Пр. №3'!$D$5,'Пр. №4'!$9:$9,0)),\"---\")","v":"---"},{"$f":"SUMIFS('Пр. №1.2.'!$L:$L,'Пр. №1.2.'!$B:$B,'Пр. №3'!$D136,'Пр. №1.2.'!$E:$E,'Пр. №3'!$G136)","v":0},{"$error":"#VALUE!"},{"$error":"#VALUE!"}]
[{"$f":"ROW()","v":137},81,"Ввод данных",{"$error":"#N/A"},{"$f":"INDEX('Пр. №2'!$1:$1048576,MATCH('Пр. №3'!$F137,'Пр. №2'!$D:$D,0),COLUMN('Пр. №2'!$C$5))","v":{"$error":"#N/A"}},null,null,null,null,null,null,null,null,null,null,null,null,null,null,null,null,null,null,null,null,null,null,null,null,null,null,null,null,null,null,null,null,null,null,null,null,null,null,null,null,null,null,null,null,null,null,null,null,null,null,null,null,null,null,null,null,null,null,null,null,null,null,null,0,null,{"$f":"IFERROR(INDEX(справочник!$G$1:$I$7,MATCH($BV137,справочник!$G$1:$G$7,0),3),\"---\")","v":"---"},{"$f":"IFERROR(INDEX('Пр. №1'!$B$11:$C$34,MATCH(BS137,'Пр. №1'!$B$11:$B$34,0),2),\"---\")","v":"---"},{"$f":"IFERROR(INDEX('Состав ВТК-ВРГ'!$1:$1048576,MATCH($G137,'Состав ВТК-ВРГ'!$B:$B,0),MATCH(BU$6,'Состав ВТК-ВРГ'!$3:$3,0)),\"---\")","v":"---"},{"$f":"IFERROR(INDEX('Состав ВТК-ВРГ'!$1:$1048576,MATCH($G137,'Состав ВТК-ВРГ'!$B:$B,0),MATCH(BV$6,'Состав ВТК-ВРГ'!$3:$3,0)),\"---\")","v":"---"},{"$f":"IFERROR(INDEX(справочник!$G$1:$I$7,MATCH($BV137,справочник!$G$1:$G$7,0),2),\"---\")","v":"---"},{"$f":"IFERROR(INDEX('Состав ВТК-ВРГ'!$1:$1048576,MATCH($G137,'Состав ВТК-ВРГ'!$B:$B,0),MATCH(BX$6,'Состав ВТК-ВРГ'!$3:$3,0)),\"---\")","v":"---"},{"$f":"IFERROR(INDEX('Пр. №4'!$1:$1048576,MATCH(BX137,'Пр. №4'!$C:$C,0),MATCH('Пр. №3'!$D$5,'Пр. №4'!$9:$9,0)),\"---\")","v":"---"},{"$f":"SUMIFS('Пр. №1.2.'!$L:$L,'Пр. №1.2.'!$B:$B,'Пр. №3'!$D137,'Пр. №1.2.'!$E:$E,'Пр. №3'!$G137)","v":0},{"$error":"#VALUE!"},{"$error":"#VALUE!"}]
[{"$f":"ROW()","v":138},82,"Ввод данных",{"$error":"#N/A"},{"$f":"INDEX('Пр. №2'!$1:$1048576,MATCH('Пр. №3'!$F138,'Пр. №2'!$D:$D,0),COLUMN('Пр. №2'!$C$5))","v":{"$error":"#N/A"}},null,null,null,null,null,null,null,null,null,null,null,null,null,null,null,null,null,null,null,null,null,null,null,null,null,null,null,null,null,null,null,null,null,null,null,null,null,null,null,null,null,null,null,null,null,null,null,null,null,null,null,null,null,null,null,null,null,null,null,null,null,null,null,0,null,{"$f":"IFERROR(INDEX(справочник!$G$1:$I$7,MATCH($BV138,справочник!$G$1:$G$7,0),3),\"---\")","v":"---"},{"$f":"IFERROR(INDEX('Пр. №1'!$B$11:$C$34,MATCH(BS138,'Пр. №1'!$B$11:$B$34,0),2),\"---\")","v":"---"},{"$f":"IFERROR(INDEX('Состав ВТК-ВРГ'!$1:$1048576,MATCH($G138,'Состав ВТК-ВРГ'!$B:$B,0),MATCH(BU$6,'Состав ВТК-ВРГ'!$3:$3,0)),\"---\")","v":"---"},{"$f":"IFERROR(INDEX('Состав ВТК-ВРГ'!$1:$1048576,MATCH($G138,'Состав ВТК-ВРГ'!$B:$B,0),MATCH(BV$6,'Состав ВТК-ВРГ'!$3:$3,0)),\"---\")","v":"---"},{"$f":"IFERROR(INDEX(справочник!$G$1:$I$7,MATCH($BV138,справочник!$G$1:$G$7,0),2),\"---\")","v":"---"},{"$f":"IFERROR(INDEX('Состав ВТК-ВРГ'!$1:$1048576,MATCH($G138,'Состав ВТК-ВРГ'!$B:$B,0),MATCH(BX$6,'Состав ВТК-ВРГ'!$3:$3,0)),\"---\")","v":"---"},{"$f":"IFERROR(INDEX('Пр. №4'!$1:$1048576,MATCH(BX138,'Пр. №4'!$C:$C,0),MATCH('Пр. №3'!$D$5,'Пр. №4'!$9:$9,0)),\"---\")","v":"---"},{"$f":"SUMIFS('Пр. №1.2.'!$L:$L,'Пр. №1.2.'!$B:$B,'Пр. №3'!$D138,'Пр. №1.2.'!$E:$E,'Пр. №3'!$G138)","v":0},{"$error":"#VALUE!"},{"$error":"#VALUE!"}]
[{"$f":"ROW()","v":139},83,"Ввод данных",{"$error":"#N/A"},{"$f":"INDEX('Пр. №2'!$1:$1048576,MATCH('Пр. №3'!$F139,'Пр. №2'!$D:$D,0),COLUMN('Пр. №2'!$C$5))","v":{"$error":"#N/A"}},null,null,null,null,null,null,null,null,null,null,null,null,null,null,null,null,null,null,null,null,null,null,null,null,null,null,null,null,null,null,null,null,null,null,null,null,null,null,null,null,null,null,null,null,null,null,null,null,null,null,null,null,null,null,null,null,null,null,null,null,null,null,null,0,null,{"$f":"IFERROR(INDEX(справочник!$G$1:$I$7,MATCH($BV139,справочник!$G$1:$G$7,0),3),\"---\")","v":"---"},{"$f":"IFERROR(INDEX('Пр. №1'!$B$11:$C$34,MATCH(BS139,'Пр. №1'!$B$11:$B$34,0),2),\"---\")","v":"---"},{"$f":"IFERROR(INDEX('Состав ВТК-ВРГ'!$1:$1048576,MATCH($G139,'Состав ВТК-ВРГ'!$B:$B,0),MATCH(BU$6,'Состав ВТК-ВРГ'!$3:$3,0)),\"---\")","v":"---"},{"$f":"IFERROR(INDEX('Состав ВТК-ВРГ'!$1:$1048576,MATCH($G139,'Состав ВТК-ВРГ'!$B:$B,0),MATCH(BV$6,'Состав ВТК-ВРГ'!$3:$3,0)),\"---\")","v":"---"},{"$f":"IFERROR(INDEX(справочник!$G$1:$I$7,MATCH($BV139,справочник!$G$1:$G$7,0),2),\"---\")","v":"---"},{"$f":"IFERROR(INDEX('Состав ВТК-ВРГ'!$1:$1048576,MATCH($G139,'Состав ВТК-ВРГ'!$B:$B,0),MATCH(BX$6,'Состав ВТК-ВРГ'!$3:$3,0)),\"---\")","v":"---"},{"$f":"IFERROR(INDEX('Пр. №4'!$1:$1048576,MATCH(BX139,'Пр. №4'!$C:$C,0),MATCH('Пр. №3'!$D$5,'Пр. №4'!$9:$9,0)),\"---\")","v":"---"},{"$f":"SUMIFS('Пр. №1.2.'!$L:$L,'Пр. №1.2.'!$B:$B,'Пр. №3'!$D139,'Пр. №1.2.'!$E:$E,'Пр. №3'!$G139)","v":0},{"$error":"#VALUE!"},{"$error":"#VALUE!"}]
[{"$f":"ROW()","v":140},84,"Ввод данных",{"$error":"#N/A"},{"$f":"INDEX('Пр. №2'!$1:$1048576,MATCH('Пр. №3'!$F140,'Пр. №2'!$D:$D,0),COLUMN('Пр. №2'!$C$5))","v":{"$error":"#N/A"}},null,null,null,null,null,null,null,null,null,null,null,null,null,null,null,null,null,null,null,null,null,null,null,null,null,null,null,null,null,null,null,null,null,null,null,null,null,null,null,null,null,null,null,null,null,null,null,null,null,null,null,null,null,null,null,null,null,null,null,null,null,null,null,0,null,{"$f":"IFERROR(INDEX(справочник!$G$1:$I$7,MATCH($BV140,справочник!$G$1:$G$7,0),3),\"---\")","v":"---"},{"$f":"IFERROR(INDEX('Пр. №1'!$B$11:$C$34,MATCH(BS140,'Пр. №1'!$B$11:$B$34,0),2),\"---\")","v":"---"},{"$f":"IFERROR(INDEX('Состав ВТК-ВРГ'!$1:$1048576,MATCH($G140,'Состав ВТК-ВРГ'!$B:$B,0),MATCH(BU$6,'Состав ВТК-ВРГ'!$3:$3,0)),\"---\")","v":"---"},{"$f":"IFERROR(INDEX('Состав ВТК-ВРГ'!$1:$1048576,MATCH($G140,'Состав ВТК-ВРГ'!$B:$B,0),MATCH(BV$6,'Состав ВТК-ВРГ'!$3:$3,0)),\"---\")","v":"---"},{"$f":"IFERROR(INDEX(справочник!$G$1:$I$7,MATCH($BV140,справочник!$G$1:$G$7,0),2),\"---\")","v":"---"},{"$f":"IFERROR(INDEX('Состав ВТК-ВРГ'!$1:$1048576,MATCH($G140,'Состав ВТК-ВРГ'!$B:$B,0),MATCH(BX$6,'Состав ВТК-ВРГ'!$3:$3,0)),\"---\")","v":"---"},{"$f":"IFERROR(INDEX('Пр. №4'!$1:$1048576,MATCH(BX140,'Пр. №4'!$C:$C,0),MATCH('Пр. №3'!$D$5,'Пр. №4'!$9:$9,0)),\"---\")","v":"---"},{"$f":"SUMIFS('Пр. №1.2.'!$L:$L,'Пр. №1.2.'!$B:$B,'Пр. №3'!$D140,'Пр. №1.2.'!$E:$E,'Пр. №3'!$G140)","v":0},{"$error":"#VALUE!"},{"$error":"#VALUE!"}]
[{"$f":"ROW()","v":141},85,"Ввод данных",{"$error":"#N/A"},{"$f":"INDEX('Пр. №2'!$1:$1048576,MATCH('Пр. №3'!$F141,'Пр. №2'!$D:$D,0),COLUMN('Пр. №2'!$C$5))","v":{"$error":"#N/A"}},null,null,null,null,null,null,null,null,null,null,null,null,null,null,null,null,null,null,null,null,null,null,null,null,null,null,null,null,null,null,null,null,null,null,null,null,null,null,null,null,null,null,null,null,null,null,null,null,null,null,null,null,null,null,null,null,null,null,null,null,null,null,null,0,null,{"$f":"IFERROR(INDEX(справочник!$G$1:$I$7,MATCH($BV141,справочник!$G$1:$G$7,0),3),\"---\")","v":"---"},{"$f":"IFERROR(INDEX('Пр. №1'!$B$11:$C$34,MATCH(BS141,'Пр. №1'!$B$11:$B$34,0),2),\"---\")","v":"---"},{"$f":"IFERROR(INDEX('Состав ВТК-ВРГ'!$1:$1048576,MATCH($G141,'Состав ВТК-ВРГ'!$B:$B,0),MATCH(BU$6,'Состав ВТК-ВРГ'!$3:$3,0)),\"---\")","v":"---"},{"$f":"IFERROR(INDEX('Состав ВТК-ВРГ'!$1:$1048576,MATCH($G141,'Состав ВТК-ВРГ'!$B:$B,0),MATCH(BV$6,'Состав ВТК-ВРГ'!$3:$3,0)),\"---\")","v":"---"},{"$f":"IFERROR(INDEX(справочник!$G$1:$I$7,MATCH($BV141,справочник!$G$1:$G$7,0),2),\"---\")","v":"---"},{"$f":"IFERROR(INDEX('Состав ВТК-ВРГ'!$1:$1048576,MATCH($G141,'Состав ВТК-ВРГ'!$B:$B,0),MATCH(BX$6,'Состав ВТК-ВРГ'!$3:$3,0)),\"---\")","v":"---"},{"$f":"IFERROR(INDEX('Пр. №4'!$1:$1048576,MATCH(BX141,'Пр. №4'!$C:$C,0),MATCH('Пр. №3'!$D$5,'Пр. №4'!$9:$9,0)),\"---\")","v":"---"},{"$f":"SUMIFS('Пр. №1.2.'!$L:$L,'Пр. №1.2.'!$B:$B,'Пр. №3'!$D141,'Пр. №1.2.'!$E:$E,'Пр. №3'!$G141)","v":0},{"$error":"#VALUE!"},{"$error":"#VALUE!"}]
[{"$f":"ROW()","v":142},86,"Ввод данных",{"$error":"#N/A"},{"$f":"INDEX('Пр. №2'!$1:$1048576,MATCH('Пр. №3'!$F142,'Пр. №2'!$D:$D,0),COLUMN('Пр. №2'!$C$5))","v":{"$error":"#N/A"}},null,null,null,null,null,null,null,null,null,null,null,null,null,null,null,null,null,null,null,null,null,null,null,null,null,null,null,null,null,null,null,null,null,null,null,null,null,null,null,null,null,null,null,null,null,null,null,null,null,null,null,null,null,null,null,null,null,null,null,null,null,null,null,0,null,{"$f":"IFERROR(INDEX(справочник!$G$1:$I$7,MATCH($BV142,справочник!$G$1:$G$7,0),3),\"---\")","v":"---"},{"$f":"IFERROR(INDEX('Пр. №1'!$B$11:$C$34,MATCH(BS142,'Пр. №1'!$B$11:$B$34,0),2),\"---\")","v":"---"},{"$f":"IFERROR(INDEX('Состав ВТК-ВРГ'!$1:$1048576,MATCH($G142,'Состав ВТК-ВРГ'!$B:$B,0),MATCH(BU$6,'Состав ВТК-ВРГ'!$3:$3,0)),\"---\")","v":"---"},{"$f":"IFERROR(INDEX('Состав ВТК-ВРГ'!$1:$1048576,MATCH($G142,'Состав ВТК-ВРГ'!$B:$B,0),MATCH(BV$6,'Состав ВТК-ВРГ'!$3:$3,0)),\"---\")","v":"---"},{"$f":"IFERROR(INDEX(справочник!$G$1:$I$7,MATCH($BV142,справочник!$G$1:$G$7,0),2),\"---\")","v":"---"},{"$f":"IFERROR(INDEX('Состав ВТК-ВРГ'!$1:$1048576,MATCH($G142,'Состав ВТК-ВРГ'!$B:$B,0),MATCH(BX$6,'Состав ВТК-ВРГ'!$3:$3,0)),\"---\")","v":"---"},{"$f":"IFERROR(INDEX('Пр. №4'!$1:$1048576,MATCH(BX142,'Пр. №4'!$C:$C,0),MATCH('Пр. №3'!$D$5,'Пр. №4'!$9:$9,0)),\"---\")","v":"---"},{"$f":"SUMIFS('Пр. №1.2.'!$L:$L,'Пр. №1.2.'!$B:$B,'Пр. №3'!$D142,'Пр. №1.2.'!$E:$E,'Пр. №3'!$G142)","v":0},{"$error":"#VALUE!"},{"$error":"#VALUE!"}]
[{"$f":"ROW()","v":143},87,"Ввод данных",{"$error":"#N/A"},{"$f":"INDEX('Пр. №2'!$1:$1048576,MATCH('Пр. №3'!$F143,'Пр. №2'!$D:$D,0),COLUMN('Пр. №2'!$C$5))","v":{"$error":"#N/A"}},null,null,null,null,null,null,null,null,null,null,null,null,null,null,null,null,null,null,null,null,null,null,null,null,null,null,null,null,null,null,null,null,null,null,null,null,null,null,null,null,null,null,null,null,null,null,null,null,null,null,null,null,null,null,null,null,null,null,null,null,null,null,null,0,null,{"$f":"IFERROR(INDEX(справочник!$G$1:$I$7,MATCH($BV143,справочник!$G$1:$G$7,0),3),\"---\")","v":"---"},{"$f":"IFERROR(INDEX('Пр. №1'!$B$11:$C$34,MATCH(BS143,'Пр. №1'!$B$11:$B$34,0),2),\"---\")","v":"---"},{"$f":"IFERROR(INDEX('Состав ВТК-ВРГ'!$1:$1048576,MATCH($G143,'Состав ВТК-ВРГ'!$B:$B,0),MATCH(BU$6,'Состав ВТК-ВРГ'!$3:$3,0)),\"---\")","v":"---"},{"$f":"IFERROR(INDEX('Состав ВТК-ВРГ'!$1:$1048576,MATCH($G143,'Состав ВТК-ВРГ'!$B:$B,0),MATCH(BV$6,'Состав ВТК-ВРГ'!$3:$3,0)),\"---\")","v":"---"},{"$f":"IFERROR(INDEX(справочник!$G$1:$I$7,MATCH($BV143,справочник!$G$1:$G$7,0),2),\"---\")","v":"---"},{"$f":"IFERROR(INDEX('Состав ВТК-ВРГ'!$1:$1048576,MATCH($G143,'Состав ВТК-ВРГ'!$B:$B,0),MATCH(BX$6,'Состав ВТК-ВРГ'!$3:$3,0)),\"---\")","v":"---"},{"$f":"IFERROR(INDEX('Пр. №4'!$1:$1048576,MATCH(BX143,'Пр. №4'!$C:$C,0),MATCH('Пр. №3'!$D$5,'Пр. №4'!$9:$9,0)),\"---\")","v":"---"},{"$f":"SUMIFS('Пр. №1.2.'!$L:$L,'Пр. №1.2.'!$B:$B,'Пр. №3'!$D143,'Пр. №1.2.'!$E:$E,'Пр. №3'!$G143)","v":0},{"$error":"#VALUE!"},{"$error":"#VALUE!"}]
[{"$f":"ROW()","v":144},88,"Ввод данных",{"$error":"#N/A"},{"$f":"INDEX('Пр. №2'!$1:$1048576,MATCH('Пр. №3'!$F144,'Пр. №2'!$D:$D,0),COLUMN('Пр. №2'!$C$5))","v":{"$error":"#N/A"}},null,null,null,null,null,null,null,null,null,null,null,null,null,null,null,null,null,null,null,null,null,null,null,null,null,null,null,null,null,null,null,null,null,null,null,null,null,null,null,null,null,null,null,null,null,null,null,null,null,null,null,null,null,null,null,null,null,null,null,null,null,null,null,0,null,{"$f":"IFERROR(INDEX(справочник!$G$1:$I$7,MATCH($BV144,справочник!$G$1:$G$7,0),3),\"---\")","v":"---"},{"$f":"IFERROR(INDEX('Пр. №1'!$B$11:$C$34,MATCH(BS144,'Пр. №1'!$B$11:$B$34,0),2),\"---\")","v":"---"},{"$f":"IFERROR(INDEX('Состав ВТК-ВРГ'!$1:$1048576,MATCH($G144,'Состав ВТК-ВРГ'!$B:$B,0),MATCH(BU$6,'Состав ВТК-ВРГ'!$3:$3,0)),\"---\")","v":"---"},{"$f":"IFERROR(INDEX('Состав ВТК-ВРГ'!$1:$1048576,MATCH($G144,'Состав ВТК-ВРГ'!$B:$B,0),MATCH(BV$6,'Состав ВТК-ВРГ'!$3:$3,0)),\"---\")","v":"---"},{"$f":"IFERROR(INDEX(справочник!$G$1:$I$7,MATCH($BV144,справочник!$G$1:$G$7,0),2),\"---\")","v":"---"},{"$f":"IFERROR(INDEX('Состав ВТК-ВРГ'!$1:$1048576,MATCH($G144,'Состав ВТК-ВРГ'!$B:$B,0),MATCH(BX$6,'Состав ВТК-ВРГ'!$3:$3,0)),\"---\")","v":"---"},{"$f":"IFERROR(INDEX('Пр. №4'!$1:$1048576,MATCH(BX144,'Пр. №4'!$C:$C,0),MATCH('Пр. №3'!$D$5,'Пр. №4'!$9:$9,0)),\"---\")","v":"---"},{"$f":"SUMIFS('Пр. №1.2.'!$L:$L,'Пр. №1.2.'!$B:$B,'Пр. №3'!$D144,'Пр. №1.2.'!$E:$E,'Пр. №3'!$G144)","v":0},{"$error":"#VALUE!"},{"$error":"#VALUE!"}]
[{"$f":"ROW()","v":145},89,"Ввод данных",{"$error":"#N/A"},{"$f":"INDEX('Пр. №2'!$1:$1048576,MATCH('Пр. №3'!$F145,'Пр. №2'!$D:$D,0),COLUMN('Пр. №2'!$C$5))","v":{"$error":"#N/A"}},null,null,null,null,null,null,null,null,null,null,null,null,null,null,null,null,null,null,null,null,null,null,null,null,null,null,null,null,null,null,null,null,null,null,null,null,null,null,null,null,null,null,null,null,null,null,null,null,null,null,null,null,null,null,null,null,null,null,null,null,null,null,null,0,null,{"$f":"IFERROR(INDEX(справочник!$G$1:$I$7,MATCH($BV145,справочник!$G$1:$G$7,0),3),\"---\")","v":"---"},{"$f":"IFERROR(INDEX('Пр. №1'!$B$11:$C$34,MATCH(BS145,'Пр. №1'!$B$11:$B$34,0),2),\"---\")","v":"---"},{"$f":"IFERROR(INDEX('Состав ВТК-ВРГ'!$1:$1048576,MATCH($G145,'Состав ВТК-ВРГ'!$B:$B,0),MATCH(BU$6,'Состав ВТК-ВРГ'!$3:$3,0)),\"---\")","v":"---"},{"$f":"IFERROR(INDEX('Состав ВТК-ВРГ'!$1:$1048576,MATCH($G145,'Состав ВТК-ВРГ'!$B:$B,0),MATCH(BV$6,'Состав ВТК-ВРГ'!$3:$3,0)),\"---\")","v":"---"},{"$f":"IFERROR(INDEX(справочник!$G$1:$I$7,MATCH($BV145,справочник!$G$1:$G$7,0),2),\"---\")","v":"---"},{"$f":"IFERROR(INDEX('Состав ВТК-ВРГ'!$1:$1048576,MATCH($G145,'Состав ВТК-ВРГ'!$B:$B,0),MATCH(BX$6,'Состав ВТК-ВРГ'!$3:$3,0)),\"---\")","v":"---"},{"$f":"IFERROR(INDEX('Пр. №4'!$1:$1048576,MATCH(BX145,'Пр. №4'!$C:$C,0),MATCH('Пр. №3'!$D$5,'Пр. №4'!$9:$9,0)),\"---\")","v":"---"},{"$f":"SUMIFS('Пр. №1.2.'!$L:$L,'Пр. №1.2.'!$B:$B,'Пр. №3'!$D145,'Пр. №1.2.'!$E:$E,'Пр. №3'!$G145)","v":0},{"$error":"#VALUE!"},{"$error":"#VALUE!"}]
[{"$f":"ROW()","v":146},90,"Ввод данных",{"$error":"#N/A"},{"$f":"INDEX('Пр. №2'!$1:$1048576,MATCH('Пр. №3'!$F146,'Пр. №2'!$D:$D,0),COLUMN('Пр. №2'!$C$5))","v":{"$error":"#N/A"}},null,null,null,null,null,null,null,null,null,null,null,null,null,null,null,null,null,null,null,null,null,null,null,null,null,null,null,null,null,null,null,null,null,null,null,null,null,null,null,null,null,null,null,null,null,null,null,null,null,null,null,null,null,null,null,null,null,null,null,null,null,null,null,0,null,{"$f":"IFERROR(INDEX(справочник!$G$1:$I$7,MATCH($BV146,справочник!$G$1:$G$7,0),3),\"---\")","v":"---"},{"$f":"IFERROR(INDEX('Пр. №1'!$B$11:$C$34,MATCH(BS146,'Пр. №1'!$B$11:$B$34,0),2),\"---\")","v":"---"},{"$f":"IFERROR(INDEX('Состав ВТК-ВРГ'!$1:$1048576,MATCH($G146,'Состав ВТК-ВРГ'!$B:$B,0),MATCH(BU$6,'Состав ВТК-ВРГ'!$3:$3,0)),\"---\")","v":"---"},{"$f":"IFERROR(INDEX('Состав ВТК-ВРГ'!$1:$1048576,MATCH($G146,'Состав ВТК-ВРГ'!$B:$B,0),MATCH(BV$6,'Состав ВТК-ВРГ'!$3:$3,0)),\"---\")","v":"---"},{"$f":"IFERROR(INDEX(справочник!$G$1:$I$7,MATCH($BV146,справочник!$G$1:$G$7,0),2),\"---\")","v":"---"},{"$f":"IFERROR(INDEX('Состав ВТК-ВРГ'!$1:$1048576,MATCH($G146,'Состав ВТК-ВРГ'!$B:$B,0),MATCH(BX$6,'Состав ВТК-ВРГ'!$3:$3,0)),\"---\")","v":"---"},{"$f":"IFERROR(INDEX('Пр. №4'!$1:$1048576,MATCH(BX146,'Пр. №4'!$C:$C,0),MATCH('Пр. №3'!$D$5,'Пр. №4'!$9:$9,0)),\"---\")","v":"---"},{"$f":"SUMIFS('Пр. №1.2.'!$L:$L,'Пр. №1.2.'!$B:$B,'Пр. №3'!$D146,'Пр. №1.2.'!$E:$E,'Пр. №3'!$G146)","v":0},{"$error":"#VALUE!"},{"$error":"#VALUE!"}]
[{"$f":"ROW()","v":147},91,"Ввод данных",{"$error":"#N/A"},{"$f":"INDEX('Пр. №2'!$1:$1048576,MATCH('Пр. №3'!$F147,'Пр. №2'!$D:$D,0),COLUMN('Пр. №2'!$C$5))","v":{"$error":"#N/A"}},null,null,null,null,null,null,null,null,null,null,null,null,null,null,null,null,null,null,null,null,null,null,null,null,null,null,null,null,null,null,null,null,null,null,null,null,null,null,null,null,null,null,null,null,null,null,null,null,null,null,null,null,null,null,null,null,null,null,null,null,null,null,null,0,null,{"$f":"IFERROR(INDEX(справочник!$G$1:$I$7,MATCH($BV147,справочник!$G$1:$G$7,0),3),\"---\")","v":"---"},{"$f":"IFERROR(INDEX('Пр. №1'!$B$11:$C$34,MATCH(BS147,'Пр. №1'!$B$11:$B$34,0),2),\"---\")","v":"---"},{"$f":"IFERROR(INDEX('Состав ВТК-ВРГ'!$1:$1048576,MATCH($G147,'Состав ВТК-ВРГ'!$B:$B,0),MATCH(BU$6,'Состав ВТК-ВРГ'!$3:$3,0)),\"---\")","v":"---"},{"$f":"IFERROR(INDEX('Состав ВТК-ВРГ'!$1:$1048576,MATCH($G147,'Состав ВТК-ВРГ'!$B:$B,0),MATCH(BV$6,'Состав ВТК-ВРГ'!$3:$3,0)),\"---\")","v":"---"},{"$f":"IFERROR(INDEX(справочник!$G$1:$I$7,MATCH($BV147,справочник!$G$1:$G$7,0),2),\"---\")","v":"---"},{"$f":"IFERROR(INDEX('Состав ВТК-ВРГ'!$1:$1048576,MATCH($G147,'Состав ВТК-ВРГ'!$B:$B,0),MATCH(BX$6,'Состав ВТК-ВРГ'!$3:$3,0)),\"---\")","v":"---"},{"$f":"IFERROR(INDEX('Пр. №4'!$1:$1048576,MATCH(BX147,'Пр. №4'!$C:$C,0),MATCH('Пр. №3'!$D$5,'Пр. №4'!$9:$9,0)),\"---\")","v":"---"},{"$f":"SUMIFS('Пр. №1.2.'!$L:$L,'Пр. №1.2.'!$B:$B,'Пр. №3'!$D147,'Пр. №1.2.'!$E:$E,'Пр. №3'!$G147)","v":0},{"$error":"#VALUE!"},{"$error":"#VALUE!"}]
[{"$f":"ROW()","v":148},92,"Ввод данных",{"$error":"#N/A"},{"$f":"INDEX('Пр. №2'!$1:$1048576,MATCH('Пр. №3'!$F148,'Пр. №2'!$D:$D,0),COLUMN('Пр. №2'!$C$5))","v":{"$error":"#N/A"}},null,null,null,null,null,null,null,null,null,null,null,null,null,null,null,null,null,null,null,null,null,null,null,null,null,null,null,null,null,null,null,null,null,null,null,null,null,null,null,null,null,null,null,null,null,null,null,null,null,null,null,null,null,null,null,null,null,null,null,null,null,null,null,0,null,{"$f":"IFERROR(INDEX(справочник!$G$1:$I$7,MATCH($BV148,справочник!$G$1:$G$7,0),3),\"---\")","v":"---"},{"$f":"IFERROR(INDEX('Пр. №1'!$B$11:$C$34,MATCH(BS148,'Пр. №1'!$B$11:$B$34,0),2),\"---\")","v":"---"},{"$f":"IFERROR(INDEX('Состав ВТК-ВРГ'!$1:$1048576,MATCH($G148,'Состав ВТК-ВРГ'!$B:$B,0),MATCH(BU$6,'Состав ВТК-ВРГ'!$3:$3,0)),\"---\")","v":"---"},{"$f":"IFERROR(INDEX('Состав ВТК-ВРГ'!$1:$1048576,MATCH($G148,'Состав ВТК-ВРГ'!$B:$B,0),MATCH(BV$6,'Состав ВТК-ВРГ'!$3:$3,0)),\"---\")","v":"---"},{"$f":"IFERROR(INDEX(справочник!$G$1:$I$7,MATCH($BV148,справочник!$G$1:$G$7,0),2),\"---\")","v":"---"},{"$f":"IFERROR(INDEX('Состав ВТК-ВРГ'!$1:$1048576,MATCH($G148,'Состав ВТК-ВРГ'!$B:$B,0),MATCH(BX$6,'Состав ВТК-ВРГ'!$3:$3,0)),\"---\")","v":"---"},{"$f":"IFERROR(INDEX('Пр. №4'!$1:$1048576,MATCH(BX148,'Пр. №4'!$C:$C,0),MATCH('Пр. №3'!$D$5,'Пр. №4'!$9:$9,0)),\"---\")","v":"---"},{"$f":"SUMIFS('Пр. №1.2.'!$L:$L,'Пр. №1.2.'!$B:$B,'Пр. №3'!$D148,'Пр. №1.2.'!$E:$E,'Пр. №3'!$G148)","v":0},{"$error":"#VALUE!"},{"$error":"#VALUE!"}]
[{"$f":"ROW()","v":149},93,"Ввод данных",{"$error":"#N/A"},{"$f":"INDEX('Пр. №2'!$1:$1048576,MATCH('Пр. №3'!$F149,'Пр. №2'!$D:$D,0),COLUMN('Пр. №2'!$C$5))","v":{"$error":"#N/A"}},null,null,null,null,null,null,null,null,null,null,null,null,null,null,null,null,null,null,null,null,null,null,null,null,null,null,null,null,null,null,null,null,null,null,null,null,null,null,null,null,null,null,null,null,null,null,null,null,null,null,null,null,null,null,null,null,null,null,null,null,null,null,null,0,null,{"$f":"IFERROR(INDEX(справочник!$G$1:$I$7,MATCH($BV149,справочник!$G$1:$G$7,0),3),\"---\")","v":"---"},{"$f":"IFERROR(INDEX('Пр. №1'!$B$11:$C$34,MATCH(BS149,'Пр. №1'!$B$11:$B$34,0),2),\"---\")","v":"---"},{"$f":"IFERROR(INDEX('Состав ВТК-ВРГ'!$1:$1048576,MATCH($G149,'Состав ВТК-ВРГ'!$B:$B,0),MATCH(BU$6,'Состав ВТК-ВРГ'!$3:$3,0)),\"---\")","v":"---"},{"$f":"IFERROR(INDEX('Состав ВТК-ВРГ'!$1:$1048576,MATCH($G149,'Состав ВТК-ВРГ'!$B:$B,0),MATCH(BV$6,'Состав ВТК-ВРГ'!$3:$3,0)),\"---\")","v":"---"},{"$f":"IFERROR(INDEX(справочник!$G$1:$I$7,MATCH($BV149,справочник!$G$1:$G$7,0),2),\"---\")","v":"---"},{"$f":"IFERROR(INDEX('Состав ВТК-ВРГ'!$1:$1048576,MATCH($G149,'Состав ВТК-ВРГ'!$B:$B,0),MATCH(BX$6,'Состав ВТК-ВРГ'!$3:$3,0)),\"---\")","v":"---"},{"$f":"IFERROR(INDEX('Пр. №4'!$1:$1048576,MATCH(BX149,'Пр. №4'!$C:$C,0),MATCH('Пр. №3'!$D$5,'Пр. №4'!$9:$9,0)),\"---\")","v":"---"},{"$f":"SUMIFS('Пр. №1.2.'!$L:$L,'Пр. №1.2.'!$B:$B,'Пр. №3'!$D149,'Пр. №1.2.'!$E:$E,'Пр. №3'!$G149)","v":0},{"$error":"#VALUE!"},{"$error":"#VALUE!"}]
[{"$f":"ROW()","v":150},94,"Ввод данных",{"$error":"#N/A"},{"$f":"INDEX('Пр. №2'!$1:$1048576,MATCH('Пр. №3'!$F150,'Пр. №2'!$D:$D,0),COLUMN('Пр. №2'!$C$5))","v":{"$error":"#N/A"}},null,null,null,null,null,null,null,null,null,null,null,null,null,null,null,null,null,null,null,null,null,null,null,null,null,null,null,null,null,null,null,null,null,null,null,null,null,null,null,null,null,null,null,null,null,null,null,null,null,null,null,null,null,null,null,null,null,null,null,null,null,null,null,0,null,{"$f":"IFERROR(INDEX(справочник!$G$1:$I$7,MATCH($BV150,справочник!$G$1:$G$7,0),3),\"---\")","v":"---"},{"$f":"IFERROR(INDEX('Пр. №1'!$B$11:$C$34,MATCH(BS150,'Пр. №1'!$B$11:$B$34,0),2),\"---\")","v":"---"},{"$f":"IFERROR(INDEX('Состав ВТК-ВРГ'!$1:$1048576,MATCH($G150,'Состав ВТК-ВРГ'!$B:$B,0),MATCH(BU$6,'Состав ВТК-ВРГ'!$3:$3,0)),\"---\")","v":"---"},{"$f":"IFERROR(INDEX('Состав ВТК-ВРГ'!$1:$1048576,MATCH($G150,'Состав ВТК-ВРГ'!$B:$B,0),MATCH(BV$6,'Состав ВТК-ВРГ'!$3:$3,0)),\"---\")","v":"---"},{"$f":"IFERROR(INDEX(справочник!$G$1:$I$7,MATCH($BV150,справочник!$G$1:$G$7,0),2),\"---\")","v":"---"},{"$f":"IFERROR(INDEX('Состав ВТК-ВРГ'!$1:$1048576,MATCH($G150,'Состав ВТК-ВРГ'!$B:$B,0),MATCH(BX$6,'Состав ВТК-ВРГ'!$3:$3,0)),\"---\")","v":"---"},{"$f":"IFERROR(INDEX('Пр. №4'!$1:$1048576,MATCH(BX150,'Пр. №4'!$C:$C,0),MATCH('Пр. №3'!$D$5,'Пр. №4'!$9:$9,0)),\"---\")","v":"---"},{"$f":"SUMIFS('Пр. №1.2.'!$L:$L,'Пр. №1.2.'!$B:$B,'Пр. №3'!$D150,'Пр. №1.2.'!$E:$E,'Пр. №3'!$G150)","v":0},{"$error":"#VALUE!"},{"$error":"#VALUE!"}]
[{"$f":"ROW()","v":151},95,"Ввод данных",{"$error":"#N/A"},{"$f":"INDEX('Пр. №2'!$1:$1048576,MATCH('Пр. №3'!$F151,'Пр. №2'!$D:$D,0),COLUMN('Пр. №2'!$C$5))","v":{"$error":"#N/A"}},null,null,null,null,null,null,null,null,null,null,null,null,null,null,null,null,null,null,null,null,null,null,null,null,null,null,null,null,null,null,null,null,null,null,null,null,null,null,null,null,null,null,null,null,null,null,null,null,null,null,null,null,null,null,null,null,null,null,null,null,null,null,null,0,null,{"$f":"IFERROR(INDEX(справочник!$G$1:$I$7,MATCH($BV151,справочник!$G$1:$G$7,0),3),\"---\")","v":"---"},{"$f":"IFERROR(INDEX('Пр. №1'!$B$11:$C$34,MATCH(BS151,'Пр. №1'!$B$11:$B$34,0),2),\"---\")","v":"---"},{"$f":"IFERROR(INDEX('Состав ВТК-ВРГ'!$1:$1048576,MATCH($G151,'Состав ВТК-ВРГ'!$B:$B,0),MATCH(BU$6,'Состав ВТК-ВРГ'!$3:$3,0)),\"---\")","v":"---"},{"$f":"IFERROR(INDEX('Состав ВТК-ВРГ'!$1:$1048576,MATCH($G151,'Состав ВТК-ВРГ'!$B:$B,0),MATCH(BV$6,'Состав ВТК-ВРГ'!$3:$3,0)),\"---\")","v":"---"},{"$f":"IFERROR(INDEX(справочник!$G$1:$I$7,MATCH($BV151,справочник!$G$1:$G$7,0),2),\"---\")","v":"---"},{"$f":"IFERROR(INDEX('Состав ВТК-ВРГ'!$1:$1048576,MATCH($G151,'Состав ВТК-ВРГ'!$B:$B,0),MATCH(BX$6,'Состав ВТК-ВРГ'!$3:$3,0)),\"---\")","v":"---"},{"$f":"IFERROR(INDEX('Пр. №4'!$1:$1048576,MATCH(BX151,'Пр. №4'!$C:$C,0),MATCH('Пр. №3'!$D$5,'Пр. №4'!$9:$9,0)),\"---\")","v":"---"},{"$f":"SUMIFS('Пр. №1.2.'!$L:$L,'Пр. №1.2.'!$B:$B,'Пр. №3'!$D151,'Пр. №1.2.'!$E:$E,'Пр. №3'!$G151)","v":0},{"$error":"#VALUE!"},{"$error":"#VALUE!"}]
[{"$f":"ROW()","v":152},96,"Ввод данных",{"$error":"#N/A"},{"$f":"INDEX('Пр. №2'!$1:$1048576,MATCH('Пр. №3'!$F152,'Пр. №2'!$D:$D,0),COLUMN('Пр. №2'!$C$5))","v":{"$error":"#N/A"}},null,null,null,null,null,null,null,null,null,null,null,null,null,null,null,null,null,null,null,null,null,null,null,null,null,null,null,null,null,null,null,null,null,null,null,null,null,null,null,null,null,null,null,null,null,null,null,null,null,null,null,null,null,null,null,null,null,null,null,null,null,null,null,0,null,{"$f":"IFERROR(INDEX(справочник!$G$1:$I$7,MATCH($BV152,справочник!$G$1:$G$7,0),3),\"---\")","v":"---"},{"$f":"IFERROR(INDEX('Пр. №1'!$B$11:$C$34,MATCH(BS152,'Пр. №1'!$B$11:$B$34,0),2),\"---\")","v":"---"},{"$f":"IFERROR(INDEX('Состав ВТК-ВРГ'!$1:$1048576,MATCH($G152,'Состав ВТК-ВРГ'!$B:$B,0),MATCH(BU$6,'Состав ВТК-ВРГ'!$3:$3,0)),\"---\")","v":"---"},{"$f":"IFERROR(INDEX('Состав ВТК-ВРГ'!$1:$1048576,MATCH($G152,'Состав ВТК-ВРГ'!$B:$B,0),MATCH(BV$6,'Состав ВТК-ВРГ'!$3:$3,0)),\"---\")","v":"---"},{"$f":"IFERROR(INDEX(справочник!$G$1:$I$7,MATCH($BV152,справочник!$G$1:$G$7,0),2),\"---\")","v":"---"},{"$f":"IFERROR(INDEX('Состав ВТК-ВРГ'!$1:$1048576,MATCH($G152,'Состав ВТК-ВРГ'!$B:$B,0),MATCH(BX$6,'Состав ВТК-ВРГ'!$3:$3,0)),\"---\")","v":"---"},{"$f":"IFERROR(INDEX('Пр. №4'!$1:$1048576,MATCH(BX152,'Пр. №4'!$C:$C,0),MATCH('Пр. №3'!$D$5,'Пр. №4'!$9:$9,0)),\"---\")","v":"---"},{"$f":"SUMIFS('Пр. №1.2.'!$L:$L,'Пр. №1.2.'!$B:$B,'Пр. №3'!$D152,'Пр. №1.2.'!$E:$E,'Пр. №3'!$G152)","v":0},{"$error":"#VALUE!"},{"$error":"#VALUE!"}]
[{"$f":"ROW()","v":153},97,"Ввод данных",{"$error":"#N/A"},{"$f":"INDEX('Пр. №2'!$1:$1048576,MATCH('Пр. №3'!$F153,'Пр. №2'!$D:$D,0),COLUMN('Пр. №2'!$C$5))","v":{"$error":"#N/A"}},null,null,null,null,null,null,null,null,null,null,null,null,null,null,null,null,null,null,null,null,null,null,null,null,null,null,null,null,null,null,null,null,null,null,null,null,null,null,null,null,null,null,null,null,null,null,null,null,null,null,null,null,null,null,null,null,null,null,null,null,null,null,null,0,null,{"$f":"IFERROR(INDEX(справочник!$G$1:$I$7,MATCH($BV153,справочник!$G$1:$G$7,0),3),\"---\")","v":"---"},{"$f":"IFERROR(INDEX('Пр. №1'!$B$11:$C$34,MATCH(BS153,'Пр. №1'!$B$11:$B$34,0),2),\"---\")","v":"---"},{"$f":"IFERROR(INDEX('Состав ВТК-ВРГ'!$1:$1048576,MATCH($G153,'Состав ВТК-ВРГ'!$B:$B,0),MATCH(BU$6,'Состав ВТК-ВРГ'!$3:$3,0)),\"---\")","v":"---"},{"$f":"IFERROR(INDEX('Состав ВТК-ВРГ'!$1:$1048576,MATCH($G153,'Состав ВТК-ВРГ'!$B:$B,0),MATCH(BV$6,'Состав ВТК-ВРГ'!$3:$3,0)),\"---\")","v":"---"},{"$f":"IFERROR(INDEX(справочник!$G$1:$I$7,MATCH($BV153,справочник!$G$1:$G$7,0),2),\"---\")","v":"---"},{"$f":"IFERROR(INDEX('Состав ВТК-ВРГ'!$1:$1048576,MATCH($G153,'Состав ВТК-ВРГ'!$B:$B,0),MATCH(BX$6,'Состав ВТК-ВРГ'!$3:$3,0)),\"---\")","v":"---"},{"$f":"IFERROR(INDEX('Пр. №4'!$1:$1048576,MATCH(BX153,'Пр. №4'!$C:$C,0),MATCH('Пр. №3'!$D$5,'Пр. №4'!$9:$9,0)),\"---\")","v":"---"},{"$f":"SUMIFS('Пр. №1.2.'!$L:$L,'Пр. №1.2.'!$B:$B,'Пр. №3'!$D153,'Пр. №1.2.'!$E:$E,'Пр. №3'!$G153)","v":0},{"$error":"#VALUE!"},{"$error":"#VALUE!"}]
[{"$f":"ROW()","v":154},98,"Ввод данных",{"$error":"#N/A"},{"$f":"INDEX('Пр. №2'!$1:$1048576,MATCH('Пр. №3'!$F154,'Пр. №2'!$D:$D,0),COLUMN('Пр. №2'!$C$5))","v":{"$error":"#N/A"}},null,null,null,null,null,null,null,null,null,null,null,null,null,null,null,null,null,null,null,null,null,null,null,null,null,null,null,null,null,null,null,null,null,null,null,null,null,null,null,null,null,null,null,null,null,null,null,null,null,null,null,null,null,null,null,null,null,null,null,null,null,null,null,0,null,{"$f":"IFERROR(INDEX(справочник!$G$1:$I$7,MATCH($BV154,справочник!$G$1:$G$7,0),3),\"---\")","v":"---"},{"$f":"IFERROR(INDEX('Пр. №1'!$B$11:$C$34,MATCH(BS154,'Пр. №1'!$B$11:$B$34,0),2),\"---\")","v":"---"},{"$f":"IFERROR(INDEX('Состав ВТК-ВРГ'!$1:$1048576,MATCH($G154,'Состав ВТК-ВРГ'!$B:$B,0),MATCH(BU$6,'Состав ВТК-ВРГ'!$3:$3,0)),\"---\")","v":"---"},{"$f":"IFERROR(INDEX('Состав ВТК-ВРГ'!$1:$1048576,MATCH($G154,'Состав ВТК-ВРГ'!$B:$B,0),MATCH(BV$6,'Состав ВТК-ВРГ'!$3:$3,0)),\"---\")","v":"---"},{"$f":"IFERROR(INDEX(справочник!$G$1:$I$7,MATCH($BV154,справочник!$G$1:$G$7,0),2),\"---\")","v":"---"},{"$f":"IFERROR(INDEX('Состав ВТК-ВРГ'!$1:$1048576,MATCH($G154,'Состав ВТК-ВРГ'!$B:$B,0),MATCH(BX$6,'Состав ВТК-ВРГ'!$3:$3,0)),\"---\")","v":"---"},{"$f":"IFERROR(INDEX('Пр. №4'!$1:$1048576,MATCH(BX154,'Пр. №4'!$C:$C,0),MATCH('Пр. №3'!$D$5,'Пр. №4'!$9:$9,0)),\"---\")","v":"---"},{"$f":"SUMIFS('Пр. №1.2.'!$L:$L,'Пр. №1.2.'!$B:$B,'Пр. №3'!$D154,'Пр. №1.2.'!$E:$E,'Пр. №3'!$G154)","v":0},{"$error":"#VALUE!"},{"$error":"#VALUE!"}]
[{"$f":"ROW()","v":155},99,"Ввод данных",{"$error":"#N/A"},{"$f":"INDEX('Пр. №2'!$1:$1048576,MATCH('Пр. №3'!$F155,'Пр. №2'!$D:$D,0),COLUMN('Пр. №2'!$C$5))","v":{"$error":"#N/A"}},null,null,null,null,null,null,null,null,null,null,null,null,null,null,null,null,null,null,null,null,null,null,null,null,null,null,null,null,null,null,null,null,null,null,null,null,null,null,null,null,null,null,null,null,null,null,null,null,null,null,null,null,null,null,null,null,null,null,null,null,null,null,null,0,null,{"$f":"IFERROR(INDEX(справочник!$G$1:$I$7,MATCH($BV155,справочник!$G$1:$G$7,0),3),\"---\")","v":"---"},{"$f":"IFERROR(INDEX('Пр. №1'!$B$11:$C$34,MATCH(BS155,'Пр. №1'!$B$11:$B$34,0),2),\"---\")","v":"---"},{"$f":"IFERROR(INDEX('Состав ВТК-ВРГ'!$1:$1048576,MATCH($G155,'Состав ВТК-ВРГ'!$B:$B,0),MATCH(BU$6,'Состав ВТК-ВРГ'!$3:$3,0)),\"---\")","v":"---"},{"$f":"IFERROR(INDEX('Состав ВТК-ВРГ'!$1:$1048576,MATCH($G155,'Состав ВТК-ВРГ'!$B:$B,0),MATCH(BV$6,'Состав ВТК-ВРГ'!$3:$3,0)),\"---\")","v":"---"},{"$f":"IFERROR(INDEX(справочник!$G$1:$I$7,MATCH($BV155,справочник!$G$1:$G$7,0),2),\"---\")","v":"---"},{"$f":"IFERROR(INDEX('Состав ВТК-ВРГ'!$1:$1048576,MATCH($G155,'Состав ВТК-ВРГ'!$B:$B,0),MATCH(BX$6,'Состав ВТК-ВРГ'!$3:$3,0)),\"---\")","v":"---"},{"$f":"IFERROR(INDEX('Пр. №4'!$1:$1048576,MATCH(BX155,'Пр. №4'!$C:$C,0),MATCH('Пр. №3'!$D$5,'Пр. №4'!$9:$9,0)),\"---\")","v":"---"},{"$f":"SUMIFS('Пр. №1.2.'!$L:$L,'Пр. №1.2.'!$B:$B,'Пр. №3'!$D155,'Пр. №1.2.'!$E:$E,'Пр. №3'!$G155)","v":0},{"$error":"#VALUE!"},{"$error":"#VALUE!"}]
[{"$f":"ROW()","v":156},100,"Ввод данных",{"$error":"#N/A"},{"$f":"INDEX('Пр. №2'!$1:$1048576,MATCH('Пр. №3'!$F156,'Пр. №2'!$D:$D,0),COLUMN('Пр. №2'!$C$5))","v":{"$error":"#N/A"}},null,null,null,null,null,null,null,null,null,null,null,null,null,null,null,null,null,null,null,null,null,null,null,null,null,null,null,null,null,null,null,null,null,null,null,null,null,null,null,null,null,null,null,null,null,null,null,null,null,null,null,null,null,null,null,null,null,null,null,null,null,null,null,0,null,{"$f":"IFERROR(INDEX(справочник!$G$1:$I$7,MATCH($BV156,справочник!$G$1:$G$7,0),3),\"---\")","v":"---"},{"$f":"IFERROR(INDEX('Пр. №1'!$B$11:$C$34,MATCH(BS156,'Пр. №1'!$B$11:$B$34,0),2),\"---\")","v":"---"},{"$f":"IFERROR(INDEX('Состав ВТК-ВРГ'!$1:$1048576,MATCH($G156,'Состав ВТК-ВРГ'!$B:$B,0),MATCH(BU$6,'Состав ВТК-ВРГ'!$3:$3,0)),\"---\")","v":"---"},{"$f":"IFERROR(INDEX('Состав ВТК-ВРГ'!$1:$1048576,MATCH($G156,'Состав ВТК-ВРГ'!$B:$B,0),MATCH(BV$6,'Состав ВТК-ВРГ'!$3:$3,0)),\"---\")","v":"---"},{"$f":"IFERROR(INDEX(справочник!$G$1:$I$7,MATCH($BV156,справочник!$G$1:$G$7,0),2),\"---\")","v":"---"},{"$f":"IFERROR(INDEX('Состав ВТК-ВРГ'!$1:$1048576,MATCH($G156,'Состав ВТК-ВРГ'!$B:$B,0),MATCH(BX$6,'Состав ВТК-ВРГ'!$3:$3,0)),\"---\")","v":"---"},{"$f":"IFERROR(INDEX('Пр. №4'!$1:$1048576,MATCH(BX156,'Пр. №4'!$C:$C,0),MATCH('Пр. №3'!$D$5,'Пр. №4'!$9:$9,0)),\"---\")","v":"---"},{"$f":"SUMIFS('Пр. №1.2.'!$L:$L,'Пр. №1.2.'!$B:$B,'Пр. №3'!$D156,'Пр. №1.2.'!$E:$E,'Пр. №3'!$G156)","v":0},{"$error":"#VALUE!"},{"$error":"#VALUE!"}]
[{"$f":"ROW()","v":157},101,"Ввод данных",{"$error":"#N/A"},{"$f":"INDEX('Пр. №2'!$1:$1048576,MATCH('Пр. №3'!$F157,'Пр. №2'!$D:$D,0),COLUMN('Пр. №2'!$C$5))","v":{"$error":"#N/A"}},null,null,null,null,null,null,null,null,null,null,null,null,null,null,null,null,null,null,null,null,null,null,null,null,null,null,null,null,null,null,null,null,null,null,null,null,null,null,null,null,null,null,null,null,null,null,null,null,null,null,null,null,null,null,null,null,null,null,null,null,null,null,null,0,null,{"$f":"IFERROR(INDEX(справочник!$G$1:$I$7,MATCH($BV157,справочник!$G$1:$G$7,0),3),\"---\")","v":"---"},{"$f":"IFERROR(INDEX('Пр. №1'!$B$11:$C$34,MATCH(BS157,'Пр. №1'!$B$11:$B$34,0),2),\"---\")","v":"---"},{"$f":"IFERROR(INDEX('Состав ВТК-ВРГ'!$1:$1048576,MATCH($G157,'Состав ВТК-ВРГ'!$B:$B,0),MATCH(BU$6,'Состав ВТК-ВРГ'!$3:$3,0)),\"---\")","v":"---"},{"$f":"IFERROR(INDEX('Состав ВТК-ВРГ'!$1:$1048576,MATCH($G157,'Состав ВТК-ВРГ'!$B:$B,0),MATCH(BV$6,'Состав ВТК-ВРГ'!$3:$3,0)),\"---\")","v":"---"},{"$f":"IFERROR(INDEX(справочник!$G$1:$I$7,MATCH($BV157,справочник!$G$1:$G$7,0),2),\"---\")","v":"---"},{"$f":"IFERROR(INDEX('Состав ВТК-ВРГ'!$1:$1048576,MATCH($G157,'Состав ВТК-ВРГ'!$B:$B,0),MATCH(BX$6,'Состав ВТК-ВРГ'!$3:$3,0)),\"---\")","v":"---"},{"$f":"IFERROR(INDEX('Пр. №4'!$1:$1048576,MATCH(BX157,'Пр. №4'!$C:$C,0),MATCH('Пр. №3'!$D$5,'Пр. №4'!$9:$9,0)),\"---\")","v":"---"},{"$f":"SUMIFS('Пр. №1.2.'!$L:$L,'Пр. №1.2.'!$B:$B,'Пр. №3'!$D157,'Пр. №1.2.'!$E:$E,'Пр. №3'!$G157)","v":0},{"$error":"#VALUE!"},{"$error":"#VALUE!"}]
[{"$f":"ROW()","v":158},102,"Ввод данных",{"$error":"#N/A"},{"$f":"INDEX('Пр. №2'!$1:$1048576,MATCH('Пр. №3'!$F158,'Пр. №2'!$D:$D,0),COLUMN('Пр. №2'!$C$5))","v":{"$error":"#N/A"}},null,null,null,null,null,null,null,null,null,null,null,null,null,null,null,null,null,null,null,null,null,null,null,null,null,null,null,null,null,null,null,null,null,null,null,null,null,null,null,null,null,null,null,null,null,null,null,null,null,null,null,null,null,null,null,null,null,null,null,null,null,null,null,0,null,{"$f":"IFERROR(INDEX(справочник!$G$1:$I$7,MATCH($BV158,справочник!$G$1:$G$7,0),3),\"---\")","v":"---"},{"$f":"IFERROR(INDEX('Пр. №1'!$B$11:$C$34,MATCH(BS158,'Пр. №1'!$B$11:$B$34,0),2),\"---\")","v":"---"},{"$f":"IFERROR(INDEX('Состав ВТК-ВРГ'!$1:$1048576,MATCH($G158,'Состав ВТК-ВРГ'!$B:$B,0),MATCH(BU$6,'Состав ВТК-ВРГ'!$3:$3,0)),\"---\")","v":"---"},{"$f":"IFERROR(INDEX('Состав ВТК-ВРГ'!$1:$1048576,MATCH($G158,'Состав ВТК-ВРГ'!$B:$B,0),MATCH(BV$6,'Состав ВТК-ВРГ'!$3:$3,0)),\"---\")","v":"---"},{"$f":"IFERROR(INDEX(справочник!$G$1:$I$7,MATCH($BV158,справочник!$G$1:$G$7,0),2),\"---\")","v":"---"},{"$f":"IFERROR(INDEX('Состав ВТК-ВРГ'!$1:$1048576,MATCH($G158,'Состав ВТК-ВРГ'!$B:$B,0),MATCH(BX$6,'Состав ВТК-ВРГ'!$3:$3,0)),\"---\")","v":"---"},{"$f":"IFERROR(INDEX('Пр. №4'!$1:$1048576,MATCH(BX158,'Пр. №4'!$C:$C,0),MATCH('Пр. №3'!$D$5,'Пр. №4'!$9:$9,0)),\"---\")","v":"---"},{"$f":"SUMIFS('Пр. №1.2.'!$L:$L,'Пр. №1.2.'!$B:$B,'Пр. №3'!$D158,'Пр. №1.2.'!$E:$E,'Пр. №3'!$G158)","v":0},{"$error":"#VALUE!"},{"$error":"#VALUE!"}]
[{"$f":"ROW()","v":159},103,"Ввод данных",{"$f":"INDEX($D$22:$E$35,MATCH(E159,$E$22:$E$35,0),1)","v":{"$error":"#N/A"}},{"$f":"INDEX('Пр. №2'!$1:$1048576,MATCH('Пр. №3'!$F159,'Пр. №2'!$D:$D,0),COLUMN('Пр. №2'!$C$5))","v":{"$error":"#N/A"}},null,null,null,null,null,null,null,null,null,null,null,null,null,null,null,null,null,null,null,null,null,null,null,null,null,null,null,null,null,null,null,null,null,null,null,null,null,null,null,null,null,null,null,null,null,null,null,null,null,null,null,null,null,null,null,null,null,null,null,null,null,null,null,{"$f":"SUM(H159:BP159)","v":0},null,{"$f":"IFERROR(INDEX(справочник!$G$1:$I$7,MATCH($BV159,справочник!$G$1:$G$7,0),3),\"---\")","v":"---"},{"$f":"IFERROR(INDEX('Пр. №1'!$B$11:$C$34,MATCH(BS159,'Пр. №1'!$B$11:$B$34,0),2),\"---\")","v":"---"},{"$f":"IFERROR(INDEX('Состав ВТК-ВРГ'!$1:$1048576,MATCH($G159,'Состав ВТК-ВРГ'!$B:$B,0),MATCH(BU$6,'Состав ВТК-ВРГ'!$3:$3,0)),\"---\")","v":"---"},{"$f":"IFERROR(INDEX('Состав ВТК-ВРГ'!$1:$1048576,MATCH($G159,'Состав ВТК-ВРГ'!$B:$B,0),MATCH(BV$6,'Состав ВТК-ВРГ'!$3:$3,0)),\"---\")","v":"---"},{"$f":"IFERROR(INDEX(справочник!$G$1:$I$7,MATCH($BV159,справочник!$G$1:$G$7,0),2),\"---\")","v":"---"},{"$f":"IFERROR(INDEX('Состав ВТК-ВРГ'!$1:$1048576,MATCH($G159,'Состав ВТК-ВРГ'!$B:$B,0),MATCH(BX$6,'Состав ВТК-ВРГ'!$3:$3,0)),\"---\")","v":"---"},{"$f":"IFERROR(INDEX('Пр. №4'!$1:$1048576,MATCH(BX159,'Пр. №4'!$C:$C,0),MATCH('Пр. №3'!$D$5,'Пр. №4'!$9:$9,0)),\"---\")","v":"---"},{"$f":"SUMIFS('Пр. №1.2.'!$L:$L,'Пр. №1.2.'!$B:$B,'Пр. №3'!$D159,'Пр. №1.2.'!$E:$E,'Пр. №3'!$G159)","v":0},{"$f":"BY159*BZ159","v":{"$error":"#VALUE!"}},{"$f":"BQ159*BZ159*BY159","v":{"$error":"#VALUE!"}}]
[{"$f":"ROW()","v":160},104,"Ввод данных",{"$error":"#N/A"},{"$f":"INDEX('Пр. №2'!$1:$1048576,MATCH('Пр. №3'!$F160,'Пр. №2'!$D:$D,0),COLUMN('Пр. №2'!$C$5))","v":{"$error":"#N/A"}},null,null,null,null,null,null,null,null,null,null,null,null,null,null,null,null,null,null,null,null,null,null,null,null,null,null,null,null,null,null,null,null,null,null,null,null,null,null,null,null,null,null,null,null,null,null,null,null,null,null,null,null,null,null,null,null,null,null,null,null,null,null,null,0,null,{"$f":"IFERROR(INDEX(справочник!$G$1:$I$7,MATCH($BV160,справочник!$G$1:$G$7,0),3),\"---\")","v":"---"},{"$f":"IFERROR(INDEX('Пр. №1'!$B$11:$C$34,MATCH(BS160,'Пр. №1'!$B$11:$B$34,0),2),\"---\")","v":"---"},{"$f":"IFERROR(INDEX('Состав ВТК-ВРГ'!$1:$1048576,MATCH($G160,'Состав ВТК-ВРГ'!$B:$B,0),MATCH(BU$6,'Состав ВТК-ВРГ'!$3:$3,0)),\"---\")","v":"---"},{"$f":"IFERROR(INDEX('Состав ВТК-ВРГ'!$1:$1048576,MATCH($G160,'Состав ВТК-ВРГ'!$B:$B,0),MATCH(BV$6,'Состав ВТК-ВРГ'!$3:$3,0)),\"---\")","v":"---"},{"$f":"IFERROR(INDEX(справочник!$G$1:$I$7,MATCH($BV160,справочник!$G$1:$G$7,0),2),\"---\")","v":"---"},{"$f":"IFERROR(INDEX('Состав ВТК-ВРГ'!$1:$1048576,MATCH($G160,'Состав ВТК-ВРГ'!$B:$B,0),MATCH(BX$6,'Состав ВТК-ВРГ'!$3:$3,0)),\"---\")","v":"---"},{"$f":"IFERROR(INDEX('Пр. №4'!$1:$1048576,MATCH(BX160,'Пр. №4'!$C:$C,0),MATCH('Пр. №3'!$D$5,'Пр. №4'!$9:$9,0)),\"---\")","v":"---"},{"$f":"SUMIFS('Пр. №1.2.'!$L:$L,'Пр. №1.2.'!$B:$B,'Пр. №3'!$D160,'Пр. №1.2.'!$E:$E,'Пр. №3'!$G160)","v":0},{"$error":"#VALUE!"},{"$error":"#VALUE!"}]
[{"$f":"ROW()","v":161},105,"Ввод данных",{"$error":"#N/A"},{"$f":"INDEX('Пр. №2'!$1:$1048576,MATCH('Пр. №3'!$F161,'Пр. №2'!$D:$D,0),COLUMN('Пр. №2'!$C$5))","v":{"$error":"#N/A"}},null,null,null,null,null,null,null,null,null,null,null,null,null,null,null,null,null,null,null,null,null,null,null,null,null,null,null,null,null,null,null,null,null,null,null,null,null,null,null,null,null,null,null,null,null,null,null,null,null,null,null,null,null,null,null,null,null,null,null,null,null,null,null,0,null,{"$f":"IFERROR(INDEX(справочник!$G$1:$I$7,MATCH($BV161,справочник!$G$1:$G$7,0),3),\"---\")","v":"---"},{"$f":"IFERROR(INDEX('Пр. №1'!$B$11:$C$34,MATCH(BS161,'Пр. №1'!$B$11:$B$34,0),2),\"---\")","v":"---"},{"$f":"IFERROR(INDEX('Состав ВТК-ВРГ'!$1:$1048576,MATCH($G161,'Состав ВТК-ВРГ'!$B:$B,0),MATCH(BU$6,'Состав ВТК-ВРГ'!$3:$3,0)),\"---\")","v":"---"},{"$f":"IFERROR(INDEX('Состав ВТК-ВРГ'!$1:$1048576,MATCH($G161,'Состав ВТК-ВРГ'!$B:$B,0),MATCH(BV$6,'Состав ВТК-ВРГ'!$3:$3,0)),\"---\")","v":"---"},{"$f":"IFERROR(INDEX(справочник!$G$1:$I$7,MATCH($BV161,справочник!$G$1:$G$7,0),2),\"---\")","v":"---"},{"$f":"IFERROR(INDEX('Состав ВТК-ВРГ'!$1:$1048576,MATCH($G161,'Состав ВТК-ВРГ'!$B:$B,0),MATCH(BX$6,'Состав ВТК-ВРГ'!$3:$3,0)),\"---\")","v":"---"},{"$f":"IFERROR(INDEX('Пр. №4'!$1:$1048576,MATCH(BX161,'Пр. №4'!$C:$C,0),MATCH('Пр. №3'!$D$5,'Пр. №4'!$9:$9,0)),\"---\")","v":"---"},{"$f":"SUMIFS('Пр. №1.2.'!$L:$L,'Пр. №1.2.'!$B:$B,'Пр. №3'!$D161,'Пр. №1.2.'!$E:$E,'Пр. №3'!$G161)","v":0},{"$error":"#VALUE!"},{"$error":"#VALUE!"}]
[{"$f":"ROW()","v":162},106,"Ввод данных",{"$error":"#N/A"},{"$f":"INDEX('Пр. №2'!$1:$1048576,MATCH('Пр. №3'!$F162,'Пр. №2'!$D:$D,0),COLUMN('Пр. №2'!$C$5))","v":{"$error":"#N/A"}},null,null,null,null,null,null,null,null,null,null,null,null,null,null,null,null,null,null,null,null,null,null,null,null,null,null,null,null,null,null,null,null,null,null,null,null,null,null,null,null,null,null,null,null,null,null,null,null,null,null,null,null,null,null,null,null,null,null,null,null,null,null,null,0,null,{"$f":"IFERROR(INDEX(справочник!$G$1:$I$7,MATCH($BV162,справочник!$G$1:$G$7,0),3),\"---\")","v":"---"},{"$f":"IFERROR(INDEX('Пр. №1'!$B$11:$C$34,MATCH(BS162,'Пр. №1'!$B$11:$B$34,0),2),\"---\")","v":"---"},{"$f":"IFERROR(INDEX('Состав ВТК-ВРГ'!$1:$1048576,MATCH($G162,'Состав ВТК-ВРГ'!$B:$B,0),MATCH(BU$6,'Состав ВТК-ВРГ'!$3:$3,0)),\"---\")","v":"---"},{"$f":"IFERROR(INDEX('Состав ВТК-ВРГ'!$1:$1048576,MATCH($G162,'Состав ВТК-ВРГ'!$B:$B,0),MATCH(BV$6,'Состав ВТК-ВРГ'!$3:$3,0)),\"---\")","v":"---"},{"$f":"IFERROR(INDEX(справочник!$G$1:$I$7,MATCH($BV162,справочник!$G$1:$G$7,0),2),\"---\")","v":"---"},{"$f":"IFERROR(INDEX('Состав ВТК-ВРГ'!$1:$1048576,MATCH($G162,'Состав ВТК-ВРГ'!$B:$B,0),MATCH(BX$6,'Состав ВТК-ВРГ'!$3:$3,0)),\"---\")","v":"---"},{"$f":"IFERROR(INDEX('Пр. №4'!$1:$1048576,MATCH(BX162,'Пр. №4'!$C:$C,0),MATCH('Пр. №3'!$D$5,'Пр. №4'!$9:$9,0)),\"---\")","v":"---"},{"$f":"SUMIFS('Пр. №1.2.'!$L:$L,'Пр. №1.2.'!$B:$B,'Пр. №3'!$D162,'Пр. №1.2.'!$E:$E,'Пр. №3'!$G162)","v":0},{"$error":"#VALUE!"},{"$error":"#VALUE!"}]
[{"$f":"ROW()","v":163},107,"Ввод данных",{"$error":"#N/A"},{"$f":"INDEX('Пр. №2'!$1:$1048576,MATCH('Пр. №3'!$F163,'Пр. №2'!$D:$D,0),COLUMN('Пр. №2'!$C$5))","v":{"$error":"#N/A"}},null,null,null,null,null,null,null,null,null,null,null,null,null,null,null,null,null,null,null,null,null,null,null,null,null,null,null,null,null,null,null,null,null,null,null,null,null,null,null,null,null,null,null,null,null,null,null,null,null,null,null,null,null,null,null,null,null,null,null,null,null,null,null,0,null,{"$f":"IFERROR(INDEX(справочник!$G$1:$I$7,MATCH($BV163,справочник!$G$1:$G$7,0),3),\"---\")","v":"---"},{"$f":"IFERROR(INDEX('Пр. №1'!$B$11:$C$34,MATCH(BS163,'Пр. №1'!$B$11:$B$34,0),2),\"---\")","v":"---"},{"$f":"IFERROR(INDEX('Состав ВТК-ВРГ'!$1:$1048576,MATCH($G163,'Состав ВТК-ВРГ'!$B:$B,0),MATCH(BU$6,'Состав ВТК-ВРГ'!$3:$3,0)),\"---\")","v":"---"},{"$f":"IFERROR(INDEX('Состав ВТК-ВРГ'!$1:$1048576,MATCH($G163,'Состав ВТК-ВРГ'!$B:$B,0),MATCH(BV$6,'Состав ВТК-ВРГ'!$3:$3,0)),\"---\")","v":"---"},{"$f":"IFERROR(INDEX(справочник!$G$1:$I$7,MATCH($BV163,справочник!$G$1:$G$7,0),2),\"---\")","v":"---"},{"$f":"IFERROR(INDEX('Состав ВТК-ВРГ'!$1:$1048576,MATCH($G163,'Состав ВТК-ВРГ'!$B:$B,0),MATCH(BX$6,'Состав ВТК-ВРГ'!$3:$3,0)),\"---\")","v":"---"},{"$f":"IFERROR(INDEX('Пр. №4'!$1:$1048576,MATCH(BX163,'Пр. №4'!$C:$C,0),MATCH('Пр. №3'!$D$5,'Пр. №4'!$9:$9,0)),\"---\")","v":"---"},{"$f":"SUMIFS('Пр. №1.2.'!$L:$L,'Пр. №1.2.'!$B:$B,'Пр. №3'!$D163,'Пр. №1.2.'!$E:$E,'Пр. №3'!$G163)","v":0},{"$error":"#VALUE!"},{"$error":"#VALUE!"}]
[{"$f":"ROW()","v":164},108,"Ввод данных",{"$error":"#N/A"},{"$f":"INDEX('Пр. №2'!$1:$1048576,MATCH('Пр. №3'!$F164,'Пр. №2'!$D:$D,0),COLUMN('Пр. №2'!$C$5))","v":{"$error":"#N/A"}},null,null,null,null,null,null,null,null,null,null,null,null,null,null,null,null,null,null,null,null,null,null,null,null,null,null,null,null,null,null,null,null,null,null,null,null,null,null,null,null,null,null,null,null,null,null,null,null,null,null,null,null,null,null,null,null,null,null,null,null,null,null,null,0,null,{"$f":"IFERROR(INDEX(справочник!$G$1:$I$7,MATCH($BV164,справочник!$G$1:$G$7,0),3),\"---\")","v":"---"},{"$f":"IFERROR(INDEX('Пр. №1'!$B$11:$C$34,MATCH(BS164,'Пр. №1'!$B$11:$B$34,0),2),\"---\")","v":"---"},{"$f":"IFERROR(INDEX('Состав ВТК-ВРГ'!$1:$1048576,MATCH($G164,'Состав ВТК-ВРГ'!$B:$B,0),MATCH(BU$6,'Состав ВТК-ВРГ'!$3:$3,0)),\"---\")","v":"---"},{"$f":"IFERROR(INDEX('Состав ВТК-ВРГ'!$1:$1048576,MATCH($G164,'Состав ВТК-ВРГ'!$B:$B,0),MATCH(BV$6,'Состав ВТК-ВРГ'!$3:$3,0)),\"---\")","v":"---"},{"$f":"IFERROR(INDEX(справочник!$G$1:$I$7,MATCH($BV164,справочник!$G$1:$G$7,0),2),\"---\")","v":"---"},{"$f":"IFERROR(INDEX('Состав ВТК-ВРГ'!$1:$1048576,MATCH($G164,'Состав ВТК-ВРГ'!$B:$B,0),MATCH(BX$6,'Состав ВТК-ВРГ'!$3:$3,0)),\"---\")","v":"---"},{"$f":"IFERROR(INDEX('Пр. №4'!$1:$1048576,MATCH(BX164,'Пр. №4'!$C:$C,0),MATCH('Пр. №3'!$D$5,'Пр. №4'!$9:$9,0)),\"---\")","v":"---"},{"$f":"SUMIFS('Пр. №1.2.'!$L:$L,'Пр. №1.2.'!$B:$B,'Пр. №3'!$D164,'Пр. №1.2.'!$E:$E,'Пр. №3'!$G164)","v":0},{"$error":"#VALUE!"},{"$error":"#VALUE!"}]
[{"$f":"ROW()","v":165},109,"Ввод данных",{"$error":"#N/A"},{"$f":"INDEX('Пр. №2'!$1:$1048576,MATCH('Пр. №3'!$F165,'Пр. №2'!$D:$D,0),COLUMN('Пр. №2'!$C$5))","v":{"$error":"#N/A"}},null,null,null,null,null,null,null,null,null,null,null,null,null,null,null,null,null,null,null,null,null,null,null,null,null,null,null,null,null,null,null,null,null,null,null,null,null,null,null,null,null,null,null,null,null,null,null,null,null,null,null,null,null,null,null,null,null,null,null,null,null,null,null,0,null,{"$f":"IFERROR(INDEX(справочник!$G$1:$I$7,MATCH($BV165,справочник!$G$1:$G$7,0),3),\"---\")","v":"---"},{"$f":"IFERROR(INDEX('Пр. №1'!$B$11:$C$34,MATCH(BS165,'Пр. №1'!$B$11:$B$34,0),2),\"---\")","v":"---"},{"$f":"IFERROR(INDEX('Состав ВТК-ВРГ'!$1:$1048576,MATCH($G165,'Состав ВТК-ВРГ'!$B:$B,0),MATCH(BU$6,'Состав ВТК-ВРГ'!$3:$3,0)),\"---\")","v":"---"},{"$f":"IFERROR(INDEX('Состав ВТК-ВРГ'!$1:$1048576,MATCH($G165,'Состав ВТК-ВРГ'!$B:$B,0),MATCH(BV$6,'Состав ВТК-ВРГ'!$3:$3,0)),\"---\")","v":"---"},{"$f":"IFERROR(INDEX(справочник!$G$1:$I$7,MATCH($BV165,справочник!$G$1:$G$7,0),2),\"---\")","v":"---"},{"$f":"IFERROR(INDEX('Состав ВТК-ВРГ'!$1:$1048576,MATCH($G165,'Состав ВТК-ВРГ'!$B:$B,0),MATCH(BX$6,'Состав ВТК-ВРГ'!$3:$3,0)),\"---\")","v":"---"},{"$f":"IFERROR(INDEX('Пр. №4'!$1:$1048576,MATCH(BX165,'Пр. №4'!$C:$C,0),MATCH('Пр. №3'!$D$5,'Пр. №4'!$9:$9,0)),\"---\")","v":"---"},{"$f":"SUMIFS('Пр. №1.2.'!$L:$L,'Пр. №1.2.'!$B:$B,'Пр. №3'!$D165,'Пр. №1.2.'!$E:$E,'Пр. №3'!$G165)","v":0},{"$error":"#VALUE!"},{"$error":"#VALUE!"}]
[{"$f":"ROW()","v":166},110,"Ввод данных",{"$error":"#N/A"},{"$f":"INDEX('Пр. №2'!$1:$1048576,MATCH('Пр. №3'!$F166,'Пр. №2'!$D:$D,0),COLUMN('Пр. №2'!$C$5))","v":{"$error":"#N/A"}},null,null,null,null,null,null,null,null,null,null,null,null,null,null,null,null,null,null,null,null,null,null,null,null,null,null,null,null,null,null,null,null,null,null,null,null,null,null,null,null,null,null,null,null,null,null,null,null,null,null,null,null,null,null,null,null,null,null,null,null,null,null,null,0,null,{"$f":"IFERROR(INDEX(справочник!$G$1:$I$7,MATCH($BV166,справочник!$G$1:$G$7,0),3),\"---\")","v":"---"},{"$f":"IFERROR(INDEX('Пр. №1'!$B$11:$C$34,MATCH(BS166,'Пр. №1'!$B$11:$B$34,0),2),\"---\")","v":"---"},{"$f":"IFERROR(INDEX('Состав ВТК-ВРГ'!$1:$1048576,MATCH($G166,'Состав ВТК-ВРГ'!$B:$B,0),MATCH(BU$6,'Состав ВТК-ВРГ'!$3:$3,0)),\"---\")","v":"---"},{"$f":"IFERROR(INDEX('Состав ВТК-ВРГ'!$1:$1048576,MATCH($G166,'Состав ВТК-ВРГ'!$B:$B,0),MATCH(BV$6,'Состав ВТК-ВРГ'!$3:$3,0)),\"---\")","v":"---"},{"$f":"IFERROR(INDEX(справочник!$G$1:$I$7,MATCH($BV166,справочник!$G$1:$G$7,0),2),\"---\")","v":"---"},{"$f":"IFERROR(INDEX('Состав ВТК-ВРГ'!$1:$1048576,MATCH($G166,'Состав ВТК-ВРГ'!$B:$B,0),MATCH(BX$6,'Состав ВТК-ВРГ'!$3:$3,0)),\"---\")","v":"---"},{"$f":"IFERROR(INDEX('Пр. №4'!$1:$1048576,MATCH(BX166,'Пр. №4'!$C:$C,0),MATCH('Пр. №3'!$D$5,'Пр. №4'!$9:$9,0)),\"---\")","v":"---"},{"$f":"SUMIFS('Пр. №1.2.'!$L:$L,'Пр. №1.2.'!$B:$B,'Пр. №3'!$D166,'Пр. №1.2.'!$E:$E,'Пр. №3'!$G166)","v":0},{"$error":"#VALUE!"},{"$error":"#VALUE!"}]
[{"$f":"ROW()","v":167},111,"Ввод данных",{"$error":"#N/A"},{"$f":"INDEX('Пр. №2'!$1:$1048576,MATCH('Пр. №3'!$F167,'Пр. №2'!$D:$D,0),COLUMN('Пр. №2'!$C$5))","v":{"$error":"#N/A"}},null,null,null,null,null,null,null,null,null,null,null,null,null,null,null,null,null,null,null,null,null,null,null,null,null,null,null,null,null,null,null,null,null,null,null,null,null,null,null,null,null,null,null,null,null,null,null,null,null,null,null,null,null,null,null,null,null,null,null,null,null,null,null,0,null,{"$f":"IFERROR(INDEX(справочник!$G$1:$I$7,MATCH($BV167,справочник!$G$1:$G$7,0),3),\"---\")","v":"---"},{"$f":"IFERROR(INDEX('Пр. №1'!$B$11:$C$34,MATCH(BS167,'Пр. №1'!$B$11:$B$34,0),2),\"---\")","v":"---"},{"$f":"IFERROR(INDEX('Состав ВТК-ВРГ'!$1:$1048576,MATCH($G167,'Состав ВТК-ВРГ'!$B:$B,0),MATCH(BU$6,'Состав ВТК-ВРГ'!$3:$3,0)),\"---\")","v":"---"},{"$f":"IFERROR(INDEX('Состав ВТК-ВРГ'!$1:$1048576,MATCH($G167,'Состав ВТК-ВРГ'!$B:$B,0),MATCH(BV$6,'Состав ВТК-ВРГ'!$3:$3,0)),\"---\")","v":"---"},{"$f":"IFERROR(INDEX(справочник!$G$1:$I$7,MATCH($BV167,справочник!$G$1:$G$7,0),2),\"---\")","v":"---"},{"$f":"IFERROR(INDEX('Состав ВТК-ВРГ'!$1:$1048576,MATCH($G167,'Состав ВТК-ВРГ'!$B:$B,0),MATCH(BX$6,'Состав ВТК-ВРГ'!$3:$3,0)),\"---\")","v":"---"},{"$f":"IFERROR(INDEX('Пр. №4'!$1:$1048576,MATCH(BX167,'Пр. №4'!$C:$C,0),MATCH('Пр. №3'!$D$5,'Пр. №4'!$9:$9,0)),\"---\")","v":"---"},{"$f":"SUMIFS('Пр. №1.2.'!$L:$L,'Пр. №1.2.'!$B:$B,'Пр. №3'!$D167,'Пр. №1.2.'!$E:$E,'Пр. №3'!$G167)","v":0},{"$error":"#VALUE!"},{"$error":"#VALUE!"}]
[{"$f":"ROW()","v":168},112,"Ввод данных",{"$error":"#N/A"},{"$f":"INDEX('Пр. №2'!$1:$1048576,MATCH('Пр. №3'!$F168,'Пр. №2'!$D:$D,0),COLUMN('Пр. №2'!$C$5))","v":{"$error":"#N/A"}},null,null,null,null,null,null,null,null,null,null,null,null,null,null,null,null,null,null,null,null,null,null,null,null,null,null,null,null,null,null,null,null,null,null,null,null,null,null,null,null,null,null,null,null,null,null,null,null,null,null,null,null,null,null,null,null,null,null,null,null,null,null,null,0,null,{"$f":"IFERROR(INDEX(справочник!$G$1:$I$7,MATCH($BV168,справочник!$G$1:$G$7,0),3),\"---\")","v":"---"},{"$f":"IFERROR(INDEX('Пр. №1'!$B$11:$C$34,MATCH(BS168,'Пр. №1'!$B$11:$B$34,0),2),\"---\")","v":"---"},{"$f":"IFERROR(INDEX('Состав ВТК-ВРГ'!$1:$1048576,MATCH($G168,'Состав ВТК-ВРГ'!$B:$B,0),MATCH(BU$6,'Состав ВТК-ВРГ'!$3:$3,0)),\"---\")","v":"---"},{"$f":"IFERROR(INDEX('Состав ВТК-ВРГ'!$1:$1048576,MATCH($G168,'Состав ВТК-ВРГ'!$B:$B,0),MATCH(BV$6,'Состав ВТК-ВРГ'!$3:$3,0)),\"---\")","v":"---"},{"$f":"IFERROR(INDEX(справочник!$G$1:$I$7,MATCH($BV168,справочник!$G$1:$G$7,0),2),\"---\")","v":"---"},{"$f":"IFERROR(INDEX('Состав ВТК-ВРГ'!$1:$1048576,MATCH($G168,'Состав ВТК-ВРГ'!$B:$B,0),MATCH(BX$6,'Состав ВТК-ВРГ'!$3:$3,0)),\"---\")","v":"---"},{"$f":"IFERROR(INDEX('Пр. №4'!$1:$1048576,MATCH(BX168,'Пр. №4'!$C:$C,0),MATCH('Пр. №3'!$D$5,'Пр. №4'!$9:$9,0)),\"---\")","v":"---"},{"$f":"SUMIFS('Пр. №1.2.'!$L:$L,'Пр. №1.2.'!$B:$B,'Пр. №3'!$D168,'Пр. №1.2.'!$E:$E,'Пр. №3'!$G168)","v":0},{"$error":"#VALUE!"},{"$error":"#VALUE!"}]
[{"$f":"ROW()","v":169},113,"Ввод данных",{"$error":"#N/A"},{"$f":"INDEX('Пр. №2'!$1:$1048576,MATCH('Пр. №3'!$F169,'Пр. №2'!$D:$D,0),COLUMN('Пр. №2'!$C$5))","v":{"$error":"#N/A"}},null,null,null,null,null,null,null,null,null,null,null,null,null,null,null,null,null,null,null,null,null,null,null,null,null,null,null,null,null,null,null,null,null,null,null,null,null,null,null,null,null,null,null,null,null,null,null,null,null,null,null,null,null,null,null,null,null,null,null,null,null,null,null,0,null,{"$f":"IFERROR(INDEX(справочник!$G$1:$I$7,MATCH($BV169,справочник!$G$1:$G$7,0),3),\"---\")","v":"---"},{"$f":"IFERROR(INDEX('Пр. №1'!$B$11:$C$34,MATCH(BS169,'Пр. №1'!$B$11:$B$34,0),2),\"---\")","v":"---"},{"$f":"IFERROR(INDEX('Состав ВТК-ВРГ'!$1:$1048576,MATCH($G169,'Состав ВТК-ВРГ'!$B:$B,0),MATCH(BU$6,'Состав ВТК-ВРГ'!$3:$3,0)),\"---\")","v":"---"},{"$f":"IFERROR(INDEX('Состав ВТК-ВРГ'!$1:$1048576,MATCH($G169,'Состав ВТК-ВРГ'!$B:$B,0),MATCH(BV$6,'Состав ВТК-ВРГ'!$3:$3,0)),\"---\")","v":"---"},{"$f":"IFERROR(INDEX(справочник!$G$1:$I$7,MATCH($BV169,справочник!$G$1:$G$7,0),2),\"---\")","v":"---"},{"$f":"IFERROR(INDEX('Состав ВТК-ВРГ'!$1:$1048576,MATCH($G169,'Состав ВТК-ВРГ'!$B:$B,0),MATCH(BX$6,'Состав ВТК-ВРГ'!$3:$3,0)),\"---\")","v":"---"},{"$f":"IFERROR(INDEX('Пр. №4'!$1:$1048576,MATCH(BX169,'Пр. №4'!$C:$C,0),MATCH('Пр. №3'!$D$5,'Пр. №4'!$9:$9,0)),\"---\")","v":"---"},{"$f":"SUMIFS('Пр. №1.2.'!$L:$L,'Пр. №1.2.'!$B:$B,'Пр. №3'!$D169,'Пр. №1.2.'!$E:$E,'Пр. №3'!$G169)","v":0},{"$error":"#VALUE!"},{"$error":"#VALUE!"}]
[{"$f":"ROW()","v":170},114,"Ввод данных",{"$error":"#N/A"},{"$f":"INDEX('Пр. №2'!$1:$1048576,MATCH('Пр. №3'!$F170,'Пр. №2'!$D:$D,0),COLUMN('Пр. №2'!$C$5))","v":{"$error":"#N/A"}},null,null,null,null,null,null,null,null,null,null,null,null,null,null,null,null,null,null,null,null,null,null,null,null,null,null,null,null,null,null,null,null,null,null,null,null,null,null,null,null,null,null,null,null,null,null,null,null,null,null,null,null,null,null,null,null,null,null,null,null,null,null,null,0,null,{"$f":"IFERROR(INDEX(справочник!$G$1:$I$7,MATCH($BV170,справочник!$G$1:$G$7,0),3),\"---\")","v":"---"},{"$f":"IFERROR(INDEX('Пр. №1'!$B$11:$C$34,MATCH(BS170,'Пр. №1'!$B$11:$B$34,0),2),\"---\")","v":"---"},{"$f":"IFERROR(INDEX('Состав ВТК-ВРГ'!$1:$1048576,MATCH($G170,'Состав ВТК-ВРГ'!$B:$B,0),MATCH(BU$6,'Состав ВТК-ВРГ'!$3:$3,0)),\"---\")","v":"---"},{"$f":"IFERROR(INDEX('Состав ВТК-ВРГ'!$1:$1048576,MATCH($G170,'Состав ВТК-ВРГ'!$B:$B,0),MATCH(BV$6,'Состав ВТК-ВРГ'!$3:$3,0)),\"---\")","v":"---"},{"$f":"IFERROR(INDEX(справочник!$G$1:$I$7,MATCH($BV170,справочник!$G$1:$G$7,0),2),\"---\")","v":"---"},{"$f":"IFERROR(INDEX('Состав ВТК-ВРГ'!$1:$1048576,MATCH($G170,'Состав ВТК-ВРГ'!$B:$B,0),MATCH(BX$6,'Состав ВТК-ВРГ'!$3:$3,0)),\"---\")","v":"---"},{"$f":"IFERROR(INDEX('Пр. №4'!$1:$1048576,MATCH(BX170,'Пр. №4'!$C:$C,0),MATCH('Пр. №3'!$D$5,'Пр. №4'!$9:$9,0)),\"---\")","v":"---"},{"$f":"SUMIFS('Пр. №1.2.'!$L:$L,'Пр. №1.2.'!$B:$B,'Пр. №3'!$D170,'Пр. №1.2.'!$E:$E,'Пр. №3'!$G170)","v":0},{"$error":"#VALUE!"},{"$error":"#VALUE!"}]
[{"$f":"ROW()","v":171},115,"Ввод данных",{"$error":"#N/A"},{"$f":"INDEX('Пр. №2'!$1:$1048576,MATCH('Пр. №3'!$F171,'Пр. №2'!$D:$D,0),COLUMN('Пр. №2'!$C$5))","v":{"$error":"#N/A"}},null,null,null,null,null,null,null,null,null,null,null,null,null,null,null,null,null,null,null,null,null,null,null,null,null,null,null,null,null,null,null,null,null,null,null,null,null,null,null,null,null,null,null,null,null,null,null,null,null,null,null,null,null,null,null,null,null,null,null,null,null,null,null,0,null,{"$f":"IFERROR(INDEX(справочник!$G$1:$I$7,MATCH($BV171,справочник!$G$1:$G$7,0),3),\"---\")","v":"---"},{"$f":"IFERROR(INDEX('Пр. №1'!$B$11:$C$34,MATCH(BS171,'Пр. №1'!$B$11:$B$34,0),2),\"---\")","v":"---"},{"$f":"IFERROR(INDEX('Состав ВТК-ВРГ'!$1:$1048576,MATCH($G171,'Состав ВТК-ВРГ'!$B:$B,0),MATCH(BU$6,'Состав ВТК-ВРГ'!$3:$3,0)),\"---\")","v":"---"},{"$f":"IFERROR(INDEX('Состав ВТК-ВРГ'!$1:$1048576,MATCH($G171,'Состав ВТК-ВРГ'!$B:$B,0),MATCH(BV$6,'Состав ВТК-ВРГ'!$3:$3,0)),\"---\")","v":"---"},{"$f":"IFERROR(INDEX(справочник!$G$1:$I$7,MATCH($BV171,справочник!$G$1:$G$7,0),2),\"---\")","v":"---"},{"$f":"IFERROR(INDEX('Состав ВТК-ВРГ'!$1:$1048576,MATCH($G171,'Состав ВТК-ВРГ'!$B:$B,0),MATCH(BX$6,'Состав ВТК-ВРГ'!$3:$3,0)),\"---\")","v":"---"},{"$f":"IFERROR(INDEX('Пр. №4'!$1:$1048576,MATCH(BX171,'Пр. №4'!$C:$C,0),MATCH('Пр. №3'!$D$5,'Пр. №4'!$9:$9,0)),\"---\")","v":"---"},{"$f":"SUMIFS('Пр. №1.2.'!$L:$L,'Пр. №1.2.'!$B:$B,'Пр. №3'!$D171,'Пр. №1.2.'!$E:$E,'Пр. №3'!$G171)","v":0},{"$error":"#VALUE!"},{"$error":"#VALUE!"}]
[{"$f":"ROW()","v":172},116,"Ввод данных",{"$error":"#N/A"},{"$f":"INDEX('Пр. №2'!$1:$1048576,MATCH('Пр. №3'!$F172,'Пр. №2'!$D:$D,0),COLUMN('Пр. №2'!$C$5))","v":{"$error":"#N/A"}},null,null,null,null,null,null,null,null,null,null,null,null,null,null,null,null,null,null,null,null,null,null,null,null,null,null,null,null,null,null,null,null,null,null,null,null,null,null,null,null,null,null,null,null,null,null,null,null,null,null,null,null,null,null,null,null,null,null,null,null,null,null,null,0,null,{"$f":"IFERROR(INDEX(справочник!$G$1:$I$7,MATCH($BV172,справочник!$G$1:$G$7,0),3),\"---\")","v":"---"},{"$f":"IFERROR(INDEX('Пр. №1'!$B$11:$C$34,MATCH(BS172,'Пр. №1'!$B$11:$B$34,0),2),\"---\")","v":"---"},{"$f":"IFERROR(INDEX('Состав ВТК-ВРГ'!$1:$1048576,MATCH($G172,'Состав ВТК-ВРГ'!$B:$B,0),MATCH(BU$6,'Состав ВТК-ВРГ'!$3:$3,0)),\"---\")","v":"---"},{"$f":"IFERROR(INDEX('Состав ВТК-ВРГ'!$1:$1048576,MATCH($G172,'Состав ВТК-ВРГ'!$B:$B,0),MATCH(BV$6,'Состав ВТК-ВРГ'!$3:$3,0)),\"---\")","v":"---"},{"$f":"IFERROR(INDEX(справочник!$G$1:$I$7,MATCH($BV172,справочник!$G$1:$G$7,0),2),\"---\")","v":"---"},{"$f":"IFERROR(INDEX('Состав ВТК-ВРГ'!$1:$1048576,MATCH($G172,'Состав ВТК-ВРГ'!$B:$B,0),MATCH(BX$6,'Состав ВТК-ВРГ'!$3:$3,0)),\"---\")","v":"---"},{"$f":"IFERROR(INDEX('Пр. №4'!$1:$1048576,MATCH(BX172,'Пр. №4'!$C:$C,0),MATCH('Пр. №3'!$D$5,'Пр. №4'!$9:$9,0)),\"---\")","v":"---"},{"$f":"SUMIFS('Пр. №1.2.'!$L:$L,'Пр. №1.2.'!$B:$B,'Пр. №3'!$D172,'Пр. №1.2.'!$E:$E,'Пр. №3'!$G172)","v":0},{"$error":"#VALUE!"},{"$error":"#VALUE!"}]
[{"$f":"ROW()","v":173},117,"Ввод данных",{"$error":"#N/A"},{"$f":"INDEX('Пр. №2'!$1:$1048576,MATCH('Пр. №3'!$F173,'Пр. №2'!$D:$D,0),COLUMN('Пр. №2'!$C$5))","v":{"$error":"#N/A"}},null,null,null,null,null,null,null,null,null,null,null,null,null,null,null,null,null,null,null,null,null,null,null,null,null,null,null,null,null,null,null,null,null,null,null,null,null,null,null,null,null,null,null,null,null,null,null,null,null,null,null,null,null,null,null,null,null,null,null,null,null,null,null,0,null,{"$f":"IFERROR(INDEX(справочник!$G$1:$I$7,MATCH($BV173,справочник!$G$1:$G$7,0),3),\"---\")","v":"---"},{"$f":"IFERROR(INDEX('Пр. №1'!$B$11:$C$34,MATCH(BS173,'Пр. №1'!$B$11:$B$34,0),2),\"---\")","v":"---"},{"$f":"IFERROR(INDEX('Состав ВТК-ВРГ'!$1:$1048576,MATCH($G173,'Состав ВТК-ВРГ'!$B:$B,0),MATCH(BU$6,'Состав ВТК-ВРГ'!$3:$3,0)),\"---\")","v":"---"},{"$f":"IFERROR(INDEX('Состав ВТК-ВРГ'!$1:$1048576,MATCH($G173,'Состав ВТК-ВРГ'!$B:$B,0),MATCH(BV$6,'Состав ВТК-ВРГ'!$3:$3,0)),\"---\")","v":"---"},{"$f":"IFERROR(INDEX(справочник!$G$1:$I$7,MATCH($BV173,справочник!$G$1:$G$7,0),2),\"---\")","v":"---"},{"$f":"IFERROR(INDEX('Состав ВТК-ВРГ'!$1:$1048576,MATCH($G173,'Состав ВТК-ВРГ'!$B:$B,0),MATCH(BX$6,'Состав ВТК-ВРГ'!$3:$3,0)),\"---\")","v":"---"},{"$f":"IFERROR(INDEX('Пр. №4'!$1:$1048576,MATCH(BX173,'Пр. №4'!$C:$C,0),MATCH('Пр. №3'!$D$5,'Пр. №4'!$9:$9,0)),\"---\")","v":"---"},{"$f":"SUMIFS('Пр. №1.2.'!$L:$L,'Пр. №1.2.'!$B:$B,'Пр. №3'!$D173,'Пр. №1.2.'!$E:$E,'Пр. №3'!$G173)","v":0},{"$error":"#VALUE!"},{"$error":"#VALUE!"}]
[{"$f":"ROW()","v":174},118,"Ввод данных",{"$error":"#N/A"},{"$f":"INDEX('Пр. №2'!$1:$1048576,MATCH('Пр. №3'!$F174,'Пр. №2'!$D:$D,0),COLUMN('Пр. №2'!$C$5))","v":{"$error":"#N/A"}},null,null,null,null,null,null,null,null,null,null,null,null,null,null,null,null,null,null,null,null,null,null,null,null,null,null,null,null,null,null,null,null,null,null,null,null,null,null,null,null,null,null,null,null,null,null,null,null,null,null,null,null,null,null,null,null,null,null,null,null,null,null,null,0,null,{"$f":"IFERROR(INDEX(справочник!$G$1:$I$7,MATCH($BV174,справочник!$G$1:$G$7,0),3),\"---\")","v":"---"},{"$f":"IFERROR(INDEX('Пр. №1'!$B$11:$C$34,MATCH(BS174,'Пр. №1'!$B$11:$B$34,0),2),\"---\")","v":"---"},{"$f":"IFERROR(INDEX('Состав ВТК-ВРГ'!$1:$1048576,MATCH($G174,'Состав ВТК-ВРГ'!$B:$B,0),MATCH(BU$6,'Состав ВТК-ВРГ'!$3:$3,0)),\"---\")","v":"---"},{"$f":"IFERROR(INDEX('Состав ВТК-ВРГ'!$1:$1048576,MATCH($G174,'Состав ВТК-ВРГ'!$B:$B,0),MATCH(BV$6,'Состав ВТК-ВРГ'!$3:$3,0)),\"---\")","v":"---"},{"$f":"IFERROR(INDEX(справочник!$G$1:$I$7,MATCH($BV174,справочник!$G$1:$G$7,0),2),\"---\")","v":"---"},{"$f":"IFERROR(INDEX('Состав ВТК-ВРГ'!$1:$1048576,MATCH($G174,'Состав ВТК-ВРГ'!$B:$B,0),MATCH(BX$6,'Состав ВТК-ВРГ'!$3:$3,0)),\"---\")","v":"---"},{"$f":"IFERROR(INDEX('Пр. №4'!$1:$1048576,MATCH(BX174,'Пр. №4'!$C:$C,0),MATCH('Пр. №3'!$D$5,'Пр. №4'!$9:$9,0)),\"---\")","v":"---"},{"$f":"SUMIFS('Пр. №1.2.'!$L:$L,'Пр. №1.2.'!$B:$B,'Пр. №3'!$D174,'Пр. №1.2.'!$E:$E,'Пр. №3'!$G174)","v":0},{"$error":"#VALUE!"},{"$error":"#VALUE!"}]
[{"$f":"ROW()","v":175},119,"Ввод данных",{"$error":"#N/A"},{"$f":"INDEX('Пр. №2'!$1:$1048576,MATCH('Пр. №3'!$F175,'Пр. №2'!$D:$D,0),COLUMN('Пр. №2'!$C$5))","v":{"$error":"#N/A"}},null,null,null,null,null,null,null,null,null,null,null,null,null,null,null,null,null,null,null,null,null,null,null,null,null,null,null,null,null,null,null,null,null,null,null,null,null,null,null,null,null,null,null,null,null,null,null,null,null,null,null,null,null,null,null,null,null,null,null,null,null,null,null,0,null,{"$f":"IFERROR(INDEX(справочник!$G$1:$I$7,MATCH($BV175,справочник!$G$1:$G$7,0),3),\"---\")","v":"---"},{"$f":"IFERROR(INDEX('Пр. №1'!$B$11:$C$34,MATCH(BS175,'Пр. №1'!$B$11:$B$34,0),2),\"---\")","v":"---"},{"$f":"IFERROR(INDEX('Состав ВТК-ВРГ'!$1:$1048576,MATCH($G175,'Состав ВТК-ВРГ'!$B:$B,0),MATCH(BU$6,'Состав ВТК-ВРГ'!$3:$3,0)),\"---\")","v":"---"},{"$f":"IFERROR(INDEX('Состав ВТК-ВРГ'!$1:$1048576,MATCH($G175,'Состав ВТК-ВРГ'!$B:$B,0),MATCH(BV$6,'Состав ВТК-ВРГ'!$3:$3,0)),\"---\")","v":"---"},{"$f":"IFERROR(INDEX(справочник!$G$1:$I$7,MATCH($BV175,справочник!$G$1:$G$7,0),2),\"---\")","v":"---"},{"$f":"IFERROR(INDEX('Состав ВТК-ВРГ'!$1:$1048576,MATCH($G175,'Состав ВТК-ВРГ'!$B:$B,0),MATCH(BX$6,'Состав ВТК-ВРГ'!$3:$3,0)),\"---\")","v":"---"},{"$f":"IFERROR(INDEX('Пр. №4'!$1:$1048576,MATCH(BX175,'Пр. №4'!$C:$C,0),MATCH('Пр. №3'!$D$5,'Пр. №4'!$9:$9,0)),\"---\")","v":"---"},{"$f":"SUMIFS('Пр. №1.2.'!$L:$L,'Пр. №1.2.'!$B:$B,'Пр. №3'!$D175,'Пр. №1.2.'!$E:$E,'Пр. №3'!$G175)","v":0},{"$error":"#VALUE!"},{"$error":"#VALUE!"}]
[{"$f":"ROW()","v":176},120,"Ввод данных",{"$error":"#N/A"},{"$f":"INDEX('Пр. №2'!$1:$1048576,MATCH('Пр. №3'!$F176,'Пр. №2'!$D:$D,0),COLUMN('Пр. №2'!$C$5))","v":{"$error":"#N/A"}},null,null,null,null,null,null,null,null,null,null,null,null,null,null,null,null,null,null,null,null,null,null,null,null,null,null,null,null,null,null,null,null,null,null,null,null,null,null,null,null,null,null,null,null,null,null,null,null,null,null,null,null,null,null,null,null,null,null,null,null,null,null,null,0,null,{"$f":"IFERROR(INDEX(справочник!$G$1:$I$7,MATCH($BV176,справочник!$G$1:$G$7,0),3),\"---\")","v":"---"},{"$f":"IFERROR(INDEX('Пр. №1'!$B$11:$C$34,MATCH(BS176,'Пр. №1'!$B$11:$B$34,0),2),\"---\")","v":"---"},{"$f":"IFERROR(INDEX('Состав ВТК-ВРГ'!$1:$1048576,MATCH($G176,'Состав ВТК-ВРГ'!$B:$B,0),MATCH(BU$6,'Состав ВТК-ВРГ'!$3:$3,0)),\"---\")","v":"---"},{"$f":"IFERROR(INDEX('Состав ВТК-ВРГ'!$1:$1048576,MATCH($G176,'Состав ВТК-ВРГ'!$B:$B,0),MATCH(BV$6,'Состав ВТК-ВРГ'!$3:$3,0)),\"---\")","v":"---"},{"$f":"IFERROR(INDEX(справочник!$G$1:$I$7,MATCH($BV176,справочник!$G$1:$G$7,0),2),\"---\")","v":"---"},{"$f":"IFERROR(INDEX('Состав ВТК-ВРГ'!$1:$1048576,MATCH($G176,'Состав ВТК-ВРГ'!$B:$B,0),MATCH(BX$6,'Состав ВТК-ВРГ'!$3:$3,0)),\"---\")","v":"---"},{"$f":"IFERROR(INDEX('Пр. №4'!$1:$1048576,MATCH(BX176,'Пр. №4'!$C:$C,0),MATCH('Пр. №3'!$D$5,'Пр. №4'!$9:$9,0)),\"---\")","v":"---"},{"$f":"SUMIFS('Пр. №1.2.'!$L:$L,'Пр. №1.2.'!$B:$B,'Пр. №3'!$D176,'Пр. №1.2.'!$E:$E,'Пр. №3'!$G176)","v":0},{"$error":"#VALUE!"},{"$error":"#VALUE!"}]
[{"$f":"ROW()","v":177},121,"Ввод данных",{"$error":"#N/A"},{"$f":"INDEX('Пр. №2'!$1:$1048576,MATCH('Пр. №3'!$F177,'Пр. №2'!$D:$D,0),COLUMN('Пр. №2'!$C$5))","v":{"$error":"#N/A"}},null,null,null,null,null,null,null,null,null,null,null,null,null,null,null,null,null,null,null,null,null,null,null,null,null,null,null,null,null,null,null,null,null,null,null,null,null,null,null,null,null,null,null,null,null,null,null,null,null,null,null,null,null,null,null,null,null,null,null,null,null,null,null,0,null,{"$f":"IFERROR(INDEX(справочник!$G$1:$I$7,MATCH($BV177,справочник!$G$1:$G$7,0),3),\"---\")","v":"---"},{"$f":"IFERROR(INDEX('Пр. №1'!$B$11:$C$34,MATCH(BS177,'Пр. №1'!$B$11:$B$34,0),2),\"---\")","v":"---"},{"$f":"IFERROR(INDEX('Состав ВТК-ВРГ'!$1:$1048576,MATCH($G177,'Состав ВТК-ВРГ'!$B:$B,0),MATCH(BU$6,'Состав ВТК-ВРГ'!$3:$3,0)),\"---\")","v":"---"},{"$f":"IFERROR(INDEX('Состав ВТК-ВРГ'!$1:$1048576,MATCH($G177,'Состав ВТК-ВРГ'!$B:$B,0),MATCH(BV$6,'Состав ВТК-ВРГ'!$3:$3,0)),\"---\")","v":"---"},{"$f":"IFERROR(INDEX(справочник!$G$1:$I$7,MATCH($BV177,справочник!$G$1:$G$7,0),2),\"---\")","v":"---"},{"$f":"IFERROR(INDEX('Состав ВТК-ВРГ'!$1:$1048576,MATCH($G177,'Состав ВТК-ВРГ'!$B:$B,0),MATCH(BX$6,'Состав ВТК-ВРГ'!$3:$3,0)),\"---\")","v":"---"},{"$f":"IFERROR(INDEX('Пр. №4'!$1:$1048576,MATCH(BX177,'Пр. №4'!$C:$C,0),MATCH('Пр. №3'!$D$5,'Пр. №4'!$9:$9,0)),\"---\")","v":"---"},{"$f":"SUMIFS('Пр. №1.2.'!$L:$L,'Пр. №1.2.'!$B:$B,'Пр. №3'!$D177,'Пр. №1.2.'!$E:$E,'Пр. №3'!$G177)","v":0},{"$error":"#VALUE!"},{"$error":"#VALUE!"}]
[{"$f":"ROW()","v":178},122,"Ввод данных",{"$error":"#N/A"},{"$f":"INDEX('Пр. №2'!$1:$1048576,MATCH('Пр. №3'!$F178,'Пр. №2'!$D:$D,0),COLUMN('Пр. №2'!$C$5))","v":{"$error":"#N/A"}},null,null,null,null,null,null,null,null,null,null,null,null,null,null,null,null,null,null,null,null,null,null,null,null,null,null,null,null,null,null,null,null,null,null,null,null,null,null,null,null,null,null,null,null,null,null,null,null,null,null,null,null,null,null,null,null,null,null,null,null,null,null,null,0,null,{"$f":"IFERROR(INDEX(справочник!$G$1:$I$7,MATCH($BV178,справочник!$G$1:$G$7,0),3),\"---\")","v":"---"},{"$f":"IFERROR(INDEX('Пр. №1'!$B$11:$C$34,MATCH(BS178,'Пр. №1'!$B$11:$B$34,0),2),\"---\")","v":"---"},{"$f":"IFERROR(INDEX('Состав ВТК-ВРГ'!$1:$1048576,MATCH($G178,'Состав ВТК-ВРГ'!$B:$B,0),MATCH(BU$6,'Состав ВТК-ВРГ'!$3:$3,0)),\"---\")","v":"---"},{"$f":"IFERROR(INDEX('Состав ВТК-ВРГ'!$1:$1048576,MATCH($G178,'Состав ВТК-ВРГ'!$B:$B,0),MATCH(BV$6,'Состав ВТК-ВРГ'!$3:$3,0)),\"---\")","v":"---"},{"$f":"IFERROR(INDEX(справочник!$G$1:$I$7,MATCH($BV178,справочник!$G$1:$G$7,0),2),\"---\")","v":"---"},{"$f":"IFERROR(INDEX('Состав ВТК-ВРГ'!$1:$1048576,MATCH($G178,'Состав ВТК-ВРГ'!$B:$B,0),MATCH(BX$6,'Состав ВТК-ВРГ'!$3:$3,0)),\"---\")","v":"---"},{"$f":"IFERROR(INDEX('Пр. №4'!$1:$1048576,MATCH(BX178,'Пр. №4'!$C:$C,0),MATCH('Пр. №3'!$D$5,'Пр. №4'!$9:$9,0)),\"---\")","v":"---"},{"$f":"SUMIFS('Пр. №1.2.'!$L:$L,'Пр. №1.2.'!$B:$B,'Пр. №3'!$D178,'Пр. №1.2.'!$E:$E,'Пр. №3'!$G178)","v":0},{"$error":"#VALUE!"},{"$error":"#VALUE!"}]
[{"$f":"ROW()","v":179},123,"Ввод данных",{"$error":"#N/A"},{"$f":"INDEX('Пр. №2'!$1:$1048576,MATCH('Пр. №3'!$F179,'Пр. №2'!$D:$D,0),COLUMN('Пр. №2'!$C$5))","v":{"$error":"#N/A"}},null,null,null,null,null,null,null,null,null,null,null,null,null,null,null,null,null,null,null,null,null,null,null,null,null,null,null,null,null,null,null,null,null,null,null,null,null,null,null,null,null,null,null,null,null,null,null,null,null,null,null,null,null,null,null,null,null,null,null,null,null,null,null,0,null,{"$f":"IFERROR(INDEX(справочник!$G$1:$I$7,MATCH($BV179,справочник!$G$1:$G$7,0),3),\"---\")","v":"---"},{"$f":"IFERROR(INDEX('Пр. №1'!$B$11:$C$34,MATCH(BS179,'Пр. №1'!$B$11:$B$34,0),2),\"---\")","v":"---"},{"$f":"IFERROR(INDEX('Состав ВТК-ВРГ'!$1:$1048576,MATCH($G179,'Состав ВТК-ВРГ'!$B:$B,0),MATCH(BU$6,'Состав ВТК-ВРГ'!$3:$3,0)),\"---\")","v":"---"},{"$f":"IFERROR(INDEX('Состав ВТК-ВРГ'!$1:$1048576,MATCH($G179,'Состав ВТК-ВРГ'!$B:$B,0),MATCH(BV$6,'Состав ВТК-ВРГ'!$3:$3,0)),\"---\")","v":"---"},{"$f":"IFERROR(INDEX(справочник!$G$1:$I$7,MATCH($BV179,справочник!$G$1:$G$7,0),2),\"---\")","v":"---"},{"$f":"IFERROR(INDEX('Состав ВТК-ВРГ'!$1:$1048576,MATCH($G179,'Состав ВТК-ВРГ'!$B:$B,0),MATCH(BX$6,'Состав ВТК-ВРГ'!$3:$3,0)),\"---\")","v":"---"},{"$f":"IFERROR(INDEX('Пр. №4'!$1:$1048576,MATCH(BX179,'Пр. №4'!$C:$C,0),MATCH('Пр. №3'!$D$5,'Пр. №4'!$9:$9,0)),\"---\")","v":"---"},{"$f":"SUMIFS('Пр. №1.2.'!$L:$L,'Пр. №1.2.'!$B:$B,'Пр. №3'!$D179,'Пр. №1.2.'!$E:$E,'Пр. №3'!$G179)","v":0},{"$error":"#VALUE!"},{"$error":"#VALUE!"}]
[{"$f":"ROW()","v":180},124,"Ввод данных",{"$error":"#N/A"},{"$f":"INDEX('Пр. №2'!$1:$1048576,MATCH('Пр. №3'!$F180,'Пр. №2'!$D:$D,0),COLUMN('Пр. №2'!$C$5))","v":{"$error":"#N/A"}},null,null,null,null,null,null,null,null,null,null,null,null,null,null,null,null,null,null,null,null,null,null,null,null,null,null,null,null,null,null,null,null,null,null,null,null,null,null,null,null,null,null,null,null,null,null,null,null,null,null,null,null,null,null,null,null,null,null,null,null,null,null,null,0,null,{"$f":"IFERROR(INDEX(справочник!$G$1:$I$7,MATCH($BV180,справочник!$G$1:$G$7,0),3),\"---\")","v":"---"},{"$f":"IFERROR(INDEX('Пр. №1'!$B$11:$C$34,MATCH(BS180,'Пр. №1'!$B$11:$B$34,0),2),\"---\")","v":"---"},{"$f":"IFERROR(INDEX('Состав ВТК-ВРГ'!$1:$1048576,MATCH($G180,'Состав ВТК-ВРГ'!$B:$B,0),MATCH(BU$6,'Состав ВТК-ВРГ'!$3:$3,0)),\"---\")","v":"---"},{"$f":"IFERROR(INDEX('Состав ВТК-ВРГ'!$1:$1048576,MATCH($G180,'Состав ВТК-ВРГ'!$B:$B,0),MATCH(BV$6,'Состав ВТК-ВРГ'!$3:$3,0)),\"---\")","v":"---"},{"$f":"IFERROR(INDEX(справочник!$G$1:$I$7,MATCH($BV180,справочник!$G$1:$G$7,0),2),\"---\")","v":"---"},{"$f":"IFERROR(INDEX('Состав ВТК-ВРГ'!$1:$1048576,MATCH($G180,'Состав ВТК-ВРГ'!$B:$B,0),MATCH(BX$6,'Состав ВТК-ВРГ'!$3:$3,0)),\"---\")","v":"---"},{"$f":"IFERROR(INDEX('Пр. №4'!$1:$1048576,MATCH(BX180,'Пр. №4'!$C:$C,0),MATCH('Пр. №3'!$D$5,'Пр. №4'!$9:$9,0)),\"---\")","v":"---"},{"$f":"SUMIFS('Пр. №1.2.'!$L:$L,'Пр. №1.2.'!$B:$B,'Пр. №3'!$D180,'Пр. №1.2.'!$E:$E,'Пр. №3'!$G180)","v":0},{"$error":"#VALUE!"},{"$error":"#VALUE!"}]
[{"$f":"ROW()","v":181},125,"Ввод данных",{"$error":"#N/A"},{"$f":"INDEX('Пр. №2'!$1:$1048576,MATCH('Пр. №3'!$F181,'Пр. №2'!$D:$D,0),COLUMN('Пр. №2'!$C$5))","v":{"$error":"#N/A"}},null,null,null,null,null,null,null,null,null,null,null,null,null,null,null,null,null,null,null,null,null,null,null,null,null,null,null,null,null,null,null,null,null,null,null,null,null,null,null,null,null,null,null,null,null,null,null,null,null,null,null,null,null,null,null,null,null,null,null,null,null,null,null,0,null,{"$f":"IFERROR(INDEX(справочник!$G$1:$I$7,MATCH($BV181,справочник!$G$1:$G$7,0),3),\"---\")","v":"---"},{"$f":"IFERROR(INDEX('Пр. №1'!$B$11:$C$34,MATCH(BS181,'Пр. №1'!$B$11:$B$34,0),2),\"---\")","v":"---"},{"$f":"IFERROR(INDEX('Состав ВТК-ВРГ'!$1:$1048576,MATCH($G181,'Состав ВТК-ВРГ'!$B:$B,0),MATCH(BU$6,'Состав ВТК-ВРГ'!$3:$3,0)),\"---\")","v":"---"},{"$f":"IFERROR(INDEX('Состав ВТК-ВРГ'!$1:$1048576,MATCH($G181,'Состав ВТК-ВРГ'!$B:$B,0),MATCH(BV$6,'Состав ВТК-ВРГ'!$3:$3,0)),\"---\")","v":"---"},{"$f":"IFERROR(INDEX(справочник!$G$1:$I$7,MATCH($BV181,справочник!$G$1:$G$7,0),2),\"---\")","v":"---"},{"$f":"IFERROR(INDEX('Состав ВТК-ВРГ'!$1:$1048576,MATCH($G181,'Состав ВТК-ВРГ'!$B:$B,0),MATCH(BX$6,'Состав ВТК-ВРГ'!$3:$3,0)),\"---\")","v":"---"},{"$f":"IFERROR(INDEX('Пр. №4'!$1:$1048576,MATCH(BX181,'Пр. №4'!$C:$C,0),MATCH('Пр. №3'!$D$5,'Пр. №4'!$9:$9,0)),\"---\")","v":"---"},{"$f":"SUMIFS('Пр. №1.2.'!$L:$L,'Пр. №1.2.'!$B:$B,'Пр. №3'!$D181,'Пр. №1.2.'!$E:$E,'Пр. №3'!$G181)","v":0},{"$error":"#VALUE!"},{"$error":"#VALUE!"}]
[{"$f":"ROW()","v":182},126,"Ввод данных",{"$error":"#N/A"},{"$f":"INDEX('Пр. №2'!$1:$1048576,MATCH('Пр. №3'!$F182,'Пр. №2'!$D:$D,0),COLUMN('Пр. №2'!$C$5))","v":{"$error":"#N/A"}},null,null,null,null,null,null,null,null,null,null,null,null,null,null,null,null,null,null,null,null,null,null,null,null,null,null,null,null,null,null,null,null,null,null,null,null,null,null,null,null,null,null,null,null,null,null,null,null,null,null,null,null,null,null,null,null,null,null,null,null,null,null,null,0,null,{"$f":"IFERROR(INDEX(справочник!$G$1:$I$7,MATCH($BV182,справочник!$G$1:$G$7,0),3),\"---\")","v":"---"},{"$f":"IFERROR(INDEX('Пр. №1'!$B$11:$C$34,MATCH(BS182,'Пр. №1'!$B$11:$B$34,0),2),\"---\")","v":"---"},{"$f":"IFERROR(INDEX('Состав ВТК-ВРГ'!$1:$1048576,MATCH($G182,'Состав ВТК-ВРГ'!$B:$B,0),MATCH(BU$6,'Состав ВТК-ВРГ'!$3:$3,0)),\"---\")","v":"---"},{"$f":"IFERROR(INDEX('Состав ВТК-ВРГ'!$1:$1048576,MATCH($G182,'Состав ВТК-ВРГ'!$B:$B,0),MATCH(BV$6,'Состав ВТК-ВРГ'!$3:$3,0)),\"---\")","v":"---"},{"$f":"IFERROR(INDEX(справочник!$G$1:$I$7,MATCH($BV182,справочник!$G$1:$G$7,0),2),\"---\")","v":"---"},{"$f":"IFERROR(INDEX('Состав ВТК-ВРГ'!$1:$1048576,MATCH($G182,'Состав ВТК-ВРГ'!$B:$B,0),MATCH(BX$6,'Состав ВТК-ВРГ'!$3:$3,0)),\"---\")","v":"---"},{"$f":"IFERROR(INDEX('Пр. №4'!$1:$1048576,MATCH(BX182,'Пр. №4'!$C:$C,0),MATCH('Пр. №3'!$D$5,'Пр. №4'!$9:$9,0)),\"---\")","v":"---"},{"$f":"SUMIFS('Пр. №1.2.'!$L:$L,'Пр. №1.2.'!$B:$B,'Пр. №3'!$D182,'Пр. №1.2.'!$E:$E,'Пр. №3'!$G182)","v":0},{"$error":"#VALUE!"},{"$error":"#VALUE!"}]
[{"$f":"ROW()","v":183},127,"Ввод данных",{"$error":"#N/A"},{"$f":"INDEX('Пр. №2'!$1:$1048576,MATCH('Пр. №3'!$F183,'Пр. №2'!$D:$D,0),COLUMN('Пр. №2'!$C$5))","v":{"$error":"#N/A"}},null,null,null,null,null,null,null,null,null,null,null,null,null,null,null,null,null,null,null,null,null,null,null,null,null,null,null,null,null,null,null,null,null,null,null,null,null,null,null,null,null,null,null,null,null,null,null,null,null,null,null,null,null,null,null,null,null,null,null,null,null,null,null,0,null,{"$f":"IFERROR(INDEX(справочник!$G$1:$I$7,MATCH($BV183,справочник!$G$1:$G$7,0),3),\"---\")","v":"---"},{"$f":"IFERROR(INDEX('Пр. №1'!$B$11:$C$34,MATCH(BS183,'Пр. №1'!$B$11:$B$34,0),2),\"---\")","v":"---"},{"$f":"IFERROR(INDEX('Состав ВТК-ВРГ'!$1:$1048576,MATCH($G183,'Состав ВТК-ВРГ'!$B:$B,0),MATCH(BU$6,'Состав ВТК-ВРГ'!$3:$3,0)),\"---\")","v":"---"},{"$f":"IFERROR(INDEX('Состав ВТК-ВРГ'!$1:$1048576,MATCH($G183,'Состав ВТК-ВРГ'!$B:$B,0),MATCH(BV$6,'Состав ВТК-ВРГ'!$3:$3,0)),\"---\")","v":"---"},{"$f":"IFERROR(INDEX(справочник!$G$1:$I$7,MATCH($BV183,справочник!$G$1:$G$7,0),2),\"---\")","v":"---"},{"$f":"IFERROR(INDEX('Состав ВТК-ВРГ'!$1:$1048576,MATCH($G183,'Состав ВТК-ВРГ'!$B:$B,0),MATCH(BX$6,'Состав ВТК-ВРГ'!$3:$3,0)),\"---\")","v":"---"},{"$f":"IFERROR(INDEX('Пр. №4'!$1:$1048576,MATCH(BX183,'Пр. №4'!$C:$C,0),MATCH('Пр. №3'!$D$5,'Пр. №4'!$9:$9,0)),\"---\")","v":"---"},{"$f":"SUMIFS('Пр. №1.2.'!$L:$L,'Пр. №1.2.'!$B:$B,'Пр. №3'!$D183,'Пр. №1.2.'!$E:$E,'Пр. №3'!$G183)","v":0},{"$error":"#VALUE!"},{"$error":"#VALUE!"}]
[{"$f":"ROW()","v":184},128,"Ввод данных",{"$error":"#N/A"},{"$f":"INDEX('Пр. №2'!$1:$1048576,MATCH('Пр. №3'!$F184,'Пр. №2'!$D:$D,0),COLUMN('Пр. №2'!$C$5))","v":{"$error":"#N/A"}},null,null,null,null,null,null,null,null,null,null,null,null,null,null,null,null,null,null,null,null,null,null,null,null,null,null,null,null,null,null,null,null,null,null,null,null,null,null,null,null,null,null,null,null,null,null,null,null,null,null,null,null,null,null,null,null,null,null,null,null,null,null,null,0,null,{"$f":"IFERROR(INDEX(справочник!$G$1:$I$7,MATCH($BV184,справочник!$G$1:$G$7,0),3),\"---\")","v":"---"},{"$f":"IFERROR(INDEX('Пр. №1'!$B$11:$C$34,MATCH(BS184,'Пр. №1'!$B$11:$B$34,0),2),\"---\")","v":"---"},{"$f":"IFERROR(INDEX('Состав ВТК-ВРГ'!$1:$1048576,MATCH($G184,'Состав ВТК-ВРГ'!$B:$B,0),MATCH(BU$6,'Состав ВТК-ВРГ'!$3:$3,0)),\"---\")","v":"---"},{"$f":"IFERROR(INDEX('Состав ВТК-ВРГ'!$1:$1048576,MATCH($G184,'Состав ВТК-ВРГ'!$B:$B,0),MATCH(BV$6,'Состав ВТК-ВРГ'!$3:$3,0)),\"---\")","v":"---"},{"$f":"IFERROR(INDEX(справочник!$G$1:$I$7,MATCH($BV184,справочник!$G$1:$G$7,0),2),\"---\")","v":"---"},{"$f":"IFERROR(INDEX('Состав ВТК-ВРГ'!$1:$1048576,MATCH($G184,'Состав ВТК-ВРГ'!$B:$B,0),MATCH(BX$6,'Состав ВТК-ВРГ'!$3:$3,0)),\"---\")","v":"---"},{"$f":"IFERROR(INDEX('Пр. №4'!$1:$1048576,MATCH(BX184,'Пр. №4'!$C:$C,0),MATCH('Пр. №3'!$D$5,'Пр. №4'!$9:$9,0)),\"---\")","v":"---"},{"$f":"SUMIFS('Пр. №1.2.'!$L:$L,'Пр. №1.2.'!$B:$B,'Пр. №3'!$D184,'Пр. №1.2.'!$E:$E,'Пр. №3'!$G184)","v":0},{"$error":"#VALUE!"},{"$error":"#VALUE!"}]
[{"$f":"ROW()","v":185},129,"Ввод данных",{"$error":"#N/A"},{"$f":"INDEX('Пр. №2'!$1:$1048576,MATCH('Пр. №3'!$F185,'Пр. №2'!$D:$D,0),COLUMN('Пр. №2'!$C$5))","v":{"$error":"#N/A"}},null,null,null,null,null,null,null,null,null,null,null,null,null,null,null,null,null,null,null,null,null,null,null,null,null,null,null,null,null,null,null,null,null,null,null,null,null,null,null,null,null,null,null,null,null,null,null,null,null,null,null,null,null,null,null,null,null,null,null,null,null,null,null,0,null,{"$f":"IFERROR(INDEX(справочник!$G$1:$I$7,MATCH($BV185,справочник!$G$1:$G$7,0),3),\"---\")","v":"---"},{"$f":"IFERROR(INDEX('Пр. №1'!$B$11:$C$34,MATCH(BS185,'Пр. №1'!$B$11:$B$34,0),2),\"---\")","v":"---"},{"$f":"IFERROR(INDEX('Состав ВТК-ВРГ'!$1:$1048576,MATCH($G185,'Состав ВТК-ВРГ'!$B:$B,0),MATCH(BU$6,'Состав ВТК-ВРГ'!$3:$3,0)),\"---\")","v":"---"},{"$f":"IFERROR(INDEX('Состав ВТК-ВРГ'!$1:$1048576,MATCH($G185,'Состав ВТК-ВРГ'!$B:$B,0),MATCH(BV$6,'Состав ВТК-ВРГ'!$3:$3,0)),\"---\")","v":"---"},{"$f":"IFERROR(INDEX(справочник!$G$1:$I$7,MATCH($BV185,справочник!$G$1:$G$7,0),2),\"---\")","v":"---"},{"$f":"IFERROR(INDEX('Состав ВТК-ВРГ'!$1:$1048576,MATCH($G185,'Состав ВТК-ВРГ'!$B:$B,0),MATCH(BX$6,'Состав ВТК-ВРГ'!$3:$3,0)),\"---\")","v":"---"},{"$f":"IFERROR(INDEX('Пр. №4'!$1:$1048576,MATCH(BX185,'Пр. №4'!$C:$C,0),MATCH('Пр. №3'!$D$5,'Пр. №4'!$9:$9,0)),\"---\")","v":"---"},{"$f":"SUMIFS('Пр. №1.2.'!$L:$L,'Пр. №1.2.'!$B:$B,'Пр. №3'!$D185,'Пр. №1.2.'!$E:$E,'Пр. №3'!$G185)","v":0},{"$error":"#VALUE!"},{"$error":"#VALUE!"}]
[{"$f":"ROW()","v":186},130,"Ввод данных",{"$error":"#N/A"},{"$f":"INDEX('Пр. №2'!$1:$1048576,MATCH('Пр. №3'!$F186,'Пр. №2'!$D:$D,0),COLUMN('Пр. №2'!$C$5))","v":{"$error":"#N/A"}},null,null,null,null,null,null,null,null,null,null,null,null,null,null,null,null,null,null,null,null,null,null,null,null,null,null,null,null,null,null,null,null,null,null,null,null,null,null,null,null,null,null,null,null,null,null,null,null,null,null,null,null,null,null,null,null,null,null,null,null,null,null,null,0,null,{"$f":"IFERROR(INDEX(справочник!$G$1:$I$7,MATCH($BV186,справочник!$G$1:$G$7,0),3),\"---\")","v":"---"},{"$f":"IFERROR(INDEX('Пр. №1'!$B$11:$C$34,MATCH(BS186,'Пр. №1'!$B$11:$B$34,0),2),\"---\")","v":"---"},{"$f":"IFERROR(INDEX('Состав ВТК-ВРГ'!$1:$1048576,MATCH($G186,'Состав ВТК-ВРГ'!$B:$B,0),MATCH(BU$6,'Состав ВТК-ВРГ'!$3:$3,0)),\"---\")","v":"---"},{"$f":"IFERROR(INDEX('Состав ВТК-ВРГ'!$1:$1048576,MATCH($G186,'Состав ВТК-ВРГ'!$B:$B,0),MATCH(BV$6,'Состав ВТК-ВРГ'!$3:$3,0)),\"---\")","v":"---"},{"$f":"IFERROR(INDEX(справочник!$G$1:$I$7,MATCH($BV186,справочник!$G$1:$G$7,0),2),\"---\")","v":"---"},{"$f":"IFERROR(INDEX('Состав ВТК-ВРГ'!$1:$1048576,MATCH($G186,'Состав ВТК-ВРГ'!$B:$B,0),MATCH(BX$6,'Состав ВТК-ВРГ'!$3:$3,0)),\"---\")","v":"---"},{"$f":"IFERROR(INDEX('Пр. №4'!$1:$1048576,MATCH(BX186,'Пр. №4'!$C:$C,0),MATCH('Пр. №3'!$D$5,'Пр. №4'!$9:$9,0)),\"---\")","v":"---"},{"$f":"SUMIFS('Пр. №1.2.'!$L:$L,'Пр. №1.2.'!$B:$B,'Пр. №3'!$D186,'Пр. №1.2.'!$E:$E,'Пр. №3'!$G186)","v":0},{"$error":"#VALUE!"},{"$error":"#VALUE!"}]
[{"$f":"ROW()","v":187},131,"Ввод данных",{"$error":"#N/A"},{"$f":"INDEX('Пр. №2'!$1:$1048576,MATCH('Пр. №3'!$F187,'Пр. №2'!$D:$D,0),COLUMN('Пр. №2'!$C$5))","v":{"$error":"#N/A"}},null,null,null,null,null,null,null,null,null,null,null,null,null,null,null,null,null,null,null,null,null,null,null,null,null,null,null,null,null,null,null,null,null,null,null,null,null,null,null,null,null,null,null,null,null,null,null,null,null,null,null,null,null,null,null,null,null,null,null,null,null,null,null,0,null,{"$f":"IFERROR(INDEX(справочник!$G$1:$I$7,MATCH($BV187,справочник!$G$1:$G$7,0),3),\"---\")","v":"---"},{"$f":"IFERROR(INDEX('Пр. №1'!$B$11:$C$34,MATCH(BS187,'Пр. №1'!$B$11:$B$34,0),2),\"---\")","v":"---"},{"$f":"IFERROR(INDEX('Состав ВТК-ВРГ'!$1:$1048576,MATCH($G187,'Состав ВТК-ВРГ'!$B:$B,0),MATCH(BU$6,'Состав ВТК-ВРГ'!$3:$3,0)),\"---\")","v":"---"},{"$f":"IFERROR(INDEX('Состав ВТК-ВРГ'!$1:$1048576,MATCH($G187,'Состав ВТК-ВРГ'!$B:$B,0),MATCH(BV$6,'Состав ВТК-ВРГ'!$3:$3,0)),\"---\")","v":"---"},{"$f":"IFERROR(INDEX(справочник!$G$1:$I$7,MATCH($BV187,справочник!$G$1:$G$7,0),2),\"---\")","v":"---"},{"$f":"IFERROR(INDEX('Состав ВТК-ВРГ'!$1:$1048576,MATCH($G187,'Состав ВТК-ВРГ'!$B:$B,0),MATCH(BX$6,'Состав ВТК-ВРГ'!$3:$3,0)),\"---\")","v":"---"},{"$f":"IFERROR(INDEX('Пр. №4'!$1:$1048576,MATCH(BX187,'Пр. №4'!$C:$C,0),MATCH('Пр. №3'!$D$5,'Пр. №4'!$9:$9,0)),\"---\")","v":"---"},{"$f":"SUMIFS('Пр. №1.2.'!$L:$L,'Пр. №1.2.'!$B:$B,'Пр. №3'!$D187,'Пр. №1.2.'!$E:$E,'Пр. №3'!$G187)","v":0},{"$error":"#VALUE!"},{"$error":"#VALUE!"}]
[{"$f":"ROW()","v":188},132,"Ввод данных",{"$error":"#N/A"},{"$f":"INDEX('Пр. №2'!$1:$1048576,MATCH('Пр. №3'!$F188,'Пр. №2'!$D:$D,0),COLUMN('Пр. №2'!$C$5))","v":{"$error":"#N/A"}},null,null,null,null,null,null,null,null,null,null,null,null,null,null,null,null,null,null,null,null,null,null,null,null,null,null,null,null,null,null,null,null,null,null,null,null,null,null,null,null,null,null,null,null,null,null,null,null,null,null,null,null,null,null,null,null,null,null,null,null,null,null,null,0,null,{"$f":"IFERROR(INDEX(справочник!$G$1:$I$7,MATCH($BV188,справочник!$G$1:$G$7,0),3),\"---\")","v":"---"},{"$f":"IFERROR(INDEX('Пр. №1'!$B$11:$C$34,MATCH(BS188,'Пр. №1'!$B$11:$B$34,0),2),\"---\")","v":"---"},{"$f":"IFERROR(INDEX('Состав ВТК-ВРГ'!$1:$1048576,MATCH($G188,'Состав ВТК-ВРГ'!$B:$B,0),MATCH(BU$6,'Состав ВТК-ВРГ'!$3:$3,0)),\"---\")","v":"---"},{"$f":"IFERROR(INDEX('Состав ВТК-ВРГ'!$1:$1048576,MATCH($G188,'Состав ВТК-ВРГ'!$B:$B,0),MATCH(BV$6,'Состав ВТК-ВРГ'!$3:$3,0)),\"---\")","v":"---"},{"$f":"IFERROR(INDEX(справочник!$G$1:$I$7,MATCH($BV188,справочник!$G$1:$G$7,0),2),\"---\")","v":"---"},{"$f":"IFERROR(INDEX('Состав ВТК-ВРГ'!$1:$1048576,MATCH($G188,'Состав ВТК-ВРГ'!$B:$B,0),MATCH(BX$6,'Состав ВТК-ВРГ'!$3:$3,0)),\"---\")","v":"---"},{"$f":"IFERROR(INDEX('Пр. №4'!$1:$1048576,MATCH(BX188,'Пр. №4'!$C:$C,0),MATCH('Пр. №3'!$D$5,'Пр. №4'!$9:$9,0)),\"---\")","v":"---"},{"$f":"SUMIFS('Пр. №1.2.'!$L:$L,'Пр. №1.2.'!$B:$B,'Пр. №3'!$D188,'Пр. №1.2.'!$E:$E,'Пр. №3'!$G188)","v":0},{"$error":"#VALUE!"},{"$error":"#VALUE!"}]
[{"$f":"ROW()","v":189},133,"Ввод данных",{"$error":"#N/A"},{"$f":"INDEX('Пр. №2'!$1:$1048576,MATCH('Пр. №3'!$F189,'Пр. №2'!$D:$D,0),COLUMN('Пр. №2'!$C$5))","v":{"$error":"#N/A"}},null,null,null,null,null,null,null,null,null,null,null,null,null,null,null,null,null,null,null,null,null,null,null,null,null,null,null,null,null,null,null,null,null,null,null,null,null,null,null,null,null,null,null,null,null,null,null,null,null,null,null,null,null,null,null,null,null,null,null,null,null,null,null,0,null,{"$f":"IFERROR(INDEX(справочник!$G$1:$I$7,MATCH($BV189,справочник!$G$1:$G$7,0),3),\"---\")","v":"---"},{"$f":"IFERROR(INDEX('Пр. №1'!$B$11:$C$34,MATCH(BS189,'Пр. №1'!$B$11:$B$34,0),2),\"---\")","v":"---"},{"$f":"IFERROR(INDEX('Состав ВТК-ВРГ'!$1:$1048576,MATCH($G189,'Состав ВТК-ВРГ'!$B:$B,0),MATCH(BU$6,'Состав ВТК-ВРГ'!$3:$3,0)),\"---\")","v":"---"},{"$f":"IFERROR(INDEX('Состав ВТК-ВРГ'!$1:$1048576,MATCH($G189,'Состав ВТК-ВРГ'!$B:$B,0),MATCH(BV$6,'Состав ВТК-ВРГ'!$3:$3,0)),\"---\")","v":"---"},{"$f":"IFERROR(INDEX(справочник!$G$1:$I$7,MATCH($BV189,справочник!$G$1:$G$7,0),2),\"---\")","v":"---"},{"$f":"IFERROR(INDEX('Состав ВТК-ВРГ'!$1:$1048576,MATCH($G189,'Состав ВТК-ВРГ'!$B:$B,0),MATCH(BX$6,'Состав ВТК-ВРГ'!$3:$3,0)),\"---\")","v":"---"},{"$f":"IFERROR(INDEX('Пр. №4'!$1:$1048576,MATCH(BX189,'Пр. №4'!$C:$C,0),MATCH('Пр. №3'!$D$5,'Пр. №4'!$9:$9,0)),\"---\")","v":"---"},{"$f":"SUMIFS('Пр. №1.2.'!$L:$L,'Пр. №1.2.'!$B:$B,'Пр. №3'!$D189,'Пр. №1.2.'!$E:$E,'Пр. №3'!$G189)","v":0},{"$error":"#VALUE!"},{"$error":"#VALUE!"}]
[{"$f":"ROW()","v":190},134,"Ввод данных",{"$f":"INDEX($D$22:$E$35,MATCH(E190,$E$22:$E$35,0),1)","v":{"$error":"#N/A"}},{"$f":"INDEX('Пр. №2'!$1:$1048576,MATCH('Пр. №3'!$F190,'Пр. №2'!$D:$D,0),COLUMN('Пр. №2'!$C$5))","v":{"$error":"#N/A"}},null,null,null,null,null,null,null,null,null,null,null,null,null,null,null,null,null,null,null,null,null,null,null,null,null,null,null,null,null,null,null,null,null,null,null,null,null,null,null,null,null,null,null,null,null,null,null,null,null,null,null,null,null,null,null,null,null,null,null,null,null,null,null,{"$f":"SUM(H190:BP190)","v":0},null,{"$f":"IFERROR(INDEX(справочник!$G$1:$I$7,MATCH($BV190,справочник!$G$1:$G$7,0),3),\"---\")","v":"---"},{"$f":"IFERROR(INDEX('Пр. №1'!$B$11:$C$34,MATCH(BS190,'Пр. №1'!$B$11:$B$34,0),2),\"---\")","v":"---"},{"$f":"IFERROR(INDEX('Состав ВТК-ВРГ'!$1:$1048576,MATCH($G190,'Состав ВТК-ВРГ'!$B:$B,0),MATCH(BU$6,'Состав ВТК-ВРГ'!$3:$3,0)),\"---\")","v":"---"},{"$f":"IFERROR(INDEX('Состав ВТК-ВРГ'!$1:$1048576,MATCH($G190,'Состав ВТК-ВРГ'!$B:$B,0),MATCH(BV$6,'Состав ВТК-ВРГ'!$3:$3,0)),\"---\")","v":"---"},{"$f":"IFERROR(INDEX(справочник!$G$1:$I$7,MATCH($BV190,справочник!$G$1:$G$7,0),2),\"---\")","v":"---"},{"$f":"IFERROR(INDEX('Состав ВТК-ВРГ'!$1:$1048576,MATCH($G190,'Состав ВТК-ВРГ'!$B:$B,0),MATCH(BX$6,'Состав ВТК-ВРГ'!$3:$3,0)),\"---\")","v":"---"},{"$f":"IFERROR(INDEX('Пр. №4'!$1:$1048576,MATCH(BX190,'Пр. №4'!$C:$C,0),MATCH('Пр. №3'!$D$5,'Пр. №4'!$9:$9,0)),\"---\")","v":"---"},{"$f":"SUMIFS('Пр. №1.2.'!$L:$L,'Пр. №1.2.'!$B:$B,'Пр. №3'!$D190,'Пр. №1.2.'!$E:$E,'Пр. №3'!$G190)","v":0},{"$f":"BY190*BZ190","v":{"$error":"#VALUE!"}},{"$f":"BQ190*BZ190*BY190","v":{"$error":"#VALUE!"}}]
[{"$f":"ROW()","v":191},135,"Ввод данных",{"$error":"#N/A"},{"$f":"INDEX('Пр. №2'!$1:$1048576,MATCH('Пр. №3'!$F191,'Пр. №2'!$D:$D,0),COLUMN('Пр. №2'!$C$5))","v":{"$error":"#N/A"}},null,null,null,null,null,null,null,null,null,null,null,null,null,null,null,null,null,null,null,null,null,null,null,null,null,null,null,null,null,null,null,null,null,null,null,null,null,null,null,null,null,null,null,null,null,null,null,null,null,null,null,null,null,null,null,null,null,null,null,null,null,null,null,0,null,{"$f":"IFERROR(INDEX(справочник!$G$1:$I$7,MATCH($BV191,справочник!$G$1:$G$7,0),3),\"---\")","v":"---"},{"$f":"IFERROR(INDEX('Пр. №1'!$B$11:$C$34,MATCH(BS191,'Пр. №1'!$B$11:$B$34,0),2),\"---\")","v":"---"},{"$f":"IFERROR(INDEX('Состав ВТК-ВРГ'!$1:$1048576,MATCH($G191,'Состав ВТК-ВРГ'!$B:$B,0),MATCH(BU$6,'Состав ВТК-ВРГ'!$3:$3,0)),\"---\")","v":"---"},{"$f":"IFERROR(INDEX('Состав ВТК-ВРГ'!$1:$1048576,MATCH($G191,'Состав ВТК-ВРГ'!$B:$B,0),MATCH(BV$6,'Состав ВТК-ВРГ'!$3:$3,0)),\"---\")","v":"---"},{"$f":"IFERROR(INDEX(справочник!$G$1:$I$7,MATCH($BV191,справочник!$G$1:$G$7,0),2),\"---\")","v":"---"},{"$f":"IFERROR(INDEX('Состав ВТК-ВРГ'!$1:$1048576,MATCH($G191,'Состав ВТК-ВРГ'!$B:$B,0),MATCH(BX$6,'Состав ВТК-ВРГ'!$3:$3,0)),\"---\")","v":"---"},{"$f":"IFERROR(INDEX('Пр. №4'!$1:$1048576,MATCH(BX191,'Пр. №4'!$C:$C,0),MATCH('Пр. №3'!$D$5,'Пр. №4'!$9:$9,0)),\"---\")","v":"---"},{"$f":"SUMIFS('Пр. №1.2.'!$L:$L,'Пр. №1.2.'!$B:$B,'Пр. №3'!$D191,'Пр. №1.2.'!$E:$E,'Пр. №3'!$G191)","v":0},{"$error":"#VALUE!"},{"$error":"#VALUE!"}]
[{"$f":"ROW()","v":192},136,"Ввод данных",{"$error":"#N/A"},{"$f":"INDEX('Пр. №2'!$1:$1048576,MATCH('Пр. №3'!$F192,'Пр. №2'!$D:$D,0),COLUMN('Пр. №2'!$C$5))","v":{"$error":"#N/A"}},null,null,null,null,null,null,null,null,null,null,null,null,null,null,null,null,null,null,null,null,null,null,null,null,null,null,null,null,null,null,null,null,null,null,null,null,null,null,null,null,null,null,null,null,null,null,null,null,null,null,null,null,null,null,null,null,null,null,null,null,null,null,null,0,null,{"$f":"IFERROR(INDEX(справочник!$G$1:$I$7,MATCH($BV192,справочник!$G$1:$G$7,0),3),\"---\")","v":"---"},{"$f":"IFERROR(INDEX('Пр. №1'!$B$11:$C$34,MATCH(BS192,'Пр. №1'!$B$11:$B$34,0),2),\"---\")","v":"---"},{"$f":"IFERROR(INDEX('Состав ВТК-ВРГ'!$1:$1048576,MATCH($G192,'Состав ВТК-ВРГ'!$B:$B,0),MATCH(BU$6,'Состав ВТК-ВРГ'!$3:$3,0)),\"---\")","v":"---"},{"$f":"IFERROR(INDEX('Состав ВТК-ВРГ'!$1:$1048576,MATCH($G192,'Состав ВТК-ВРГ'!$B:$B,0),MATCH(BV$6,'Состав ВТК-ВРГ'!$3:$3,0)),\"---\")","v":"---"},{"$f":"IFERROR(INDEX(справочник!$G$1:$I$7,MATCH($BV192,справочник!$G$1:$G$7,0),2),\"---\")","v":"---"},{"$f":"IFERROR(INDEX('Состав ВТК-ВРГ'!$1:$1048576,MATCH($G192,'Состав ВТК-ВРГ'!$B:$B,0),MATCH(BX$6,'Состав ВТК-ВРГ'!$3:$3,0)),\"---\")","v":"---"},{"$f":"IFERROR(INDEX('Пр. №4'!$1:$1048576,MATCH(BX192,'Пр. №4'!$C:$C,0),MATCH('Пр. №3'!$D$5,'Пр. №4'!$9:$9,0)),\"---\")","v":"---"},{"$f":"SUMIFS('Пр. №1.2.'!$L:$L,'Пр. №1.2.'!$B:$B,'Пр. №3'!$D192,'Пр. №1.2.'!$E:$E,'Пр. №3'!$G192)","v":0},{"$error":"#VALUE!"},{"$error":"#VALUE!"}]
[{"$f":"ROW()","v":193},137,"Ввод данных",{"$error":"#N/A"},{"$f":"INDEX('Пр. №2'!$1:$1048576,MATCH('Пр. №3'!$F193,'Пр. №2'!$D:$D,0),COLUMN('Пр. №2'!$C$5))","v":{"$error":"#N/A"}},null,null,null,null,null,null,null,null,null,null,null,null,null,null,null,null,null,null,null,null,null,null,null,null,null,null,null,null,null,null,null,null,null,null,null,null,null,null,null,null,null,null,null,null,null,null,null,null,null,null,null,null,null,null,null,null,null,null,null,null,null,null,null,0,null,{"$f":"IFERROR(INDEX(справочник!$G$1:$I$7,MATCH($BV193,справочник!$G$1:$G$7,0),3),\"---\")","v":"---"},{"$f":"IFERROR(INDEX('Пр. №1'!$B$11:$C$34,MATCH(BS193,'Пр. №1'!$B$11:$B$34,0),2),\"---\")","v":"---"},{"$f":"IFERROR(INDEX('Состав ВТК-ВРГ'!$1:$1048576,MATCH($G193,'Состав ВТК-ВРГ'!$B:$B,0),MATCH(BU$6,'Состав ВТК-ВРГ'!$3:$3,0)),\"---\")","v":"---"},{"$f":"IFERROR(INDEX('Состав ВТК-ВРГ'!$1:$1048576,MATCH($G193,'Состав ВТК-ВРГ'!$B:$B,0),MATCH(BV$6,'Состав ВТК-ВРГ'!$3:$3,0)),\"---\")","v":"---"},{"$f":"IFERROR(INDEX(справочник!$G$1:$I$7,MATCH($BV193,справочник!$G$1:$G$7,0),2),\"---\")","v":"---"},{"$f":"IFERROR(INDEX('Состав ВТК-ВРГ'!$1:$1048576,MATCH($G193,'Состав ВТК-ВРГ'!$B:$B,0),MATCH(BX$6,'Состав ВТК-ВРГ'!$3:$3,0)),\"---\")","v":"---"},{"$f":"IFERROR(INDEX('Пр. №4'!$1:$1048576,MATCH(BX193,'Пр. №4'!$C:$C,0),MATCH('Пр. №3'!$D$5,'Пр. №4'!$9:$9,0)),\"---\")","v":"---"},{"$f":"SUMIFS('Пр. №1.2.'!$L:$L,'Пр. №1.2.'!$B:$B,'Пр. №3'!$D193,'Пр. №1.2.'!$E:$E,'Пр. №3'!$G193)","v":0},{"$error":"#VALUE!"},{"$error":"#VALUE!"}]
[{"$f":"ROW()","v":194},138,"Ввод данных",{"$error":"#N/A"},{"$f":"INDEX('Пр. №2'!$1:$1048576,MATCH('Пр. №3'!$F194,'Пр. №2'!$D:$D,0),COLUMN('Пр. №2'!$C$5))","v":{"$error":"#N/A"}},null,null,null,null,null,null,null,null,null,null,null,null,null,null,null,null,null,null,null,null,null,null,null,null,null,null,null,null,null,null,null,null,null,null,null,null,null,null,null,null,null,null,null,null,null,null,null,null,null,null,null,null,null,null,null,null,null,null,null,null,null,null,null,0,null,{"$f":"IFERROR(INDEX(справочник!$G$1:$I$7,MATCH($BV194,справочник!$G$1:$G$7,0),3),\"---\")","v":"---"},{"$f":"IFERROR(INDEX('Пр. №1'!$B$11:$C$34,MATCH(BS194,'Пр. №1'!$B$11:$B$34,0),2),\"---\")","v":"---"},{"$f":"IFERROR(INDEX('Состав ВТК-ВРГ'!$1:$1048576,MATCH($G194,'Состав ВТК-ВРГ'!$B:$B,0),MATCH(BU$6,'Состав ВТК-ВРГ'!$3:$3,0)),\"---\")","v":"---"},{"$f":"IFERROR(INDEX('Состав ВТК-ВРГ'!$1:$1048576,MATCH($G194,'Состав ВТК-ВРГ'!$B:$B,0),MATCH(BV$6,'Состав ВТК-ВРГ'!$3:$3,0)),\"---\")","v":"---"},{"$f":"IFERROR(INDEX(справочник!$G$1:$I$7,MATCH($BV194,справочник!$G$1:$G$7,0),2),\"---\")","v":"---"},{"$f":"IFERROR(INDEX('Состав ВТК-ВРГ'!$1:$1048576,MATCH($G194,'Состав ВТК-ВРГ'!$B:$B,0),MATCH(BX$6,'Состав ВТК-ВРГ'!$3:$3,0)),\"---\")","v":"---"},{"$f":"IFERROR(INDEX('Пр. №4'!$1:$1048576,MATCH(BX194,'Пр. №4'!$C:$C,0),MATCH('Пр. №3'!$D$5,'Пр. №4'!$9:$9,0)),\"---\")","v":"---"},{"$f":"SUMIFS('Пр. №1.2.'!$L:$L,'Пр. №1.2.'!$B:$B,'Пр. №3'!$D194,'Пр. №1.2.'!$E:$E,'Пр. №3'!$G194)","v":0},{"$error":"#VALUE!"},{"$error":"#VALUE!"}]
[{"$f":"ROW()","v":195},139,"Ввод данных",{"$error":"#N/A"},{"$f":"INDEX('Пр. №2'!$1:$1048576,MATCH('Пр. №3'!$F195,'Пр. №2'!$D:$D,0),COLUMN('Пр. №2'!$C$5))","v":{"$error":"#N/A"}},null,null,null,null,null,null,null,null,null,null,null,null,null,null,null,null,null,null,null,null,null,null,null,null,null,null,null,null,null,null,null,null,null,null,null,null,null,null,null,null,null,null,null,null,null,null,null,null,null,null,null,null,null,null,null,null,null,null,null,null,null,null,null,0,null,{"$f":"IFERROR(INDEX(справочник!$G$1:$I$7,MATCH($BV195,справочник!$G$1:$G$7,0),3),\"---\")","v":"---"},{"$f":"IFERROR(INDEX('Пр. №1'!$B$11:$C$34,MATCH(BS195,'Пр. №1'!$B$11:$B$34,0),2),\"---\")","v":"---"},{"$f":"IFERROR(INDEX('Состав ВТК-ВРГ'!$1:$1048576,MATCH($G195,'Состав ВТК-ВРГ'!$B:$B,0),MATCH(BU$6,'Состав ВТК-ВРГ'!$3:$3,0)),\"---\")","v":"---"},{"$f":"IFERROR(INDEX('Состав ВТК-ВРГ'!$1:$1048576,MATCH($G195,'Состав ВТК-ВРГ'!$B:$B,0),MATCH(BV$6,'Состав ВТК-ВРГ'!$3:$3,0)),\"---\")","v":"---"},{"$f":"IFERROR(INDEX(справочник!$G$1:$I$7,MATCH($BV195,справочник!$G$1:$G$7,0),2),\"---\")","v":"---"},{"$f":"IFERROR(INDEX('Состав ВТК-ВРГ'!$1:$1048576,MATCH($G195,'Состав ВТК-ВРГ'!$B:$B,0),MATCH(BX$6,'Состав ВТК-ВРГ'!$3:$3,0)),\"---\")","v":"---"},{"$f":"IFERROR(INDEX('Пр. №4'!$1:$1048576,MATCH(BX195,'Пр. №4'!$C:$C,0),MATCH('Пр. №3'!$D$5,'Пр. №4'!$9:$9,0)),\"---\")","v":"---"},{"$f":"SUMIFS('Пр. №1.2.'!$L:$L,'Пр. №1.2.'!$B:$B,'Пр. №3'!$D195,'Пр. №1.2.'!$E:$E,'Пр. №3'!$G195)","v":0},{"$error":"#VALUE!"},{"$error":"#VALUE!"}]
[{"$f":"ROW()","v":196},140,"Ввод данных",{"$error":"#N/A"},{"$f":"INDEX('Пр. №2'!$1:$1048576,MATCH('Пр. №3'!$F196,'Пр. №2'!$D:$D,0),COLUMN('Пр. №2'!$C$5))","v":{"$error":"#N/A"}},null,null,null,null,null,null,null,null,null,null,null,null,null,null,null,null,null,null,null,null,null,null,null,null,null,null,null,null,null,null,null,null,null,null,null,null,null,null,null,null,null,null,null,null,null,null,null,null,null,null,null,null,null,null,null,null,null,null,null,null,null,null,null,0,null,{"$f":"IFERROR(INDEX(справочник!$G$1:$I$7,MATCH($BV196,справочник!$G$1:$G$7,0),3),\"---\")","v":"---"},{"$f":"IFERROR(INDEX('Пр. №1'!$B$11:$C$34,MATCH(BS196,'Пр. №1'!$B$11:$B$34,0),2),\"---\")","v":"---"},{"$f":"IFERROR(INDEX('Состав ВТК-ВРГ'!$1:$1048576,MATCH($G196,'Состав ВТК-ВРГ'!$B:$B,0),MATCH(BU$6,'Состав ВТК-ВРГ'!$3:$3,0)),\"---\")","v":"---"},{"$f":"IFERROR(INDEX('Состав ВТК-ВРГ'!$1:$1048576,MATCH($G196,'Состав ВТК-ВРГ'!$B:$B,0),MATCH(BV$6,'Состав ВТК-ВРГ'!$3:$3,0)),\"---\")","v":"---"},{"$f":"IFERROR(INDEX(справочник!$G$1:$I$7,MATCH($BV196,справочник!$G$1:$G$7,0),2),\"---\")","v":"---"},{"$f":"IFERROR(INDEX('Состав ВТК-ВРГ'!$1:$1048576,MATCH($G196,'Состав ВТК-ВРГ'!$B:$B,0),MATCH(BX$6,'Состав ВТК-ВРГ'!$3:$3,0)),\"---\")","v":"---"},{"$f":"IFERROR(INDEX('Пр. №4'!$1:$1048576,MATCH(BX196,'Пр. №4'!$C:$C,0),MATCH('Пр. №3'!$D$5,'Пр. №4'!$9:$9,0)),\"---\")","v":"---"},{"$f":"SUMIFS('Пр. №1.2.'!$L:$L,'Пр. №1.2.'!$B:$B,'Пр. №3'!$D196,'Пр. №1.2.'!$E:$E,'Пр. №3'!$G196)","v":0},{"$error":"#VALUE!"},{"$error":"#VALUE!"}]
[{"$f":"ROW()","v":197},141,"Ввод данных",{"$error":"#N/A"},{"$f":"INDEX('Пр. №2'!$1:$1048576,MATCH('Пр. №3'!$F197,'Пр. №2'!$D:$D,0),COLUMN('Пр. №2'!$C$5))","v":{"$error":"#N/A"}},null,null,null,null,null,null,null,null,null,null,null,null,null,null,null,null,null,null,null,null,null,null,null,null,null,null,null,null,null,null,null,null,null,null,null,null,null,null,null,null,null,null,null,null,null,null,null,null,null,null,null,null,null,null,null,null,null,null,null,null,null,null,null,0,null,{"$f":"IFERROR(INDEX(справочник!$G$1:$I$7,MATCH($BV197,справочник!$G$1:$G$7,0),3),\"---\")","v":"---"},{"$f":"IFERROR(INDEX('Пр. №1'!$B$11:$C$34,MATCH(BS197,'Пр. №1'!$B$11:$B$34,0),2),\"---\")","v":"---"},{"$f":"IFERROR(INDEX('Состав ВТК-ВРГ'!$1:$1048576,MATCH($G197,'Состав ВТК-ВРГ'!$B:$B,0),MATCH(BU$6,'Состав ВТК-ВРГ'!$3:$3,0)),\"---\")","v":"---"},{"$f":"IFERROR(INDEX('Состав ВТК-ВРГ'!$1:$1048576,MATCH($G197,'Состав ВТК-ВРГ'!$B:$B,0),MATCH(BV$6,'Состав ВТК-ВРГ'!$3:$3,0)),\"---\")","v":"---"},{"$f":"IFERROR(INDEX(справочник!$G$1:$I$7,MATCH($BV197,справочник!$G$1:$G$7,0),2),\"---\")","v":"---"},{"$f":"IFERROR(INDEX('Состав ВТК-ВРГ'!$1:$1048576,MATCH($G197,'Состав ВТК-ВРГ'!$B:$B,0),MATCH(BX$6,'Состав ВТК-ВРГ'!$3:$3,0)),\"---\")","v":"---"},{"$f":"IFERROR(INDEX('Пр. №4'!$1:$1048576,MATCH(BX197,'Пр. №4'!$C:$C,0),MATCH('Пр. №3'!$D$5,'Пр. №4'!$9:$9,0)),\"---\")","v":"---"},{"$f":"SUMIFS('Пр. №1.2.'!$L:$L,'Пр. №1.2.'!$B:$B,'Пр. №3'!$D197,'Пр. №1.2.'!$E:$E,'Пр. №3'!$G197)","v":0},{"$error":"#VALUE!"},{"$error":"#VALUE!"}]
[{"$f":"ROW()","v":198},142,"Ввод данных",{"$error":"#N/A"},{"$f":"INDEX('Пр. №2'!$1:$1048576,MATCH('Пр. №3'!$F198,'Пр. №2'!$D:$D,0),COLUMN('Пр. №2'!$C$5))","v":{"$error":"#N/A"}},null,null,null,null,null,null,null,null,null,null,null,null,null,null,null,null,null,null,null,null,null,null,null,null,null,null,null,null,null,null,null,null,null,null,null,null,null,null,null,null,null,null,null,null,null,null,null,null,null,null,null,null,null,null,null,null,null,null,null,null,null,null,null,0,null,{"$f":"IFERROR(INDEX(справочник!$G$1:$I$7,MATCH($BV198,справочник!$G$1:$G$7,0),3),\"---\")","v":"---"},{"$f":"IFERROR(INDEX('Пр. №1'!$B$11:$C$34,MATCH(BS198,'Пр. №1'!$B$11:$B$34,0),2),\"---\")","v":"---"},{"$f":"IFERROR(INDEX('Состав ВТК-ВРГ'!$1:$1048576,MATCH($G198,'Состав ВТК-ВРГ'!$B:$B,0),MATCH(BU$6,'Состав ВТК-ВРГ'!$3:$3,0)),\"---\")","v":"---"},{"$f":"IFERROR(INDEX('Состав ВТК-ВРГ'!$1:$1048576,MATCH($G198,'Состав ВТК-ВРГ'!$B:$B,0),MATCH(BV$6,'Состав ВТК-ВРГ'!$3:$3,0)),\"---\")","v":"---"},{"$f":"IFERROR(INDEX(справочник!$G$1:$I$7,MATCH($BV198,справочник!$G$1:$G$7,0),2),\"---\")","v":"---"},{"$f":"IFERROR(INDEX('Состав ВТК-ВРГ'!$1:$1048576,MATCH($G198,'Состав ВТК-ВРГ'!$B:$B,0),MATCH(BX$6,'Состав ВТК-ВРГ'!$3:$3,0)),\"---\")","v":"---"},{"$f":"IFERROR(INDEX('Пр. №4'!$1:$1048576,MATCH(BX198,'Пр. №4'!$C:$C,0),MATCH('Пр. №3'!$D$5,'Пр. №4'!$9:$9,0)),\"---\")","v":"---"},{"$f":"SUMIFS('Пр. №1.2.'!$L:$L,'Пр. №1.2.'!$B:$B,'Пр. №3'!$D198,'Пр. №1.2.'!$E:$E,'Пр. №3'!$G198)","v":0},{"$error":"#VALUE!"},{"$error":"#VALUE!"}]
[{"$f":"ROW()","v":199},143,"Ввод данных",{"$error":"#N/A"},{"$f":"INDEX('Пр. №2'!$1:$1048576,MATCH('Пр. №3'!$F199,'Пр. №2'!$D:$D,0),COLUMN('Пр. №2'!$C$5))","v":{"$error":"#N/A"}},null,null,null,null,null,null,null,null,null,null,null,null,null,null,null,null,null,null,null,null,null,null,null,null,null,null,null,null,null,null,null,null,null,null,null,null,null,null,null,null,null,null,null,null,null,null,null,null,null,null,null,null,null,null,null,null,null,null,null,null,null,null,null,0,null,{"$f":"IFERROR(INDEX(справочник!$G$1:$I$7,MATCH($BV199,справочник!$G$1:$G$7,0),3),\"---\")","v":"---"},{"$f":"IFERROR(INDEX('Пр. №1'!$B$11:$C$34,MATCH(BS199,'Пр. №1'!$B$11:$B$34,0),2),\"---\")","v":"---"},{"$f":"IFERROR(INDEX('Состав ВТК-ВРГ'!$1:$1048576,MATCH($G199,'Состав ВТК-ВРГ'!$B:$B,0),MATCH(BU$6,'Состав ВТК-ВРГ'!$3:$3,0)),\"---\")","v":"---"},{"$f":"IFERROR(INDEX('Состав ВТК-ВРГ'!$1:$1048576,MATCH($G199,'Состав ВТК-ВРГ'!$B:$B,0),MATCH(BV$6,'Состав ВТК-ВРГ'!$3:$3,0)),\"---\")","v":"---"},{"$f":"IFERROR(INDEX(справочник!$G$1:$I$7,MATCH($BV199,справочник!$G$1:$G$7,0),2),\"---\")","v":"---"},{"$f":"IFERROR(INDEX('Состав ВТК-ВРГ'!$1:$1048576,MATCH($G199,'Состав ВТК-ВРГ'!$B:$B,0),MATCH(BX$6,'Состав ВТК-ВРГ'!$3:$3,0)),\"---\")","v":"---"},{"$f":"IFERROR(INDEX('Пр. №4'!$1:$1048576,MATCH(BX199,'Пр. №4'!$C:$C,0),MATCH('Пр. №3'!$D$5,'Пр. №4'!$9:$9,0)),\"---\")","v":"---"},{"$f":"SUMIFS('Пр. №1.2.'!$L:$L,'Пр. №1.2.'!$B:$B,'Пр. №3'!$D199,'Пр. №1.2.'!$E:$E,'Пр. №3'!$G199)","v":0},{"$error":"#VALUE!"},{"$error":"#VALUE!"}]
[{"$f":"ROW()","v":200},144,"Ввод данных",{"$error":"#N/A"},{"$f":"INDEX('Пр. №2'!$1:$1048576,MATCH('Пр. №3'!$F200,'Пр. №2'!$D:$D,0),COLUMN('Пр. №2'!$C$5))","v":{"$error":"#N/A"}},null,null,null,null,null,null,null,null,null,null,null,null,null,null,null,null,null,null,null,null,null,null,null,null,null,null,null,null,null,null,null,null,null,null,null,null,null,null,null,null,null,null,null,null,null,null,null,null,null,null,null,null,null,null,null,null,null,null,null,null,null,null,null,0,null,{"$f":"IFERROR(INDEX(справочник!$G$1:$I$7,MATCH($BV200,справочник!$G$1:$G$7,0),3),\"---\")","v":"---"},{"$f":"IFERROR(INDEX('Пр. №1'!$B$11:$C$34,MATCH(BS200,'Пр. №1'!$B$11:$B$34,0),2),\"---\")","v":"---"},{"$f":"IFERROR(INDEX('Состав ВТК-ВРГ'!$1:$1048576,MATCH($G200,'Состав ВТК-ВРГ'!$B:$B,0),MATCH(BU$6,'Состав ВТК-ВРГ'!$3:$3,0)),\"---\")","v":"---"},{"$f":"IFERROR(INDEX('Состав ВТК-ВРГ'!$1:$1048576,MATCH($G200,'Состав ВТК-ВРГ'!$B:$B,0),MATCH(BV$6,'Состав ВТК-ВРГ'!$3:$3,0)),\"---\")","v":"---"},{"$f":"IFERROR(INDEX(справочник!$G$1:$I$7,MATCH($BV200,справочник!$G$1:$G$7,0),2),\"---\")","v":"---"},{"$f":"IFERROR(INDEX('Состав ВТК-ВРГ'!$1:$1048576,MATCH($G200,'Состав ВТК-ВРГ'!$B:$B,0),MATCH(BX$6,'Состав ВТК-ВРГ'!$3:$3,0)),\"---\")","v":"---"},{"$f":"IFERROR(INDEX('Пр. №4'!$1:$1048576,MATCH(BX200,'Пр. №4'!$C:$C,0),MATCH('Пр. №3'!$D$5,'Пр. №4'!$9:$9,0)),\"---\")","v":"---"},{"$f":"SUMIFS('Пр. №1.2.'!$L:$L,'Пр. №1.2.'!$B:$B,'Пр. №3'!$D200,'Пр. №1.2.'!$E:$E,'Пр. №3'!$G200)","v":0},{"$error":"#VALUE!"},{"$error":"#VALUE!"}]
[{"$f":"ROW()","v":201},145,"Ввод данных",{"$error":"#N/A"},{"$f":"INDEX('Пр. №2'!$1:$1048576,MATCH('Пр. №3'!$F201,'Пр. №2'!$D:$D,0),COLUMN('Пр. №2'!$C$5))","v":{"$error":"#N/A"}},null,null,null,null,null,null,null,null,null,null,null,null,null,null,null,null,null,null,null,null,null,null,null,null,null,null,null,null,null,null,null,null,null,null,null,null,null,null,null,null,null,null,null,null,null,null,null,null,null,null,null,null,null,null,null,null,null,null,null,null,null,null,null,0,null,{"$f":"IFERROR(INDEX(справочник!$G$1:$I$7,MATCH($BV201,справочник!$G$1:$G$7,0),3),\"---\")","v":"---"},{"$f":"IFERROR(INDEX('Пр. №1'!$B$11:$C$34,MATCH(BS201,'Пр. №1'!$B$11:$B$34,0),2),\"---\")","v":"---"},{"$f":"IFERROR(INDEX('Состав ВТК-ВРГ'!$1:$1048576,MATCH($G201,'Состав ВТК-ВРГ'!$B:$B,0),MATCH(BU$6,'Состав ВТК-ВРГ'!$3:$3,0)),\"---\")","v":"---"},{"$f":"IFERROR(INDEX('Состав ВТК-ВРГ'!$1:$1048576,MATCH($G201,'Состав ВТК-ВРГ'!$B:$B,0),MATCH(BV$6,'Состав ВТК-ВРГ'!$3:$3,0)),\"---\")","v":"---"},{"$f":"IFERROR(INDEX(справочник!$G$1:$I$7,MATCH($BV201,справочник!$G$1:$G$7,0),2),\"---\")","v":"---"},{"$f":"IFERROR(INDEX('Состав ВТК-ВРГ'!$1:$1048576,MATCH($G201,'Состав ВТК-ВРГ'!$B:$B,0),MATCH(BX$6,'Состав ВТК-ВРГ'!$3:$3,0)),\"---\")","v":"---"},{"$f":"IFERROR(INDEX('Пр. №4'!$1:$1048576,MATCH(BX201,'Пр. №4'!$C:$C,0),MATCH('Пр. №3'!$D$5,'Пр. №4'!$9:$9,0)),\"---\")","v":"---"},{"$f":"SUMIFS('Пр. №1.2.'!$L:$L,'Пр. №1.2.'!$B:$B,'Пр. №3'!$D201,'Пр. №1.2.'!$E:$E,'Пр. №3'!$G201)","v":0},{"$error":"#VALUE!"},{"$error":"#VALUE!"}]
[{"$f":"ROW()","v":202},146,"Ввод данных",{"$error":"#N/A"},{"$f":"INDEX('Пр. №2'!$1:$1048576,MATCH('Пр. №3'!$F202,'Пр. №2'!$D:$D,0),COLUMN('Пр. №2'!$C$5))","v":{"$error":"#N/A"}},null,null,null,null,null,null,null,null,null,null,null,null,null,null,null,null,null,null,null,null,null,null,null,null,null,null,null,null,null,null,null,null,null,null,null,null,null,null,null,null,null,null,null,null,null,null,null,null,null,null,null,null,null,null,null,null,null,null,null,null,null,null,null,0,null,{"$f":"IFERROR(INDEX(справочник!$G$1:$I$7,MATCH($BV202,справочник!$G$1:$G$7,0),3),\"---\")","v":"---"},{"$f":"IFERROR(INDEX('Пр. №1'!$B$11:$C$34,MATCH(BS202,'Пр. №1'!$B$11:$B$34,0),2),\"---\")","v":"---"},{"$f":"IFERROR(INDEX('Состав ВТК-ВРГ'!$1:$1048576,MATCH($G202,'Состав ВТК-ВРГ'!$B:$B,0),MATCH(BU$6,'Состав ВТК-ВРГ'!$3:$3,0)),\"---\")","v":"---"},{"$f":"IFERROR(INDEX('Состав ВТК-ВРГ'!$1:$1048576,MATCH($G202,'Состав ВТК-ВРГ'!$B:$B,0),MATCH(BV$6,'Состав ВТК-ВРГ'!$3:$3,0)),\"---\")","v":"---"},{"$f":"IFERROR(INDEX(справочник!$G$1:$I$7,MATCH($BV202,справочник!$G$1:$G$7,0),2),\"---\")","v":"---"},{"$f":"IFERROR(INDEX('Состав ВТК-ВРГ'!$1:$1048576,MATCH($G202,'Состав ВТК-ВРГ'!$B:$B,0),MATCH(BX$6,'Состав ВТК-ВРГ'!$3:$3,0)),\"---\")","v":"---"},{"$f":"IFERROR(INDEX('Пр. №4'!$1:$1048576,MATCH(BX202,'Пр. №4'!$C:$C,0),MATCH('Пр. №3'!$D$5,'Пр. №4'!$9:$9,0)),\"---\")","v":"---"},{"$f":"SUMIFS('Пр. №1.2.'!$L:$L,'Пр. №1.2.'!$B:$B,'Пр. №3'!$D202,'Пр. №1.2.'!$E:$E,'Пр. №3'!$G202)","v":0},{"$error":"#VALUE!"},{"$error":"#VALUE!"}]
[{"$f":"ROW()","v":203},147,"Ввод данных",{"$error":"#N/A"},{"$f":"INDEX('Пр. №2'!$1:$1048576,MATCH('Пр. №3'!$F203,'Пр. №2'!$D:$D,0),COLUMN('Пр. №2'!$C$5))","v":{"$error":"#N/A"}},null,null,null,null,null,null,null,null,null,null,null,null,null,null,null,null,null,null,null,null,null,null,null,null,null,null,null,null,null,null,null,null,null,null,null,null,null,null,null,null,null,null,null,null,null,null,null,null,null,null,null,null,null,null,null,null,null,null,null,null,null,null,null,0,null,{"$f":"IFERROR(INDEX(справочник!$G$1:$I$7,MATCH($BV203,справочник!$G$1:$G$7,0),3),\"---\")","v":"---"},{"$f":"IFERROR(INDEX('Пр. №1'!$B$11:$C$34,MATCH(BS203,'Пр. №1'!$B$11:$B$34,0),2),\"---\")","v":"---"},{"$f":"IFERROR(INDEX('Состав ВТК-ВРГ'!$1:$1048576,MATCH($G203,'Состав ВТК-ВРГ'!$B:$B,0),MATCH(BU$6,'Состав ВТК-ВРГ'!$3:$3,0)),\"---\")","v":"---"},{"$f":"IFERROR(INDEX('Состав ВТК-ВРГ'!$1:$1048576,MATCH($G203,'Состав ВТК-ВРГ'!$B:$B,0),MATCH(BV$6,'Состав ВТК-ВРГ'!$3:$3,0)),\"---\")","v":"---"},{"$f":"IFERROR(INDEX(справочник!$G$1:$I$7,MATCH($BV203,справочник!$G$1:$G$7,0),2),\"---\")","v":"---"},{"$f":"IFERROR(INDEX('Состав ВТК-ВРГ'!$1:$1048576,MATCH($G203,'Состав ВТК-ВРГ'!$B:$B,0),MATCH(BX$6,'Состав ВТК-ВРГ'!$3:$3,0)),\"---\")","v":"---"},{"$f":"IFERROR(INDEX('Пр. №4'!$1:$1048576,MATCH(BX203,'Пр. №4'!$C:$C,0),MATCH('Пр. №3'!$D$5,'Пр. №4'!$9:$9,0)),\"---\")","v":"---"},{"$f":"SUMIFS('Пр. №1.2.'!$L:$L,'Пр. №1.2.'!$B:$B,'Пр. №3'!$D203,'Пр. №1.2.'!$E:$E,'Пр. №3'!$G203)","v":0},{"$error":"#VALUE!"},{"$error":"#VALUE!"}]
[{"$f":"ROW()","v":204},148,"Ввод данных",{"$error":"#N/A"},{"$f":"INDEX('Пр. №2'!$1:$1048576,MATCH('Пр. №3'!$F204,'Пр. №2'!$D:$D,0),COLUMN('Пр. №2'!$C$5))","v":{"$error":"#N/A"}},null,null,null,null,null,null,null,null,null,null,null,null,null,null,null,null,null,null,null,null,null,null,null,null,null,null,null,null,null,null,null,null,null,null,null,null,null,null,null,null,null,null,null,null,null,null,null,null,null,null,null,null,null,null,null,null,null,null,null,null,null,null,null,0,null,{"$f":"IFERROR(INDEX(справочник!$G$1:$I$7,MATCH($BV204,справочник!$G$1:$G$7,0),3),\"---\")","v":"---"},{"$f":"IFERROR(INDEX('Пр. №1'!$B$11:$C$34,MATCH(BS204,'Пр. №1'!$B$11:$B$34,0),2),\"---\")","v":"---"},{"$f":"IFERROR(INDEX('Состав ВТК-ВРГ'!$1:$1048576,MATCH($G204,'Состав ВТК-ВРГ'!$B:$B,0),MATCH(BU$6,'Состав ВТК-ВРГ'!$3:$3,0)),\"---\")","v":"---"},{"$f":"IFERROR(INDEX('Состав ВТК-ВРГ'!$1:$1048576,MATCH($G204,'Состав ВТК-ВРГ'!$B:$B,0),MATCH(BV$6,'Состав ВТК-ВРГ'!$3:$3,0)),\"---\")","v":"---"},{"$f":"IFERROR(INDEX(справочник!$G$1:$I$7,MATCH($BV204,справочник!$G$1:$G$7,0),2),\"---\")","v":"---"},{"$f":"IFERROR(INDEX('Состав ВТК-ВРГ'!$1:$1048576,MATCH($G204,'Состав ВТК-ВРГ'!$B:$B,0),MATCH(BX$6,'Состав ВТК-ВРГ'!$3:$3,0)),\"---\")","v":"---"},{"$f":"IFERROR(INDEX('Пр. №4'!$1:$1048576,MATCH(BX204,'Пр. №4'!$C:$C,0),MATCH('Пр. №3'!$D$5,'Пр. №4'!$9:$9,0)),\"---\")","v":"---"},{"$f":"SUMIFS('Пр. №1.2.'!$L:$L,'Пр. №1.2.'!$B:$B,'Пр. №3'!$D204,'Пр. №1.2.'!$E:$E,'Пр. №3'!$G204)","v":0},{"$error":"#VALUE!"},{"$error":"#VALUE!"}]
[{"$f":"ROW()","v":205},149,"Ввод данных",{"$error":"#N/A"},{"$f":"INDEX('Пр. №2'!$1:$1048576,MATCH('Пр. №3'!$F205,'Пр. №2'!$D:$D,0),COLUMN('Пр. №2'!$C$5))","v":{"$error":"#N/A"}},null,null,null,null,null,null,null,null,null,null,null,null,null,null,null,null,null,null,null,null,null,null,null,null,null,null,null,null,null,null,null,null,null,null,null,null,null,null,null,null,null,null,null,null,null,null,null,null,null,null,null,null,null,null,null,null,null,null,null,null,null,null,null,0,null,{"$f":"IFERROR(INDEX(справочник!$G$1:$I$7,MATCH($BV205,справочник!$G$1:$G$7,0),3),\"---\")","v":"---"},{"$f":"IFERROR(INDEX('Пр. №1'!$B$11:$C$34,MATCH(BS205,'Пр. №1'!$B$11:$B$34,0),2),\"---\")","v":"---"},{"$f":"IFERROR(INDEX('Состав ВТК-ВРГ'!$1:$1048576,MATCH($G205,'Состав ВТК-ВРГ'!$B:$B,0),MATCH(BU$6,'Состав ВТК-ВРГ'!$3:$3,0)),\"---\")","v":"---"},{"$f":"IFERROR(INDEX('Состав ВТК-ВРГ'!$1:$1048576,MATCH($G205,'Состав ВТК-ВРГ'!$B:$B,0),MATCH(BV$6,'Состав ВТК-ВРГ'!$3:$3,0)),\"---\")","v":"---"},{"$f":"IFERROR(INDEX(справочник!$G$1:$I$7,MATCH($BV205,справочник!$G$1:$G$7,0),2),\"---\")","v":"---"},{"$f":"IFERROR(INDEX('Состав ВТК-ВРГ'!$1:$1048576,MATCH($G205,'Состав ВТК-ВРГ'!$B:$B,0),MATCH(BX$6,'Состав ВТК-ВРГ'!$3:$3,0)),\"---\")","v":"---"},{"$f":"IFERROR(INDEX('Пр. №4'!$1:$1048576,MATCH(BX205,'Пр. №4'!$C:$C,0),MATCH('Пр. №3'!$D$5,'Пр. №4'!$9:$9,0)),\"---\")","v":"---"},{"$f":"SUMIFS('Пр. №1.2.'!$L:$L,'Пр. №1.2.'!$B:$B,'Пр. №3'!$D205,'Пр. №1.2.'!$E:$E,'Пр. №3'!$G205)","v":0},{"$error":"#VALUE!"},{"$error":"#VALUE!"}]
[{"$f":"ROW()","v":206},150,"Ввод данных",{"$error":"#N/A"},{"$f":"INDEX('Пр. №2'!$1:$1048576,MATCH('Пр. №3'!$F206,'Пр. №2'!$D:$D,0),COLUMN('Пр. №2'!$C$5))","v":{"$error":"#N/A"}},null,null,null,null,null,null,null,null,null,null,null,null,null,null,null,null,null,null,null,null,null,null,null,null,null,null,null,null,null,null,null,null,null,null,null,null,null,null,null,null,null,null,null,null,null,null,null,null,null,null,null,null,null,null,null,null,null,null,null,null,null,null,null,0,null,{"$f":"IFERROR(INDEX(справочник!$G$1:$I$7,MATCH($BV206,справочник!$G$1:$G$7,0),3),\"---\")","v":"---"},{"$f":"IFERROR(INDEX('Пр. №1'!$B$11:$C$34,MATCH(BS206,'Пр. №1'!$B$11:$B$34,0),2),\"---\")","v":"---"},{"$f":"IFERROR(INDEX('Состав ВТК-ВРГ'!$1:$1048576,MATCH($G206,'Состав ВТК-ВРГ'!$B:$B,0),MATCH(BU$6,'Состав ВТК-ВРГ'!$3:$3,0)),\"---\")","v":"---"},{"$f":"IFERROR(INDEX('Состав ВТК-ВРГ'!$1:$1048576,MATCH($G206,'Состав ВТК-ВРГ'!$B:$B,0),MATCH(BV$6,'Состав ВТК-ВРГ'!$3:$3,0)),\"---\")","v":"---"},{"$f":"IFERROR(INDEX(справочник!$G$1:$I$7,MATCH($BV206,справочник!$G$1:$G$7,0),2),\"---\")","v":"---"},{"$f":"IFERROR(INDEX('Состав ВТК-ВРГ'!$1:$1048576,MATCH($G206,'Состав ВТК-ВРГ'!$B:$B,0),MATCH(BX$6,'Состав ВТК-ВРГ'!$3:$3,0)),\"---\")","v":"---"},{"$f":"IFERROR(INDEX('Пр. №4'!$1:$1048576,MATCH(BX206,'Пр. №4'!$C:$C,0),MATCH('Пр. №3'!$D$5,'Пр. №4'!$9:$9,0)),\"---\")","v":"---"},{"$f":"SUMIFS('Пр. №1.2.'!$L:$L,'Пр. №1.2.'!$B:$B,'Пр. №3'!$D206,'Пр. №1.2.'!$E:$E,'Пр. №3'!$G206)","v":0},{"$error":"#VALUE!"},{"$error":"#VALUE!"}]
[{"$f":"ROW()","v":207},151,"Ввод данных",{"$error":"#N/A"},{"$f":"INDEX('Пр. №2'!$1:$1048576,MATCH('Пр. №3'!$F207,'Пр. №2'!$D:$D,0),COLUMN('Пр. №2'!$C$5))","v":{"$error":"#N/A"}},null,null,null,null,null,null,null,null,null,null,null,null,null,null,null,null,null,null,null,null,null,null,null,null,null,null,null,null,null,null,null,null,null,null,null,null,null,null,null,null,null,null,null,null,null,null,null,null,null,null,null,null,null,null,null,null,null,null,null,null,null,null,null,0,null,{"$f":"IFERROR(INDEX(справочник!$G$1:$I$7,MATCH($BV207,справочник!$G$1:$G$7,0),3),\"---\")","v":"---"},{"$f":"IFERROR(INDEX('Пр. №1'!$B$11:$C$34,MATCH(BS207,'Пр. №1'!$B$11:$B$34,0),2),\"---\")","v":"---"},{"$f":"IFERROR(INDEX('Состав ВТК-ВРГ'!$1:$1048576,MATCH($G207,'Состав ВТК-ВРГ'!$B:$B,0),MATCH(BU$6,'Состав ВТК-ВРГ'!$3:$3,0)),\"---\")","v":"---"},{"$f":"IFERROR(INDEX('Состав ВТК-ВРГ'!$1:$1048576,MATCH($G207,'Состав ВТК-ВРГ'!$B:$B,0),MATCH(BV$6,'Состав ВТК-ВРГ'!$3:$3,0)),\"---\")","v":"---"},{"$f":"IFERROR(INDEX(справочник!$G$1:$I$7,MATCH($BV207,справочник!$G$1:$G$7,0),2),\"---\")","v":"---"},{"$f":"IFERROR(INDEX('Состав ВТК-ВРГ'!$1:$1048576,MATCH($G207,'Состав ВТК-ВРГ'!$B:$B,0),MATCH(BX$6,'Состав ВТК-ВРГ'!$3:$3,0)),\"---\")","v":"---"},{"$f":"IFERROR(INDEX('Пр. №4'!$1:$1048576,MATCH(BX207,'Пр. №4'!$C:$C,0),MATCH('Пр. №3'!$D$5,'Пр. №4'!$9:$9,0)),\"---\")","v":"---"},{"$f":"SUMIFS('Пр. №1.2.'!$L:$L,'Пр. №1.2.'!$B:$B,'Пр. №3'!$D207,'Пр. №1.2.'!$E:$E,'Пр. №3'!$G207)","v":0},{"$error":"#VALUE!"},{"$error":"#VALUE!"}]
[{"$f":"ROW()","v":208},152,"Ввод данных",{"$error":"#N/A"},{"$f":"INDEX('Пр. №2'!$1:$1048576,MATCH('Пр. №3'!$F208,'Пр. №2'!$D:$D,0),COLUMN('Пр. №2'!$C$5))","v":{"$error":"#N/A"}},null,null,null,null,null,null,null,null,null,null,null,null,null,null,null,null,null,null,null,null,null,null,null,null,null,null,null,null,null,null,null,null,null,null,null,null,null,null,null,null,null,null,null,null,null,null,null,null,null,null,null,null,null,null,null,null,null,null,null,null,null,null,null,0,null,{"$f":"IFERROR(INDEX(справочник!$G$1:$I$7,MATCH($BV208,справочник!$G$1:$G$7,0),3),\"---\")","v":"---"},{"$f":"IFERROR(INDEX('Пр. №1'!$B$11:$C$34,MATCH(BS208,'Пр. №1'!$B$11:$B$34,0),2),\"---\")","v":"---"},{"$f":"IFERROR(INDEX('Состав ВТК-ВРГ'!$1:$1048576,MATCH($G208,'Состав ВТК-ВРГ'!$B:$B,0),MATCH(BU$6,'Состав ВТК-ВРГ'!$3:$3,0)),\"---\")","v":"---"},{"$f":"IFERROR(INDEX('Состав ВТК-ВРГ'!$1:$1048576,MATCH($G208,'Состав ВТК-ВРГ'!$B:$B,0),MATCH(BV$6,'Состав ВТК-ВРГ'!$3:$3,0)),\"---\")","v":"---"},{"$f":"IFERROR(INDEX(справочник!$G$1:$I$7,MATCH($BV208,справочник!$G$1:$G$7,0),2),\"---\")","v":"---"},{"$f":"IFERROR(INDEX('Состав ВТК-ВРГ'!$1:$1048576,MATCH($G208,'Состав ВТК-ВРГ'!$B:$B,0),MATCH(BX$6,'Состав ВТК-ВРГ'!$3:$3,0)),\"---\")","v":"---"},{"$f":"IFERROR(INDEX('Пр. №4'!$1:$1048576,MATCH(BX208,'Пр. №4'!$C:$C,0),MATCH('Пр. №3'!$D$5,'Пр. №4'!$9:$9,0)),\"---\")","v":"---"},{"$f":"SUMIFS('Пр. №1.2.'!$L:$L,'Пр. №1.2.'!$B:$B,'Пр. №3'!$D208,'Пр. №1.2.'!$E:$E,'Пр. №3'!$G208)","v":0},{"$error":"#VALUE!"},{"$error":"#VALUE!"}]
[{"$f":"ROW()","v":209},153,"Ввод данных",{"$error":"#N/A"},{"$f":"INDEX('Пр. №2'!$1:$1048576,MATCH('Пр. №3'!$F209,'Пр. №2'!$D:$D,0),COLUMN('Пр. №2'!$C$5))","v":{"$error":"#N/A"}},null,null,null,null,null,null,null,null,null,null,null,null,null,null,null,null,null,null,null,null,null,null,null,null,null,null,null,null,null,null,null,null,null,null,null,null,null,null,null,null,null,null,null,null,null,null,null,null,null,null,null,null,null,null,null,null,null,null,null,null,null,null,null,0,null,{"$f":"IFERROR(INDEX(справочник!$G$1:$I$7,MATCH($BV209,справочник!$G$1:$G$7,0),3),\"---\")","v":"---"},{"$f":"IFERROR(INDEX('Пр. №1'!$B$11:$C$34,MATCH(BS209,'Пр. №1'!$B$11:$B$34,0),2),\"---\")","v":"---"},{"$f":"IFERROR(INDEX('Состав ВТК-ВРГ'!$1:$1048576,MATCH($G209,'Состав ВТК-ВРГ'!$B:$B,0),MATCH(BU$6,'Состав ВТК-ВРГ'!$3:$3,0)),\"---\")","v":"---"},{"$f":"IFERROR(INDEX('Состав ВТК-ВРГ'!$1:$1048576,MATCH($G209,'Состав ВТК-ВРГ'!$B:$B,0),MATCH(BV$6,'Состав ВТК-ВРГ'!$3:$3,0)),\"---\")","v":"---"},{"$f":"IFERROR(INDEX(справочник!$G$1:$I$7,MATCH($BV209,справочник!$G$1:$G$7,0),2),\"---\")","v":"---"},{"$f":"IFERROR(INDEX('Состав ВТК-ВРГ'!$1:$1048576,MATCH($G209,'Состав ВТК-ВРГ'!$B:$B,0),MATCH(BX$6,'Состав ВТК-ВРГ'!$3:$3,0)),\"---\")","v":"---"},{"$f":"IFERROR(INDEX('Пр. №4'!$1:$1048576,MATCH(BX209,'Пр. №4'!$C:$C,0),MATCH('Пр. №3'!$D$5,'Пр. №4'!$9:$9,0)),\"---\")","v":"---"},{"$f":"SUMIFS('Пр. №1.2.'!$L:$L,'Пр. №1.2.'!$B:$B,'Пр. №3'!$D209,'Пр. №1.2.'!$E:$E,'Пр. №3'!$G209)","v":0},{"$error":"#VALUE!"},{"$error":"#VALUE!"}]
[{"$f":"ROW()","v":210},154,"Ввод данных",{"$error":"#N/A"},{"$f":"INDEX('Пр. №2'!$1:$1048576,MATCH('Пр. №3'!$F210,'Пр. №2'!$D:$D,0),COLUMN('Пр. №2'!$C$5))","v":{"$error":"#N/A"}},null,null,null,null,null,null,null,null,null,null,null,null,null,null,null,null,null,null,null,null,null,null,null,null,null,null,null,null,null,null,null,null,null,null,null,null,null,null,null,null,null,null,null,null,null,null,null,null,null,null,null,null,null,null,null,null,null,null,null,null,null,null,null,0,null,{"$f":"IFERROR(INDEX(справочник!$G$1:$I$7,MATCH($BV210,справочник!$G$1:$G$7,0),3),\"---\")","v":"---"},{"$f":"IFERROR(INDEX('Пр. №1'!$B$11:$C$34,MATCH(BS210,'Пр. №1'!$B$11:$B$34,0),2),\"---\")","v":"---"},{"$f":"IFERROR(INDEX('Состав ВТК-ВРГ'!$1:$1048576,MATCH($G210,'Состав ВТК-ВРГ'!$B:$B,0),MATCH(BU$6,'Состав ВТК-ВРГ'!$3:$3,0)),\"---\")","v":"---"},{"$f":"IFERROR(INDEX('Состав ВТК-ВРГ'!$1:$1048576,MATCH($G210,'Состав ВТК-ВРГ'!$B:$B,0),MATCH(BV$6,'Состав ВТК-ВРГ'!$3:$3,0)),\"---\")","v":"---"},{"$f":"IFERROR(INDEX(справочник!$G$1:$I$7,MATCH($BV210,справочник!$G$1:$G$7,0),2),\"---\")","v":"---"},{"$f":"IFERROR(INDEX('Состав ВТК-ВРГ'!$1:$1048576,MATCH($G210,'Состав ВТК-ВРГ'!$B:$B,0),MATCH(BX$6,'Состав ВТК-ВРГ'!$3:$3,0)),\"---\")","v":"---"},{"$f":"IFERROR(INDEX('Пр. №4'!$1:$1048576,MATCH(BX210,'Пр. №4'!$C:$C,0),MATCH('Пр. №3'!$D$5,'Пр. №4'!$9:$9,0)),\"---\")","v":"---"},{"$f":"SUMIFS('Пр. №1.2.'!$L:$L,'Пр. №1.2.'!$B:$B,'Пр. №3'!$D210,'Пр. №1.2.'!$E:$E,'Пр. №3'!$G210)","v":0},{"$error":"#VALUE!"},{"$error":"#VALUE!"}]
[{"$f":"ROW()","v":211},155,"Ввод данных",{"$error":"#N/A"},{"$f":"INDEX('Пр. №2'!$1:$1048576,MATCH('Пр. №3'!$F211,'Пр. №2'!$D:$D,0),COLUMN('Пр. №2'!$C$5))","v":{"$error":"#N/A"}},null,null,null,null,null,null,null,null,null,null,null,null,null,null,null,null,null,null,null,null,null,null,null,null,null,null,null,null,null,null,null,null,null,null,null,null,null,null,null,null,null,null,null,null,null,null,null,null,null,null,null,null,null,null,null,null,null,null,null,null,null,null,null,0,null,{"$f":"IFERROR(INDEX(справочник!$G$1:$I$7,MATCH($BV211,справочник!$G$1:$G$7,0),3),\"---\")","v":"---"},{"$f":"IFERROR(INDEX('Пр. №1'!$B$11:$C$34,MATCH(BS211,'Пр. №1'!$B$11:$B$34,0),2),\"---\")","v":"---"},{"$f":"IFERROR(INDEX('Состав ВТК-ВРГ'!$1:$1048576,MATCH($G211,'Состав ВТК-ВРГ'!$B:$B,0),MATCH(BU$6,'Состав ВТК-ВРГ'!$3:$3,0)),\"---\")","v":"---"},{"$f":"IFERROR(INDEX('Состав ВТК-ВРГ'!$1:$1048576,MATCH($G211,'Состав ВТК-ВРГ'!$B:$B,0),MATCH(BV$6,'Состав ВТК-ВРГ'!$3:$3,0)),\"---\")","v":"---"},{"$f":"IFERROR(INDEX(справочник!$G$1:$I$7,MATCH($BV211,справочник!$G$1:$G$7,0),2),\"---\")","v":"---"},{"$f":"IFERROR(INDEX('Состав ВТК-ВРГ'!$1:$1048576,MATCH($G211,'Состав ВТК-ВРГ'!$B:$B,0),MATCH(BX$6,'Состав ВТК-ВРГ'!$3:$3,0)),\"---\")","v":"---"},{"$f":"IFERROR(INDEX('Пр. №4'!$1:$1048576,MATCH(BX211,'Пр. №4'!$C:$C,0),MATCH('Пр. №3'!$D$5,'Пр. №4'!$9:$9,0)),\"---\")","v":"---"},{"$f":"SUMIFS('Пр. №1.2.'!$L:$L,'Пр. №1.2.'!$B:$B,'Пр. №3'!$D211,'Пр. №1.2.'!$E:$E,'Пр. №3'!$G211)","v":0},{"$error":"#VALUE!"},{"$error":"#VALUE!"}]
[{"$f":"ROW()","v":212},156,"Ввод данных",{"$error":"#N/A"},{"$f":"INDEX('Пр. №2'!$1:$1048576,MATCH('Пр. №3'!$F212,'Пр. №2'!$D:$D,0),COLUMN('Пр. №2'!$C$5))","v":{"$error":"#N/A"}},null,null,null,null,null,null,null,null,null,null,null,null,null,null,null,null,null,null,null,null,null,null,null,null,null,null,null,null,null,null,null,null,null,null,null,null,null,null,null,null,null,null,null,null,null,null,null,null,null,null,null,null,null,null,null,null,null,null,null,null,null,null,null,0,null,{"$f":"IFERROR(INDEX(справочник!$G$1:$I$7,MATCH($BV212,справочник!$G$1:$G$7,0),3),\"---\")","v":"---"},{"$f":"IFERROR(INDEX('Пр. №1'!$B$11:$C$34,MATCH(BS212,'Пр. №1'!$B$11:$B$34,0),2),\"---\")","v":"---"},{"$f":"IFERROR(INDEX('Состав ВТК-ВРГ'!$1:$1048576,MATCH($G212,'Состав ВТК-ВРГ'!$B:$B,0),MATCH(BU$6,'Состав ВТК-ВРГ'!$3:$3,0)),\"---\")","v":"---"},{"$f":"IFERROR(INDEX('Состав ВТК-ВРГ'!$1:$1048576,MATCH($G212,'Состав ВТК-ВРГ'!$B:$B,0),MATCH(BV$6,'Состав ВТК-ВРГ'!$3:$3,0)),\"---\")","v":"---"},{"$f":"IFERROR(INDEX(справочник!$G$1:$I$7,MATCH($BV212,справочник!$G$1:$G$7,0),2),\"---\")","v":"---"},{"$f":"IFERROR(INDEX('Состав ВТК-ВРГ'!$1:$1048576,MATCH($G212,'Состав ВТК-ВРГ'!$B:$B,0),MATCH(BX$6,'Состав ВТК-ВРГ'!$3:$3,0)),\"---\")","v":"---"},{"$f":"IFERROR(INDEX('Пр. №4'!$1:$1048576,MATCH(BX212,'Пр. №4'!$C:$C,0),MATCH('Пр. №3'!$D$5,'Пр. №4'!$9:$9,0)),\"---\")","v":"---"},{"$f":"SUMIFS('Пр. №1.2.'!$L:$L,'Пр. №1.2.'!$B:$B,'Пр. №3'!$D212,'Пр. №1.2.'!$E:$E,'Пр. №3'!$G212)","v":0},{"$error":"#VALUE!"},{"$error":"#VALUE!"}]
[{"$f":"ROW()","v":213},157,"Ввод данных",{"$error":"#N/A"},{"$f":"INDEX('Пр. №2'!$1:$1048576,MATCH('Пр. №3'!$F213,'Пр. №2'!$D:$D,0),COLUMN('Пр. №2'!$C$5))","v":{"$error":"#N/A"}},null,null,null,null,null,null,null,null,null,null,null,null,null,null,null,null,null,null,null,null,null,null,null,null,null,null,null,null,null,null,null,null,null,null,null,null,null,null,null,null,null,null,null,null,null,null,null,null,null,null,null,null,null,null,null,null,null,null,null,null,null,null,null,0,null,{"$f":"IFERROR(INDEX(справочник!$G$1:$I$7,MATCH($BV213,справочник!$G$1:$G$7,0),3),\"---\")","v":"---"},{"$f":"IFERROR(INDEX('Пр. №1'!$B$11:$C$34,MATCH(BS213,'Пр. №1'!$B$11:$B$34,0),2),\"---\")","v":"---"},{"$f":"IFERROR(INDEX('Состав ВТК-ВРГ'!$1:$1048576,MATCH($G213,'Состав ВТК-ВРГ'!$B:$B,0),MATCH(BU$6,'Состав ВТК-ВРГ'!$3:$3,0)),\"---\")","v":"---"},{"$f":"IFERROR(INDEX('Состав ВТК-ВРГ'!$1:$1048576,MATCH($G213,'Состав ВТК-ВРГ'!$B:$B,0),MATCH(BV$6,'Состав ВТК-ВРГ'!$3:$3,0)),\"---\")","v":"---"},{"$f":"IFERROR(INDEX(справочник!$G$1:$I$7,MATCH($BV213,справочник!$G$1:$G$7,0),2),\"---\")","v":"---"},{"$f":"IFERROR(INDEX('Состав ВТК-ВРГ'!$1:$1048576,MATCH($G213,'Состав ВТК-ВРГ'!$B:$B,0),MATCH(BX$6,'Состав ВТК-ВРГ'!$3:$3,0)),\"---\")","v":"---"},{"$f":"IFERROR(INDEX('Пр. №4'!$1:$1048576,MATCH(BX213,'Пр. №4'!$C:$C,0),MATCH('Пр. №3'!$D$5,'Пр. №4'!$9:$9,0)),\"---\")","v":"---"},{"$f":"SUMIFS('Пр. №1.2.'!$L:$L,'Пр. №1.2.'!$B:$B,'Пр. №3'!$D213,'Пр. №1.2.'!$E:$E,'Пр. №3'!$G213)","v":0},{"$error":"#VALUE!"},{"$error":"#VALUE!"}]
[{"$f":"ROW()","v":214},158,"Ввод данных",{"$error":"#N/A"},{"$f":"INDEX('Пр. №2'!$1:$1048576,MATCH('Пр. №3'!$F214,'Пр. №2'!$D:$D,0),COLUMN('Пр. №2'!$C$5))","v":{"$error":"#N/A"}},null,null,null,null,null,null,null,null,null,null,null,null,null,null,null,null,null,null,null,null,null,null,null,null,null,null,null,null,null,null,null,null,null,null,null,null,null,null,null,null,null,null,null,null,null,null,null,null,null,null,null,null,null,null,null,null,null,null,null,null,null,null,null,0,null,{"$f":"IFERROR(INDEX(справочник!$G$1:$I$7,MATCH($BV214,справочник!$G$1:$G$7,0),3),\"---\")","v":"---"},{"$f":"IFERROR(INDEX('Пр. №1'!$B$11:$C$34,MATCH(BS214,'Пр. №1'!$B$11:$B$34,0),2),\"---\")","v":"---"},{"$f":"IFERROR(INDEX('Состав ВТК-ВРГ'!$1:$1048576,MATCH($G214,'Состав ВТК-ВРГ'!$B:$B,0),MATCH(BU$6,'Состав ВТК-ВРГ'!$3:$3,0)),\"---\")","v":"---"},{"$f":"IFERROR(INDEX('Состав ВТК-ВРГ'!$1:$1048576,MATCH($G214,'Состав ВТК-ВРГ'!$B:$B,0),MATCH(BV$6,'Состав ВТК-ВРГ'!$3:$3,0)),\"---\")","v":"---"},{"$f":"IFERROR(INDEX(справочник!$G$1:$I$7,MATCH($BV214,справочник!$G$1:$G$7,0),2),\"---\")","v":"---"},{"$f":"IFERROR(INDEX('Состав ВТК-ВРГ'!$1:$1048576,MATCH($G214,'Состав ВТК-ВРГ'!$B:$B,0),MATCH(BX$6,'Состав ВТК-ВРГ'!$3:$3,0)),\"---\")","v":"---"},{"$f":"IFERROR(INDEX('Пр. №4'!$1:$1048576,MATCH(BX214,'Пр. №4'!$C:$C,0),MATCH('Пр. №3'!$D$5,'Пр. №4'!$9:$9,0)),\"---\")","v":"---"},{"$f":"SUMIFS('Пр. №1.2.'!$L:$L,'Пр. №1.2.'!$B:$B,'Пр. №3'!$D214,'Пр. №1.2.'!$E:$E,'Пр. №3'!$G214)","v":0},{"$error":"#VALUE!"},{"$error":"#VALUE!"}]
[{"$f":"ROW()","v":215},159,"Ввод данных",{"$error":"#N/A"},{"$f":"INDEX('Пр. №2'!$1:$1048576,MATCH('Пр. №3'!$F215,'Пр. №2'!$D:$D,0),COLUMN('Пр. №2'!$C$5))","v":{"$error":"#N/A"}},null,null,null,null,null,null,null,null,null,null,null,null,null,null,null,null,null,null,null,null,null,null,null,null,null,null,null,null,null,null,null,null,null,null,null,null,null,null,null,null,null,null,null,null,null,null,null,null,null,null,null,null,null,null,null,null,null,null,null,null,null,null,null,0,null,{"$f":"IFERROR(INDEX(справочник!$G$1:$I$7,MATCH($BV215,справочник!$G$1:$G$7,0),3),\"---\")","v":"---"},{"$f":"IFERROR(INDEX('Пр. №1'!$B$11:$C$34,MATCH(BS215,'Пр. №1'!$B$11:$B$34,0),2),\"---\")","v":"---"},{"$f":"IFERROR(INDEX('Состав ВТК-ВРГ'!$1:$1048576,MATCH($G215,'Состав ВТК-ВРГ'!$B:$B,0),MATCH(BU$6,'Состав ВТК-ВРГ'!$3:$3,0)),\"---\")","v":"---"},{"$f":"IFERROR(INDEX('Состав ВТК-ВРГ'!$1:$1048576,MATCH($G215,'Состав ВТК-ВРГ'!$B:$B,0),MATCH(BV$6,'Состав ВТК-ВРГ'!$3:$3,0)),\"---\")","v":"---"},{"$f":"IFERROR(INDEX(справочник!$G$1:$I$7,MATCH($BV215,справочник!$G$1:$G$7,0),2),\"---\")","v":"---"},{"$f":"IFERROR(INDEX('Состав ВТК-ВРГ'!$1:$1048576,MATCH($G215,'Состав ВТК-ВРГ'!$B:$B,0),MATCH(BX$6,'Состав ВТК-ВРГ'!$3:$3,0)),\"---\")","v":"---"},{"$f":"IFERROR(INDEX('Пр. №4'!$1:$1048576,MATCH(BX215,'Пр. №4'!$C:$C,0),MATCH('Пр. №3'!$D$5,'Пр. №4'!$9:$9,0)),\"---\")","v":"---"},{"$f":"SUMIFS('Пр. №1.2.'!$L:$L,'Пр. №1.2.'!$B:$B,'Пр. №3'!$D215,'Пр. №1.2.'!$E:$E,'Пр. №3'!$G215)","v":0},{"$error":"#VALUE!"},{"$error":"#VALUE!"}]
[{"$f":"ROW()","v":216},160,"Ввод данных",{"$f":"INDEX($D$22:$E$35,MATCH(E216,$E$22:$E$35,0),1)","v":{"$error":"#N/A"}},{"$f":"INDEX('Пр. №2'!$1:$1048576,MATCH('Пр. №3'!$F216,'Пр. №2'!$D:$D,0),COLUMN('Пр. №2'!$C$5))","v":{"$error":"#N/A"}},null,null,null,null,null,null,null,null,null,null,null,null,null,null,null,null,null,null,null,null,null,null,null,null,null,null,null,null,null,null,null,null,null,null,null,null,null,null,null,null,null,null,null,null,null,null,null,null,null,null,null,null,null,null,null,null,null,null,null,null,null,null,null,{"$f":"SUM(H216:BP216)","v":0},null,{"$f":"IFERROR(INDEX(справочник!$G$1:$I$7,MATCH($BV216,справочник!$G$1:$G$7,0),3),\"---\")","v":"---"},{"$f":"IFERROR(INDEX('Пр. №1'!$B$11:$C$34,MATCH(BS216,'Пр. №1'!$B$11:$B$34,0),2),\"---\")","v":"---"},{"$f":"IFERROR(INDEX('Состав ВТК-ВРГ'!$1:$1048576,MATCH($G216,'Состав ВТК-ВРГ'!$B:$B,0),MATCH(BU$6,'Состав ВТК-ВРГ'!$3:$3,0)),\"---\")","v":"---"},{"$f":"IFERROR(INDEX('Состав ВТК-ВРГ'!$1:$1048576,MATCH($G216,'Состав ВТК-ВРГ'!$B:$B,0),MATCH(BV$6,'Состав ВТК-ВРГ'!$3:$3,0)),\"---\")","v":"---"},{"$f":"IFERROR(INDEX(справочник!$G$1:$I$7,MATCH($BV216,справочник!$G$1:$G$7,0),2),\"---\")","v":"---"},{"$f":"IFERROR(INDEX('Состав ВТК-ВРГ'!$1:$1048576,MATCH($G216,'Состав ВТК-ВРГ'!$B:$B,0),MATCH(BX$6,'Состав ВТК-ВРГ'!$3:$3,0)),\"---\")","v":"---"},{"$f":"IFERROR(INDEX('Пр. №4'!$1:$1048576,MATCH(BX216,'Пр. №4'!$C:$C,0),MATCH('Пр. №3'!$D$5,'Пр. №4'!$9:$9,0)),\"---\")","v":"---"},{"$f":"SUMIFS('Пр. №1.2.'!$L:$L,'Пр. №1.2.'!$B:$B,'Пр. №3'!$D216,'Пр. №1.2.'!$E:$E,'Пр. №3'!$G216)","v":0},{"$f":"BY216*BZ216","v":{"$error":"#VALUE!"}},{"$f":"BQ216*BZ216*BY216","v":{"$error":"#VALUE!"}}]
[{"$f":"ROW()","v":217},161,"Ввод данных",{"$error":"#N/A"},{"$f":"INDEX('Пр. №2'!$1:$1048576,MATCH('Пр. №3'!$F217,'Пр. №2'!$D:$D,0),COLUMN('Пр. №2'!$C$5))","v":{"$error":"#N/A"}},null,null,null,null,null,null,null,null,null,null,null,null,null,null,null,null,null,null,null,null,null,null,null,null,null,null,null,null,null,null,null,null,null,null,null,null,null,null,null,null,null,null,null,null,null,null,null,null,null,null,null,null,null,null,null,null,null,null,null,null,null,null,null,0,null,{"$f":"IFERROR(INDEX(справочник!$G$1:$I$7,MATCH($BV217,справочник!$G$1:$G$7,0),3),\"---\")","v":"---"},{"$f":"IFERROR(INDEX('Пр. №1'!$B$11:$C$34,MATCH(BS217,'Пр. №1'!$B$11:$B$34,0),2),\"---\")","v":"---"},{"$f":"IFERROR(INDEX('Состав ВТК-ВРГ'!$1:$1048576,MATCH($G217,'Состав ВТК-ВРГ'!$B:$B,0),MATCH(BU$6,'Состав ВТК-ВРГ'!$3:$3,0)),\"---\")","v":"---"},{"$f":"IFERROR(INDEX('Состав ВТК-ВРГ'!$1:$1048576,MATCH($G217,'Состав ВТК-ВРГ'!$B:$B,0),MATCH(BV$6,'Состав ВТК-ВРГ'!$3:$3,0)),\"---\")","v":"---"},{"$f":"IFERROR(INDEX(справочник!$G$1:$I$7,MATCH($BV217,справочник!$G$1:$G$7,0),2),\"---\")","v":"---"},{"$f":"IFERROR(INDEX('Состав ВТК-ВРГ'!$1:$1048576,MATCH($G217,'Состав ВТК-ВРГ'!$B:$B,0),MATCH(BX$6,'Состав ВТК-ВРГ'!$3:$3,0)),\"---\")","v":"---"},{"$f":"IFERROR(INDEX('Пр. №4'!$1:$1048576,MATCH(BX217,'Пр. №4'!$C:$C,0),MATCH('Пр. №3'!$D$5,'Пр. №4'!$9:$9,0)),\"---\")","v":"---"},{"$f":"SUMIFS('Пр. №1.2.'!$L:$L,'Пр. №1.2.'!$B:$B,'Пр. №3'!$D217,'Пр. №1.2.'!$E:$E,'Пр. №3'!$G217)","v":0},{"$error":"#VALUE!"},{"$error":"#VALUE!"}]
[{"$f":"ROW()","v":218},162,"Ввод данных",{"$error":"#N/A"},{"$f":"INDEX('Пр. №2'!$1:$1048576,MATCH('Пр. №3'!$F218,'Пр. №2'!$D:$D,0),COLUMN('Пр. №2'!$C$5))","v":{"$error":"#N/A"}},null,null,null,null,null,null,null,null,null,null,null,null,null,null,null,null,null,null,null,null,null,null,null,null,null,null,null,null,null,null,null,null,null,null,null,null,null,null,null,null,null,null,null,null,null,null,null,null,null,null,null,null,null,null,null,null,null,null,null,null,null,null,null,0,null,{"$f":"IFERROR(INDEX(справочник!$G$1:$I$7,MATCH($BV218,справочник!$G$1:$G$7,0),3),\"---\")","v":"---"},{"$f":"IFERROR(INDEX('Пр. №1'!$B$11:$C$34,MATCH(BS218,'Пр. №1'!$B$11:$B$34,0),2),\"---\")","v":"---"},{"$f":"IFERROR(INDEX('Состав ВТК-ВРГ'!$1:$1048576,MATCH($G218,'Состав ВТК-ВРГ'!$B:$B,0),MATCH(BU$6,'Состав ВТК-ВРГ'!$3:$3,0)),\"---\")","v":"---"},{"$f":"IFERROR(INDEX('Состав ВТК-ВРГ'!$1:$1048576,MATCH($G218,'Состав ВТК-ВРГ'!$B:$B,0),MATCH(BV$6,'Состав ВТК-ВРГ'!$3:$3,0)),\"---\")","v":"---"},{"$f":"IFERROR(INDEX(справочник!$G$1:$I$7,MATCH($BV218,справочник!$G$1:$G$7,0),2),\"---\")","v":"---"},{"$f":"IFERROR(INDEX('Состав ВТК-ВРГ'!$1:$1048576,MATCH($G218,'Состав ВТК-ВРГ'!$B:$B,0),MATCH(BX$6,'Состав ВТК-ВРГ'!$3:$3,0)),\"---\")","v":"---"},{"$f":"IFERROR(INDEX('Пр. №4'!$1:$1048576,MATCH(BX218,'Пр. №4'!$C:$C,0),MATCH('Пр. №3'!$D$5,'Пр. №4'!$9:$9,0)),\"---\")","v":"---"},{"$f":"SUMIFS('Пр. №1.2.'!$L:$L,'Пр. №1.2.'!$B:$B,'Пр. №3'!$D218,'Пр. №1.2.'!$E:$E,'Пр. №3'!$G218)","v":0},{"$error":"#VALUE!"},{"$error":"#VALUE!"}]
[{"$f":"ROW()","v":219},163,"Ввод данных",{"$error":"#N/A"},{"$f":"INDEX('Пр. №2'!$1:$1048576,MATCH('Пр. №3'!$F219,'Пр. №2'!$D:$D,0),COLUMN('Пр. №2'!$C$5))","v":{"$error":"#N/A"}},null,null,null,null,null,null,null,null,null,null,null,null,null,null,null,null,null,null,null,null,null,null,null,null,null,null,null,null,null,null,null,null,null,null,null,null,null,null,null,null,null,null,null,null,null,null,null,null,null,null,null,null,null,null,null,null,null,null,null,null,null,null,null,0,null,{"$f":"IFERROR(INDEX(справочник!$G$1:$I$7,MATCH($BV219,справочник!$G$1:$G$7,0),3),\"---\")","v":"---"},{"$f":"IFERROR(INDEX('Пр. №1'!$B$11:$C$34,MATCH(BS219,'Пр. №1'!$B$11:$B$34,0),2),\"---\")","v":"---"},{"$f":"IFERROR(INDEX('Состав ВТК-ВРГ'!$1:$1048576,MATCH($G219,'Состав ВТК-ВРГ'!$B:$B,0),MATCH(BU$6,'Состав ВТК-ВРГ'!$3:$3,0)),\"---\")","v":"---"},{"$f":"IFERROR(INDEX('Состав ВТК-ВРГ'!$1:$1048576,MATCH($G219,'Состав ВТК-ВРГ'!$B:$B,0),MATCH(BV$6,'Состав ВТК-ВРГ'!$3:$3,0)),\"---\")","v":"---"},{"$f":"IFERROR(INDEX(справочник!$G$1:$I$7,MATCH($BV219,справочник!$G$1:$G$7,0),2),\"---\")","v":"---"},{"$f":"IFERROR(INDEX('Состав ВТК-ВРГ'!$1:$1048576,MATCH($G219,'Состав ВТК-ВРГ'!$B:$B,0),MATCH(BX$6,'Состав ВТК-ВРГ'!$3:$3,0)),\"---\")","v":"---"},{"$f":"IFERROR(INDEX('Пр. №4'!$1:$1048576,MATCH(BX219,'Пр. №4'!$C:$C,0),MATCH('Пр. №3'!$D$5,'Пр. №4'!$9:$9,0)),\"---\")","v":"---"},{"$f":"SUMIFS('Пр. №1.2.'!$L:$L,'Пр. №1.2.'!$B:$B,'Пр. №3'!$D219,'Пр. №1.2.'!$E:$E,'Пр. №3'!$G219)","v":0},{"$error":"#VALUE!"},{"$error":"#VALUE!"}]
[{"$f":"ROW()","v":220},164,"Ввод данных",{"$error":"#N/A"},{"$f":"INDEX('Пр. №2'!$1:$1048576,MATCH('Пр. №3'!$F220,'Пр. №2'!$D:$D,0),COLUMN('Пр. №2'!$C$5))","v":{"$error":"#N/A"}},null,null,null,null,null,null,null,null,null,null,null,null,null,null,null,null,null,null,null,null,null,null,null,null,null,null,null,null,null,null,null,null,null,null,null,null,null,null,null,null,null,null,null,null,null,null,null,null,null,null,null,null,null,null,null,null,null,null,null,null,null,null,null,0,null,{"$f":"IFERROR(INDEX(справочник!$G$1:$I$7,MATCH($BV220,справочник!$G$1:$G$7,0),3),\"---\")","v":"---"},{"$f":"IFERROR(INDEX('Пр. №1'!$B$11:$C$34,MATCH(BS220,'Пр. №1'!$B$11:$B$34,0),2),\"---\")","v":"---"},{"$f":"IFERROR(INDEX('Состав ВТК-ВРГ'!$1:$1048576,MATCH($G220,'Состав ВТК-ВРГ'!$B:$B,0),MATCH(BU$6,'Состав ВТК-ВРГ'!$3:$3,0)),\"---\")","v":"---"},{"$f":"IFERROR(INDEX('Состав ВТК-ВРГ'!$1:$1048576,MATCH($G220,'Состав ВТК-ВРГ'!$B:$B,0),MATCH(BV$6,'Состав ВТК-ВРГ'!$3:$3,0)),\"---\")","v":"---"},{"$f":"IFERROR(INDEX(справочник!$G$1:$I$7,MATCH($BV220,справочник!$G$1:$G$7,0),2),\"---\")","v":"---"},{"$f":"IFERROR(INDEX('Состав ВТК-ВРГ'!$1:$1048576,MATCH($G220,'Состав ВТК-ВРГ'!$B:$B,0),MATCH(BX$6,'Состав ВТК-ВРГ'!$3:$3,0)),\"---\")","v":"---"},{"$f":"IFERROR(INDEX('Пр. №4'!$1:$1048576,MATCH(BX220,'Пр. №4'!$C:$C,0),MATCH('Пр. №3'!$D$5,'Пр. №4'!$9:$9,0)),\"---\")","v":"---"},{"$f":"SUMIFS('Пр. №1.2.'!$L:$L,'Пр. №1.2.'!$B:$B,'Пр. №3'!$D220,'Пр. №1.2.'!$E:$E,'Пр. №3'!$G220)","v":0},{"$error":"#VALUE!"},{"$error":"#VALUE!"}]
[{"$f":"ROW()","v":221},165,"Ввод данных",{"$error":"#N/A"},{"$f":"INDEX('Пр. №2'!$1:$1048576,MATCH('Пр. №3'!$F221,'Пр. №2'!$D:$D,0),COLUMN('Пр. №2'!$C$5))","v":{"$error":"#N/A"}},null,null,null,null,null,null,null,null,null,null,null,null,null,null,null,null,null,null,null,null,null,null,null,null,null,null,null,null,null,null,null,null,null,null,null,null,null,null,null,null,null,null,null,null,null,null,null,null,null,null,null,null,null,null,null,null,null,null,null,null,null,null,null,0,null,{"$f":"IFERROR(INDEX(справочник!$G$1:$I$7,MATCH($BV221,справочник!$G$1:$G$7,0),3),\"---\")","v":"---"},{"$f":"IFERROR(INDEX('Пр. №1'!$B$11:$C$34,MATCH(BS221,'Пр. №1'!$B$11:$B$34,0),2),\"---\")","v":"---"},{"$f":"IFERROR(INDEX('Состав ВТК-ВРГ'!$1:$1048576,MATCH($G221,'Состав ВТК-ВРГ'!$B:$B,0),MATCH(BU$6,'Состав ВТК-ВРГ'!$3:$3,0)),\"---\")","v":"---"},{"$f":"IFERROR(INDEX('Состав ВТК-ВРГ'!$1:$1048576,MATCH($G221,'Состав ВТК-ВРГ'!$B:$B,0),MATCH(BV$6,'Состав ВТК-ВРГ'!$3:$3,0)),\"---\")","v":"---"},{"$f":"IFERROR(INDEX(справочник!$G$1:$I$7,MATCH($BV221,справочник!$G$1:$G$7,0),2),\"---\")","v":"---"},{"$f":"IFERROR(INDEX('Состав ВТК-ВРГ'!$1:$1048576,MATCH($G221,'Состав ВТК-ВРГ'!$B:$B,0),MATCH(BX$6,'Состав ВТК-ВРГ'!$3:$3,0)),\"---\")","v":"---"},{"$f":"IFERROR(INDEX('Пр. №4'!$1:$1048576,MATCH(BX221,'Пр. №4'!$C:$C,0),MATCH('Пр. №3'!$D$5,'Пр. №4'!$9:$9,0)),\"---\")","v":"---"},{"$f":"SUMIFS('Пр. №1.2.'!$L:$L,'Пр. №1.2.'!$B:$B,'Пр. №3'!$D221,'Пр. №1.2.'!$E:$E,'Пр. №3'!$G221)","v":0},{"$error":"#VALUE!"},{"$error":"#VALUE!"}]
[{"$f":"ROW()","v":222},166,"Ввод данных",{"$error":"#N/A"},{"$f":"INDEX('Пр. №2'!$1:$1048576,MATCH('Пр. №3'!$F222,'Пр. №2'!$D:$D,0),COLUMN('Пр. №2'!$C$5))","v":{"$error":"#N/A"}},null,null,null,null,null,null,null,null,null,null,null,null,null,null,null,null,null,null,null,null,null,null,null,null,null,null,null,null,null,null,null,null,null,null,null,null,null,null,null,null,null,null,null,null,null,null,null,null,null,null,null,null,null,null,null,null,null,null,null,null,null,null,null,0,null,{"$f":"IFERROR(INDEX(справочник!$G$1:$I$7,MATCH($BV222,справочник!$G$1:$G$7,0),3),\"---\")","v":"---"},{"$f":"IFERROR(INDEX('Пр. №1'!$B$11:$C$34,MATCH(BS222,'Пр. №1'!$B$11:$B$34,0),2),\"---\")","v":"---"},{"$f":"IFERROR(INDEX('Состав ВТК-ВРГ'!$1:$1048576,MATCH($G222,'Состав ВТК-ВРГ'!$B:$B,0),MATCH(BU$6,'Состав ВТК-ВРГ'!$3:$3,0)),\"---\")","v":"---"},{"$f":"IFERROR(INDEX('Состав ВТК-ВРГ'!$1:$1048576,MATCH($G222,'Состав ВТК-ВРГ'!$B:$B,0),MATCH(BV$6,'Состав ВТК-ВРГ'!$3:$3,0)),\"---\")","v":"---"},{"$f":"IFERROR(INDEX(справочник!$G$1:$I$7,MATCH($BV222,справочник!$G$1:$G$7,0),2),\"---\")","v":"---"},{"$f":"IFERROR(INDEX('Состав ВТК-ВРГ'!$1:$1048576,MATCH($G222,'Состав ВТК-ВРГ'!$B:$B,0),MATCH(BX$6,'Состав ВТК-ВРГ'!$3:$3,0)),\"---\")","v":"---"},{"$f":"IFERROR(INDEX('Пр. №4'!$1:$1048576,MATCH(BX222,'Пр. №4'!$C:$C,0),MATCH('Пр. №3'!$D$5,'Пр. №4'!$9:$9,0)),\"---\")","v":"---"},{"$f":"SUMIFS('Пр. №1.2.'!$L:$L,'Пр. №1.2.'!$B:$B,'Пр. №3'!$D222,'Пр. №1.2.'!$E:$E,'Пр. №3'!$G222)","v":0},{"$error":"#VALUE!"},{"$error":"#VALUE!"}]
[{"$f":"ROW()","v":223},167,"Ввод данных",{"$error":"#N/A"},{"$f":"INDEX('Пр. №2'!$1:$1048576,MATCH('Пр. №3'!$F223,'Пр. №2'!$D:$D,0),COLUMN('Пр. №2'!$C$5))","v":{"$error":"#N/A"}},null,null,null,null,null,null,null,null,null,null,null,null,null,null,null,null,null,null,null,null,null,null,null,null,null,null,null,null,null,null,null,null,null,null,null,null,null,null,null,null,null,null,null,null,null,null,null,null,null,null,null,null,null,null,null,null,null,null,null,null,null,null,null,0,null,{"$f":"IFERROR(INDEX(справочник!$G$1:$I$7,MATCH($BV223,справочник!$G$1:$G$7,0),3),\"---\")","v":"---"},{"$f":"IFERROR(INDEX('Пр. №1'!$B$11:$C$34,MATCH(BS223,'Пр. №1'!$B$11:$B$34,0),2),\"---\")","v":"---"},{"$f":"IFERROR(INDEX('Состав ВТК-ВРГ'!$1:$1048576,MATCH($G223,'Состав ВТК-ВРГ'!$B:$B,0),MATCH(BU$6,'Состав ВТК-ВРГ'!$3:$3,0)),\"---\")","v":"---"},{"$f":"IFERROR(INDEX('Состав ВТК-ВРГ'!$1:$1048576,MATCH($G223,'Состав ВТК-ВРГ'!$B:$B,0),MATCH(BV$6,'Состав ВТК-ВРГ'!$3:$3,0)),\"---\")","v":"---"},{"$f":"IFERROR(INDEX(справочник!$G$1:$I$7,MATCH($BV223,справочник!$G$1:$G$7,0),2),\"---\")","v":"---"},{"$f":"IFERROR(INDEX('Состав ВТК-ВРГ'!$1:$1048576,MATCH($G223,'Состав ВТК-ВРГ'!$B:$B,0),MATCH(BX$6,'Состав ВТК-ВРГ'!$3:$3,0)),\"---\")","v":"---"},{"$f":"IFERROR(INDEX('Пр. №4'!$1:$1048576,MATCH(BX223,'Пр. №4'!$C:$C,0),MATCH('Пр. №3'!$D$5,'Пр. №4'!$9:$9,0)),\"---\")","v":"---"},{"$f":"SUMIFS('Пр. №1.2.'!$L:$L,'Пр. №1.2.'!$B:$B,'Пр. №3'!$D223,'Пр. №1.2.'!$E:$E,'Пр. №3'!$G223)","v":0},{"$error":"#VALUE!"},{"$error":"#VALUE!"}]
[{"$f":"ROW()","v":224},168,"Ввод данных",{"$error":"#N/A"},{"$f":"INDEX('Пр. №2'!$1:$1048576,MATCH('Пр. №3'!$F224,'Пр. №2'!$D:$D,0),COLUMN('Пр. №2'!$C$5))","v":{"$error":"#N/A"}},null,null,null,null,null,null,null,null,null,null,null,null,null,null,null,null,null,null,null,null,null,null,null,null,null,null,null,null,null,null,null,null,null,null,null,null,null,null,null,null,null,null,null,null,null,null,null,null,null,null,null,null,null,null,null,null,null,null,null,null,null,null,null,0,null,{"$f":"IFERROR(INDEX(справочник!$G$1:$I$7,MATCH($BV224,справочник!$G$1:$G$7,0),3),\"---\")","v":"---"},{"$f":"IFERROR(INDEX('Пр. №1'!$B$11:$C$34,MATCH(BS224,'Пр. №1'!$B$11:$B$34,0),2),\"---\")","v":"---"},{"$f":"IFERROR(INDEX('Состав ВТК-ВРГ'!$1:$1048576,MATCH($G224,'Состав ВТК-ВРГ'!$B:$B,0),MATCH(BU$6,'Состав ВТК-ВРГ'!$3:$3,0)),\"---\")","v":"---"},{"$f":"IFERROR(INDEX('Состав ВТК-ВРГ'!$1:$1048576,MATCH($G224,'Состав ВТК-ВРГ'!$B:$B,0),MATCH(BV$6,'Состав ВТК-ВРГ'!$3:$3,0)),\"---\")","v":"---"},{"$f":"IFERROR(INDEX(справочник!$G$1:$I$7,MATCH($BV224,справочник!$G$1:$G$7,0),2),\"---\")","v":"---"},{"$f":"IFERROR(INDEX('Состав ВТК-ВРГ'!$1:$1048576,MATCH($G224,'Состав ВТК-ВРГ'!$B:$B,0),MATCH(BX$6,'Состав ВТК-ВРГ'!$3:$3,0)),\"---\")","v":"---"},{"$f":"IFERROR(INDEX('Пр. №4'!$1:$1048576,MATCH(BX224,'Пр. №4'!$C:$C,0),MATCH('Пр. №3'!$D$5,'Пр. №4'!$9:$9,0)),\"---\")","v":"---"},{"$f":"SUMIFS('Пр. №1.2.'!$L:$L,'Пр. №1.2.'!$B:$B,'Пр. №3'!$D224,'Пр. №1.2.'!$E:$E,'Пр. №3'!$G224)","v":0},{"$error":"#VALUE!"},{"$error":"#VALUE!"}]
[{"$f":"ROW()","v":225},169,"Ввод данных",{"$error":"#N/A"},{"$f":"INDEX('Пр. №2'!$1:$1048576,MATCH('Пр. №3'!$F225,'Пр. №2'!$D:$D,0),COLUMN('Пр. №2'!$C$5))","v":{"$error":"#N/A"}},null,null,null,null,null,null,null,null,null,null,null,null,null,null,null,null,null,null,null,null,null,null,null,null,null,null,null,null,null,null,null,null,null,null,null,null,null,null,null,null,null,null,null,null,null,null,null,null,null,null,null,null,null,null,null,null,null,null,null,null,null,null,null,0,null,{"$f":"IFERROR(INDEX(справочник!$G$1:$I$7,MATCH($BV225,справочник!$G$1:$G$7,0),3),\"---\")","v":"---"},{"$f":"IFERROR(INDEX('Пр. №1'!$B$11:$C$34,MATCH(BS225,'Пр. №1'!$B$11:$B$34,0),2),\"---\")","v":"---"},{"$f":"IFERROR(INDEX('Состав ВТК-ВРГ'!$1:$1048576,MATCH($G225,'Состав ВТК-ВРГ'!$B:$B,0),MATCH(BU$6,'Состав ВТК-ВРГ'!$3:$3,0)),\"---\")","v":"---"},{"$f":"IFERROR(INDEX('Состав ВТК-ВРГ'!$1:$1048576,MATCH($G225,'Состав ВТК-ВРГ'!$B:$B,0),MATCH(BV$6,'Состав ВТК-ВРГ'!$3:$3,0)),\"---\")","v":"---"},{"$f":"IFERROR(INDEX(справочник!$G$1:$I$7,MATCH($BV225,справочник!$G$1:$G$7,0),2),\"---\")","v":"---"},{"$f":"IFERROR(INDEX('Состав ВТК-ВРГ'!$1:$1048576,MATCH($G225,'Состав ВТК-ВРГ'!$B:$B,0),MATCH(BX$6,'Состав ВТК-ВРГ'!$3:$3,0)),\"---\")","v":"---"},{"$f":"IFERROR(INDEX('Пр. №4'!$1:$1048576,MATCH(BX225,'Пр. №4'!$C:$C,0),MATCH('Пр. №3'!$D$5,'Пр. №4'!$9:$9,0)),\"---\")","v":"---"},{"$f":"SUMIFS('Пр. №1.2.'!$L:$L,'Пр. №1.2.'!$B:$B,'Пр. №3'!$D225,'Пр. №1.2.'!$E:$E,'Пр. №3'!$G225)","v":0},{"$error":"#VALUE!"},{"$error":"#VALUE!"}]
[{"$f":"ROW()","v":226},170,"Ввод данных",{"$error":"#N/A"},{"$f":"INDEX('Пр. №2'!$1:$1048576,MATCH('Пр. №3'!$F226,'Пр. №2'!$D:$D,0),COLUMN('Пр. №2'!$C$5))","v":{"$error":"#N/A"}},null,null,null,null,null,null,null,null,null,null,null,null,null,null,null,null,null,null,null,null,null,null,null,null,null,null,null,null,null,null,null,null,null,null,null,null,null,null,null,null,null,null,null,null,null,null,null,null,null,null,null,null,null,null,null,null,null,null,null,null,null,null,null,0,null,{"$f":"IFERROR(INDEX(справочник!$G$1:$I$7,MATCH($BV226,справочник!$G$1:$G$7,0),3),\"---\")","v":"---"},{"$f":"IFERROR(INDEX('Пр. №1'!$B$11:$C$34,MATCH(BS226,'Пр. №1'!$B$11:$B$34,0),2),\"---\")","v":"---"},{"$f":"IFERROR(INDEX('Состав ВТК-ВРГ'!$1:$1048576,MATCH($G226,'Состав ВТК-ВРГ'!$B:$B,0),MATCH(BU$6,'Состав ВТК-ВРГ'!$3:$3,0)),\"---\")","v":"---"},{"$f":"IFERROR(INDEX('Состав ВТК-ВРГ'!$1:$1048576,MATCH($G226,'Состав ВТК-ВРГ'!$B:$B,0),MATCH(BV$6,'Состав ВТК-ВРГ'!$3:$3,0)),\"---\")","v":"---"},{"$f":"IFERROR(INDEX(справочник!$G$1:$I$7,MATCH($BV226,справочник!$G$1:$G$7,0),2),\"---\")","v":"---"},{"$f":"IFERROR(INDEX('Состав ВТК-ВРГ'!$1:$1048576,MATCH($G226,'Состав ВТК-ВРГ'!$B:$B,0),MATCH(BX$6,'Состав ВТК-ВРГ'!$3:$3,0)),\"---\")","v":"---"},{"$f":"IFERROR(INDEX('Пр. №4'!$1:$1048576,MATCH(BX226,'Пр. №4'!$C:$C,0),MATCH('Пр. №3'!$D$5,'Пр. №4'!$9:$9,0)),\"---\")","v":"---"},{"$f":"SUMIFS('Пр. №1.2.'!$L:$L,'Пр. №1.2.'!$B:$B,'Пр. №3'!$D226,'Пр. №1.2.'!$E:$E,'Пр. №3'!$G226)","v":0},{"$error":"#VALUE!"},{"$error":"#VALUE!"}]
[{"$f":"ROW()","v":227},171,"Ввод данных",{"$error":"#N/A"},{"$f":"INDEX('Пр. №2'!$1:$1048576,MATCH('Пр. №3'!$F227,'Пр. №2'!$D:$D,0),COLUMN('Пр. №2'!$C$5))","v":{"$error":"#N/A"}},null,null,null,null,null,null,null,null,null,null,null,null,null,null,null,null,null,null,null,null,null,null,null,null,null,null,null,null,null,null,null,null,null,null,null,null,null,null,null,null,null,null,null,null,null,null,null,null,null,null,null,null,null,null,null,null,null,null,null,null,null,null,null,0,null,{"$f":"IFERROR(INDEX(справочник!$G$1:$I$7,MATCH($BV227,справочник!$G$1:$G$7,0),3),\"---\")","v":"---"},{"$f":"IFERROR(INDEX('Пр. №1'!$B$11:$C$34,MATCH(BS227,'Пр. №1'!$B$11:$B$34,0),2),\"---\")","v":"---"},{"$f":"IFERROR(INDEX('Состав ВТК-ВРГ'!$1:$1048576,MATCH($G227,'Состав ВТК-ВРГ'!$B:$B,0),MATCH(BU$6,'Состав ВТК-ВРГ'!$3:$3,0)),\"---\")","v":"---"},{"$f":"IFERROR(INDEX('Состав ВТК-ВРГ'!$1:$1048576,MATCH($G227,'Состав ВТК-ВРГ'!$B:$B,0),MATCH(BV$6,'Состав ВТК-ВРГ'!$3:$3,0)),\"---\")","v":"---"},{"$f":"IFERROR(INDEX(справочник!$G$1:$I$7,MATCH($BV227,справочник!$G$1:$G$7,0),2),\"---\")","v":"---"},{"$f":"IFERROR(INDEX('Состав ВТК-ВРГ'!$1:$1048576,MATCH($G227,'Состав ВТК-ВРГ'!$B:$B,0),MATCH(BX$6,'Состав ВТК-ВРГ'!$3:$3,0)),\"---\")","v":"---"},{"$f":"IFERROR(INDEX('Пр. №4'!$1:$1048576,MATCH(BX227,'Пр. №4'!$C:$C,0),MATCH('Пр. №3'!$D$5,'Пр. №4'!$9:$9,0)),\"---\")","v":"---"},{"$f":"SUMIFS('Пр. №1.2.'!$L:$L,'Пр. №1.2.'!$B:$B,'Пр. №3'!$D227,'Пр. №1.2.'!$E:$E,'Пр. №3'!$G227)","v":0},{"$error":"#VALUE!"},{"$error":"#VALUE!"}]
[{"$f":"ROW()","v":228},172,"Ввод данных",{"$error":"#N/A"},{"$f":"INDEX('Пр. №2'!$1:$1048576,MATCH('Пр. №3'!$F228,'Пр. №2'!$D:$D,0),COLUMN('Пр. №2'!$C$5))","v":{"$error":"#N/A"}},null,null,null,null,null,null,null,null,null,null,null,null,null,null,null,null,null,null,null,null,null,null,null,null,null,null,null,null,null,null,null,null,null,null,null,null,null,null,null,null,null,null,null,null,null,null,null,null,null,null,null,null,null,null,null,null,null,null,null,null,null,null,null,0,null,{"$f":"IFERROR(INDEX(справочник!$G$1:$I$7,MATCH($BV228,справочник!$G$1:$G$7,0),3),\"---\")","v":"---"},{"$f":"IFERROR(INDEX('Пр. №1'!$B$11:$C$34,MATCH(BS228,'Пр. №1'!$B$11:$B$34,0),2),\"---\")","v":"---"},{"$f":"IFERROR(INDEX('Состав ВТК-ВРГ'!$1:$1048576,MATCH($G228,'Состав ВТК-ВРГ'!$B:$B,0),MATCH(BU$6,'Состав ВТК-ВРГ'!$3:$3,0)),\"---\")","v":"---"},{"$f":"IFERROR(INDEX('Состав ВТК-ВРГ'!$1:$1048576,MATCH($G228,'Состав ВТК-ВРГ'!$B:$B,0),MATCH(BV$6,'Состав ВТК-ВРГ'!$3:$3,0)),\"---\")","v":"---"},{"$f":"IFERROR(INDEX(справочник!$G$1:$I$7,MATCH($BV228,справочник!$G$1:$G$7,0),2),\"---\")","v":"---"},{"$f":"IFERROR(INDEX('Состав ВТК-ВРГ'!$1:$1048576,MATCH($G228,'Состав ВТК-ВРГ'!$B:$B,0),MATCH(BX$6,'Состав ВТК-ВРГ'!$3:$3,0)),\"---\")","v":"---"},{"$f":"IFERROR(INDEX('Пр. №4'!$1:$1048576,MATCH(BX228,'Пр. №4'!$C:$C,0),MATCH('Пр. №3'!$D$5,'Пр. №4'!$9:$9,0)),\"---\")","v":"---"},{"$f":"SUMIFS('Пр. №1.2.'!$L:$L,'Пр. №1.2.'!$B:$B,'Пр. №3'!$D228,'Пр. №1.2.'!$E:$E,'Пр. №3'!$G228)","v":0},{"$error":"#VALUE!"},{"$error":"#VALUE!"}]
[{"$f":"ROW()","v":229},173,"Ввод данных",{"$error":"#N/A"},{"$f":"INDEX('Пр. №2'!$1:$1048576,MATCH('Пр. №3'!$F229,'Пр. №2'!$D:$D,0),COLUMN('Пр. №2'!$C$5))","v":{"$error":"#N/A"}},null,null,null,null,null,null,null,null,null,null,null,null,null,null,null,null,null,null,null,null,null,null,null,null,null,null,null,null,null,null,null,null,null,null,null,null,null,null,null,null,null,null,null,null,null,null,null,null,null,null,null,null,null,null,null,null,null,null,null,null,null,null,null,0,null,{"$f":"IFERROR(INDEX(справочник!$G$1:$I$7,MATCH($BV229,справочник!$G$1:$G$7,0),3),\"---\")","v":"---"},{"$f":"IFERROR(INDEX('Пр. №1'!$B$11:$C$34,MATCH(BS229,'Пр. №1'!$B$11:$B$34,0),2),\"---\")","v":"---"},{"$f":"IFERROR(INDEX('Состав ВТК-ВРГ'!$1:$1048576,MATCH($G229,'Состав ВТК-ВРГ'!$B:$B,0),MATCH(BU$6,'Состав ВТК-ВРГ'!$3:$3,0)),\"---\")","v":"---"},{"$f":"IFERROR(INDEX('Состав ВТК-ВРГ'!$1:$1048576,MATCH($G229,'Состав ВТК-ВРГ'!$B:$B,0),MATCH(BV$6,'Состав ВТК-ВРГ'!$3:$3,0)),\"---\")","v":"---"},{"$f":"IFERROR(INDEX(справочник!$G$1:$I$7,MATCH($BV229,справочник!$G$1:$G$7,0),2),\"---\")","v":"---"},{"$f":"IFERROR(INDEX('Состав ВТК-ВРГ'!$1:$1048576,MATCH($G229,'Состав ВТК-ВРГ'!$B:$B,0),MATCH(BX$6,'Состав ВТК-ВРГ'!$3:$3,0)),\"---\")","v":"---"},{"$f":"IFERROR(INDEX('Пр. №4'!$1:$1048576,MATCH(BX229,'Пр. №4'!$C:$C,0),MATCH('Пр. №3'!$D$5,'Пр. №4'!$9:$9,0)),\"---\")","v":"---"},{"$f":"SUMIFS('Пр. №1.2.'!$L:$L,'Пр. №1.2.'!$B:$B,'Пр. №3'!$D229,'Пр. №1.2.'!$E:$E,'Пр. №3'!$G229)","v":0},{"$error":"#VALUE!"},{"$error":"#VALUE!"}]
[{"$f":"ROW()","v":230},174,"Ввод данных",{"$error":"#N/A"},{"$f":"INDEX('Пр. №2'!$1:$1048576,MATCH('Пр. №3'!$F230,'Пр. №2'!$D:$D,0),COLUMN('Пр. №2'!$C$5))","v":{"$error":"#N/A"}},null,null,null,null,null,null,null,null,null,null,null,null,null,null,null,null,null,null,null,null,null,null,null,null,null,null,null,null,null,null,null,null,null,null,null,null,null,null,null,null,null,null,null,null,null,null,null,null,null,null,null,null,null,null,null,null,null,null,null,null,null,null,null,0,null,{"$f":"IFERROR(INDEX(справочник!$G$1:$I$7,MATCH($BV230,справочник!$G$1:$G$7,0),3),\"---\")","v":"---"},{"$f":"IFERROR(INDEX('Пр. №1'!$B$11:$C$34,MATCH(BS230,'Пр. №1'!$B$11:$B$34,0),2),\"---\")","v":"---"},{"$f":"IFERROR(INDEX('Состав ВТК-ВРГ'!$1:$1048576,MATCH($G230,'Состав ВТК-ВРГ'!$B:$B,0),MATCH(BU$6,'Состав ВТК-ВРГ'!$3:$3,0)),\"---\")","v":"---"},{"$f":"IFERROR(INDEX('Состав ВТК-ВРГ'!$1:$1048576,MATCH($G230,'Состав ВТК-ВРГ'!$B:$B,0),MATCH(BV$6,'Состав ВТК-ВРГ'!$3:$3,0)),\"---\")","v":"---"},{"$f":"IFERROR(INDEX(справочник!$G$1:$I$7,MATCH($BV230,справочник!$G$1:$G$7,0),2),\"---\")","v":"---"},{"$f":"IFERROR(INDEX('Состав ВТК-ВРГ'!$1:$1048576,MATCH($G230,'Состав ВТК-ВРГ'!$B:$B,0),MATCH(BX$6,'Состав ВТК-ВРГ'!$3:$3,0)),\"---\")","v":"---"},{"$f":"IFERROR(INDEX('Пр. №4'!$1:$1048576,MATCH(BX230,'Пр. №4'!$C:$C,0),MATCH('Пр. №3'!$D$5,'Пр. №4'!$9:$9,0)),\"---\")","v":"---"},{"$f":"SUMIFS('Пр. №1.2.'!$L:$L,'Пр. №1.2.'!$B:$B,'Пр. №3'!$D230,'Пр. №1.2.'!$E:$E,'Пр. №3'!$G230)","v":0},{"$error":"#VALUE!"},{"$error":"#VALUE!"}]
[{"$f":"ROW()","v":231},175,"Ввод данных",{"$error":"#N/A"},{"$f":"INDEX('Пр. №2'!$1:$1048576,MATCH('Пр. №3'!$F231,'Пр. №2'!$D:$D,0),COLUMN('Пр. №2'!$C$5))","v":{"$error":"#N/A"}},null,null,null,null,null,null,null,null,null,null,null,null,null,null,null,null,null,null,null,null,null,null,null,null,null,null,null,null,null,null,null,null,null,null,null,null,null,null,null,null,null,null,null,null,null,null,null,null,null,null,null,null,null,null,null,null,null,null,null,null,null,null,null,0,null,{"$f":"IFERROR(INDEX(справочник!$G$1:$I$7,MATCH($BV231,справочник!$G$1:$G$7,0),3),\"---\")","v":"---"},{"$f":"IFERROR(INDEX('Пр. №1'!$B$11:$C$34,MATCH(BS231,'Пр. №1'!$B$11:$B$34,0),2),\"---\")","v":"---"},{"$f":"IFERROR(INDEX('Состав ВТК-ВРГ'!$1:$1048576,MATCH($G231,'Состав ВТК-ВРГ'!$B:$B,0),MATCH(BU$6,'Состав ВТК-ВРГ'!$3:$3,0)),\"---\")","v":"---"},{"$f":"IFERROR(INDEX('Состав ВТК-ВРГ'!$1:$1048576,MATCH($G231,'Состав ВТК-ВРГ'!$B:$B,0),MATCH(BV$6,'Состав ВТК-ВРГ'!$3:$3,0)),\"---\")","v":"---"},{"$f":"IFERROR(INDEX(справочник!$G$1:$I$7,MATCH($BV231,справочник!$G$1:$G$7,0),2),\"---\")","v":"---"},{"$f":"IFERROR(INDEX('Состав ВТК-ВРГ'!$1:$1048576,MATCH($G231,'Состав ВТК-ВРГ'!$B:$B,0),MATCH(BX$6,'Состав ВТК-ВРГ'!$3:$3,0)),\"---\")","v":"---"},{"$f":"IFERROR(INDEX('Пр. №4'!$1:$1048576,MATCH(BX231,'Пр. №4'!$C:$C,0),MATCH('Пр. №3'!$D$5,'Пр. №4'!$9:$9,0)),\"---\")","v":"---"},{"$f":"SUMIFS('Пр. №1.2.'!$L:$L,'Пр. №1.2.'!$B:$B,'Пр. №3'!$D231,'Пр. №1.2.'!$E:$E,'Пр. №3'!$G231)","v":0},{"$error":"#VALUE!"},{"$error":"#VALUE!"}]
[{"$f":"ROW()","v":232},176,"Ввод данных",{"$error":"#N/A"},{"$f":"INDEX('Пр. №2'!$1:$1048576,MATCH('Пр. №3'!$F232,'Пр. №2'!$D:$D,0),COLUMN('Пр. №2'!$C$5))","v":{"$error":"#N/A"}},null,null,null,null,null,null,null,null,null,null,null,null,null,null,null,null,null,null,null,null,null,null,null,null,null,null,null,null,null,null,null,null,null,null,null,null,null,null,null,null,null,null,null,null,null,null,null,null,null,null,null,null,null,null,null,null,null,null,null,null,null,null,null,0,null,{"$f":"IFERROR(INDEX(справочник!$G$1:$I$7,MATCH($BV232,справочник!$G$1:$G$7,0),3),\"---\")","v":"---"},{"$f":"IFERROR(INDEX('Пр. №1'!$B$11:$C$34,MATCH(BS232,'Пр. №1'!$B$11:$B$34,0),2),\"---\")","v":"---"},{"$f":"IFERROR(INDEX('Состав ВТК-ВРГ'!$1:$1048576,MATCH($G232,'Состав ВТК-ВРГ'!$B:$B,0),MATCH(BU$6,'Состав ВТК-ВРГ'!$3:$3,0)),\"---\")","v":"---"},{"$f":"IFERROR(INDEX('Состав ВТК-ВРГ'!$1:$1048576,MATCH($G232,'Состав ВТК-ВРГ'!$B:$B,0),MATCH(BV$6,'Состав ВТК-ВРГ'!$3:$3,0)),\"---\")","v":"---"},{"$f":"IFERROR(INDEX(справочник!$G$1:$I$7,MATCH($BV232,справочник!$G$1:$G$7,0),2),\"---\")","v":"---"},{"$f":"IFERROR(INDEX('Состав ВТК-ВРГ'!$1:$1048576,MATCH($G232,'Состав ВТК-ВРГ'!$B:$B,0),MATCH(BX$6,'Состав ВТК-ВРГ'!$3:$3,0)),\"---\")","v":"---"},{"$f":"IFERROR(INDEX('Пр. №4'!$1:$1048576,MATCH(BX232,'Пр. №4'!$C:$C,0),MATCH('Пр. №3'!$D$5,'Пр. №4'!$9:$9,0)),\"---\")","v":"---"},{"$f":"SUMIFS('Пр. №1.2.'!$L:$L,'Пр. №1.2.'!$B:$B,'Пр. №3'!$D232,'Пр. №1.2.'!$E:$E,'Пр. №3'!$G232)","v":0},{"$error":"#VALUE!"},{"$error":"#VALUE!"}]
[{"$f":"ROW()","v":233},177,"Ввод данных",{"$error":"#N/A"},{"$f":"INDEX('Пр. №2'!$1:$1048576,MATCH('Пр. №3'!$F233,'Пр. №2'!$D:$D,0),COLUMN('Пр. №2'!$C$5))","v":{"$error":"#N/A"}},null,null,null,null,null,null,null,null,null,null,null,null,null,null,null,null,null,null,null,null,null,null,null,null,null,null,null,null,null,null,null,null,null,null,null,null,null,null,null,null,null,null,null,null,null,null,null,null,null,null,null,null,null,null,null,null,null,null,null,null,null,null,null,0,null,{"$f":"IFERROR(INDEX(справочник!$G$1:$I$7,MATCH($BV233,справочник!$G$1:$G$7,0),3),\"---\")","v":"---"},{"$f":"IFERROR(INDEX('Пр. №1'!$B$11:$C$34,MATCH(BS233,'Пр. №1'!$B$11:$B$34,0),2),\"---\")","v":"---"},{"$f":"IFERROR(INDEX('Состав ВТК-ВРГ'!$1:$1048576,MATCH($G233,'Состав ВТК-ВРГ'!$B:$B,0),MATCH(BU$6,'Состав ВТК-ВРГ'!$3:$3,0)),\"---\")","v":"---"},{"$f":"IFERROR(INDEX('Состав ВТК-ВРГ'!$1:$1048576,MATCH($G233,'Состав ВТК-ВРГ'!$B:$B,0),MATCH(BV$6,'Состав ВТК-ВРГ'!$3:$3,0)),\"---\")","v":"---"},{"$f":"IFERROR(INDEX(справочник!$G$1:$I$7,MATCH($BV233,справочник!$G$1:$G$7,0),2),\"---\")","v":"---"},{"$f":"IFERROR(INDEX('Состав ВТК-ВРГ'!$1:$1048576,MATCH($G233,'Состав ВТК-ВРГ'!$B:$B,0),MATCH(BX$6,'Состав ВТК-ВРГ'!$3:$3,0)),\"---\")","v":"---"},{"$f":"IFERROR(INDEX('Пр. №4'!$1:$1048576,MATCH(BX233,'Пр. №4'!$C:$C,0),MATCH('Пр. №3'!$D$5,'Пр. №4'!$9:$9,0)),\"---\")","v":"---"},{"$f":"SUMIFS('Пр. №1.2.'!$L:$L,'Пр. №1.2.'!$B:$B,'Пр. №3'!$D233,'Пр. №1.2.'!$E:$E,'Пр. №3'!$G233)","v":0},{"$error":"#VALUE!"},{"$error":"#VALUE!"}]
[{"$f":"ROW()","v":234},178,"Ввод данных",{"$error":"#N/A"},{"$f":"INDEX('Пр. №2'!$1:$1048576,MATCH('Пр. №3'!$F234,'Пр. №2'!$D:$D,0),COLUMN('Пр. №2'!$C$5))","v":{"$error":"#N/A"}},null,null,null,null,null,null,null,null,null,null,null,null,null,null,null,null,null,null,null,null,null,null,null,null,null,null,null,null,null,null,null,null,null,null,null,null,null,null,null,null,null,null,null,null,null,null,null,null,null,null,null,null,null,null,null,null,null,null,null,null,null,null,null,0,null,{"$f":"IFERROR(INDEX(справочник!$G$1:$I$7,MATCH($BV234,справочник!$G$1:$G$7,0),3),\"---\")","v":"---"},{"$f":"IFERROR(INDEX('Пр. №1'!$B$11:$C$34,MATCH(BS234,'Пр. №1'!$B$11:$B$34,0),2),\"---\")","v":"---"},{"$f":"IFERROR(INDEX('Состав ВТК-ВРГ'!$1:$1048576,MATCH($G234,'Состав ВТК-ВРГ'!$B:$B,0),MATCH(BU$6,'Состав ВТК-ВРГ'!$3:$3,0)),\"---\")","v":"---"},{"$f":"IFERROR(INDEX('Состав ВТК-ВРГ'!$1:$1048576,MATCH($G234,'Состав ВТК-ВРГ'!$B:$B,0),MATCH(BV$6,'Состав ВТК-ВРГ'!$3:$3,0)),\"---\")","v":"---"},{"$f":"IFERROR(INDEX(справочник!$G$1:$I$7,MATCH($BV234,справочник!$G$1:$G$7,0),2),\"---\")","v":"---"},{"$f":"IFERROR(INDEX('Состав ВТК-ВРГ'!$1:$1048576,MATCH($G234,'Состав ВТК-ВРГ'!$B:$B,0),MATCH(BX$6,'Состав ВТК-ВРГ'!$3:$3,0)),\"---\")","v":"---"},{"$f":"IFERROR(INDEX('Пр. №4'!$1:$1048576,MATCH(BX234,'Пр. №4'!$C:$C,0),MATCH('Пр. №3'!$D$5,'Пр. №4'!$9:$9,0)),\"---\")","v":"---"},{"$f":"SUMIFS('Пр. №1.2.'!$L:$L,'Пр. №1.2.'!$B:$B,'Пр. №3'!$D234,'Пр. №1.2.'!$E:$E,'Пр. №3'!$G234)","v":0},{"$error":"#VALUE!"},{"$error":"#VALUE!"}]
[{"$f":"ROW()","v":235},179,"Ввод данных",{"$error":"#N/A"},{"$f":"INDEX('Пр. №2'!$1:$1048576,MATCH('Пр. №3'!$F235,'Пр. №2'!$D:$D,0),COLUMN('Пр. №2'!$C$5))","v":{"$error":"#N/A"}},null,null,null,null,null,null,null,null,null,null,null,null,null,null,null,null,null,null,null,null,null,null,null,null,null,null,null,null,null,null,null,null,null,null,null,null,null,null,null,null,null,null,null,null,null,null,null,null,null,null,null,null,null,null,null,null,null,null,null,null,null,null,null,0,null,{"$f":"IFERROR(INDEX(справочник!$G$1:$I$7,MATCH($BV235,справочник!$G$1:$G$7,0),3),\"---\")","v":"---"},{"$f":"IFERROR(INDEX('Пр. №1'!$B$11:$C$34,MATCH(BS235,'Пр. №1'!$B$11:$B$34,0),2),\"---\")","v":"---"},{"$f":"IFERROR(INDEX('Состав ВТК-ВРГ'!$1:$1048576,MATCH($G235,'Состав ВТК-ВРГ'!$B:$B,0),MATCH(BU$6,'Состав ВТК-ВРГ'!$3:$3,0)),\"---\")","v":"---"},{"$f":"IFERROR(INDEX('Состав ВТК-ВРГ'!$1:$1048576,MATCH($G235,'Состав ВТК-ВРГ'!$B:$B,0),MATCH(BV$6,'Состав ВТК-ВРГ'!$3:$3,0)),\"---\")","v":"---"},{"$f":"IFERROR(INDEX(справочник!$G$1:$I$7,MATCH($BV235,справочник!$G$1:$G$7,0),2),\"---\")","v":"---"},{"$f":"IFERROR(INDEX('Состав ВТК-ВРГ'!$1:$1048576,MATCH($G235,'Состав ВТК-ВРГ'!$B:$B,0),MATCH(BX$6,'Состав ВТК-ВРГ'!$3:$3,0)),\"---\")","v":"---"},{"$f":"IFERROR(INDEX('Пр. №4'!$1:$1048576,MATCH(BX235,'Пр. №4'!$C:$C,0),MATCH('Пр. №3'!$D$5,'Пр. №4'!$9:$9,0)),\"---\")","v":"---"},{"$f":"SUMIFS('Пр. №1.2.'!$L:$L,'Пр. №1.2.'!$B:$B,'Пр. №3'!$D235,'Пр. №1.2.'!$E:$E,'Пр. №3'!$G235)","v":0},{"$error":"#VALUE!"},{"$error":"#VALUE!"}]
[{"$f":"ROW()","v":236},180,"Ввод данных",{"$error":"#N/A"},{"$f":"INDEX('Пр. №2'!$1:$1048576,MATCH('Пр. №3'!$F236,'Пр. №2'!$D:$D,0),COLUMN('Пр. №2'!$C$5))","v":{"$error":"#N/A"}},null,null,null,null,null,null,null,null,null,null,null,null,null,null,null,null,null,null,null,null,null,null,null,null,null,null,null,null,null,null,null,null,null,null,null,null,null,null,null,null,null,null,null,null,null,null,null,null,null,null,null,null,null,null,null,null,null,null,null,null,null,null,null,0,null,{"$f":"IFERROR(INDEX(справочник!$G$1:$I$7,MATCH($BV236,справочник!$G$1:$G$7,0),3),\"---\")","v":"---"},{"$f":"IFERROR(INDEX('Пр. №1'!$B$11:$C$34,MATCH(BS236,'Пр. №1'!$B$11:$B$34,0),2),\"---\")","v":"---"},{"$f":"IFERROR(INDEX('Состав ВТК-ВРГ'!$1:$1048576,MATCH($G236,'Состав ВТК-ВРГ'!$B:$B,0),MATCH(BU$6,'Состав ВТК-ВРГ'!$3:$3,0)),\"---\")","v":"---"},{"$f":"IFERROR(INDEX('Состав ВТК-ВРГ'!$1:$1048576,MATCH($G236,'Состав ВТК-ВРГ'!$B:$B,0),MATCH(BV$6,'Состав ВТК-ВРГ'!$3:$3,0)),\"---\")","v":"---"},{"$f":"IFERROR(INDEX(справочник!$G$1:$I$7,MATCH($BV236,справочник!$G$1:$G$7,0),2),\"---\")","v":"---"},{"$f":"IFERROR(INDEX('Состав ВТК-ВРГ'!$1:$1048576,MATCH($G236,'Состав ВТК-ВРГ'!$B:$B,0),MATCH(BX$6,'Состав ВТК-ВРГ'!$3:$3,0)),\"---\")","v":"---"},{"$f":"IFERROR(INDEX('Пр. №4'!$1:$1048576,MATCH(BX236,'Пр. №4'!$C:$C,0),MATCH('Пр. №3'!$D$5,'Пр. №4'!$9:$9,0)),\"---\")","v":"---"},{"$f":"SUMIFS('Пр. №1.2.'!$L:$L,'Пр. №1.2.'!$B:$B,'Пр. №3'!$D236,'Пр. №1.2.'!$E:$E,'Пр. №3'!$G236)","v":0},{"$error":"#VALUE!"},{"$error":"#VALUE!"}]
[{"$f":"ROW()","v":237},181,"Ввод данных",{"$error":"#N/A"},{"$f":"INDEX('Пр. №2'!$1:$1048576,MATCH('Пр. №3'!$F237,'Пр. №2'!$D:$D,0),COLUMN('Пр. №2'!$C$5))","v":{"$error":"#N/A"}},null,null,null,null,null,null,null,null,null,null,null,null,null,null,null,null,null,null,null,null,null,null,null,null,null,null,null,null,null,null,null,null,null,null,null,null,null,null,null,null,null,null,null,null,null,null,null,null,null,null,null,null,null,null,null,null,null,null,null,null,null,null,null,0,null,{"$f":"IFERROR(INDEX(справочник!$G$1:$I$7,MATCH($BV237,справочник!$G$1:$G$7,0),3),\"---\")","v":"---"},{"$f":"IFERROR(INDEX('Пр. №1'!$B$11:$C$34,MATCH(BS237,'Пр. №1'!$B$11:$B$34,0),2),\"---\")","v":"---"},{"$f":"IFERROR(INDEX('Состав ВТК-ВРГ'!$1:$1048576,MATCH($G237,'Состав ВТК-ВРГ'!$B:$B,0),MATCH(BU$6,'Состав ВТК-ВРГ'!$3:$3,0)),\"---\")","v":"---"},{"$f":"IFERROR(INDEX('Состав ВТК-ВРГ'!$1:$1048576,MATCH($G237,'Состав ВТК-ВРГ'!$B:$B,0),MATCH(BV$6,'Состав ВТК-ВРГ'!$3:$3,0)),\"---\")","v":"---"},{"$f":"IFERROR(INDEX(справочник!$G$1:$I$7,MATCH($BV237,справочник!$G$1:$G$7,0),2),\"---\")","v":"---"},{"$f":"IFERROR(INDEX('Состав ВТК-ВРГ'!$1:$1048576,MATCH($G237,'Состав ВТК-ВРГ'!$B:$B,0),MATCH(BX$6,'Состав ВТК-ВРГ'!$3:$3,0)),\"---\")","v":"---"},{"$f":"IFERROR(INDEX('Пр. №4'!$1:$1048576,MATCH(BX237,'Пр. №4'!$C:$C,0),MATCH('Пр. №3'!$D$5,'Пр. №4'!$9:$9,0)),\"---\")","v":"---"},{"$f":"SUMIFS('Пр. №1.2.'!$L:$L,'Пр. №1.2.'!$B:$B,'Пр. №3'!$D237,'Пр. №1.2.'!$E:$E,'Пр. №3'!$G237)","v":0},{"$error":"#VALUE!"},{"$error":"#VALUE!"}]
[{"$f":"ROW()","v":238},182,"Ввод данных",{"$error":"#N/A"},{"$f":"INDEX('Пр. №2'!$1:$1048576,MATCH('Пр. №3'!$F238,'Пр. №2'!$D:$D,0),COLUMN('Пр. №2'!$C$5))","v":{"$error":"#N/A"}},null,null,null,null,null,null,null,null,null,null,null,null,null,null,null,null,null,null,null,null,null,null,null,null,null,null,null,null,null,null,null,null,null,null,null,null,null,null,null,null,null,null,null,null,null,null,null,null,null,null,null,null,null,null,null,null,null,null,null,null,null,null,null,0,null,{"$f":"IFERROR(INDEX(справочник!$G$1:$I$7,MATCH($BV238,справочник!$G$1:$G$7,0),3),\"---\")","v":"---"},{"$f":"IFERROR(INDEX('Пр. №1'!$B$11:$C$34,MATCH(BS238,'Пр. №1'!$B$11:$B$34,0),2),\"---\")","v":"---"},{"$f":"IFERROR(INDEX('Состав ВТК-ВРГ'!$1:$1048576,MATCH($G238,'Состав ВТК-ВРГ'!$B:$B,0),MATCH(BU$6,'Состав ВТК-ВРГ'!$3:$3,0)),\"---\")","v":"---"},{"$f":"IFERROR(INDEX('Состав ВТК-ВРГ'!$1:$1048576,MATCH($G238,'Состав ВТК-ВРГ'!$B:$B,0),MATCH(BV$6,'Состав ВТК-ВРГ'!$3:$3,0)),\"---\")","v":"---"},{"$f":"IFERROR(INDEX(справочник!$G$1:$I$7,MATCH($BV238,справочник!$G$1:$G$7,0),2),\"---\")","v":"---"},{"$f":"IFERROR(INDEX('Состав ВТК-ВРГ'!$1:$1048576,MATCH($G238,'Состав ВТК-ВРГ'!$B:$B,0),MATCH(BX$6,'Состав ВТК-ВРГ'!$3:$3,0)),\"---\")","v":"---"},{"$f":"IFERROR(INDEX('Пр. №4'!$1:$1048576,MATCH(BX238,'Пр. №4'!$C:$C,0),MATCH('Пр. №3'!$D$5,'Пр. №4'!$9:$9,0)),\"---\")","v":"---"},{"$f":"SUMIFS('Пр. №1.2.'!$L:$L,'Пр. №1.2.'!$B:$B,'Пр. №3'!$D238,'Пр. №1.2.'!$E:$E,'Пр. №3'!$G238)","v":0},{"$error":"#VALUE!"},{"$error":"#VALUE!"}]
[{"$f":"ROW()","v":239},183,"Ввод данных",{"$f":"INDEX($D$22:$E$35,MATCH(E239,$E$22:$E$35,0),1)","v":{"$error":"#N/A"}},{"$f":"INDEX('Пр. №2'!$1:$1048576,MATCH('Пр. №3'!$F239,'Пр. №2'!$D:$D,0),COLUMN('Пр. №2'!$C$5))","v":{"$error":"#N/A"}},null,null,null,null,null,null,null,null,null,null,null,null,null,null,null,null,null,null,null,null,null,null,null,null,null,null,null,null,null,null,null,null,null,null,null,null,null,null,null,null,null,null,null,null,null,null,null,null,null,null,null,null,null,null,null,null,null,null,null,null,null,null,null,{"$f":"SUM(H239:BP239)","v":0},null,{"$f":"IFERROR(INDEX(справочник!$G$1:$I$7,MATCH($BV239,справочник!$G$1:$G$7,0),3),\"---\")","v":"---"},{"$f":"IFERROR(INDEX('Пр. №1'!$B$11:$C$34,MATCH(BS239,'Пр. №1'!$B$11:$B$34,0),2),\"---\")","v":"---"},{"$f":"IFERROR(INDEX('Состав ВТК-ВРГ'!$1:$1048576,MATCH($G239,'Состав ВТК-ВРГ'!$B:$B,0),MATCH(BU$6,'Состав ВТК-ВРГ'!$3:$3,0)),\"---\")","v":"---"},{"$f":"IFERROR(INDEX('Состав ВТК-ВРГ'!$1:$1048576,MATCH($G239,'Состав ВТК-ВРГ'!$B:$B,0),MATCH(BV$6,'Состав ВТК-ВРГ'!$3:$3,0)),\"---\")","v":"---"},{"$f":"IFERROR(INDEX(справочник!$G$1:$I$7,MATCH($BV239,справочник!$G$1:$G$7,0),2),\"---\")","v":"---"},{"$f":"IFERROR(INDEX('Состав ВТК-ВРГ'!$1:$1048576,MATCH($G239,'Состав ВТК-ВРГ'!$B:$B,0),MATCH(BX$6,'Состав ВТК-ВРГ'!$3:$3,0)),\"---\")","v":"---"},{"$f":"IFERROR(INDEX('Пр. №4'!$1:$1048576,MATCH(BX239,'Пр. №4'!$C:$C,0),MATCH('Пр. №3'!$D$5,'Пр. №4'!$9:$9,0)),\"---\")","v":"---"},{"$f":"SUMIFS('Пр. №1.2.'!$L:$L,'Пр. №1.2.'!$B:$B,'Пр. №3'!$D239,'Пр. №1.2.'!$E:$E,'Пр. №3'!$G239)","v":0},{"$f":"BY239*BZ239","v":{"$error":"#VALUE!"}},{"$f":"BQ239*BZ239*BY239","v":{"$error":"#VALUE!"}}]
[{"$f":"ROW()","v":240},184,"Ввод данных",{"$error":"#N/A"},{"$f":"INDEX('Пр. №2'!$1:$1048576,MATCH('Пр. №3'!$F240,'Пр. №2'!$D:$D,0),COLUMN('Пр. №2'!$C$5))","v":{"$error":"#N/A"}},null,null,null,null,null,null,null,null,null,null,null,null,null,null,null,null,null,null,null,null,null,null,null,null,null,null,null,null,null,null,null,null,null,null,null,null,null,null,null,null,null,null,null,null,null,null,null,null,null,null,null,null,null,null,null,null,null,null,null,null,null,null,null,0,null,{"$f":"IFERROR(INDEX(справочник!$G$1:$I$7,MATCH($BV240,справочник!$G$1:$G$7,0),3),\"---\")","v":"---"},{"$f":"IFERROR(INDEX('Пр. №1'!$B$11:$C$34,MATCH(BS240,'Пр. №1'!$B$11:$B$34,0),2),\"---\")","v":"---"},{"$f":"IFERROR(INDEX('Состав ВТК-ВРГ'!$1:$1048576,MATCH($G240,'Состав ВТК-ВРГ'!$B:$B,0),MATCH(BU$6,'Состав ВТК-ВРГ'!$3:$3,0)),\"---\")","v":"---"},{"$f":"IFERROR(INDEX('Состав ВТК-ВРГ'!$1:$1048576,MATCH($G240,'Состав ВТК-ВРГ'!$B:$B,0),MATCH(BV$6,'Состав ВТК-ВРГ'!$3:$3,0)),\"---\")","v":"---"},{"$f":"IFERROR(INDEX(справочник!$G$1:$I$7,MATCH($BV240,справочник!$G$1:$G$7,0),2),\"---\")","v":"---"},{"$f":"IFERROR(INDEX('Состав ВТК-ВРГ'!$1:$1048576,MATCH($G240,'Состав ВТК-ВРГ'!$B:$B,0),MATCH(BX$6,'Состав ВТК-ВРГ'!$3:$3,0)),\"---\")","v":"---"},{"$f":"IFERROR(INDEX('Пр. №4'!$1:$1048576,MATCH(BX240,'Пр. №4'!$C:$C,0),MATCH('Пр. №3'!$D$5,'Пр. №4'!$9:$9,0)),\"---\")","v":"---"},{"$f":"SUMIFS('Пр. №1.2.'!$L:$L,'Пр. №1.2.'!$B:$B,'Пр. №3'!$D240,'Пр. №1.2.'!$E:$E,'Пр. №3'!$G240)","v":0},{"$error":"#VALUE!"},{"$error":"#VALUE!"}]
[{"$f":"ROW()","v":241},185,"Ввод данных",{"$error":"#N/A"},{"$f":"INDEX('Пр. №2'!$1:$1048576,MATCH('Пр. №3'!$F241,'Пр. №2'!$D:$D,0),COLUMN('Пр. №2'!$C$5))","v":{"$error":"#N/A"}},null,null,null,null,null,null,null,null,null,null,null,null,null,null,null,null,null,null,null,null,null,null,null,null,null,null,null,null,null,null,null,null,null,null,null,null,null,null,null,null,null,null,null,null,null,null,null,null,null,null,null,null,null,null,null,null,null,null,null,null,null,null,null,0,null,{"$f":"IFERROR(INDEX(справочник!$G$1:$I$7,MATCH($BV241,справочник!$G$1:$G$7,0),3),\"---\")","v":"---"},{"$f":"IFERROR(INDEX('Пр. №1'!$B$11:$C$34,MATCH(BS241,'Пр. №1'!$B$11:$B$34,0),2),\"---\")","v":"---"},{"$f":"IFERROR(INDEX('Состав ВТК-ВРГ'!$1:$1048576,MATCH($G241,'Состав ВТК-ВРГ'!$B:$B,0),MATCH(BU$6,'Состав ВТК-ВРГ'!$3:$3,0)),\"---\")","v":"---"},{"$f":"IFERROR(INDEX('Состав ВТК-ВРГ'!$1:$1048576,MATCH($G241,'Состав ВТК-ВРГ'!$B:$B,0),MATCH(BV$6,'Состав ВТК-ВРГ'!$3:$3,0)),\"---\")","v":"---"},{"$f":"IFERROR(INDEX(справочник!$G$1:$I$7,MATCH($BV241,справочник!$G$1:$G$7,0),2),\"---\")","v":"---"},{"$f":"IFERROR(INDEX('Состав ВТК-ВРГ'!$1:$1048576,MATCH($G241,'Состав ВТК-ВРГ'!$B:$B,0),MATCH(BX$6,'Состав ВТК-ВРГ'!$3:$3,0)),\"---\")","v":"---"},{"$f":"IFERROR(INDEX('Пр. №4'!$1:$1048576,MATCH(BX241,'Пр. №4'!$C:$C,0),MATCH('Пр. №3'!$D$5,'Пр. №4'!$9:$9,0)),\"---\")","v":"---"},{"$f":"SUMIFS('Пр. №1.2.'!$L:$L,'Пр. №1.2.'!$B:$B,'Пр. №3'!$D241,'Пр. №1.2.'!$E:$E,'Пр. №3'!$G241)","v":0},{"$error":"#VALUE!"},{"$error":"#VALUE!"}]
[{"$f":"ROW()","v":242},186,"Ввод данных",{"$error":"#N/A"},{"$f":"INDEX('Пр. №2'!$1:$1048576,MATCH('Пр. №3'!$F242,'Пр. №2'!$D:$D,0),COLUMN('Пр. №2'!$C$5))","v":{"$error":"#N/A"}},null,null,null,null,null,null,null,null,null,null,null,null,null,null,null,null,null,null,null,null,null,null,null,null,null,null,null,null,null,null,null,null,null,null,null,null,null,null,null,null,null,null,null,null,null,null,null,null,null,null,null,null,null,null,null,null,null,null,null,null,null,null,null,0,null,{"$f":"IFERROR(INDEX(справочник!$G$1:$I$7,MATCH($BV242,справочник!$G$1:$G$7,0),3),\"---\")","v":"---"},{"$f":"IFERROR(INDEX('Пр. №1'!$B$11:$C$34,MATCH(BS242,'Пр. №1'!$B$11:$B$34,0),2),\"---\")","v":"---"},{"$f":"IFERROR(INDEX('Состав ВТК-ВРГ'!$1:$1048576,MATCH($G242,'Состав ВТК-ВРГ'!$B:$B,0),MATCH(BU$6,'Состав ВТК-ВРГ'!$3:$3,0)),\"---\")","v":"---"},{"$f":"IFERROR(INDEX('Состав ВТК-ВРГ'!$1:$1048576,MATCH($G242,'Состав ВТК-ВРГ'!$B:$B,0),MATCH(BV$6,'Состав ВТК-ВРГ'!$3:$3,0)),\"---\")","v":"---"},{"$f":"IFERROR(INDEX(справочник!$G$1:$I$7,MATCH($BV242,справочник!$G$1:$G$7,0),2),\"---\")","v":"---"},{"$f":"IFERROR(INDEX('Состав ВТК-ВРГ'!$1:$1048576,MATCH($G242,'Состав ВТК-ВРГ'!$B:$B,0),MATCH(BX$6,'Состав ВТК-ВРГ'!$3:$3,0)),\"---\")","v":"---"},{"$f":"IFERROR(INDEX('Пр. №4'!$1:$1048576,MATCH(BX242,'Пр. №4'!$C:$C,0),MATCH('Пр. №3'!$D$5,'Пр. №4'!$9:$9,0)),\"---\")","v":"---"},{"$f":"SUMIFS('Пр. №1.2.'!$L:$L,'Пр. №1.2.'!$B:$B,'Пр. №3'!$D242,'Пр. №1.2.'!$E:$E,'Пр. №3'!$G242)","v":0},{"$error":"#VALUE!"},{"$error":"#VALUE!"}]
[{"$f":"ROW()","v":243},187,"Ввод данных",{"$error":"#N/A"},{"$f":"INDEX('Пр. №2'!$1:$1048576,MATCH('Пр. №3'!$F243,'Пр. №2'!$D:$D,0),COLUMN('Пр. №2'!$C$5))","v":{"$error":"#N/A"}},null,null,null,null,null,null,null,null,null,null,null,null,null,null,null,null,null,null,null,null,null,null,null,null,null,null,null,null,null,null,null,null,null,null,null,null,null,null,null,null,null,null,null,null,null,null,null,null,null,null,null,null,null,null,null,null,null,null,null,null,null,null,null,0,null,{"$f":"IFERROR(INDEX(справочник!$G$1:$I$7,MATCH($BV243,справочник!$G$1:$G$7,0),3),\"---\")","v":"---"},{"$f":"IFERROR(INDEX('Пр. №1'!$B$11:$C$34,MATCH(BS243,'Пр. №1'!$B$11:$B$34,0),2),\"---\")","v":"---"},{"$f":"IFERROR(INDEX('Состав ВТК-ВРГ'!$1:$1048576,MATCH($G243,'Состав ВТК-ВРГ'!$B:$B,0),MATCH(BU$6,'Состав ВТК-ВРГ'!$3:$3,0)),\"---\")","v":"---"},{"$f":"IFERROR(INDEX('Состав ВТК-ВРГ'!$1:$1048576,MATCH($G243,'Состав ВТК-ВРГ'!$B:$B,0),MATCH(BV$6,'Состав ВТК-ВРГ'!$3:$3,0)),\"---\")","v":"---"},{"$f":"IFERROR(INDEX(справочник!$G$1:$I$7,MATCH($BV243,справочник!$G$1:$G$7,0),2),\"---\")","v":"---"},{"$f":"IFERROR(INDEX('Состав ВТК-ВРГ'!$1:$1048576,MATCH($G243,'Состав ВТК-ВРГ'!$B:$B,0),MATCH(BX$6,'Состав ВТК-ВРГ'!$3:$3,0)),\"---\")","v":"---"},{"$f":"IFERROR(INDEX('Пр. №4'!$1:$1048576,MATCH(BX243,'Пр. №4'!$C:$C,0),MATCH('Пр. №3'!$D$5,'Пр. №4'!$9:$9,0)),\"---\")","v":"---"},{"$f":"SUMIFS('Пр. №1.2.'!$L:$L,'Пр. №1.2.'!$B:$B,'Пр. №3'!$D243,'Пр. №1.2.'!$E:$E,'Пр. №3'!$G243)","v":0},{"$error":"#VALUE!"},{"$error":"#VALUE!"}]
[{"$f":"ROW()","v":244},188,"Ввод данных",{"$error":"#N/A"},{"$f":"INDEX('Пр. №2'!$1:$1048576,MATCH('Пр. №3'!$F244,'Пр. №2'!$D:$D,0),COLUMN('Пр. №2'!$C$5))","v":{"$error":"#N/A"}},null,null,null,null,null,null,null,null,null,null,null,null,null,null,null,null,null,null,null,null,null,null,null,null,null,null,null,null,null,null,null,null,null,null,null,null,null,null,null,null,null,null,null,null,null,null,null,null,null,null,null,null,null,null,null,null,null,null,null,null,null,null,null,0,null,{"$f":"IFERROR(INDEX(справочник!$G$1:$I$7,MATCH($BV244,справочник!$G$1:$G$7,0),3),\"---\")","v":"---"},{"$f":"IFERROR(INDEX('Пр. №1'!$B$11:$C$34,MATCH(BS244,'Пр. №1'!$B$11:$B$34,0),2),\"---\")","v":"---"},{"$f":"IFERROR(INDEX('Состав ВТК-ВРГ'!$1:$1048576,MATCH($G244,'Состав ВТК-ВРГ'!$B:$B,0),MATCH(BU$6,'Состав ВТК-ВРГ'!$3:$3,0)),\"---\")","v":"---"},{"$f":"IFERROR(INDEX('Состав ВТК-ВРГ'!$1:$1048576,MATCH($G244,'Состав ВТК-ВРГ'!$B:$B,0),MATCH(BV$6,'Состав ВТК-ВРГ'!$3:$3,0)),\"---\")","v":"---"},{"$f":"IFERROR(INDEX(справочник!$G$1:$I$7,MATCH($BV244,справочник!$G$1:$G$7,0),2),\"---\")","v":"---"},{"$f":"IFERROR(INDEX('Состав ВТК-ВРГ'!$1:$1048576,MATCH($G244,'Состав ВТК-ВРГ'!$B:$B,0),MATCH(BX$6,'Состав ВТК-ВРГ'!$3:$3,0)),\"---\")","v":"---"},{"$f":"IFERROR(INDEX('Пр. №4'!$1:$1048576,MATCH(BX244,'Пр. №4'!$C:$C,0),MATCH('Пр. №3'!$D$5,'Пр. №4'!$9:$9,0)),\"---\")","v":"---"},{"$f":"SUMIFS('Пр. №1.2.'!$L:$L,'Пр. №1.2.'!$B:$B,'Пр. №3'!$D244,'Пр. №1.2.'!$E:$E,'Пр. №3'!$G244)","v":0},{"$error":"#VALUE!"},{"$error":"#VALUE!"}]
[{"$f":"ROW()","v":245},189,"Ввод данных",{"$error":"#N/A"},{"$f":"INDEX('Пр. №2'!$1:$1048576,MATCH('Пр. №3'!$F245,'Пр. №2'!$D:$D,0),COLUMN('Пр. №2'!$C$5))","v":{"$error":"#N/A"}},null,null,null,null,null,null,null,null,null,null,null,null,null,null,null,null,null,null,null,null,null,null,null,null,null,null,null,null,null,null,null,null,null,null,null,null,null,null,null,null,null,null,null,null,null,null,null,null,null,null,null,null,null,null,null,null,null,null,null,null,null,null,null,0,null,{"$f":"IFERROR(INDEX(справочник!$G$1:$I$7,MATCH($BV245,справочник!$G$1:$G$7,0),3),\"---\")","v":"---"},{"$f":"IFERROR(INDEX('Пр. №1'!$B$11:$C$34,MATCH(BS245,'Пр. №1'!$B$11:$B$34,0),2),\"---\")","v":"---"},{"$f":"IFERROR(INDEX('Состав ВТК-ВРГ'!$1:$1048576,MATCH($G245,'Состав ВТК-ВРГ'!$B:$B,0),MATCH(BU$6,'Состав ВТК-ВРГ'!$3:$3,0)),\"---\")","v":"---"},{"$f":"IFERROR(INDEX('Состав ВТК-ВРГ'!$1:$1048576,MATCH($G245,'Состав ВТК-ВРГ'!$B:$B,0),MATCH(BV$6,'Состав ВТК-ВРГ'!$3:$3,0)),\"---\")","v":"---"},{"$f":"IFERROR(INDEX(справочник!$G$1:$I$7,MATCH($BV245,справочник!$G$1:$G$7,0),2),\"---\")","v":"---"},{"$f":"IFERROR(INDEX('Состав ВТК-ВРГ'!$1:$1048576,MATCH($G245,'Состав ВТК-ВРГ'!$B:$B,0),MATCH(BX$6,'Состав ВТК-ВРГ'!$3:$3,0)),\"---\")","v":"---"},{"$f":"IFERROR(INDEX('Пр. №4'!$1:$1048576,MATCH(BX245,'Пр. №4'!$C:$C,0),MATCH('Пр. №3'!$D$5,'Пр. №4'!$9:$9,0)),\"---\")","v":"---"},{"$f":"SUMIFS('Пр. №1.2.'!$L:$L,'Пр. №1.2.'!$B:$B,'Пр. №3'!$D245,'Пр. №1.2.'!$E:$E,'Пр. №3'!$G245)","v":0},{"$error":"#VALUE!"},{"$error":"#VALUE!"}]
[{"$f":"ROW()","v":246},190,"Ввод данных",{"$error":"#N/A"},{"$f":"INDEX('Пр. №2'!$1:$1048576,MATCH('Пр. №3'!$F246,'Пр. №2'!$D:$D,0),COLUMN('Пр. №2'!$C$5))","v":{"$error":"#N/A"}},null,null,null,null,null,null,null,null,null,null,null,null,null,null,null,null,null,null,null,null,null,null,null,null,null,null,null,null,null,null,null,null,null,null,null,null,null,null,null,null,null,null,null,null,null,null,null,null,null,null,null,null,null,null,null,null,null,null,null,null,null,null,null,0,null,{"$f":"IFERROR(INDEX(справочник!$G$1:$I$7,MATCH($BV246,справочник!$G$1:$G$7,0),3),\"---\")","v":"---"},{"$f":"IFERROR(INDEX('Пр. №1'!$B$11:$C$34,MATCH(BS246,'Пр. №1'!$B$11:$B$34,0),2),\"---\")","v":"---"},{"$f":"IFERROR(INDEX('Состав ВТК-ВРГ'!$1:$1048576,MATCH($G246,'Состав ВТК-ВРГ'!$B:$B,0),MATCH(BU$6,'Состав ВТК-ВРГ'!$3:$3,0)),\"---\")","v":"---"},{"$f":"IFERROR(INDEX('Состав ВТК-ВРГ'!$1:$1048576,MATCH($G246,'Состав ВТК-ВРГ'!$B:$B,0),MATCH(BV$6,'Состав ВТК-ВРГ'!$3:$3,0)),\"---\")","v":"---"},{"$f":"IFERROR(INDEX(справочник!$G$1:$I$7,MATCH($BV246,справочник!$G$1:$G$7,0),2),\"---\")","v":"---"},{"$f":"IFERROR(INDEX('Состав ВТК-ВРГ'!$1:$1048576,MATCH($G246,'Состав ВТК-ВРГ'!$B:$B,0),MATCH(BX$6,'Состав ВТК-ВРГ'!$3:$3,0)),\"---\")","v":"---"},{"$f":"IFERROR(INDEX('Пр. №4'!$1:$1048576,MATCH(BX246,'Пр. №4'!$C:$C,0),MATCH('Пр. №3'!$D$5,'Пр. №4'!$9:$9,0)),\"---\")","v":"---"},{"$f":"SUMIFS('Пр. №1.2.'!$L:$L,'Пр. №1.2.'!$B:$B,'Пр. №3'!$D246,'Пр. №1.2.'!$E:$E,'Пр. №3'!$G246)","v":0},{"$error":"#VALUE!"},{"$error":"#VALUE!"}]
[{"$f":"ROW()","v":247},191,"Ввод данных",{"$error":"#N/A"},{"$f":"INDEX('Пр. №2'!$1:$1048576,MATCH('Пр. №3'!$F247,'Пр. №2'!$D:$D,0),COLUMN('Пр. №2'!$C$5))","v":{"$error":"#N/A"}},null,null,null,null,null,null,null,null,null,null,null,null,null,null,null,null,null,null,null,null,null,null,null,null,null,null,null,null,null,null,null,null,null,null,null,null,null,null,null,null,null,null,null,null,null,null,null,null,null,null,null,null,null,null,null,null,null,null,null,null,null,null,null,0,null,{"$f":"IFERROR(INDEX(справочник!$G$1:$I$7,MATCH($BV247,справочник!$G$1:$G$7,0),3),\"---\")","v":"---"},{"$f":"IFERROR(INDEX('Пр. №1'!$B$11:$C$34,MATCH(BS247,'Пр. №1'!$B$11:$B$34,0),2),\"---\")","v":"---"},{"$f":"IFERROR(INDEX('Состав ВТК-ВРГ'!$1:$1048576,MATCH($G247,'Состав ВТК-ВРГ'!$B:$B,0),MATCH(BU$6,'Состав ВТК-ВРГ'!$3:$3,0)),\"---\")","v":"---"},{"$f":"IFERROR(INDEX('Состав ВТК-ВРГ'!$1:$1048576,MATCH($G247,'Состав ВТК-ВРГ'!$B:$B,0),MATCH(BV$6,'Состав ВТК-ВРГ'!$3:$3,0)),\"---\")","v":"---"},{"$f":"IFERROR(INDEX(справочник!$G$1:$I$7,MATCH($BV247,справочник!$G$1:$G$7,0),2),\"---\")","v":"---"},{"$f":"IFERROR(INDEX('Состав ВТК-ВРГ'!$1:$1048576,MATCH($G247,'Состав ВТК-ВРГ'!$B:$B,0),MATCH(BX$6,'Состав ВТК-ВРГ'!$3:$3,0)),\"---\")","v":"---"},{"$f":"IFERROR(INDEX('Пр. №4'!$1:$1048576,MATCH(BX247,'Пр. №4'!$C:$C,0),MATCH('Пр. №3'!$D$5,'Пр. №4'!$9:$9,0)),\"---\")","v":"---"},{"$f":"SUMIFS('Пр. №1.2.'!$L:$L,'Пр. №1.2.'!$B:$B,'Пр. №3'!$D247,'Пр. №1.2.'!$E:$E,'Пр. №3'!$G247)","v":0},{"$error":"#VALUE!"},{"$error":"#VALUE!"}]
[{"$f":"ROW()","v":248},192,"Ввод данных",{"$error":"#N/A"},{"$f":"INDEX('Пр. №2'!$1:$1048576,MATCH('Пр. №3'!$F248,'Пр. №2'!$D:$D,0),COLUMN('Пр. №2'!$C$5))","v":{"$error":"#N/A"}},null,null,null,null,null,null,null,null,null,null,null,null,null,null,null,null,null,null,null,null,null,null,null,null,null,null,null,null,null,null,null,null,null,null,null,null,null,null,null,null,null,null,null,null,null,null,null,null,null,null,null,null,null,null,null,null,null,null,null,null,null,null,null,0,null,{"$f":"IFERROR(INDEX(справочник!$G$1:$I$7,MATCH($BV248,справочник!$G$1:$G$7,0),3),\"---\")","v":"---"},{"$f":"IFERROR(INDEX('Пр. №1'!$B$11:$C$34,MATCH(BS248,'Пр. №1'!$B$11:$B$34,0),2),\"---\")","v":"---"},{"$f":"IFERROR(INDEX('Состав ВТК-ВРГ'!$1:$1048576,MATCH($G248,'Состав ВТК-ВРГ'!$B:$B,0),MATCH(BU$6,'Состав ВТК-ВРГ'!$3:$3,0)),\"---\")","v":"---"},{"$f":"IFERROR(INDEX('Состав ВТК-ВРГ'!$1:$1048576,MATCH($G248,'Состав ВТК-ВРГ'!$B:$B,0),MATCH(BV$6,'Состав ВТК-ВРГ'!$3:$3,0)),\"---\")","v":"---"},{"$f":"IFERROR(INDEX(справочник!$G$1:$I$7,MATCH($BV248,справочник!$G$1:$G$7,0),2),\"---\")","v":"---"},{"$f":"IFERROR(INDEX('Состав ВТК-ВРГ'!$1:$1048576,MATCH($G248,'Состав ВТК-ВРГ'!$B:$B,0),MATCH(BX$6,'Состав ВТК-ВРГ'!$3:$3,0)),\"---\")","v":"---"},{"$f":"IFERROR(INDEX('Пр. №4'!$1:$1048576,MATCH(BX248,'Пр. №4'!$C:$C,0),MATCH('Пр. №3'!$D$5,'Пр. №4'!$9:$9,0)),\"---\")","v":"---"},{"$f":"SUMIFS('Пр. №1.2.'!$L:$L,'Пр. №1.2.'!$B:$B,'Пр. №3'!$D248,'Пр. №1.2.'!$E:$E,'Пр. №3'!$G248)","v":0},{"$error":"#VALUE!"},{"$error":"#VALUE!"}]
[{"$f":"ROW()","v":249},193,"Ввод данных",{"$error":"#N/A"},{"$f":"INDEX('Пр. №2'!$1:$1048576,MATCH('Пр. №3'!$F249,'Пр. №2'!$D:$D,0),COLUMN('Пр. №2'!$C$5))","v":{"$error":"#N/A"}},null,null,null,null,null,null,null,null,null,null,null,null,null,null,null,null,null,null,null,null,null,null,null,null,null,null,null,null,null,null,null,null,null,null,null,null,null,null,null,null,null,null,null,null,null,null,null,null,null,null,null,null,null,null,null,null,null,null,null,null,null,null,null,0,null,{"$f":"IFERROR(INDEX(справочник!$G$1:$I$7,MATCH($BV249,справочник!$G$1:$G$7,0),3),\"---\")","v":"---"},{"$f":"IFERROR(INDEX('Пр. №1'!$B$11:$C$34,MATCH(BS249,'Пр. №1'!$B$11:$B$34,0),2),\"---\")","v":"---"},{"$f":"IFERROR(INDEX('Состав ВТК-ВРГ'!$1:$1048576,MATCH($G249,'Состав ВТК-ВРГ'!$B:$B,0),MATCH(BU$6,'Состав ВТК-ВРГ'!$3:$3,0)),\"---\")","v":"---"},{"$f":"IFERROR(INDEX('Состав ВТК-ВРГ'!$1:$1048576,MATCH($G249,'Состав ВТК-ВРГ'!$B:$B,0),MATCH(BV$6,'Состав ВТК-ВРГ'!$3:$3,0)),\"---\")","v":"---"},{"$f":"IFERROR(INDEX(справочник!$G$1:$I$7,MATCH($BV249,справочник!$G$1:$G$7,0),2),\"---\")","v":"---"},{"$f":"IFERROR(INDEX('Состав ВТК-ВРГ'!$1:$1048576,MATCH($G249,'Состав ВТК-ВРГ'!$B:$B,0),MATCH(BX$6,'Состав ВТК-ВРГ'!$3:$3,0)),\"---\")","v":"---"},{"$f":"IFERROR(INDEX('Пр. №4'!$1:$1048576,MATCH(BX249,'Пр. №4'!$C:$C,0),MATCH('Пр. №3'!$D$5,'Пр. №4'!$9:$9,0)),\"---\")","v":"---"},{"$f":"SUMIFS('Пр. №1.2.'!$L:$L,'Пр. №1.2.'!$B:$B,'Пр. №3'!$D249,'Пр. №1.2.'!$E:$E,'Пр. №3'!$G249)","v":0},{"$error":"#VALUE!"},{"$error":"#VALUE!"}]
[{"$f":"ROW()","v":250},194,"Ввод данных",{"$error":"#N/A"},{"$f":"INDEX('Пр. №2'!$1:$1048576,MATCH('Пр. №3'!$F250,'Пр. №2'!$D:$D,0),COLUMN('Пр. №2'!$C$5))","v":{"$error":"#N/A"}},null,null,null,null,null,null,null,null,null,null,null,null,null,null,null,null,null,null,null,null,null,null,null,null,null,null,null,null,null,null,null,null,null,null,null,null,null,null,null,null,null,null,null,null,null,null,null,null,null,null,null,null,null,null,null,null,null,null,null,null,null,null,null,0,null,{"$f":"IFERROR(INDEX(справочник!$G$1:$I$7,MATCH($BV250,справочник!$G$1:$G$7,0),3),\"---\")","v":"---"},{"$f":"IFERROR(INDEX('Пр. №1'!$B$11:$C$34,MATCH(BS250,'Пр. №1'!$B$11:$B$34,0),2),\"---\")","v":"---"},{"$f":"IFERROR(INDEX('Состав ВТК-ВРГ'!$1:$1048576,MATCH($G250,'Состав ВТК-ВРГ'!$B:$B,0),MATCH(BU$6,'Состав ВТК-ВРГ'!$3:$3,0)),\"---\")","v":"---"},{"$f":"IFERROR(INDEX('Состав ВТК-ВРГ'!$1:$1048576,MATCH($G250,'Состав ВТК-ВРГ'!$B:$B,0),MATCH(BV$6,'Состав ВТК-ВРГ'!$3:$3,0)),\"---\")","v":"---"},{"$f":"IFERROR(INDEX(справочник!$G$1:$I$7,MATCH($BV250,справочник!$G$1:$G$7,0),2),\"---\")","v":"---"},{"$f":"IFERROR(INDEX('Состав ВТК-ВРГ'!$1:$1048576,MATCH($G250,'Состав ВТК-ВРГ'!$B:$B,0),MATCH(BX$6,'Состав ВТК-ВРГ'!$3:$3,0)),\"---\")","v":"---"},{"$f":"IFERROR(INDEX('Пр. №4'!$1:$1048576,MATCH(BX250,'Пр. №4'!$C:$C,0),MATCH('Пр. №3'!$D$5,'Пр. №4'!$9:$9,0)),\"---\")","v":"---"},{"$f":"SUMIFS('Пр. №1.2.'!$L:$L,'Пр. №1.2.'!$B:$B,'Пр. №3'!$D250,'Пр. №1.2.'!$E:$E,'Пр. №3'!$G250)","v":0},{"$error":"#VALUE!"},{"$error":"#VALUE!"}]
[{"$f":"ROW()","v":251},195,"Ввод данных",{"$error":"#N/A"},{"$f":"INDEX('Пр. №2'!$1:$1048576,MATCH('Пр. №3'!$F251,'Пр. №2'!$D:$D,0),COLUMN('Пр. №2'!$C$5))","v":{"$error":"#N/A"}},null,null,null,null,null,null,null,null,null,null,null,null,null,null,null,null,null,null,null,null,null,null,null,null,null,null,null,null,null,null,null,null,null,null,null,null,null,null,null,null,null,null,null,null,null,null,null,null,null,null,null,null,null,null,null,null,null,null,null,null,null,null,null,0,null,{"$f":"IFERROR(INDEX(справочник!$G$1:$I$7,MATCH($BV251,справочник!$G$1:$G$7,0),3),\"---\")","v":"---"},{"$f":"IFERROR(INDEX('Пр. №1'!$B$11:$C$34,MATCH(BS251,'Пр. №1'!$B$11:$B$34,0),2),\"---\")","v":"---"},{"$f":"IFERROR(INDEX('Состав ВТК-ВРГ'!$1:$1048576,MATCH($G251,'Состав ВТК-ВРГ'!$B:$B,0),MATCH(BU$6,'Состав ВТК-ВРГ'!$3:$3,0)),\"---\")","v":"---"},{"$f":"IFERROR(INDEX('Состав ВТК-ВРГ'!$1:$1048576,MATCH($G251,'Состав ВТК-ВРГ'!$B:$B,0),MATCH(BV$6,'Состав ВТК-ВРГ'!$3:$3,0)),\"---\")","v":"---"},{"$f":"IFERROR(INDEX(справочник!$G$1:$I$7,MATCH($BV251,справочник!$G$1:$G$7,0),2),\"---\")","v":"---"},{"$f":"IFERROR(INDEX('Состав ВТК-ВРГ'!$1:$1048576,MATCH($G251,'Состав ВТК-ВРГ'!$B:$B,0),MATCH(BX$6,'Состав ВТК-ВРГ'!$3:$3,0)),\"---\")","v":"---"},{"$f":"IFERROR(INDEX('Пр. №4'!$1:$1048576,MATCH(BX251,'Пр. №4'!$C:$C,0),MATCH('Пр. №3'!$D$5,'Пр. №4'!$9:$9,0)),\"---\")","v":"---"},{"$f":"SUMIFS('Пр. №1.2.'!$L:$L,'Пр. №1.2.'!$B:$B,'Пр. №3'!$D251,'Пр. №1.2.'!$E:$E,'Пр. №3'!$G251)","v":0},{"$error":"#VALUE!"},{"$error":"#VALUE!"}]
[{"$f":"ROW()","v":252},196,"Ввод данных",{"$error":"#N/A"},{"$f":"INDEX('Пр. №2'!$1:$1048576,MATCH('Пр. №3'!$F252,'Пр. №2'!$D:$D,0),COLUMN('Пр. №2'!$C$5))","v":{"$error":"#N/A"}},null,null,null,null,null,null,null,null,null,null,null,null,null,null,null,null,null,null,null,null,null,null,null,null,null,null,null,null,null,null,null,null,null,null,null,null,null,null,null,null,null,null,null,null,null,null,null,null,null,null,null,null,null,null,null,null,null,null,null,null,null,null,null,0,null,{"$f":"IFERROR(INDEX(справочник!$G$1:$I$7,MATCH($BV252,справочник!$G$1:$G$7,0),3),\"---\")","v":"---"},{"$f":"IFERROR(INDEX('Пр. №1'!$B$11:$C$34,MATCH(BS252,'Пр. №1'!$B$11:$B$34,0),2),\"---\")","v":"---"},{"$f":"IFERROR(INDEX('Состав ВТК-ВРГ'!$1:$1048576,MATCH($G252,'Состав ВТК-ВРГ'!$B:$B,0),MATCH(BU$6,'Состав ВТК-ВРГ'!$3:$3,0)),\"---\")","v":"---"},{"$f":"IFERROR(INDEX('Состав ВТК-ВРГ'!$1:$1048576,MATCH($G252,'Состав ВТК-ВРГ'!$B:$B,0),MATCH(BV$6,'Состав ВТК-ВРГ'!$3:$3,0)),\"---\")","v":"---"},{"$f":"IFERROR(INDEX(справочник!$G$1:$I$7,MATCH($BV252,справочник!$G$1:$G$7,0),2),\"---\")","v":"---"},{"$f":"IFERROR(INDEX('Состав ВТК-ВРГ'!$1:$1048576,MATCH($G252,'Состав ВТК-ВРГ'!$B:$B,0),MATCH(BX$6,'Состав ВТК-ВРГ'!$3:$3,0)),\"---\")","v":"---"},{"$f":"IFERROR(INDEX('Пр. №4'!$1:$1048576,MATCH(BX252,'Пр. №4'!$C:$C,0),MATCH('Пр. №3'!$D$5,'Пр. №4'!$9:$9,0)),\"---\")","v":"---"},{"$f":"SUMIFS('Пр. №1.2.'!$L:$L,'Пр. №1.2.'!$B:$B,'Пр. №3'!$D252,'Пр. №1.2.'!$E:$E,'Пр. №3'!$G252)","v":0},{"$error":"#VALUE!"},{"$error":"#VALUE!"}]
[{"$f":"ROW()","v":253},197,"Ввод данных",{"$error":"#N/A"},{"$f":"INDEX('Пр. №2'!$1:$1048576,MATCH('Пр. №3'!$F253,'Пр. №2'!$D:$D,0),COLUMN('Пр. №2'!$C$5))","v":{"$error":"#N/A"}},null,null,null,null,null,null,null,null,null,null,null,null,null,null,null,null,null,null,null,null,null,null,null,null,null,null,null,null,null,null,null,null,null,null,null,null,null,null,null,null,null,null,null,null,null,null,null,null,null,null,null,null,null,null,null,null,null,null,null,null,null,null,null,0,null,{"$f":"IFERROR(INDEX(справочник!$G$1:$I$7,MATCH($BV253,справочник!$G$1:$G$7,0),3),\"---\")","v":"---"},{"$f":"IFERROR(INDEX('Пр. №1'!$B$11:$C$34,MATCH(BS253,'Пр. №1'!$B$11:$B$34,0),2),\"---\")","v":"---"},{"$f":"IFERROR(INDEX('Состав ВТК-ВРГ'!$1:$1048576,MATCH($G253,'Состав ВТК-ВРГ'!$B:$B,0),MATCH(BU$6,'Состав ВТК-ВРГ'!$3:$3,0)),\"---\")","v":"---"},{"$f":"IFERROR(INDEX('Состав ВТК-ВРГ'!$1:$1048576,MATCH($G253,'Состав ВТК-ВРГ'!$B:$B,0),MATCH(BV$6,'Состав ВТК-ВРГ'!$3:$3,0)),\"---\")","v":"---"},{"$f":"IFERROR(INDEX(справочник!$G$1:$I$7,MATCH($BV253,справочник!$G$1:$G$7,0),2),\"---\")","v":"---"},{"$f":"IFERROR(INDEX('Состав ВТК-ВРГ'!$1:$1048576,MATCH($G253,'Состав ВТК-ВРГ'!$B:$B,0),MATCH(BX$6,'Состав ВТК-ВРГ'!$3:$3,0)),\"---\")","v":"---"},{"$f":"IFERROR(INDEX('Пр. №4'!$1:$1048576,MATCH(BX253,'Пр. №4'!$C:$C,0),MATCH('Пр. №3'!$D$5,'Пр. №4'!$9:$9,0)),\"---\")","v":"---"},{"$f":"SUMIFS('Пр. №1.2.'!$L:$L,'Пр. №1.2.'!$B:$B,'Пр. №3'!$D253,'Пр. №1.2.'!$E:$E,'Пр. №3'!$G253)","v":0},{"$error":"#VALUE!"},{"$error":"#VALUE!"}]
[{"$f":"ROW()","v":254},198,"Ввод данных",{"$f":"INDEX($D$22:$E$35,MATCH(E254,$E$22:$E$35,0),1)","v":{"$error":"#N/A"}},{"$f":"INDEX('Пр. №2'!$1:$1048576,MATCH('Пр. №3'!$F254,'Пр. №2'!$D:$D,0),COLUMN('Пр. №2'!$C$5))","v":{"$error":"#N/A"}},null,null,null,null,null,null,null,null,null,null,null,null,null,null,null,null,null,null,null,null,null,null,null,null,null,null,null,null,null,null,null,null,null,null,null,null,null,null,null,null,null,null,null,null,null,null,null,null,null,null,null,null,null,null,null,null,null,null,null,null,null,null,null,{"$f":"SUM(H254:BP254)","v":0},null,{"$f":"IFERROR(INDEX(справочник!$G$1:$I$7,MATCH($BV254,справочник!$G$1:$G$7,0),3),\"---\")","v":"---"},{"$f":"IFERROR(INDEX('Пр. №1'!$B$11:$C$34,MATCH(BS254,'Пр. №1'!$B$11:$B$34,0),2),\"---\")","v":"---"},{"$f":"IFERROR(INDEX('Состав ВТК-ВРГ'!$1:$1048576,MATCH($G254,'Состав ВТК-ВРГ'!$B:$B,0),MATCH(BU$6,'Состав ВТК-ВРГ'!$3:$3,0)),\"---\")","v":"---"},{"$f":"IFERROR(INDEX('Состав ВТК-ВРГ'!$1:$1048576,MATCH($G254,'Состав ВТК-ВРГ'!$B:$B,0),MATCH(BV$6,'Состав ВТК-ВРГ'!$3:$3,0)),\"---\")","v":"---"},{"$f":"IFERROR(INDEX(справочник!$G$1:$I$7,MATCH($BV254,справочник!$G$1:$G$7,0),2),\"---\")","v":"---"},{"$f":"IFERROR(INDEX('Состав ВТК-ВРГ'!$1:$1048576,MATCH($G254,'Состав ВТК-ВРГ'!$B:$B,0),MATCH(BX$6,'Состав ВТК-ВРГ'!$3:$3,0)),\"---\")","v":"---"},{"$f":"IFERROR(INDEX('Пр. №4'!$1:$1048576,MATCH(BX254,'Пр. №4'!$C:$C,0),MATCH('Пр. №3'!$D$5,'Пр. №4'!$9:$9,0)),\"---\")","v":"---"},{"$f":"SUMIFS('Пр. №1.2.'!$L:$L,'Пр. №1.2.'!$B:$B,'Пр. №3'!$D254,'Пр. №1.2.'!$E:$E,'Пр. №3'!$G254)","v":0},{"$f":"BY254*BZ254","v":{"$error":"#VALUE!"}},{"$f":"BQ254*BZ254*BY254","v":{"$error":"#VALUE!"}}]
[{"$f":"ROW()","v":255},199,"Ввод данных",{"$error":"#N/A"},{"$f":"INDEX('Пр. №2'!$1:$1048576,MATCH('Пр. №3'!$F255,'Пр. №2'!$D:$D,0),COLUMN('Пр. №2'!$C$5))","v":{"$error":"#N/A"}},null,null,null,null,null,null,null,null,null,null,null,null,null,null,null,null,null,null,null,null,null,null,null,null,null,null,null,null,null,null,null,null,null,null,null,null,null,null,null,null,null,null,null,null,null,null,null,null,null,null,null,null,null,null,null,null,null,null,null,null,null,null,null,0,null,{"$f":"IFERROR(INDEX(справочник!$G$1:$I$7,MATCH($BV255,справочник!$G$1:$G$7,0),3),\"---\")","v":"---"},{"$f":"IFERROR(INDEX('Пр. №1'!$B$11:$C$34,MATCH(BS255,'Пр. №1'!$B$11:$B$34,0),2),\"---\")","v":"---"},{"$f":"IFERROR(INDEX('Состав ВТК-ВРГ'!$1:$1048576,MATCH($G255,'Состав ВТК-ВРГ'!$B:$B,0),MATCH(BU$6,'Состав ВТК-ВРГ'!$3:$3,0)),\"---\")","v":"---"},{"$f":"IFERROR(INDEX('Состав ВТК-ВРГ'!$1:$1048576,MATCH($G255,'Состав ВТК-ВРГ'!$B:$B,0),MATCH(BV$6,'Состав ВТК-ВРГ'!$3:$3,0)),\"---\")","v":"---"},{"$f":"IFERROR(INDEX(справочник!$G$1:$I$7,MATCH($BV255,справочник!$G$1:$G$7,0),2),\"---\")","v":"---"},{"$f":"IFERROR(INDEX('Состав ВТК-ВРГ'!$1:$1048576,MATCH($G255,'Состав ВТК-ВРГ'!$B:$B,0),MATCH(BX$6,'Состав ВТК-ВРГ'!$3:$3,0)),\"---\")","v":"---"},{"$f":"IFERROR(INDEX('Пр. №4'!$1:$1048576,MATCH(BX255,'Пр. №4'!$C:$C,0),MATCH('Пр. №3'!$D$5,'Пр. №4'!$9:$9,0)),\"---\")","v":"---"},{"$f":"SUMIFS('Пр. №1.2.'!$L:$L,'Пр. №1.2.'!$B:$B,'Пр. №3'!$D255,'Пр. №1.2.'!$E:$E,'Пр. №3'!$G255)","v":0},{"$error":"#VALUE!"},{"$error":"#VALUE!"}]
[{"$f":"ROW()","v":256},200,"Ввод данных",{"$error":"#N/A"},{"$f":"INDEX('Пр. №2'!$1:$1048576,MATCH('Пр. №3'!$F256,'Пр. №2'!$D:$D,0),COLUMN('Пр. №2'!$C$5))","v":{"$error":"#N/A"}},null,null,null,null,null,null,null,null,null,null,null,null,null,null,null,null,null,null,null,null,null,null,null,null,null,null,null,null,null,null,null,null,null,null,null,null,null,null,null,null,null,null,null,null,null,null,null,null,null,null,null,null,null,null,null,null,null,null,null,null,null,null,null,0,null,{"$f":"IFERROR(INDEX(справочник!$G$1:$I$7,MATCH($BV256,справочник!$G$1:$G$7,0),3),\"---\")","v":"---"},{"$f":"IFERROR(INDEX('Пр. №1'!$B$11:$C$34,MATCH(BS256,'Пр. №1'!$B$11:$B$34,0),2),\"---\")","v":"---"},{"$f":"IFERROR(INDEX('Состав ВТК-ВРГ'!$1:$1048576,MATCH($G256,'Состав ВТК-ВРГ'!$B:$B,0),MATCH(BU$6,'Состав ВТК-ВРГ'!$3:$3,0)),\"---\")","v":"---"},{"$f":"IFERROR(INDEX('Состав ВТК-ВРГ'!$1:$1048576,MATCH($G256,'Состав ВТК-ВРГ'!$B:$B,0),MATCH(BV$6,'Состав ВТК-ВРГ'!$3:$3,0)),\"---\")","v":"---"},{"$f":"IFERROR(INDEX(справочник!$G$1:$I$7,MATCH($BV256,справочник!$G$1:$G$7,0),2),\"---\")","v":"---"},{"$f":"IFERROR(INDEX('Состав ВТК-ВРГ'!$1:$1048576,MATCH($G256,'Состав ВТК-ВРГ'!$B:$B,0),MATCH(BX$6,'Состав ВТК-ВРГ'!$3:$3,0)),\"---\")","v":"---"},{"$f":"IFERROR(INDEX('Пр. №4'!$1:$1048576,MATCH(BX256,'Пр. №4'!$C:$C,0),MATCH('Пр. №3'!$D$5,'Пр. №4'!$9:$9,0)),\"---\")","v":"---"},{"$f":"SUMIFS('Пр. №1.2.'!$L:$L,'Пр. №1.2.'!$B:$B,'Пр. №3'!$D256,'Пр. №1.2.'!$E:$E,'Пр. №3'!$G256)","v":0},{"$error":"#VALUE!"},{"$error":"#VALUE!"}]
[{"$f":"ROW()","v":257},201,"Ввод данных",{"$error":"#N/A"},{"$f":"INDEX('Пр. №2'!$1:$1048576,MATCH('Пр. №3'!$F257,'Пр. №2'!$D:$D,0),COLUMN('Пр. №2'!$C$5))","v":{"$error":"#N/A"}},null,null,null,null,null,null,null,null,null,null,null,null,null,null,null,null,null,null,null,null,null,null,null,null,null,null,null,null,null,null,null,null,null,null,null,null,null,null,null,null,null,null,null,null,null,null,null,null,null,null,null,null,null,null,null,null,null,null,null,null,null,null,null,0,null,{"$f":"IFERROR(INDEX(справочник!$G$1:$I$7,MATCH($BV257,справочник!$G$1:$G$7,0),3),\"---\")","v":"---"},{"$f":"IFERROR(INDEX('Пр. №1'!$B$11:$C$34,MATCH(BS257,'Пр. №1'!$B$11:$B$34,0),2),\"---\")","v":"---"},{"$f":"IFERROR(INDEX('Состав ВТК-ВРГ'!$1:$1048576,MATCH($G257,'Состав ВТК-ВРГ'!$B:$B,0),MATCH(BU$6,'Состав ВТК-ВРГ'!$3:$3,0)),\"---\")","v":"---"},{"$f":"IFERROR(INDEX('Состав ВТК-ВРГ'!$1:$1048576,MATCH($G257,'Состав ВТК-ВРГ'!$B:$B,0),MATCH(BV$6,'Состав ВТК-ВРГ'!$3:$3,0)),\"---\")","v":"---"},{"$f":"IFERROR(INDEX(справочник!$G$1:$I$7,MATCH($BV257,справочник!$G$1:$G$7,0),2),\"---\")","v":"---"},{"$f":"IFERROR(INDEX('Состав ВТК-ВРГ'!$1:$1048576,MATCH($G257,'Состав ВТК-ВРГ'!$B:$B,0),MATCH(BX$6,'Состав ВТК-ВРГ'!$3:$3,0)),\"---\")","v":"---"},{"$f":"IFERROR(INDEX('Пр. №4'!$1:$1048576,MATCH(BX257,'Пр. №4'!$C:$C,0),MATCH('Пр. №3'!$D$5,'Пр. №4'!$9:$9,0)),\"---\")","v":"---"},{"$f":"SUMIFS('Пр. №1.2.'!$L:$L,'Пр. №1.2.'!$B:$B,'Пр. №3'!$D257,'Пр. №1.2.'!$E:$E,'Пр. №3'!$G257)","v":0},{"$error":"#VALUE!"},{"$error":"#VALUE!"}]
[{"$f":"ROW()","v":258},202,"Ввод данных",{"$error":"#N/A"},{"$f":"INDEX('Пр. №2'!$1:$1048576,MATCH('Пр. №3'!$F258,'Пр. №2'!$D:$D,0),COLUMN('Пр. №2'!$C$5))","v":{"$error":"#N/A"}},null,null,null,null,null,null,null,null,null,null,null,null,null,null,null,null,null,null,null,null,null,null,null,null,null,null,null,null,null,null,null,null,null,null,null,null,null,null,null,null,null,null,null,null,null,null,null,null,null,null,null,null,null,null,null,null,null,null,null,null,null,null,null,0,null,{"$f":"IFERROR(INDEX(справочник!$G$1:$I$7,MATCH($BV258,справочник!$G$1:$G$7,0),3),\"---\")","v":"---"},{"$f":"IFERROR(INDEX('Пр. №1'!$B$11:$C$34,MATCH(BS258,'Пр. №1'!$B$11:$B$34,0),2),\"---\")","v":"---"},{"$f":"IFERROR(INDEX('Состав ВТК-ВРГ'!$1:$1048576,MATCH($G258,'Состав ВТК-ВРГ'!$B:$B,0),MATCH(BU$6,'Состав ВТК-ВРГ'!$3:$3,0)),\"---\")","v":"---"},{"$f":"IFERROR(INDEX('Состав ВТК-ВРГ'!$1:$1048576,MATCH($G258,'Состав ВТК-ВРГ'!$B:$B,0),MATCH(BV$6,'Состав ВТК-ВРГ'!$3:$3,0)),\"---\")","v":"---"},{"$f":"IFERROR(INDEX(справочник!$G$1:$I$7,MATCH($BV258,справочник!$G$1:$G$7,0),2),\"---\")","v":"---"},{"$f":"IFERROR(INDEX('Состав ВТК-ВРГ'!$1:$1048576,MATCH($G258,'Состав ВТК-ВРГ'!$B:$B,0),MATCH(BX$6,'Состав ВТК-ВРГ'!$3:$3,0)),\"---\")","v":"---"},{"$f":"IFERROR(INDEX('Пр. №4'!$1:$1048576,MATCH(BX258,'Пр. №4'!$C:$C,0),MATCH('Пр. №3'!$D$5,'Пр. №4'!$9:$9,0)),\"---\")","v":"---"},{"$f":"SUMIFS('Пр. №1.2.'!$L:$L,'Пр. №1.2.'!$B:$B,'Пр. №3'!$D258,'Пр. №1.2.'!$E:$E,'Пр. №3'!$G258)","v":0},{"$error":"#VALUE!"},{"$error":"#VALUE!"}]
[{"$f":"ROW()","v":259},203,"Ввод данных",{"$error":"#N/A"},{"$f":"INDEX('Пр. №2'!$1:$1048576,MATCH('Пр. №3'!$F259,'Пр. №2'!$D:$D,0),COLUMN('Пр. №2'!$C$5))","v":{"$error":"#N/A"}},null,null,null,null,null,null,null,null,null,null,null,null,null,null,null,null,null,null,null,null,null,null,null,null,null,null,null,null,null,null,null,null,null,null,null,null,null,null,null,null,null,null,null,null,null,null,null,null,null,null,null,null,null,null,null,null,null,null,null,null,null,null,null,0,null,{"$f":"IFERROR(INDEX(справочник!$G$1:$I$7,MATCH($BV259,справочник!$G$1:$G$7,0),3),\"---\")","v":"---"},{"$f":"IFERROR(INDEX('Пр. №1'!$B$11:$C$34,MATCH(BS259,'Пр. №1'!$B$11:$B$34,0),2),\"---\")","v":"---"},{"$f":"IFERROR(INDEX('Состав ВТК-ВРГ'!$1:$1048576,MATCH($G259,'Состав ВТК-ВРГ'!$B:$B,0),MATCH(BU$6,'Состав ВТК-ВРГ'!$3:$3,0)),\"---\")","v":"---"},{"$f":"IFERROR(INDEX('Состав ВТК-ВРГ'!$1:$1048576,MATCH($G259,'Состав ВТК-ВРГ'!$B:$B,0),MATCH(BV$6,'Состав ВТК-ВРГ'!$3:$3,0)),\"---\")","v":"---"},{"$f":"IFERROR(INDEX(справочник!$G$1:$I$7,MATCH($BV259,справочник!$G$1:$G$7,0),2),\"---\")","v":"---"},{"$f":"IFERROR(INDEX('Состав ВТК-ВРГ'!$1:$1048576,MATCH($G259,'Состав ВТК-ВРГ'!$B:$B,0),MATCH(BX$6,'Состав ВТК-ВРГ'!$3:$3,0)),\"---\")","v":"---"},{"$f":"IFERROR(INDEX('Пр. №4'!$1:$1048576,MATCH(BX259,'Пр. №4'!$C:$C,0),MATCH('Пр. №3'!$D$5,'Пр. №4'!$9:$9,0)),\"---\")","v":"---"},{"$f":"SUMIFS('Пр. №1.2.'!$L:$L,'Пр. №1.2.'!$B:$B,'Пр. №3'!$D259,'Пр. №1.2.'!$E:$E,'Пр. №3'!$G259)","v":0},{"$error":"#VALUE!"},{"$error":"#VALUE!"}]
[{"$f":"ROW()","v":260},204,"Ввод данных",{"$error":"#N/A"},{"$f":"INDEX('Пр. №2'!$1:$1048576,MATCH('Пр. №3'!$F260,'Пр. №2'!$D:$D,0),COLUMN('Пр. №2'!$C$5))","v":{"$error":"#N/A"}},null,null,null,null,null,null,null,null,null,null,null,null,null,null,null,null,null,null,null,null,null,null,null,null,null,null,null,null,null,null,null,null,null,null,null,null,null,null,null,null,null,null,null,null,null,null,null,null,null,null,null,null,null,null,null,null,null,null,null,null,null,null,null,0,null,{"$f":"IFERROR(INDEX(справочник!$G$1:$I$7,MATCH($BV260,справочник!$G$1:$G$7,0),3),\"---\")","v":"---"},{"$f":"IFERROR(INDEX('Пр. №1'!$B$11:$C$34,MATCH(BS260,'Пр. №1'!$B$11:$B$34,0),2),\"---\")","v":"---"},{"$f":"IFERROR(INDEX('Состав ВТК-ВРГ'!$1:$1048576,MATCH($G260,'Состав ВТК-ВРГ'!$B:$B,0),MATCH(BU$6,'Состав ВТК-ВРГ'!$3:$3,0)),\"---\")","v":"---"},{"$f":"IFERROR(INDEX('Состав ВТК-ВРГ'!$1:$1048576,MATCH($G260,'Состав ВТК-ВРГ'!$B:$B,0),MATCH(BV$6,'Состав ВТК-ВРГ'!$3:$3,0)),\"---\")","v":"---"},{"$f":"IFERROR(INDEX(справочник!$G$1:$I$7,MATCH($BV260,справочник!$G$1:$G$7,0),2),\"---\")","v":"---"},{"$f":"IFERROR(INDEX('Состав ВТК-ВРГ'!$1:$1048576,MATCH($G260,'Состав ВТК-ВРГ'!$B:$B,0),MATCH(BX$6,'Состав ВТК-ВРГ'!$3:$3,0)),\"---\")","v":"---"},{"$f":"IFERROR(INDEX('Пр. №4'!$1:$1048576,MATCH(BX260,'Пр. №4'!$C:$C,0),MATCH('Пр. №3'!$D$5,'Пр. №4'!$9:$9,0)),\"---\")","v":"---"},{"$f":"SUMIFS('Пр. №1.2.'!$L:$L,'Пр. №1.2.'!$B:$B,'Пр. №3'!$D260,'Пр. №1.2.'!$E:$E,'Пр. №3'!$G260)","v":0},{"$error":"#VALUE!"},{"$error":"#VALUE!"}]
[{"$f":"ROW()","v":261},205,"Ввод данных",{"$error":"#N/A"},{"$f":"INDEX('Пр. №2'!$1:$1048576,MATCH('Пр. №3'!$F261,'Пр. №2'!$D:$D,0),COLUMN('Пр. №2'!$C$5))","v":{"$error":"#N/A"}},null,null,null,null,null,null,null,null,null,null,null,null,null,null,null,null,null,null,null,null,null,null,null,null,null,null,null,null,null,null,null,null,null,null,null,null,null,null,null,null,null,null,null,null,null,null,null,null,null,null,null,null,null,null,null,null,null,null,null,null,null,null,null,0,null,{"$f":"IFERROR(INDEX(справочник!$G$1:$I$7,MATCH($BV261,справочник!$G$1:$G$7,0),3),\"---\")","v":"---"},{"$f":"IFERROR(INDEX('Пр. №1'!$B$11:$C$34,MATCH(BS261,'Пр. №1'!$B$11:$B$34,0),2),\"---\")","v":"---"},{"$f":"IFERROR(INDEX('Состав ВТК-ВРГ'!$1:$1048576,MATCH($G261,'Состав ВТК-ВРГ'!$B:$B,0),MATCH(BU$6,'Состав ВТК-ВРГ'!$3:$3,0)),\"---\")","v":"---"},{"$f":"IFERROR(INDEX('Состав ВТК-ВРГ'!$1:$1048576,MATCH($G261,'Состав ВТК-ВРГ'!$B:$B,0),MATCH(BV$6,'Состав ВТК-ВРГ'!$3:$3,0)),\"---\")","v":"---"},{"$f":"IFERROR(INDEX(справочник!$G$1:$I$7,MATCH($BV261,справочник!$G$1:$G$7,0),2),\"---\")","v":"---"},{"$f":"IFERROR(INDEX('Состав ВТК-ВРГ'!$1:$1048576,MATCH($G261,'Состав ВТК-ВРГ'!$B:$B,0),MATCH(BX$6,'Состав ВТК-ВРГ'!$3:$3,0)),\"---\")","v":"---"},{"$f":"IFERROR(INDEX('Пр. №4'!$1:$1048576,MATCH(BX261,'Пр. №4'!$C:$C,0),MATCH('Пр. №3'!$D$5,'Пр. №4'!$9:$9,0)),\"---\")","v":"---"},{"$f":"SUMIFS('Пр. №1.2.'!$L:$L,'Пр. №1.2.'!$B:$B,'Пр. №3'!$D261,'Пр. №1.2.'!$E:$E,'Пр. №3'!$G261)","v":0},{"$error":"#VALUE!"},{"$error":"#VALUE!"}]
[{"$f":"ROW()","v":262},206,"Ввод данных",{"$error":"#N/A"},{"$f":"INDEX('Пр. №2'!$1:$1048576,MATCH('Пр. №3'!$F262,'Пр. №2'!$D:$D,0),COLUMN('Пр. №2'!$C$5))","v":{"$error":"#N/A"}},null,null,null,null,null,null,null,null,null,null,null,null,null,null,null,null,null,null,null,null,null,null,null,null,null,null,null,null,null,null,null,null,null,null,null,null,null,null,null,null,null,null,null,null,null,null,null,null,null,null,null,null,null,null,null,null,null,null,null,null,null,null,null,0,null,{"$f":"IFERROR(INDEX(справочник!$G$1:$I$7,MATCH($BV262,справочник!$G$1:$G$7,0),3),\"---\")","v":"---"},{"$f":"IFERROR(INDEX('Пр. №1'!$B$11:$C$34,MATCH(BS262,'Пр. №1'!$B$11:$B$34,0),2),\"---\")","v":"---"},{"$f":"IFERROR(INDEX('Состав ВТК-ВРГ'!$1:$1048576,MATCH($G262,'Состав ВТК-ВРГ'!$B:$B,0),MATCH(BU$6,'Состав ВТК-ВРГ'!$3:$3,0)),\"---\")","v":"---"},{"$f":"IFERROR(INDEX('Состав ВТК-ВРГ'!$1:$1048576,MATCH($G262,'Состав ВТК-ВРГ'!$B:$B,0),MATCH(BV$6,'Состав ВТК-ВРГ'!$3:$3,0)),\"---\")","v":"---"},{"$f":"IFERROR(INDEX(справочник!$G$1:$I$7,MATCH($BV262,справочник!$G$1:$G$7,0),2),\"---\")","v":"---"},{"$f":"IFERROR(INDEX('Состав ВТК-ВРГ'!$1:$1048576,MATCH($G262,'Состав ВТК-ВРГ'!$B:$B,0),MATCH(BX$6,'Состав ВТК-ВРГ'!$3:$3,0)),\"---\")","v":"---"},{"$f":"IFERROR(INDEX('Пр. №4'!$1:$1048576,MATCH(BX262,'Пр. №4'!$C:$C,0),MATCH('Пр. №3'!$D$5,'Пр. №4'!$9:$9,0)),\"---\")","v":"---"},{"$f":"SUMIFS('Пр. №1.2.'!$L:$L,'Пр. №1.2.'!$B:$B,'Пр. №3'!$D262,'Пр. №1.2.'!$E:$E,'Пр. №3'!$G262)","v":0},{"$error":"#VALUE!"},{"$error":"#VALUE!"}]
[{"$f":"ROW()","v":263},207,"Ввод данных",{"$error":"#N/A"},{"$f":"INDEX('Пр. №2'!$1:$1048576,MATCH('Пр. №3'!$F263,'Пр. №2'!$D:$D,0),COLUMN('Пр. №2'!$C$5))","v":{"$error":"#N/A"}},null,null,null,null,null,null,null,null,null,null,null,null,null,null,null,null,null,null,null,null,null,null,null,null,null,null,null,null,null,null,null,null,null,null,null,null,null,null,null,null,null,null,null,null,null,null,null,null,null,null,null,null,null,null,null,null,null,null,null,null,null,null,null,0,null,{"$f":"IFERROR(INDEX(справочник!$G$1:$I$7,MATCH($BV263,справочник!$G$1:$G$7,0),3),\"---\")","v":"---"},{"$f":"IFERROR(INDEX('Пр. №1'!$B$11:$C$34,MATCH(BS263,'Пр. №1'!$B$11:$B$34,0),2),\"---\")","v":"---"},{"$f":"IFERROR(INDEX('Состав ВТК-ВРГ'!$1:$1048576,MATCH($G263,'Состав ВТК-ВРГ'!$B:$B,0),MATCH(BU$6,'Состав ВТК-ВРГ'!$3:$3,0)),\"---\")","v":"---"},{"$f":"IFERROR(INDEX('Состав ВТК-ВРГ'!$1:$1048576,MATCH($G263,'Состав ВТК-ВРГ'!$B:$B,0),MATCH(BV$6,'Состав ВТК-ВРГ'!$3:$3,0)),\"---\")","v":"---"},{"$f":"IFERROR(INDEX(справочник!$G$1:$I$7,MATCH($BV263,справочник!$G$1:$G$7,0),2),\"---\")","v":"---"},{"$f":"IFERROR(INDEX('Состав ВТК-ВРГ'!$1:$1048576,MATCH($G263,'Состав ВТК-ВРГ'!$B:$B,0),MATCH(BX$6,'Состав ВТК-ВРГ'!$3:$3,0)),\"---\")","v":"---"},{"$f":"IFERROR(INDEX('Пр. №4'!$1:$1048576,MATCH(BX263,'Пр. №4'!$C:$C,0),MATCH('Пр. №3'!$D$5,'Пр. №4'!$9:$9,0)),\"---\")","v":"---"},{"$f":"SUMIFS('Пр. №1.2.'!$L:$L,'Пр. №1.2.'!$B:$B,'Пр. №3'!$D263,'Пр. №1.2.'!$E:$E,'Пр. №3'!$G263)","v":0},{"$error":"#VALUE!"},{"$error":"#VALUE!"}]
[{"$f":"ROW()","v":264},208,"Ввод данных",{"$error":"#N/A"},{"$f":"INDEX('Пр. №2'!$1:$1048576,MATCH('Пр. №3'!$F264,'Пр. №2'!$D:$D,0),COLUMN('Пр. №2'!$C$5))","v":{"$error":"#N/A"}},null,null,null,null,null,null,null,null,null,null,null,null,null,null,null,null,null,null,null,null,null,null,null,null,null,null,null,null,null,null,null,null,null,null,null,null,null,null,null,null,null,null,null,null,null,null,null,null,null,null,null,null,null,null,null,null,null,null,null,null,null,null,null,0,null,{"$f":"IFERROR(INDEX(справочник!$G$1:$I$7,MATCH($BV264,справочник!$G$1:$G$7,0),3),\"---\")","v":"---"},{"$f":"IFERROR(INDEX('Пр. №1'!$B$11:$C$34,MATCH(BS264,'Пр. №1'!$B$11:$B$34,0),2),\"---\")","v":"---"},{"$f":"IFERROR(INDEX('Состав ВТК-ВРГ'!$1:$1048576,MATCH($G264,'Состав ВТК-ВРГ'!$B:$B,0),MATCH(BU$6,'Состав ВТК-ВРГ'!$3:$3,0)),\"---\")","v":"---"},{"$f":"IFERROR(INDEX('Состав ВТК-ВРГ'!$1:$1048576,MATCH($G264,'Состав ВТК-ВРГ'!$B:$B,0),MATCH(BV$6,'Состав ВТК-ВРГ'!$3:$3,0)),\"---\")","v":"---"},{"$f":"IFERROR(INDEX(справочник!$G$1:$I$7,MATCH($BV264,справочник!$G$1:$G$7,0),2),\"---\")","v":"---"},{"$f":"IFERROR(INDEX('Состав ВТК-ВРГ'!$1:$1048576,MATCH($G264,'Состав ВТК-ВРГ'!$B:$B,0),MATCH(BX$6,'Состав ВТК-ВРГ'!$3:$3,0)),\"---\")","v":"---"},{"$f":"IFERROR(INDEX('Пр. №4'!$1:$1048576,MATCH(BX264,'Пр. №4'!$C:$C,0),MATCH('Пр. №3'!$D$5,'Пр. №4'!$9:$9,0)),\"---\")","v":"---"},{"$f":"SUMIFS('Пр. №1.2.'!$L:$L,'Пр. №1.2.'!$B:$B,'Пр. №3'!$D264,'Пр. №1.2.'!$E:$E,'Пр. №3'!$G264)","v":0},{"$error":"#VALUE!"},{"$error":"#VALUE!"}]
[{"$f":"ROW()","v":265},209,"Ввод данных",{"$error":"#N/A"},{"$f":"INDEX('Пр. №2'!$1:$1048576,MATCH('Пр. №3'!$F265,'Пр. №2'!$D:$D,0),COLUMN('Пр. №2'!$C$5))","v":{"$error":"#N/A"}},null,null,null,null,null,null,null,null,null,null,null,null,null,null,null,null,null,null,null,null,null,null,null,null,null,null,null,null,null,null,null,null,null,null,null,null,null,null,null,null,null,null,null,null,null,null,null,null,null,null,null,null,null,null,null,null,null,null,null,null,null,null,null,0,null,{"$f":"IFERROR(INDEX(справочник!$G$1:$I$7,MATCH($BV265,справочник!$G$1:$G$7,0),3),\"---\")","v":"---"},{"$f":"IFERROR(INDEX('Пр. №1'!$B$11:$C$34,MATCH(BS265,'Пр. №1'!$B$11:$B$34,0),2),\"---\")","v":"---"},{"$f":"IFERROR(INDEX('Состав ВТК-ВРГ'!$1:$1048576,MATCH($G265,'Состав ВТК-ВРГ'!$B:$B,0),MATCH(BU$6,'Состав ВТК-ВРГ'!$3:$3,0)),\"---\")","v":"---"},{"$f":"IFERROR(INDEX('Состав ВТК-ВРГ'!$1:$1048576,MATCH($G265,'Состав ВТК-ВРГ'!$B:$B,0),MATCH(BV$6,'Состав ВТК-ВРГ'!$3:$3,0)),\"---\")","v":"---"},{"$f":"IFERROR(INDEX(справочник!$G$1:$I$7,MATCH($BV265,справочник!$G$1:$G$7,0),2),\"---\")","v":"---"},{"$f":"IFERROR(INDEX('Состав ВТК-ВРГ'!$1:$1048576,MATCH($G265,'Состав ВТК-ВРГ'!$B:$B,0),MATCH(BX$6,'Состав ВТК-ВРГ'!$3:$3,0)),\"---\")","v":"---"},{"$f":"IFERROR(INDEX('Пр. №4'!$1:$1048576,MATCH(BX265,'Пр. №4'!$C:$C,0),MATCH('Пр. №3'!$D$5,'Пр. №4'!$9:$9,0)),\"---\")","v":"---"},{"$f":"SUMIFS('Пр. №1.2.'!$L:$L,'Пр. №1.2.'!$B:$B,'Пр. №3'!$D265,'Пр. №1.2.'!$E:$E,'Пр. №3'!$G265)","v":0},{"$error":"#VALUE!"},{"$error":"#VALUE!"}]
[{"$f":"ROW()","v":266},210,"Ввод данных",{"$f":"INDEX($D$22:$E$35,MATCH(E266,$E$22:$E$35,0),1)","v":{"$error":"#N/A"}},{"$f":"INDEX('Пр. №2'!$1:$1048576,MATCH('Пр. №3'!$F266,'Пр. №2'!$D:$D,0),COLUMN('Пр. №2'!$C$5))","v":{"$error":"#N/A"}},null,null,null,null,null,null,null,null,null,null,null,null,null,null,null,null,null,null,null,null,null,null,null,null,null,null,null,null,null,null,null,null,null,null,null,null,null,null,null,null,null,null,null,null,null,null,null,null,null,null,null,null,null,null,null,null,null,null,null,null,null,null,null,{"$f":"SUM(H266:BP266)","v":0},null,{"$f":"IFERROR(INDEX(справочник!$G$1:$I$7,MATCH($BV266,справочник!$G$1:$G$7,0),3),\"---\")","v":"---"},{"$f":"IFERROR(INDEX('Пр. №1'!$B$11:$C$34,MATCH(BS266,'Пр. №1'!$B$11:$B$34,0),2),\"---\")","v":"---"},{"$f":"IFERROR(INDEX('Состав ВТК-ВРГ'!$1:$1048576,MATCH($G266,'Состав ВТК-ВРГ'!$B:$B,0),MATCH(BU$6,'Состав ВТК-ВРГ'!$3:$3,0)),\"---\")","v":"---"},{"$f":"IFERROR(INDEX('Состав ВТК-ВРГ'!$1:$1048576,MATCH($G266,'Состав ВТК-ВРГ'!$B:$B,0),MATCH(BV$6,'Состав ВТК-ВРГ'!$3:$3,0)),\"---\")","v":"---"},{"$f":"IFERROR(INDEX(справочник!$G$1:$I$7,MATCH($BV266,справочник!$G$1:$G$7,0),2),\"---\")","v":"---"},{"$f":"IFERROR(INDEX('Состав ВТК-ВРГ'!$1:$1048576,MATCH($G266,'Состав ВТК-ВРГ'!$B:$B,0),MATCH(BX$6,'Состав ВТК-ВРГ'!$3:$3,0)),\"---\")","v":"---"},{"$f":"IFERROR(INDEX('Пр. №4'!$1:$1048576,MATCH(BX266,'Пр. №4'!$C:$C,0),MATCH('Пр. №3'!$D$5,'Пр. №4'!$9:$9,0)),\"---\")","v":"---"},{"$f":"SUMIFS('Пр. №1.2.'!$L:$L,'Пр. №1.2.'!$B:$B,'Пр. №3'!$D266,'Пр. №1.2.'!$E:$E,'Пр. №3'!$G266)","v":0},{"$f":"BY266*BZ266","v":{"$error":"#VALUE!"}},{"$f":"BQ266*BZ266*BY266","v":{"$error":"#VALUE!"}}]
[{"$f":"ROW()","v":267},211,"Ввод данных",{"$error":"#N/A"},{"$f":"INDEX('Пр. №2'!$1:$1048576,MATCH('Пр. №3'!$F267,'Пр. №2'!$D:$D,0),COLUMN('Пр. №2'!$C$5))","v":{"$error":"#N/A"}},null,null,null,null,null,null,null,null,null,null,null,null,null,null,null,null,null,null,null,null,null,null,null,null,null,null,null,null,null,null,null,null,null,null,null,null,null,null,null,null,null,null,null,null,null,null,null,null,null,null,null,null,null,null,null,null,null,null,null,null,null,null,null,0,null,{"$f":"IFERROR(INDEX(справочник!$G$1:$I$7,MATCH($BV267,справочник!$G$1:$G$7,0),3),\"---\")","v":"---"},{"$f":"IFERROR(INDEX('Пр. №1'!$B$11:$C$34,MATCH(BS267,'Пр. №1'!$B$11:$B$34,0),2),\"---\")","v":"---"},{"$f":"IFERROR(INDEX('Состав ВТК-ВРГ'!$1:$1048576,MATCH($G267,'Состав ВТК-ВРГ'!$B:$B,0),MATCH(BU$6,'Состав ВТК-ВРГ'!$3:$3,0)),\"---\")","v":"---"},{"$f":"IFERROR(INDEX('Состав ВТК-ВРГ'!$1:$1048576,MATCH($G267,'Состав ВТК-ВРГ'!$B:$B,0),MATCH(BV$6,'Состав ВТК-ВРГ'!$3:$3,0)),\"---\")","v":"---"},{"$f":"IFERROR(INDEX(справочник!$G$1:$I$7,MATCH($BV267,справочник!$G$1:$G$7,0),2),\"---\")","v":"---"},{"$f":"IFERROR(INDEX('Состав ВТК-ВРГ'!$1:$1048576,MATCH($G267,'Состав ВТК-ВРГ'!$B:$B,0),MATCH(BX$6,'Состав ВТК-ВРГ'!$3:$3,0)),\"---\")","v":"---"},{"$f":"IFERROR(INDEX('Пр. №4'!$1:$1048576,MATCH(BX267,'Пр. №4'!$C:$C,0),MATCH('Пр. №3'!$D$5,'Пр. №4'!$9:$9,0)),\"---\")","v":"---"},{"$f":"SUMIFS('Пр. №1.2.'!$L:$L,'Пр. №1.2.'!$B:$B,'Пр. №3'!$D267,'Пр. №1.2.'!$E:$E,'Пр. №3'!$G267)","v":0},{"$error":"#VALUE!"},{"$error":"#VALUE!"}]
[{"$f":"ROW()","v":268},212,"Ввод данных",{"$error":"#N/A"},{"$f":"INDEX('Пр. №2'!$1:$1048576,MATCH('Пр. №3'!$F268,'Пр. №2'!$D:$D,0),COLUMN('Пр. №2'!$C$5))","v":{"$error":"#N/A"}},null,null,null,null,null,null,null,null,null,null,null,null,null,null,null,null,null,null,null,null,null,null,null,null,null,null,null,null,null,null,null,null,null,null,null,null,null,null,null,null,null,null,null,null,null,null,null,null,null,null,null,null,null,null,null,null,null,null,null,null,null,null,null,0,null,{"$f":"IFERROR(INDEX(справочник!$G$1:$I$7,MATCH($BV268,справочник!$G$1:$G$7,0),3),\"---\")","v":"---"},{"$f":"IFERROR(INDEX('Пр. №1'!$B$11:$C$34,MATCH(BS268,'Пр. №1'!$B$11:$B$34,0),2),\"---\")","v":"---"},{"$f":"IFERROR(INDEX('Состав ВТК-ВРГ'!$1:$1048576,MATCH($G268,'Состав ВТК-ВРГ'!$B:$B,0),MATCH(BU$6,'Состав ВТК-ВРГ'!$3:$3,0)),\"---\")","v":"---"},{"$f":"IFERROR(INDEX('Состав ВТК-ВРГ'!$1:$1048576,MATCH($G268,'Состав ВТК-ВРГ'!$B:$B,0),MATCH(BV$6,'Состав ВТК-ВРГ'!$3:$3,0)),\"---\")","v":"---"},{"$f":"IFERROR(INDEX(справочник!$G$1:$I$7,MATCH($BV268,справочник!$G$1:$G$7,0),2),\"---\")","v":"---"},{"$f":"IFERROR(INDEX('Состав ВТК-ВРГ'!$1:$1048576,MATCH($G268,'Состав ВТК-ВРГ'!$B:$B,0),MATCH(BX$6,'Состав ВТК-ВРГ'!$3:$3,0)),\"---\")","v":"---"},{"$f":"IFERROR(INDEX('Пр. №4'!$1:$1048576,MATCH(BX268,'Пр. №4'!$C:$C,0),MATCH('Пр. №3'!$D$5,'Пр. №4'!$9:$9,0)),\"---\")","v":"---"},{"$f":"SUMIFS('Пр. №1.2.'!$L:$L,'Пр. №1.2.'!$B:$B,'Пр. №3'!$D268,'Пр. №1.2.'!$E:$E,'Пр. №3'!$G268)","v":0},{"$error":"#VALUE!"},{"$error":"#VALUE!"}]
[{"$f":"ROW()","v":269},213,"Ввод данных",{"$error":"#N/A"},{"$f":"INDEX('Пр. №2'!$1:$1048576,MATCH('Пр. №3'!$F269,'Пр. №2'!$D:$D,0),COLUMN('Пр. №2'!$C$5))","v":{"$error":"#N/A"}},null,null,null,null,null,null,null,null,null,null,null,null,null,null,null,null,null,null,null,null,null,null,null,null,null,null,null,null,null,null,null,null,null,null,null,null,null,null,null,null,null,null,null,null,null,null,null,null,null,null,null,null,null,null,null,null,null,null,null,null,null,null,null,0,null,{"$f":"IFERROR(INDEX(справочник!$G$1:$I$7,MATCH($BV269,справочник!$G$1:$G$7,0),3),\"---\")","v":"---"},{"$f":"IFERROR(INDEX('Пр. №1'!$B$11:$C$34,MATCH(BS269,'Пр. №1'!$B$11:$B$34,0),2),\"---\")","v":"---"},{"$f":"IFERROR(INDEX('Состав ВТК-ВРГ'!$1:$1048576,MATCH($G269,'Состав ВТК-ВРГ'!$B:$B,0),MATCH(BU$6,'Состав ВТК-ВРГ'!$3:$3,0)),\"---\")","v":"---"},{"$f":"IFERROR(INDEX('Состав ВТК-ВРГ'!$1:$1048576,MATCH($G269,'Состав ВТК-ВРГ'!$B:$B,0),MATCH(BV$6,'Состав ВТК-ВРГ'!$3:$3,0)),\"---\")","v":"---"},{"$f":"IFERROR(INDEX(справочник!$G$1:$I$7,MATCH($BV269,справочник!$G$1:$G$7,0),2),\"---\")","v":"---"},{"$f":"IFERROR(INDEX('Состав ВТК-ВРГ'!$1:$1048576,MATCH($G269,'Состав ВТК-ВРГ'!$B:$B,0),MATCH(BX$6,'Состав ВТК-ВРГ'!$3:$3,0)),\"---\")","v":"---"},{"$f":"IFERROR(INDEX('Пр. №4'!$1:$1048576,MATCH(BX269,'Пр. №4'!$C:$C,0),MATCH('Пр. №3'!$D$5,'Пр. №4'!$9:$9,0)),\"---\")","v":"---"},{"$f":"SUMIFS('Пр. №1.2.'!$L:$L,'Пр. №1.2.'!$B:$B,'Пр. №3'!$D269,'Пр. №1.2.'!$E:$E,'Пр. №3'!$G269)","v":0},{"$error":"#VALUE!"},{"$error":"#VALUE!"}]
[{"$f":"ROW()","v":270},214,"Ввод данных",{"$error":"#N/A"},{"$f":"INDEX('Пр. №2'!$1:$1048576,MATCH('Пр. №3'!$F270,'Пр. №2'!$D:$D,0),COLUMN('Пр. №2'!$C$5))","v":{"$error":"#N/A"}},null,null,null,null,null,null,null,null,null,null,null,null,null,null,null,null,null,null,null,null,null,null,null,null,null,null,null,null,null,null,null,null,null,null,null,null,null,null,null,null,null,null,null,null,null,null,null,null,null,null,null,null,null,null,null,null,null,null,null,null,null,null,null,0,null,{"$f":"IFERROR(INDEX(справочник!$G$1:$I$7,MATCH($BV270,справочник!$G$1:$G$7,0),3),\"---\")","v":"---"},{"$f":"IFERROR(INDEX('Пр. №1'!$B$11:$C$34,MATCH(BS270,'Пр. №1'!$B$11:$B$34,0),2),\"---\")","v":"---"},{"$f":"IFERROR(INDEX('Состав ВТК-ВРГ'!$1:$1048576,MATCH($G270,'Состав ВТК-ВРГ'!$B:$B,0),MATCH(BU$6,'Состав ВТК-ВРГ'!$3:$3,0)),\"---\")","v":"---"},{"$f":"IFERROR(INDEX('Состав ВТК-ВРГ'!$1:$1048576,MATCH($G270,'Состав ВТК-ВРГ'!$B:$B,0),MATCH(BV$6,'Состав ВТК-ВРГ'!$3:$3,0)),\"---\")","v":"---"},{"$f":"IFERROR(INDEX(справочник!$G$1:$I$7,MATCH($BV270,справочник!$G$1:$G$7,0),2),\"---\")","v":"---"},{"$f":"IFERROR(INDEX('Состав ВТК-ВРГ'!$1:$1048576,MATCH($G270,'Состав ВТК-ВРГ'!$B:$B,0),MATCH(BX$6,'Состав ВТК-ВРГ'!$3:$3,0)),\"---\")","v":"---"},{"$f":"IFERROR(INDEX('Пр. №4'!$1:$1048576,MATCH(BX270,'Пр. №4'!$C:$C,0),MATCH('Пр. №3'!$D$5,'Пр. №4'!$9:$9,0)),\"---\")","v":"---"},{"$f":"SUMIFS('Пр. №1.2.'!$L:$L,'Пр. №1.2.'!$B:$B,'Пр. №3'!$D270,'Пр. №1.2.'!$E:$E,'Пр. №3'!$G270)","v":0},{"$error":"#VALUE!"},{"$error":"#VALUE!"}]
[{"$f":"ROW()","v":271},215,"Ввод данных",{"$error":"#N/A"},{"$f":"INDEX('Пр. №2'!$1:$1048576,MATCH('Пр. №3'!$F271,'Пр. №2'!$D:$D,0),COLUMN('Пр. №2'!$C$5))","v":{"$error":"#N/A"}},null,null,null,null,null,null,null,null,null,null,null,null,null,null,null,null,null,null,null,null,null,null,null,null,null,null,null,null,null,null,null,null,null,null,null,null,null,null,null,null,null,null,null,null,null,null,null,null,null,null,null,null,null,null,null,null,null,null,null,null,null,null,null,0,null,{"$f":"IFERROR(INDEX(справочник!$G$1:$I$7,MATCH($BV271,справочник!$G$1:$G$7,0),3),\"---\")","v":"---"},{"$f":"IFERROR(INDEX('Пр. №1'!$B$11:$C$34,MATCH(BS271,'Пр. №1'!$B$11:$B$34,0),2),\"---\")","v":"---"},{"$f":"IFERROR(INDEX('Состав ВТК-ВРГ'!$1:$1048576,MATCH($G271,'Состав ВТК-ВРГ'!$B:$B,0),MATCH(BU$6,'Состав ВТК-ВРГ'!$3:$3,0)),\"---\")","v":"---"},{"$f":"IFERROR(INDEX('Состав ВТК-ВРГ'!$1:$1048576,MATCH($G271,'Состав ВТК-ВРГ'!$B:$B,0),MATCH(BV$6,'Состав ВТК-ВРГ'!$3:$3,0)),\"---\")","v":"---"},{"$f":"IFERROR(INDEX(справочник!$G$1:$I$7,MATCH($BV271,справочник!$G$1:$G$7,0),2),\"---\")","v":"---"},{"$f":"IFERROR(INDEX('Состав ВТК-ВРГ'!$1:$1048576,MATCH($G271,'Состав ВТК-ВРГ'!$B:$B,0),MATCH(BX$6,'Состав ВТК-ВРГ'!$3:$3,0)),\"---\")","v":"---"},{"$f":"IFERROR(INDEX('Пр. №4'!$1:$1048576,MATCH(BX271,'Пр. №4'!$C:$C,0),MATCH('Пр. №3'!$D$5,'Пр. №4'!$9:$9,0)),\"---\")","v":"---"},{"$f":"SUMIFS('Пр. №1.2.'!$L:$L,'Пр. №1.2.'!$B:$B,'Пр. №3'!$D271,'Пр. №1.2.'!$E:$E,'Пр. №3'!$G271)","v":0},{"$error":"#VALUE!"},{"$error":"#VALUE!"}]
[{"$f":"ROW()","v":272},216,"Ввод данных",{"$error":"#N/A"},{"$f":"INDEX('Пр. №2'!$1:$1048576,MATCH('Пр. №3'!$F272,'Пр. №2'!$D:$D,0),COLUMN('Пр. №2'!$C$5))","v":{"$error":"#N/A"}},null,null,null,null,null,null,null,null,null,null,null,null,null,null,null,null,null,null,null,null,null,null,null,null,null,null,null,null,null,null,null,null,null,null,null,null,null,null,null,null,null,null,null,null,null,null,null,null,null,null,null,null,null,null,null,null,null,null,null,null,null,null,null,0,null,{"$f":"IFERROR(INDEX(справочник!$G$1:$I$7,MATCH($BV272,справочник!$G$1:$G$7,0),3),\"---\")","v":"---"},{"$f":"IFERROR(INDEX('Пр. №1'!$B$11:$C$34,MATCH(BS272,'Пр. №1'!$B$11:$B$34,0),2),\"---\")","v":"---"},{"$f":"IFERROR(INDEX('Состав ВТК-ВРГ'!$1:$1048576,MATCH($G272,'Состав ВТК-ВРГ'!$B:$B,0),MATCH(BU$6,'Состав ВТК-ВРГ'!$3:$3,0)),\"---\")","v":"---"},{"$f":"IFERROR(INDEX('Состав ВТК-ВРГ'!$1:$1048576,MATCH($G272,'Состав ВТК-ВРГ'!$B:$B,0),MATCH(BV$6,'Состав ВТК-ВРГ'!$3:$3,0)),\"---\")","v":"---"},{"$f":"IFERROR(INDEX(справочник!$G$1:$I$7,MATCH($BV272,справочник!$G$1:$G$7,0),2),\"---\")","v":"---"},{"$f":"IFERROR(INDEX('Состав ВТК-ВРГ'!$1:$1048576,MATCH($G272,'Состав ВТК-ВРГ'!$B:$B,0),MATCH(BX$6,'Состав ВТК-ВРГ'!$3:$3,0)),\"---\")","v":"---"},{"$f":"IFERROR(INDEX('Пр. №4'!$1:$1048576,MATCH(BX272,'Пр. №4'!$C:$C,0),MATCH('Пр. №3'!$D$5,'Пр. №4'!$9:$9,0)),\"---\")","v":"---"},{"$f":"SUMIFS('Пр. №1.2.'!$L:$L,'Пр. №1.2.'!$B:$B,'Пр. №3'!$D272,'Пр. №1.2.'!$E:$E,'Пр. №3'!$G272)","v":0},{"$error":"#VALUE!"},{"$error":"#VALUE!"}]
[{"$f":"ROW()","v":273},217,"Ввод данных",{"$error":"#N/A"},{"$f":"INDEX('Пр. №2'!$1:$1048576,MATCH('Пр. №3'!$F273,'Пр. №2'!$D:$D,0),COLUMN('Пр. №2'!$C$5))","v":{"$error":"#N/A"}},null,null,null,null,null,null,null,null,null,null,null,null,null,null,null,null,null,null,null,null,null,null,null,null,null,null,null,null,null,null,null,null,null,null,null,null,null,null,null,null,null,null,null,null,null,null,null,null,null,null,null,null,null,null,null,null,null,null,null,null,null,null,null,0,null,{"$f":"IFERROR(INDEX(справочник!$G$1:$I$7,MATCH($BV273,справочник!$G$1:$G$7,0),3),\"---\")","v":"---"},{"$f":"IFERROR(INDEX('Пр. №1'!$B$11:$C$34,MATCH(BS273,'Пр. №1'!$B$11:$B$34,0),2),\"---\")","v":"---"},{"$f":"IFERROR(INDEX('Состав ВТК-ВРГ'!$1:$1048576,MATCH($G273,'Состав ВТК-ВРГ'!$B:$B,0),MATCH(BU$6,'Состав ВТК-ВРГ'!$3:$3,0)),\"---\")","v":"---"},{"$f":"IFERROR(INDEX('Состав ВТК-ВРГ'!$1:$1048576,MATCH($G273,'Состав ВТК-ВРГ'!$B:$B,0),MATCH(BV$6,'Состав ВТК-ВРГ'!$3:$3,0)),\"---\")","v":"---"},{"$f":"IFERROR(INDEX(справочник!$G$1:$I$7,MATCH($BV273,справочник!$G$1:$G$7,0),2),\"---\")","v":"---"},{"$f":"IFERROR(INDEX('Состав ВТК-ВРГ'!$1:$1048576,MATCH($G273,'Состав ВТК-ВРГ'!$B:$B,0),MATCH(BX$6,'Состав ВТК-ВРГ'!$3:$3,0)),\"---\")","v":"---"},{"$f":"IFERROR(INDEX('Пр. №4'!$1:$1048576,MATCH(BX273,'Пр. №4'!$C:$C,0),MATCH('Пр. №3'!$D$5,'Пр. №4'!$9:$9,0)),\"---\")","v":"---"},{"$f":"SUMIFS('Пр. №1.2.'!$L:$L,'Пр. №1.2.'!$B:$B,'Пр. №3'!$D273,'Пр. №1.2.'!$E:$E,'Пр. №3'!$G273)","v":0},{"$error":"#VALUE!"},{"$error":"#VALUE!"}]
[{"$f":"ROW()","v":274},218,"Ввод данных",{"$error":"#N/A"},{"$f":"INDEX('Пр. №2'!$1:$1048576,MATCH('Пр. №3'!$F274,'Пр. №2'!$D:$D,0),COLUMN('Пр. №2'!$C$5))","v":{"$error":"#N/A"}},null,null,null,null,null,null,null,null,null,null,null,null,null,null,null,null,null,null,null,null,null,null,null,null,null,null,null,null,null,null,null,null,null,null,null,null,null,null,null,null,null,null,null,null,null,null,null,null,null,null,null,null,null,null,null,null,null,null,null,null,null,null,null,0,null,{"$f":"IFERROR(INDEX(справочник!$G$1:$I$7,MATCH($BV274,справочник!$G$1:$G$7,0),3),\"---\")","v":"---"},{"$f":"IFERROR(INDEX('Пр. №1'!$B$11:$C$34,MATCH(BS274,'Пр. №1'!$B$11:$B$34,0),2),\"---\")","v":"---"},{"$f":"IFERROR(INDEX('Состав ВТК-ВРГ'!$1:$1048576,MATCH($G274,'Состав ВТК-ВРГ'!$B:$B,0),MATCH(BU$6,'Состав ВТК-ВРГ'!$3:$3,0)),\"---\")","v":"---"},{"$f":"IFERROR(INDEX('Состав ВТК-ВРГ'!$1:$1048576,MATCH($G274,'Состав ВТК-ВРГ'!$B:$B,0),MATCH(BV$6,'Состав ВТК-ВРГ'!$3:$3,0)),\"---\")","v":"---"},{"$f":"IFERROR(INDEX(справочник!$G$1:$I$7,MATCH($BV274,справочник!$G$1:$G$7,0),2),\"---\")","v":"---"},{"$f":"IFERROR(INDEX('Состав ВТК-ВРГ'!$1:$1048576,MATCH($G274,'Состав ВТК-ВРГ'!$B:$B,0),MATCH(BX$6,'Состав ВТК-ВРГ'!$3:$3,0)),\"---\")","v":"---"},{"$f":"IFERROR(INDEX('Пр. №4'!$1:$1048576,MATCH(BX274,'Пр. №4'!$C:$C,0),MATCH('Пр. №3'!$D$5,'Пр. №4'!$9:$9,0)),\"---\")","v":"---"},{"$f":"SUMIFS('Пр. №1.2.'!$L:$L,'Пр. №1.2.'!$B:$B,'Пр. №3'!$D274,'Пр. №1.2.'!$E:$E,'Пр. №3'!$G274)","v":0},{"$error":"#VALUE!"},{"$error":"#VALUE!"}]
[{"$f":"ROW()","v":275},219,"Ввод данных",{"$error":"#N/A"},{"$f":"INDEX('Пр. №2'!$1:$1048576,MATCH('Пр. №3'!$F275,'Пр. №2'!$D:$D,0),COLUMN('Пр. №2'!$C$5))","v":{"$error":"#N/A"}},null,null,null,null,null,null,null,null,null,null,null,null,null,null,null,null,null,null,null,null,null,null,null,null,null,null,null,null,null,null,null,null,null,null,null,null,null,null,null,null,null,null,null,null,null,null,null,null,null,null,null,null,null,null,null,null,null,null,null,null,null,null,null,0,null,{"$f":"IFERROR(INDEX(справочник!$G$1:$I$7,MATCH($BV275,справочник!$G$1:$G$7,0),3),\"---\")","v":"---"},{"$f":"IFERROR(INDEX('Пр. №1'!$B$11:$C$34,MATCH(BS275,'Пр. №1'!$B$11:$B$34,0),2),\"---\")","v":"---"},{"$f":"IFERROR(INDEX('Состав ВТК-ВРГ'!$1:$1048576,MATCH($G275,'Состав ВТК-ВРГ'!$B:$B,0),MATCH(BU$6,'Состав ВТК-ВРГ'!$3:$3,0)),\"---\")","v":"---"},{"$f":"IFERROR(INDEX('Состав ВТК-ВРГ'!$1:$1048576,MATCH($G275,'Состав ВТК-ВРГ'!$B:$B,0),MATCH(BV$6,'Состав ВТК-ВРГ'!$3:$3,0)),\"---\")","v":"---"},{"$f":"IFERROR(INDEX(справочник!$G$1:$I$7,MATCH($BV275,справочник!$G$1:$G$7,0),2),\"---\")","v":"---"},{"$f":"IFERROR(INDEX('Состав ВТК-ВРГ'!$1:$1048576,MATCH($G275,'Состав ВТК-ВРГ'!$B:$B,0),MATCH(BX$6,'Состав ВТК-ВРГ'!$3:$3,0)),\"---\")","v":"---"},{"$f":"IFERROR(INDEX('Пр. №4'!$1:$1048576,MATCH(BX275,'Пр. №4'!$C:$C,0),MATCH('Пр. №3'!$D$5,'Пр. №4'!$9:$9,0)),\"---\")","v":"---"},{"$f":"SUMIFS('Пр. №1.2.'!$L:$L,'Пр. №1.2.'!$B:$B,'Пр. №3'!$D275,'Пр. №1.2.'!$E:$E,'Пр. №3'!$G275)","v":0},{"$error":"#VALUE!"},{"$error":"#VALUE!"}]
[{"$f":"ROW()","v":276},220,"Ввод данных",{"$error":"#N/A"},{"$f":"INDEX('Пр. №2'!$1:$1048576,MATCH('Пр. №3'!$F276,'Пр. №2'!$D:$D,0),COLUMN('Пр. №2'!$C$5))","v":{"$error":"#N/A"}},null,null,null,null,null,null,null,null,null,null,null,null,null,null,null,null,null,null,null,null,null,null,null,null,null,null,null,null,null,null,null,null,null,null,null,null,null,null,null,null,null,null,null,null,null,null,null,null,null,null,null,null,null,null,null,null,null,null,null,null,null,null,null,0,null,{"$f":"IFERROR(INDEX(справочник!$G$1:$I$7,MATCH($BV276,справочник!$G$1:$G$7,0),3),\"---\")","v":"---"},{"$f":"IFERROR(INDEX('Пр. №1'!$B$11:$C$34,MATCH(BS276,'Пр. №1'!$B$11:$B$34,0),2),\"---\")","v":"---"},{"$f":"IFERROR(INDEX('Состав ВТК-ВРГ'!$1:$1048576,MATCH($G276,'Состав ВТК-ВРГ'!$B:$B,0),MATCH(BU$6,'Состав ВТК-ВРГ'!$3:$3,0)),\"---\")","v":"---"},{"$f":"IFERROR(INDEX('Состав ВТК-ВРГ'!$1:$1048576,MATCH($G276,'Состав ВТК-ВРГ'!$B:$B,0),MATCH(BV$6,'Состав ВТК-ВРГ'!$3:$3,0)),\"---\")","v":"---"},{"$f":"IFERROR(INDEX(справочник!$G$1:$I$7,MATCH($BV276,справочник!$G$1:$G$7,0),2),\"---\")","v":"---"},{"$f":"IFERROR(INDEX('Состав ВТК-ВРГ'!$1:$1048576,MATCH($G276,'Состав ВТК-ВРГ'!$B:$B,0),MATCH(BX$6,'Состав ВТК-ВРГ'!$3:$3,0)),\"---\")","v":"---"},{"$f":"IFERROR(INDEX('Пр. №4'!$1:$1048576,MATCH(BX276,'Пр. №4'!$C:$C,0),MATCH('Пр. №3'!$D$5,'Пр. №4'!$9:$9,0)),\"---\")","v":"---"},{"$f":"SUMIFS('Пр. №1.2.'!$L:$L,'Пр. №1.2.'!$B:$B,'Пр. №3'!$D276,'Пр. №1.2.'!$E:$E,'Пр. №3'!$G276)","v":0},{"$error":"#VALUE!"},{"$error":"#VALUE!"}]
[{"$f":"ROW()","v":277},221,"Ввод данных",{"$error":"#N/A"},{"$f":"INDEX('Пр. №2'!$1:$1048576,MATCH('Пр. №3'!$F277,'Пр. №2'!$D:$D,0),COLUMN('Пр. №2'!$C$5))","v":{"$error":"#N/A"}},null,null,null,null,null,null,null,null,null,null,null,null,null,null,null,null,null,null,null,null,null,null,null,null,null,null,null,null,null,null,null,null,null,null,null,null,null,null,null,null,null,null,null,null,null,null,null,null,null,null,null,null,null,null,null,null,null,null,null,null,null,null,null,0,null,{"$f":"IFERROR(INDEX(справочник!$G$1:$I$7,MATCH($BV277,справочник!$G$1:$G$7,0),3),\"---\")","v":"---"},{"$f":"IFERROR(INDEX('Пр. №1'!$B$11:$C$34,MATCH(BS277,'Пр. №1'!$B$11:$B$34,0),2),\"---\")","v":"---"},{"$f":"IFERROR(INDEX('Состав ВТК-ВРГ'!$1:$1048576,MATCH($G277,'Состав ВТК-ВРГ'!$B:$B,0),MATCH(BU$6,'Состав ВТК-ВРГ'!$3:$3,0)),\"---\")","v":"---"},{"$f":"IFERROR(INDEX('Состав ВТК-ВРГ'!$1:$1048576,MATCH($G277,'Состав ВТК-ВРГ'!$B:$B,0),MATCH(BV$6,'Состав ВТК-ВРГ'!$3:$3,0)),\"---\")","v":"---"},{"$f":"IFERROR(INDEX(справочник!$G$1:$I$7,MATCH($BV277,справочник!$G$1:$G$7,0),2),\"---\")","v":"---"},{"$f":"IFERROR(INDEX('Состав ВТК-ВРГ'!$1:$1048576,MATCH($G277,'Состав ВТК-ВРГ'!$B:$B,0),MATCH(BX$6,'Состав ВТК-ВРГ'!$3:$3,0)),\"---\")","v":"---"},{"$f":"IFERROR(INDEX('Пр. №4'!$1:$1048576,MATCH(BX277,'Пр. №4'!$C:$C,0),MATCH('Пр. №3'!$D$5,'Пр. №4'!$9:$9,0)),\"---\")","v":"---"},{"$f":"SUMIFS('Пр. №1.2.'!$L:$L,'Пр. №1.2.'!$B:$B,'Пр. №3'!$D277,'Пр. №1.2.'!$E:$E,'Пр. №3'!$G277)","v":0},{"$error":"#VALUE!"},{"$error":"#VALUE!"}]
[{"$f":"ROW()","v":278},222,"Ввод данных",{"$error":"#N/A"},{"$f":"INDEX('Пр. №2'!$1:$1048576,MATCH('Пр. №3'!$F278,'Пр. №2'!$D:$D,0),COLUMN('Пр. №2'!$C$5))","v":{"$error":"#N/A"}},null,null,null,null,null,null,null,null,null,null,null,null,null,null,null,null,null,null,null,null,null,null,null,null,null,null,null,null,null,null,null,null,null,null,null,null,null,null,null,null,null,null,null,null,null,null,null,null,null,null,null,null,null,null,null,null,null,null,null,null,null,null,null,0,null,{"$f":"IFERROR(INDEX(справочник!$G$1:$I$7,MATCH($BV278,справочник!$G$1:$G$7,0),3),\"---\")","v":"---"},{"$f":"IFERROR(INDEX('Пр. №1'!$B$11:$C$34,MATCH(BS278,'Пр. №1'!$B$11:$B$34,0),2),\"---\")","v":"---"},{"$f":"IFERROR(INDEX('Состав ВТК-ВРГ'!$1:$1048576,MATCH($G278,'Состав ВТК-ВРГ'!$B:$B,0),MATCH(BU$6,'Состав ВТК-ВРГ'!$3:$3,0)),\"---\")","v":"---"},{"$f":"IFERROR(INDEX('Состав ВТК-ВРГ'!$1:$1048576,MATCH($G278,'Состав ВТК-ВРГ'!$B:$B,0),MATCH(BV$6,'Состав ВТК-ВРГ'!$3:$3,0)),\"---\")","v":"---"},{"$f":"IFERROR(INDEX(справочник!$G$1:$I$7,MATCH($BV278,справочник!$G$1:$G$7,0),2),\"---\")","v":"---"},{"$f":"IFERROR(INDEX('Состав ВТК-ВРГ'!$1:$1048576,MATCH($G278,'Состав ВТК-ВРГ'!$B:$B,0),MATCH(BX$6,'Состав ВТК-ВРГ'!$3:$3,0)),\"---\")","v":"---"},{"$f":"IFERROR(INDEX('Пр. №4'!$1:$1048576,MATCH(BX278,'Пр. №4'!$C:$C,0),MATCH('Пр. №3'!$D$5,'Пр. №4'!$9:$9,0)),\"---\")","v":"---"},{"$f":"SUMIFS('Пр. №1.2.'!$L:$L,'Пр. №1.2.'!$B:$B,'Пр. №3'!$D278,'Пр. №1.2.'!$E:$E,'Пр. №3'!$G278)","v":0},{"$error":"#VALUE!"},{"$error":"#VALUE!"}]
[{"$f":"ROW()","v":279},223,"Ввод данных",{"$error":"#N/A"},{"$f":"INDEX('Пр. №2'!$1:$1048576,MATCH('Пр. №3'!$F279,'Пр. №2'!$D:$D,0),COLUMN('Пр. №2'!$C$5))","v":{"$error":"#N/A"}},null,null,null,null,null,null,null,null,null,null,null,null,null,null,null,null,null,null,null,null,null,null,null,null,null,null,null,null,null,null,null,null,null,null,null,null,null,null,null,null,null,null,null,null,null,null,null,null,null,null,null,null,null,null,null,null,null,null,null,null,null,null,null,0,null,{"$f":"IFERROR(INDEX(справочник!$G$1:$I$7,MATCH($BV279,справочник!$G$1:$G$7,0),3),\"---\")","v":"---"},{"$f":"IFERROR(INDEX('Пр. №1'!$B$11:$C$34,MATCH(BS279,'Пр. №1'!$B$11:$B$34,0),2),\"---\")","v":"---"},{"$f":"IFERROR(INDEX('Состав ВТК-ВРГ'!$1:$1048576,MATCH($G279,'Состав ВТК-ВРГ'!$B:$B,0),MATCH(BU$6,'Состав ВТК-ВРГ'!$3:$3,0)),\"---\")","v":"---"},{"$f":"IFERROR(INDEX('Состав ВТК-ВРГ'!$1:$1048576,MATCH($G279,'Состав ВТК-ВРГ'!$B:$B,0),MATCH(BV$6,'Состав ВТК-ВРГ'!$3:$3,0)),\"---\")","v":"---"},{"$f":"IFERROR(INDEX(справочник!$G$1:$I$7,MATCH($BV279,справочник!$G$1:$G$7,0),2),\"---\")","v":"---"},{"$f":"IFERROR(INDEX('Состав ВТК-ВРГ'!$1:$1048576,MATCH($G279,'Состав ВТК-ВРГ'!$B:$B,0),MATCH(BX$6,'Состав ВТК-ВРГ'!$3:$3,0)),\"---\")","v":"---"},{"$f":"IFERROR(INDEX('Пр. №4'!$1:$1048576,MATCH(BX279,'Пр. №4'!$C:$C,0),MATCH('Пр. №3'!$D$5,'Пр. №4'!$9:$9,0)),\"---\")","v":"---"},{"$f":"SUMIFS('Пр. №1.2.'!$L:$L,'Пр. №1.2.'!$B:$B,'Пр. №3'!$D279,'Пр. №1.2.'!$E:$E,'Пр. №3'!$G279)","v":0},{"$error":"#VALUE!"},{"$error":"#VALUE!"}]
[{"$f":"ROW()","v":280},224,"Ввод данных",{"$error":"#N/A"},{"$f":"INDEX('Пр. №2'!$1:$1048576,MATCH('Пр. №3'!$F280,'Пр. №2'!$D:$D,0),COLUMN('Пр. №2'!$C$5))","v":{"$error":"#N/A"}},null,null,null,null,null,null,null,null,null,null,null,null,null,null,null,null,null,null,null,null,null,null,null,null,null,null,null,null,null,null,null,null,null,null,null,null,null,null,null,null,null,null,null,null,null,null,null,null,null,null,null,null,null,null,null,null,null,null,null,null,null,null,null,0,null,{"$f":"IFERROR(INDEX(справочник!$G$1:$I$7,MATCH($BV280,справочник!$G$1:$G$7,0),3),\"---\")","v":"---"},{"$f":"IFERROR(INDEX('Пр. №1'!$B$11:$C$34,MATCH(BS280,'Пр. №1'!$B$11:$B$34,0),2),\"---\")","v":"---"},{"$f":"IFERROR(INDEX('Состав ВТК-ВРГ'!$1:$1048576,MATCH($G280,'Состав ВТК-ВРГ'!$B:$B,0),MATCH(BU$6,'Состав ВТК-ВРГ'!$3:$3,0)),\"---\")","v":"---"},{"$f":"IFERROR(INDEX('Состав ВТК-ВРГ'!$1:$1048576,MATCH($G280,'Состав ВТК-ВРГ'!$B:$B,0),MATCH(BV$6,'Состав ВТК-ВРГ'!$3:$3,0)),\"---\")","v":"---"},{"$f":"IFERROR(INDEX(справочник!$G$1:$I$7,MATCH($BV280,справочник!$G$1:$G$7,0),2),\"---\")","v":"---"},{"$f":"IFERROR(INDEX('Состав ВТК-ВРГ'!$1:$1048576,MATCH($G280,'Состав ВТК-ВРГ'!$B:$B,0),MATCH(BX$6,'Состав ВТК-ВРГ'!$3:$3,0)),\"---\")","v":"---"},{"$f":"IFERROR(INDEX('Пр. №4'!$1:$1048576,MATCH(BX280,'Пр. №4'!$C:$C,0),MATCH('Пр. №3'!$D$5,'Пр. №4'!$9:$9,0)),\"---\")","v":"---"},{"$f":"SUMIFS('Пр. №1.2.'!$L:$L,'Пр. №1.2.'!$B:$B,'Пр. №3'!$D280,'Пр. №1.2.'!$E:$E,'Пр. №3'!$G280)","v":0},{"$error":"#VALUE!"},{"$error":"#VALUE!"}]
[{"$f":"ROW()","v":281},225,"Ввод данных",{"$f":"INDEX($D$22:$E$35,MATCH(E281,$E$22:$E$35,0),1)","v":{"$error":"#N/A"}},{"$f":"INDEX('Пр. №2'!$1:$1048576,MATCH('Пр. №3'!$F281,'Пр. №2'!$D:$D,0),COLUMN('Пр. №2'!$C$5))","v":{"$error":"#N/A"}},null,null,null,null,null,null,null,null,null,null,null,null,null,null,null,null,null,null,null,null,null,null,null,null,null,null,null,null,null,null,null,null,null,null,null,null,null,null,null,null,null,null,null,null,null,null,null,null,null,null,null,null,null,null,null,null,null,null,null,null,null,null,null,{"$f":"SUM(H281:BP281)","v":0},null,{"$f":"IFERROR(INDEX(справочник!$G$1:$I$7,MATCH($BV281,справочник!$G$1:$G$7,0),3),\"---\")","v":"---"},{"$f":"IFERROR(INDEX('Пр. №1'!$B$11:$C$34,MATCH(BS281,'Пр. №1'!$B$11:$B$34,0),2),\"---\")","v":"---"},{"$f":"IFERROR(INDEX('Состав ВТК-ВРГ'!$1:$1048576,MATCH($G281,'Состав ВТК-ВРГ'!$B:$B,0),MATCH(BU$6,'Состав ВТК-ВРГ'!$3:$3,0)),\"---\")","v":"---"},{"$f":"IFERROR(INDEX('Состав ВТК-ВРГ'!$1:$1048576,MATCH($G281,'Состав ВТК-ВРГ'!$B:$B,0),MATCH(BV$6,'Состав ВТК-ВРГ'!$3:$3,0)),\"---\")","v":"---"},{"$f":"IFERROR(INDEX(справочник!$G$1:$I$7,MATCH($BV281,справочник!$G$1:$G$7,0),2),\"---\")","v":"---"},{"$f":"IFERROR(INDEX('Состав ВТК-ВРГ'!$1:$1048576,MATCH($G281,'Состав ВТК-ВРГ'!$B:$B,0),MATCH(BX$6,'Состав ВТК-ВРГ'!$3:$3,0)),\"---\")","v":"---"},{"$f":"IFERROR(INDEX('Пр. №4'!$1:$1048576,MATCH(BX281,'Пр. №4'!$C:$C,0),MATCH('Пр. №3'!$D$5,'Пр. №4'!$9:$9,0)),\"---\")","v":"---"},{"$f":"SUMIFS('Пр. №1.2.'!$L:$L,'Пр. №1.2.'!$B:$B,'Пр. №3'!$D281,'Пр. №1.2.'!$E:$E,'Пр. №3'!$G281)","v":0},{"$f":"BY281*BZ281","v":{"$error":"#VALUE!"}},{"$f":"BQ281*BZ281*BY281","v":{"$error":"#VALUE!"}}]
[{"$f":"ROW()","v":282},226,"Ввод данных",{"$error":"#N/A"},{"$f":"INDEX('Пр. №2'!$1:$1048576,MATCH('Пр. №3'!$F282,'Пр. №2'!$D:$D,0),COLUMN('Пр. №2'!$C$5))","v":{"$error":"#N/A"}},null,null,null,null,null,null,null,null,null,null,null,null,null,null,null,null,null,null,null,null,null,null,null,null,null,null,null,null,null,null,null,null,null,null,null,null,null,null,null,null,null,null,null,null,null,null,null,null,null,null,null,null,null,null,null,null,null,null,null,null,null,null,null,0,null,{"$f":"IFERROR(INDEX(справочник!$G$1:$I$7,MATCH($BV282,справочник!$G$1:$G$7,0),3),\"---\")","v":"---"},{"$f":"IFERROR(INDEX('Пр. №1'!$B$11:$C$34,MATCH(BS282,'Пр. №1'!$B$11:$B$34,0),2),\"---\")","v":"---"},{"$f":"IFERROR(INDEX('Состав ВТК-ВРГ'!$1:$1048576,MATCH($G282,'Состав ВТК-ВРГ'!$B:$B,0),MATCH(BU$6,'Состав ВТК-ВРГ'!$3:$3,0)),\"---\")","v":"---"},{"$f":"IFERROR(INDEX('Состав ВТК-ВРГ'!$1:$1048576,MATCH($G282,'Состав ВТК-ВРГ'!$B:$B,0),MATCH(BV$6,'Состав ВТК-ВРГ'!$3:$3,0)),\"---\")","v":"---"},{"$f":"IFERROR(INDEX(справочник!$G$1:$I$7,MATCH($BV282,справочник!$G$1:$G$7,0),2),\"---\")","v":"---"},{"$f":"IFERROR(INDEX('Состав ВТК-ВРГ'!$1:$1048576,MATCH($G282,'Состав ВТК-ВРГ'!$B:$B,0),MATCH(BX$6,'Состав ВТК-ВРГ'!$3:$3,0)),\"---\")","v":"---"},{"$f":"IFERROR(INDEX('Пр. №4'!$1:$1048576,MATCH(BX282,'Пр. №4'!$C:$C,0),MATCH('Пр. №3'!$D$5,'Пр. №4'!$9:$9,0)),\"---\")","v":"---"},{"$f":"SUMIFS('Пр. №1.2.'!$L:$L,'Пр. №1.2.'!$B:$B,'Пр. №3'!$D282,'Пр. №1.2.'!$E:$E,'Пр. №3'!$G282)","v":0},{"$error":"#VALUE!"},{"$error":"#VALUE!"}]
[{"$f":"ROW()","v":283},227,"Ввод данных",{"$error":"#N/A"},{"$f":"INDEX('Пр. №2'!$1:$1048576,MATCH('Пр. №3'!$F283,'Пр. №2'!$D:$D,0),COLUMN('Пр. №2'!$C$5))","v":{"$error":"#N/A"}},null,null,null,null,null,null,null,null,null,null,null,null,null,null,null,null,null,null,null,null,null,null,null,null,null,null,null,null,null,null,null,null,null,null,null,null,null,null,null,null,null,null,null,null,null,null,null,null,null,null,null,null,null,null,null,null,null,null,null,null,null,null,null,0,null,{"$f":"IFERROR(INDEX(справочник!$G$1:$I$7,MATCH($BV283,справочник!$G$1:$G$7,0),3),\"---\")","v":"---"},{"$f":"IFERROR(INDEX('Пр. №1'!$B$11:$C$34,MATCH(BS283,'Пр. №1'!$B$11:$B$34,0),2),\"---\")","v":"---"},{"$f":"IFERROR(INDEX('Состав ВТК-ВРГ'!$1:$1048576,MATCH($G283,'Состав ВТК-ВРГ'!$B:$B,0),MATCH(BU$6,'Состав ВТК-ВРГ'!$3:$3,0)),\"---\")","v":"---"},{"$f":"IFERROR(INDEX('Состав ВТК-ВРГ'!$1:$1048576,MATCH($G283,'Состав ВТК-ВРГ'!$B:$B,0),MATCH(BV$6,'Состав ВТК-ВРГ'!$3:$3,0)),\"---\")","v":"---"},{"$f":"IFERROR(INDEX(справочник!$G$1:$I$7,MATCH($BV283,справочник!$G$1:$G$7,0),2),\"---\")","v":"---"},{"$f":"IFERROR(INDEX('Состав ВТК-ВРГ'!$1:$1048576,MATCH($G283,'Состав ВТК-ВРГ'!$B:$B,0),MATCH(BX$6,'Состав ВТК-ВРГ'!$3:$3,0)),\"---\")","v":"---"},{"$f":"IFERROR(INDEX('Пр. №4'!$1:$1048576,MATCH(BX283,'Пр. №4'!$C:$C,0),MATCH('Пр. №3'!$D$5,'Пр. №4'!$9:$9,0)),\"---\")","v":"---"},{"$f":"SUMIFS('Пр. №1.2.'!$L:$L,'Пр. №1.2.'!$B:$B,'Пр. №3'!$D283,'Пр. №1.2.'!$E:$E,'Пр. №3'!$G283)","v":0},{"$error":"#VALUE!"},{"$error":"#VALUE!"}]
[{"$f":"ROW()","v":284},228,"Ввод данных",{"$error":"#N/A"},{"$f":"INDEX('Пр. №2'!$1:$1048576,MATCH('Пр. №3'!$F284,'Пр. №2'!$D:$D,0),COLUMN('Пр. №2'!$C$5))","v":{"$error":"#N/A"}},null,null,null,null,null,null,null,null,null,null,null,null,null,null,null,null,null,null,null,null,null,null,null,null,null,null,null,null,null,null,null,null,null,null,null,null,null,null,null,null,null,null,null,null,null,null,null,null,null,null,null,null,null,null,null,null,null,null,null,null,null,null,null,0,null,{"$f":"IFERROR(INDEX(справочник!$G$1:$I$7,MATCH($BV284,справочник!$G$1:$G$7,0),3),\"---\")","v":"---"},{"$f":"IFERROR(INDEX('Пр. №1'!$B$11:$C$34,MATCH(BS284,'Пр. №1'!$B$11:$B$34,0),2),\"---\")","v":"---"},{"$f":"IFERROR(INDEX('Состав ВТК-ВРГ'!$1:$1048576,MATCH($G284,'Состав ВТК-ВРГ'!$B:$B,0),MATCH(BU$6,'Состав ВТК-ВРГ'!$3:$3,0)),\"---\")","v":"---"},{"$f":"IFERROR(INDEX('Состав ВТК-ВРГ'!$1:$1048576,MATCH($G284,'Состав ВТК-ВРГ'!$B:$B,0),MATCH(BV$6,'Состав ВТК-ВРГ'!$3:$3,0)),\"---\")","v":"---"},{"$f":"IFERROR(INDEX(справочник!$G$1:$I$7,MATCH($BV284,справочник!$G$1:$G$7,0),2),\"---\")","v":"---"},{"$f":"IFERROR(INDEX('Состав ВТК-ВРГ'!$1:$1048576,MATCH($G284,'Состав ВТК-ВРГ'!$B:$B,0),MATCH(BX$6,'Состав ВТК-ВРГ'!$3:$3,0)),\"---\")","v":"---"},{"$f":"IFERROR(INDEX('Пр. №4'!$1:$1048576,MATCH(BX284,'Пр. №4'!$C:$C,0),MATCH('Пр. №3'!$D$5,'Пр. №4'!$9:$9,0)),\"---\")","v":"---"},{"$f":"SUMIFS('Пр. №1.2.'!$L:$L,'Пр. №1.2.'!$B:$B,'Пр. №3'!$D284,'Пр. №1.2.'!$E:$E,'Пр. №3'!$G284)","v":0},{"$error":"#VALUE!"},{"$error":"#VALUE!"}]
[{"$f":"ROW()","v":285},229,"Ввод данных",{"$error":"#N/A"},{"$f":"INDEX('Пр. №2'!$1:$1048576,MATCH('Пр. №3'!$F285,'Пр. №2'!$D:$D,0),COLUMN('Пр. №2'!$C$5))","v":{"$error":"#N/A"}},null,null,null,null,null,null,null,null,null,null,null,null,null,null,null,null,null,null,null,null,null,null,null,null,null,null,null,null,null,null,null,null,null,null,null,null,null,null,null,null,null,null,null,null,null,null,null,null,null,null,null,null,null,null,null,null,null,null,null,null,null,null,null,0,null,{"$f":"IFERROR(INDEX(справочник!$G$1:$I$7,MATCH($BV285,справочник!$G$1:$G$7,0),3),\"---\")","v":"---"},{"$f":"IFERROR(INDEX('Пр. №1'!$B$11:$C$34,MATCH(BS285,'Пр. №1'!$B$11:$B$34,0),2),\"---\")","v":"---"},{"$f":"IFERROR(INDEX('Состав ВТК-ВРГ'!$1:$1048576,MATCH($G285,'Состав ВТК-ВРГ'!$B:$B,0),MATCH(BU$6,'Состав ВТК-ВРГ'!$3:$3,0)),\"---\")","v":"---"},{"$f":"IFERROR(INDEX('Состав ВТК-ВРГ'!$1:$1048576,MATCH($G285,'Состав ВТК-ВРГ'!$B:$B,0),MATCH(BV$6,'Состав ВТК-ВРГ'!$3:$3,0)),\"---\")","v":"---"},{"$f":"IFERROR(INDEX(справочник!$G$1:$I$7,MATCH($BV285,справочник!$G$1:$G$7,0),2),\"---\")","v":"---"},{"$f":"IFERROR(INDEX('Состав ВТК-ВРГ'!$1:$1048576,MATCH($G285,'Состав ВТК-ВРГ'!$B:$B,0),MATCH(BX$6,'Состав ВТК-ВРГ'!$3:$3,0)),\"---\")","v":"---"},{"$f":"IFERROR(INDEX('Пр. №4'!$1:$1048576,MATCH(BX285,'Пр. №4'!$C:$C,0),MATCH('Пр. №3'!$D$5,'Пр. №4'!$9:$9,0)),\"---\")","v":"---"},{"$f":"SUMIFS('Пр. №1.2.'!$L:$L,'Пр. №1.2.'!$B:$B,'Пр. №3'!$D285,'Пр. №1.2.'!$E:$E,'Пр. №3'!$G285)","v":0},{"$error":"#VALUE!"},{"$error":"#VALUE!"}]
[{"$f":"ROW()","v":286},230,"Ввод данных",{"$error":"#N/A"},{"$f":"INDEX('Пр. №2'!$1:$1048576,MATCH('Пр. №3'!$F286,'Пр. №2'!$D:$D,0),COLUMN('Пр. №2'!$C$5))","v":{"$error":"#N/A"}},null,null,null,null,null,null,null,null,null,null,null,null,null,null,null,null,null,null,null,null,null,null,null,null,null,null,null,null,null,null,null,null,null,null,null,null,null,null,null,null,null,null,null,null,null,null,null,null,null,null,null,null,null,null,null,null,null,null,null,null,null,null,null,0,null,{"$f":"IFERROR(INDEX(справочник!$G$1:$I$7,MATCH($BV286,справочник!$G$1:$G$7,0),3),\"---\")","v":"---"},{"$f":"IFERROR(INDEX('Пр. №1'!$B$11:$C$34,MATCH(BS286,'Пр. №1'!$B$11:$B$34,0),2),\"---\")","v":"---"},{"$f":"IFERROR(INDEX('Состав ВТК-ВРГ'!$1:$1048576,MATCH($G286,'Состав ВТК-ВРГ'!$B:$B,0),MATCH(BU$6,'Состав ВТК-ВРГ'!$3:$3,0)),\"---\")","v":"---"},{"$f":"IFERROR(INDEX('Состав ВТК-ВРГ'!$1:$1048576,MATCH($G286,'Состав ВТК-ВРГ'!$B:$B,0),MATCH(BV$6,'Состав ВТК-ВРГ'!$3:$3,0)),\"---\")","v":"---"},{"$f":"IFERROR(INDEX(справочник!$G$1:$I$7,MATCH($BV286,справочник!$G$1:$G$7,0),2),\"---\")","v":"---"},{"$f":"IFERROR(INDEX('Состав ВТК-ВРГ'!$1:$1048576,MATCH($G286,'Состав ВТК-ВРГ'!$B:$B,0),MATCH(BX$6,'Состав ВТК-ВРГ'!$3:$3,0)),\"---\")","v":"---"},{"$f":"IFERROR(INDEX('Пр. №4'!$1:$1048576,MATCH(BX286,'Пр. №4'!$C:$C,0),MATCH('Пр. №3'!$D$5,'Пр. №4'!$9:$9,0)),\"---\")","v":"---"},{"$f":"SUMIFS('Пр. №1.2.'!$L:$L,'Пр. №1.2.'!$B:$B,'Пр. №3'!$D286,'Пр. №1.2.'!$E:$E,'Пр. №3'!$G286)","v":0},{"$error":"#VALUE!"},{"$error":"#VALUE!"}]
[{"$f":"ROW()","v":287},231,"Ввод данных",{"$error":"#N/A"},{"$f":"INDEX('Пр. №2'!$1:$1048576,MATCH('Пр. №3'!$F287,'Пр. №2'!$D:$D,0),COLUMN('Пр. №2'!$C$5))","v":{"$error":"#N/A"}},null,null,null,null,null,null,null,null,null,null,null,null,null,null,null,null,null,null,null,null,null,null,null,null,null,null,null,null,null,null,null,null,null,null,null,null,null,null,null,null,null,null,null,null,null,null,null,null,null,null,null,null,null,null,null,null,null,null,null,null,null,null,null,0,null,{"$f":"IFERROR(INDEX(справочник!$G$1:$I$7,MATCH($BV287,справочник!$G$1:$G$7,0),3),\"---\")","v":"---"},{"$f":"IFERROR(INDEX('Пр. №1'!$B$11:$C$34,MATCH(BS287,'Пр. №1'!$B$11:$B$34,0),2),\"---\")","v":"---"},{"$f":"IFERROR(INDEX('Состав ВТК-ВРГ'!$1:$1048576,MATCH($G287,'Состав ВТК-ВРГ'!$B:$B,0),MATCH(BU$6,'Состав ВТК-ВРГ'!$3:$3,0)),\"---\")","v":"---"},{"$f":"IFERROR(INDEX('Состав ВТК-ВРГ'!$1:$1048576,MATCH($G287,'Состав ВТК-ВРГ'!$B:$B,0),MATCH(BV$6,'Состав ВТК-ВРГ'!$3:$3,0)),\"---\")","v":"---"},{"$f":"IFERROR(INDEX(справочник!$G$1:$I$7,MATCH($BV287,справочник!$G$1:$G$7,0),2),\"---\")","v":"---"},{"$f":"IFERROR(INDEX('Состав ВТК-ВРГ'!$1:$1048576,MATCH($G287,'Состав ВТК-ВРГ'!$B:$B,0),MATCH(BX$6,'Состав ВТК-ВРГ'!$3:$3,0)),\"---\")","v":"---"},{"$f":"IFERROR(INDEX('Пр. №4'!$1:$1048576,MATCH(BX287,'Пр. №4'!$C:$C,0),MATCH('Пр. №3'!$D$5,'Пр. №4'!$9:$9,0)),\"---\")","v":"---"},{"$f":"SUMIFS('Пр. №1.2.'!$L:$L,'Пр. №1.2.'!$B:$B,'Пр. №3'!$D287,'Пр. №1.2.'!$E:$E,'Пр. №3'!$G287)","v":0},{"$error":"#VALUE!"},{"$error":"#VALUE!"}]
[{"$f":"ROW()","v":288},232,"Ввод данных",{"$error":"#N/A"},{"$f":"INDEX('Пр. №2'!$1:$1048576,MATCH('Пр. №3'!$F288,'Пр. №2'!$D:$D,0),COLUMN('Пр. №2'!$C$5))","v":{"$error":"#N/A"}},null,null,null,null,null,null,null,null,null,null,null,null,null,null,null,null,null,null,null,null,null,null,null,null,null,null,null,null,null,null,null,null,null,null,null,null,null,null,null,null,null,null,null,null,null,null,null,null,null,null,null,null,null,null,null,null,null,null,null,null,null,null,null,0,null,{"$f":"IFERROR(INDEX(справочник!$G$1:$I$7,MATCH($BV288,справочник!$G$1:$G$7,0),3),\"---\")","v":"---"},{"$f":"IFERROR(INDEX('Пр. №1'!$B$11:$C$34,MATCH(BS288,'Пр. №1'!$B$11:$B$34,0),2),\"---\")","v":"---"},{"$f":"IFERROR(INDEX('Состав ВТК-ВРГ'!$1:$1048576,MATCH($G288,'Состав ВТК-ВРГ'!$B:$B,0),MATCH(BU$6,'Состав ВТК-ВРГ'!$3:$3,0)),\"---\")","v":"---"},{"$f":"IFERROR(INDEX('Состав ВТК-ВРГ'!$1:$1048576,MATCH($G288,'Состав ВТК-ВРГ'!$B:$B,0),MATCH(BV$6,'Состав ВТК-ВРГ'!$3:$3,0)),\"---\")","v":"---"},{"$f":"IFERROR(INDEX(справочник!$G$1:$I$7,MATCH($BV288,справочник!$G$1:$G$7,0),2),\"---\")","v":"---"},{"$f":"IFERROR(INDEX('Состав ВТК-ВРГ'!$1:$1048576,MATCH($G288,'Состав ВТК-ВРГ'!$B:$B,0),MATCH(BX$6,'Состав ВТК-ВРГ'!$3:$3,0)),\"---\")","v":"---"},{"$f":"IFERROR(INDEX('Пр. №4'!$1:$1048576,MATCH(BX288,'Пр. №4'!$C:$C,0),MATCH('Пр. №3'!$D$5,'Пр. №4'!$9:$9,0)),\"---\")","v":"---"},{"$f":"SUMIFS('Пр. №1.2.'!$L:$L,'Пр. №1.2.'!$B:$B,'Пр. №3'!$D288,'Пр. №1.2.'!$E:$E,'Пр. №3'!$G288)","v":0},{"$error":"#VALUE!"},{"$error":"#VALUE!"}]
[{"$f":"ROW()","v":289},233,"Ввод данных",{"$error":"#N/A"},{"$f":"INDEX('Пр. №2'!$1:$1048576,MATCH('Пр. №3'!$F289,'Пр. №2'!$D:$D,0),COLUMN('Пр. №2'!$C$5))","v":{"$error":"#N/A"}},null,null,null,null,null,null,null,null,null,null,null,null,null,null,null,null,null,null,null,null,null,null,null,null,null,null,null,null,null,null,null,null,null,null,null,null,null,null,null,null,null,null,null,null,null,null,null,null,null,null,null,null,null,null,null,null,null,null,null,null,null,null,null,0,null,{"$f":"IFERROR(INDEX(справочник!$G$1:$I$7,MATCH($BV289,справочник!$G$1:$G$7,0),3),\"---\")","v":"---"},{"$f":"IFERROR(INDEX('Пр. №1'!$B$11:$C$34,MATCH(BS289,'Пр. №1'!$B$11:$B$34,0),2),\"---\")","v":"---"},{"$f":"IFERROR(INDEX('Состав ВТК-ВРГ'!$1:$1048576,MATCH($G289,'Состав ВТК-ВРГ'!$B:$B,0),MATCH(BU$6,'Состав ВТК-ВРГ'!$3:$3,0)),\"---\")","v":"---"},{"$f":"IFERROR(INDEX('Состав ВТК-ВРГ'!$1:$1048576,MATCH($G289,'Состав ВТК-ВРГ'!$B:$B,0),MATCH(BV$6,'Состав ВТК-ВРГ'!$3:$3,0)),\"---\")","v":"---"},{"$f":"IFERROR(INDEX(справочник!$G$1:$I$7,MATCH($BV289,справочник!$G$1:$G$7,0),2),\"---\")","v":"---"},{"$f":"IFERROR(INDEX('Состав ВТК-ВРГ'!$1:$1048576,MATCH($G289,'Состав ВТК-ВРГ'!$B:$B,0),MATCH(BX$6,'Состав ВТК-ВРГ'!$3:$3,0)),\"---\")","v":"---"},{"$f":"IFERROR(INDEX('Пр. №4'!$1:$1048576,MATCH(BX289,'Пр. №4'!$C:$C,0),MATCH('Пр. №3'!$D$5,'Пр. №4'!$9:$9,0)),\"---\")","v":"---"},{"$f":"SUMIFS('Пр. №1.2.'!$L:$L,'Пр. №1.2.'!$B:$B,'Пр. №3'!$D289,'Пр. №1.2.'!$E:$E,'Пр. №3'!$G289)","v":0},{"$error":"#VALUE!"},{"$error":"#VALUE!"}]
[{"$f":"ROW()","v":290},234,"Ввод данных",{"$error":"#N/A"},{"$f":"INDEX('Пр. №2'!$1:$1048576,MATCH('Пр. №3'!$F290,'Пр. №2'!$D:$D,0),COLUMN('Пр. №2'!$C$5))","v":{"$error":"#N/A"}},null,null,null,null,null,null,null,null,null,null,null,null,null,null,null,null,null,null,null,null,null,null,null,null,null,null,null,null,null,null,null,null,null,null,null,null,null,null,null,null,null,null,null,null,null,null,null,null,null,null,null,null,null,null,null,null,null,null,null,null,null,null,null,0,null,{"$f":"IFERROR(INDEX(справочник!$G$1:$I$7,MATCH($BV290,справочник!$G$1:$G$7,0),3),\"---\")","v":"---"},{"$f":"IFERROR(INDEX('Пр. №1'!$B$11:$C$34,MATCH(BS290,'Пр. №1'!$B$11:$B$34,0),2),\"---\")","v":"---"},{"$f":"IFERROR(INDEX('Состав ВТК-ВРГ'!$1:$1048576,MATCH($G290,'Состав ВТК-ВРГ'!$B:$B,0),MATCH(BU$6,'Состав ВТК-ВРГ'!$3:$3,0)),\"---\")","v":"---"},{"$f":"IFERROR(INDEX('Состав ВТК-ВРГ'!$1:$1048576,MATCH($G290,'Состав ВТК-ВРГ'!$B:$B,0),MATCH(BV$6,'Состав ВТК-ВРГ'!$3:$3,0)),\"---\")","v":"---"},{"$f":"IFERROR(INDEX(справочник!$G$1:$I$7,MATCH($BV290,справочник!$G$1:$G$7,0),2),\"---\")","v":"---"},{"$f":"IFERROR(INDEX('Состав ВТК-ВРГ'!$1:$1048576,MATCH($G290,'Состав ВТК-ВРГ'!$B:$B,0),MATCH(BX$6,'Состав ВТК-ВРГ'!$3:$3,0)),\"---\")","v":"---"},{"$f":"IFERROR(INDEX('Пр. №4'!$1:$1048576,MATCH(BX290,'Пр. №4'!$C:$C,0),MATCH('Пр. №3'!$D$5,'Пр. №4'!$9:$9,0)),\"---\")","v":"---"},{"$f":"SUMIFS('Пр. №1.2.'!$L:$L,'Пр. №1.2.'!$B:$B,'Пр. №3'!$D290,'Пр. №1.2.'!$E:$E,'Пр. №3'!$G290)","v":0},{"$error":"#VALUE!"},{"$error":"#VALUE!"}]
[{"$f":"ROW()","v":291},235,"Ввод данных",{"$error":"#N/A"},{"$f":"INDEX('Пр. №2'!$1:$1048576,MATCH('Пр. №3'!$F291,'Пр. №2'!$D:$D,0),COLUMN('Пр. №2'!$C$5))","v":{"$error":"#N/A"}},null,null,null,null,null,null,null,null,null,null,null,null,null,null,null,null,null,null,null,null,null,null,null,null,null,null,null,null,null,null,null,null,null,null,null,null,null,null,null,null,null,null,null,null,null,null,null,null,null,null,null,null,null,null,null,null,null,null,null,null,null,null,null,0,null,{"$f":"IFERROR(INDEX(справочник!$G$1:$I$7,MATCH($BV291,справочник!$G$1:$G$7,0),3),\"---\")","v":"---"},{"$f":"IFERROR(INDEX('Пр. №1'!$B$11:$C$34,MATCH(BS291,'Пр. №1'!$B$11:$B$34,0),2),\"---\")","v":"---"},{"$f":"IFERROR(INDEX('Состав ВТК-ВРГ'!$1:$1048576,MATCH($G291,'Состав ВТК-ВРГ'!$B:$B,0),MATCH(BU$6,'Состав ВТК-ВРГ'!$3:$3,0)),\"---\")","v":"---"},{"$f":"IFERROR(INDEX('Состав ВТК-ВРГ'!$1:$1048576,MATCH($G291,'Состав ВТК-ВРГ'!$B:$B,0),MATCH(BV$6,'Состав ВТК-ВРГ'!$3:$3,0)),\"---\")","v":"---"},{"$f":"IFERROR(INDEX(справочник!$G$1:$I$7,MATCH($BV291,справочник!$G$1:$G$7,0),2),\"---\")","v":"---"},{"$f":"IFERROR(INDEX('Состав ВТК-ВРГ'!$1:$1048576,MATCH($G291,'Состав ВТК-ВРГ'!$B:$B,0),MATCH(BX$6,'Состав ВТК-ВРГ'!$3:$3,0)),\"---\")","v":"---"},{"$f":"IFERROR(INDEX('Пр. №4'!$1:$1048576,MATCH(BX291,'Пр. №4'!$C:$C,0),MATCH('Пр. №3'!$D$5,'Пр. №4'!$9:$9,0)),\"---\")","v":"---"},{"$f":"SUMIFS('Пр. №1.2.'!$L:$L,'Пр. №1.2.'!$B:$B,'Пр. №3'!$D291,'Пр. №1.2.'!$E:$E,'Пр. №3'!$G291)","v":0},{"$error":"#VALUE!"},{"$error":"#VALUE!"}]
[{"$f":"ROW()","v":292},236,"Ввод данных",{"$error":"#N/A"},{"$f":"INDEX('Пр. №2'!$1:$1048576,MATCH('Пр. №3'!$F292,'Пр. №2'!$D:$D,0),COLUMN('Пр. №2'!$C$5))","v":{"$error":"#N/A"}},null,null,null,null,null,null,null,null,null,null,null,null,null,null,null,null,null,null,null,null,null,null,null,null,null,null,null,null,null,null,null,null,null,null,null,null,null,null,null,null,null,null,null,null,null,null,null,null,null,null,null,null,null,null,null,null,null,null,null,null,null,null,null,0,null,{"$f":"IFERROR(INDEX(справочник!$G$1:$I$7,MATCH($BV292,справочник!$G$1:$G$7,0),3),\"---\")","v":"---"},{"$f":"IFERROR(INDEX('Пр. №1'!$B$11:$C$34,MATCH(BS292,'Пр. №1'!$B$11:$B$34,0),2),\"---\")","v":"---"},{"$f":"IFERROR(INDEX('Состав ВТК-ВРГ'!$1:$1048576,MATCH($G292,'Состав ВТК-ВРГ'!$B:$B,0),MATCH(BU$6,'Состав ВТК-ВРГ'!$3:$3,0)),\"---\")","v":"---"},{"$f":"IFERROR(INDEX('Состав ВТК-ВРГ'!$1:$1048576,MATCH($G292,'Состав ВТК-ВРГ'!$B:$B,0),MATCH(BV$6,'Состав ВТК-ВРГ'!$3:$3,0)),\"---\")","v":"---"},{"$f":"IFERROR(INDEX(справочник!$G$1:$I$7,MATCH($BV292,справочник!$G$1:$G$7,0),2),\"---\")","v":"---"},{"$f":"IFERROR(INDEX('Состав ВТК-ВРГ'!$1:$1048576,MATCH($G292,'Состав ВТК-ВРГ'!$B:$B,0),MATCH(BX$6,'Состав ВТК-ВРГ'!$3:$3,0)),\"---\")","v":"---"},{"$f":"IFERROR(INDEX('Пр. №4'!$1:$1048576,MATCH(BX292,'Пр. №4'!$C:$C,0),MATCH('Пр. №3'!$D$5,'Пр. №4'!$9:$9,0)),\"---\")","v":"---"},{"$f":"SUMIFS('Пр. №1.2.'!$L:$L,'Пр. №1.2.'!$B:$B,'Пр. №3'!$D292,'Пр. №1.2.'!$E:$E,'Пр. №3'!$G292)","v":0},{"$error":"#VALUE!"},{"$error":"#VALUE!"}]
[{"$f":"ROW()","v":293},237,"Ввод данных",{"$f":"INDEX($D$22:$E$35,MATCH(E293,$E$22:$E$35,0),1)","v":{"$error":"#N/A"}},{"$f":"INDEX('Пр. №2'!$1:$1048576,MATCH('Пр. №3'!$F293,'Пр. №2'!$D:$D,0),COLUMN('Пр. №2'!$C$5))","v":{"$error":"#N/A"}},null,null,null,null,null,null,null,null,null,null,null,null,null,null,null,null,null,null,null,null,null,null,null,null,null,null,null,null,null,null,null,null,null,null,null,null,null,null,null,null,null,null,null,null,null,null,null,null,null,null,null,null,null,null,null,null,null,null,null,null,null,null,null,{"$f":"SUM(H293:BP293)","v":0},null,{"$f":"IFERROR(INDEX(справочник!$G$1:$I$7,MATCH($BV293,справочник!$G$1:$G$7,0),3),\"---\")","v":"---"},{"$f":"IFERROR(INDEX('Пр. №1'!$B$11:$C$34,MATCH(BS293,'Пр. №1'!$B$11:$B$34,0),2),\"---\")","v":"---"},{"$f":"IFERROR(INDEX('Состав ВТК-ВРГ'!$1:$1048576,MATCH($G293,'Состав ВТК-ВРГ'!$B:$B,0),MATCH(BU$6,'Состав ВТК-ВРГ'!$3:$3,0)),\"---\")","v":"---"},{"$f":"IFERROR(INDEX('Состав ВТК-ВРГ'!$1:$1048576,MATCH($G293,'Состав ВТК-ВРГ'!$B:$B,0),MATCH(BV$6,'Состав ВТК-ВРГ'!$3:$3,0)),\"---\")","v":"---"},{"$f":"IFERROR(INDEX(справочник!$G$1:$I$7,MATCH($BV293,справочник!$G$1:$G$7,0),2),\"---\")","v":"---"},{"$f":"IFERROR(INDEX('Состав ВТК-ВРГ'!$1:$1048576,MATCH($G293,'Состав ВТК-ВРГ'!$B:$B,0),MATCH(BX$6,'Состав ВТК-ВРГ'!$3:$3,0)),\"---\")","v":"---"},{"$f":"IFERROR(INDEX('Пр. №4'!$1:$1048576,MATCH(BX293,'Пр. №4'!$C:$C,0),MATCH('Пр. №3'!$D$5,'Пр. №4'!$9:$9,0)),\"---\")","v":"---"},{"$f":"SUMIFS('Пр. №1.2.'!$L:$L,'Пр. №1.2.'!$B:$B,'Пр. №3'!$D293,'Пр. №1.2.'!$E:$E,'Пр. №3'!$G293)","v":0},{"$f":"BY293*BZ293","v":{"$error":"#VALUE!"}},{"$f":"BQ293*BZ293*BY293","v":{"$error":"#VALUE!"}}]
[{"$f":"ROW()","v":294},238,"Ввод данных",{"$error":"#N/A"},{"$f":"INDEX('Пр. №2'!$1:$1048576,MATCH('Пр. №3'!$F294,'Пр. №2'!$D:$D,0),COLUMN('Пр. №2'!$C$5))","v":{"$error":"#N/A"}},null,null,null,null,null,null,null,null,null,null,null,null,null,null,null,null,null,null,null,null,null,null,null,null,null,null,null,null,null,null,null,null,null,null,null,null,null,null,null,null,null,null,null,null,null,null,null,null,null,null,null,null,null,null,null,null,null,null,null,null,null,null,null,0,null,{"$f":"IFERROR(INDEX(справочник!$G$1:$I$7,MATCH($BV294,справочник!$G$1:$G$7,0),3),\"---\")","v":"---"},{"$f":"IFERROR(INDEX('Пр. №1'!$B$11:$C$34,MATCH(BS294,'Пр. №1'!$B$11:$B$34,0),2),\"---\")","v":"---"},{"$f":"IFERROR(INDEX('Состав ВТК-ВРГ'!$1:$1048576,MATCH($G294,'Состав ВТК-ВРГ'!$B:$B,0),MATCH(BU$6,'Состав ВТК-ВРГ'!$3:$3,0)),\"---\")","v":"---"},{"$f":"IFERROR(INDEX('Состав ВТК-ВРГ'!$1:$1048576,MATCH($G294,'Состав ВТК-ВРГ'!$B:$B,0),MATCH(BV$6,'Состав ВТК-ВРГ'!$3:$3,0)),\"---\")","v":"---"},{"$f":"IFERROR(INDEX(справочник!$G$1:$I$7,MATCH($BV294,справочник!$G$1:$G$7,0),2),\"---\")","v":"---"},{"$f":"IFERROR(INDEX('Состав ВТК-ВРГ'!$1:$1048576,MATCH($G294,'Состав ВТК-ВРГ'!$B:$B,0),MATCH(BX$6,'Состав ВТК-ВРГ'!$3:$3,0)),\"---\")","v":"---"},{"$f":"IFERROR(INDEX('Пр. №4'!$1:$1048576,MATCH(BX294,'Пр. №4'!$C:$C,0),MATCH('Пр. №3'!$D$5,'Пр. №4'!$9:$9,0)),\"---\")","v":"---"},{"$f":"SUMIFS('Пр. №1.2.'!$L:$L,'Пр. №1.2.'!$B:$B,'Пр. №3'!$D294,'Пр. №1.2.'!$E:$E,'Пр. №3'!$G294)","v":0},{"$error":"#VALUE!"},{"$error":"#VALUE!"}]
[{"$f":"ROW()","v":295},239,"Ввод данных",{"$error":"#N/A"},{"$f":"INDEX('Пр. №2'!$1:$1048576,MATCH('Пр. №3'!$F295,'Пр. №2'!$D:$D,0),COLUMN('Пр. №2'!$C$5))","v":{"$error":"#N/A"}},null,null,null,null,null,null,null,null,null,null,null,null,null,null,null,null,null,null,null,null,null,null,null,null,null,null,null,null,null,null,null,null,null,null,null,null,null,null,null,null,null,null,null,null,null,null,null,null,null,null,null,null,null,null,null,null,null,null,null,null,null,null,null,0,null,{"$f":"IFERROR(INDEX(справочник!$G$1:$I$7,MATCH($BV295,справочник!$G$1:$G$7,0),3),\"---\")","v":"---"},{"$f":"IFERROR(INDEX('Пр. №1'!$B$11:$C$34,MATCH(BS295,'Пр. №1'!$B$11:$B$34,0),2),\"---\")","v":"---"},{"$f":"IFERROR(INDEX('Состав ВТК-ВРГ'!$1:$1048576,MATCH($G295,'Состав ВТК-ВРГ'!$B:$B,0),MATCH(BU$6,'Состав ВТК-ВРГ'!$3:$3,0)),\"---\")","v":"---"},{"$f":"IFERROR(INDEX('Состав ВТК-ВРГ'!$1:$1048576,MATCH($G295,'Состав ВТК-ВРГ'!$B:$B,0),MATCH(BV$6,'Состав ВТК-ВРГ'!$3:$3,0)),\"---\")","v":"---"},{"$f":"IFERROR(INDEX(справочник!$G$1:$I$7,MATCH($BV295,справочник!$G$1:$G$7,0),2),\"---\")","v":"---"},{"$f":"IFERROR(INDEX('Состав ВТК-ВРГ'!$1:$1048576,MATCH($G295,'Состав ВТК-ВРГ'!$B:$B,0),MATCH(BX$6,'Состав ВТК-ВРГ'!$3:$3,0)),\"---\")","v":"---"},{"$f":"IFERROR(INDEX('Пр. №4'!$1:$1048576,MATCH(BX295,'Пр. №4'!$C:$C,0),MATCH('Пр. №3'!$D$5,'Пр. №4'!$9:$9,0)),\"---\")","v":"---"},{"$f":"SUMIFS('Пр. №1.2.'!$L:$L,'Пр. №1.2.'!$B:$B,'Пр. №3'!$D295,'Пр. №1.2.'!$E:$E,'Пр. №3'!$G295)","v":0},{"$error":"#VALUE!"},{"$error":"#VALUE!"}]
[{"$f":"ROW()","v":296},240,"Ввод данных",{"$error":"#N/A"},{"$f":"INDEX('Пр. №2'!$1:$1048576,MATCH('Пр. №3'!$F296,'Пр. №2'!$D:$D,0),COLUMN('Пр. №2'!$C$5))","v":{"$error":"#N/A"}},null,null,null,null,null,null,null,null,null,null,null,null,null,null,null,null,null,null,null,null,null,null,null,null,null,null,null,null,null,null,null,null,null,null,null,null,null,null,null,null,null,null,null,null,null,null,null,null,null,null,null,null,null,null,null,null,null,null,null,null,null,null,null,0,null,{"$f":"IFERROR(INDEX(справочник!$G$1:$I$7,MATCH($BV296,справочник!$G$1:$G$7,0),3),\"---\")","v":"---"},{"$f":"IFERROR(INDEX('Пр. №1'!$B$11:$C$34,MATCH(BS296,'Пр. №1'!$B$11:$B$34,0),2),\"---\")","v":"---"},{"$f":"IFERROR(INDEX('Состав ВТК-ВРГ'!$1:$1048576,MATCH($G296,'Состав ВТК-ВРГ'!$B:$B,0),MATCH(BU$6,'Состав ВТК-ВРГ'!$3:$3,0)),\"---\")","v":"---"},{"$f":"IFERROR(INDEX('Состав ВТК-ВРГ'!$1:$1048576,MATCH($G296,'Состав ВТК-ВРГ'!$B:$B,0),MATCH(BV$6,'Состав ВТК-ВРГ'!$3:$3,0)),\"---\")","v":"---"},{"$f":"IFERROR(INDEX(справочник!$G$1:$I$7,MATCH($BV296,справочник!$G$1:$G$7,0),2),\"---\")","v":"---"},{"$f":"IFERROR(INDEX('Состав ВТК-ВРГ'!$1:$1048576,MATCH($G296,'Состав ВТК-ВРГ'!$B:$B,0),MATCH(BX$6,'Состав ВТК-ВРГ'!$3:$3,0)),\"---\")","v":"---"},{"$f":"IFERROR(INDEX('Пр. №4'!$1:$1048576,MATCH(BX296,'Пр. №4'!$C:$C,0),MATCH('Пр. №3'!$D$5,'Пр. №4'!$9:$9,0)),\"---\")","v":"---"},{"$f":"SUMIFS('Пр. №1.2.'!$L:$L,'Пр. №1.2.'!$B:$B,'Пр. №3'!$D296,'Пр. №1.2.'!$E:$E,'Пр. №3'!$G296)","v":0},{"$error":"#VALUE!"},{"$error":"#VALUE!"}]
[{"$f":"ROW()","v":297},241,"Ввод данных",{"$error":"#N/A"},{"$f":"INDEX('Пр. №2'!$1:$1048576,MATCH('Пр. №3'!$F297,'Пр. №2'!$D:$D,0),COLUMN('Пр. №2'!$C$5))","v":{"$error":"#N/A"}},null,null,null,null,null,null,null,null,null,null,null,null,null,null,null,null,null,null,null,null,null,null,null,null,null,null,null,null,null,null,null,null,null,null,null,null,null,null,null,null,null,null,null,null,null,null,null,null,null,null,null,null,null,null,null,null,null,null,null,null,null,null,null,0,null,{"$f":"IFERROR(INDEX(справочник!$G$1:$I$7,MATCH($BV297,справочник!$G$1:$G$7,0),3),\"---\")","v":"---"},{"$f":"IFERROR(INDEX('Пр. №1'!$B$11:$C$34,MATCH(BS297,'Пр. №1'!$B$11:$B$34,0),2),\"---\")","v":"---"},{"$f":"IFERROR(INDEX('Состав ВТК-ВРГ'!$1:$1048576,MATCH($G297,'Состав ВТК-ВРГ'!$B:$B,0),MATCH(BU$6,'Состав ВТК-ВРГ'!$3:$3,0)),\"---\")","v":"---"},{"$f":"IFERROR(INDEX('Состав ВТК-ВРГ'!$1:$1048576,MATCH($G297,'Состав ВТК-ВРГ'!$B:$B,0),MATCH(BV$6,'Состав ВТК-ВРГ'!$3:$3,0)),\"---\")","v":"---"},{"$f":"IFERROR(INDEX(справочник!$G$1:$I$7,MATCH($BV297,справочник!$G$1:$G$7,0),2),\"---\")","v":"---"},{"$f":"IFERROR(INDEX('Состав ВТК-ВРГ'!$1:$1048576,MATCH($G297,'Состав ВТК-ВРГ'!$B:$B,0),MATCH(BX$6,'Состав ВТК-ВРГ'!$3:$3,0)),\"---\")","v":"---"},{"$f":"IFERROR(INDEX('Пр. №4'!$1:$1048576,MATCH(BX297,'Пр. №4'!$C:$C,0),MATCH('Пр. №3'!$D$5,'Пр. №4'!$9:$9,0)),\"---\")","v":"---"},{"$f":"SUMIFS('Пр. №1.2.'!$L:$L,'Пр. №1.2.'!$B:$B,'Пр. №3'!$D297,'Пр. №1.2.'!$E:$E,'Пр. №3'!$G297)","v":0},{"$error":"#VALUE!"},{"$error":"#VALUE!"}]
[{"$f":"ROW()","v":298},242,"Ввод данных",{"$error":"#N/A"},{"$f":"INDEX('Пр. №2'!$1:$1048576,MATCH('Пр. №3'!$F298,'Пр. №2'!$D:$D,0),COLUMN('Пр. №2'!$C$5))","v":{"$error":"#N/A"}},null,null,null,null,null,null,null,null,null,null,null,null,null,null,null,null,null,null,null,null,null,null,null,null,null,null,null,null,null,null,null,null,null,null,null,null,null,null,null,null,null,null,null,null,null,null,null,null,null,null,null,null,null,null,null,null,null,null,null,null,null,null,null,0,null,{"$f":"IFERROR(INDEX(справочник!$G$1:$I$7,MATCH($BV298,справочник!$G$1:$G$7,0),3),\"---\")","v":"---"},{"$f":"IFERROR(INDEX('Пр. №1'!$B$11:$C$34,MATCH(BS298,'Пр. №1'!$B$11:$B$34,0),2),\"---\")","v":"---"},{"$f":"IFERROR(INDEX('Состав ВТК-ВРГ'!$1:$1048576,MATCH($G298,'Состав ВТК-ВРГ'!$B:$B,0),MATCH(BU$6,'Состав ВТК-ВРГ'!$3:$3,0)),\"---\")","v":"---"},{"$f":"IFERROR(INDEX('Состав ВТК-ВРГ'!$1:$1048576,MATCH($G298,'Состав ВТК-ВРГ'!$B:$B,0),MATCH(BV$6,'Состав ВТК-ВРГ'!$3:$3,0)),\"---\")","v":"---"},{"$f":"IFERROR(INDEX(справочник!$G$1:$I$7,MATCH($BV298,справочник!$G$1:$G$7,0),2),\"---\")","v":"---"},{"$f":"IFERROR(INDEX('Состав ВТК-ВРГ'!$1:$1048576,MATCH($G298,'Состав ВТК-ВРГ'!$B:$B,0),MATCH(BX$6,'Состав ВТК-ВРГ'!$3:$3,0)),\"---\")","v":"---"},{"$f":"IFERROR(INDEX('Пр. №4'!$1:$1048576,MATCH(BX298,'Пр. №4'!$C:$C,0),MATCH('Пр. №3'!$D$5,'Пр. №4'!$9:$9,0)),\"---\")","v":"---"},{"$f":"SUMIFS('Пр. №1.2.'!$L:$L,'Пр. №1.2.'!$B:$B,'Пр. №3'!$D298,'Пр. №1.2.'!$E:$E,'Пр. №3'!$G298)","v":0},{"$error":"#VALUE!"},{"$error":"#VALUE!"}]
[{"$f":"ROW()","v":299},243,"Ввод данных",{"$error":"#N/A"},{"$f":"INDEX('Пр. №2'!$1:$1048576,MATCH('Пр. №3'!$F299,'Пр. №2'!$D:$D,0),COLUMN('Пр. №2'!$C$5))","v":{"$error":"#N/A"}},null,null,null,null,null,null,null,null,null,null,null,null,null,null,null,null,null,null,null,null,null,null,null,null,null,null,null,null,null,null,null,null,null,null,null,null,null,null,null,null,null,null,null,null,null,null,null,null,null,null,null,null,null,null,null,null,null,null,null,null,null,null,null,0,null,{"$f":"IFERROR(INDEX(справочник!$G$1:$I$7,MATCH($BV299,справочник!$G$1:$G$7,0),3),\"---\")","v":"---"},{"$f":"IFERROR(INDEX('Пр. №1'!$B$11:$C$34,MATCH(BS299,'Пр. №1'!$B$11:$B$34,0),2),\"---\")","v":"---"},{"$f":"IFERROR(INDEX('Состав ВТК-ВРГ'!$1:$1048576,MATCH($G299,'Состав ВТК-ВРГ'!$B:$B,0),MATCH(BU$6,'Состав ВТК-ВРГ'!$3:$3,0)),\"---\")","v":"---"},{"$f":"IFERROR(INDEX('Состав ВТК-ВРГ'!$1:$1048576,MATCH($G299,'Состав ВТК-ВРГ'!$B:$B,0),MATCH(BV$6,'Состав ВТК-ВРГ'!$3:$3,0)),\"---\")","v":"---"},{"$f":"IFERROR(INDEX(справочник!$G$1:$I$7,MATCH($BV299,справочник!$G$1:$G$7,0),2),\"---\")","v":"---"},{"$f":"IFERROR(INDEX('Состав ВТК-ВРГ'!$1:$1048576,MATCH($G299,'Состав ВТК-ВРГ'!$B:$B,0),MATCH(BX$6,'Состав ВТК-ВРГ'!$3:$3,0)),\"---\")","v":"---"},{"$f":"IFERROR(INDEX('Пр. №4'!$1:$1048576,MATCH(BX299,'Пр. №4'!$C:$C,0),MATCH('Пр. №3'!$D$5,'Пр. №4'!$9:$9,0)),\"---\")","v":"---"},{"$f":"SUMIFS('Пр. №1.2.'!$L:$L,'Пр. №1.2.'!$B:$B,'Пр. №3'!$D299,'Пр. №1.2.'!$E:$E,'Пр. №3'!$G299)","v":0},{"$error":"#VALUE!"},{"$error":"#VALUE!"}]
[{"$f":"ROW()","v":300},244,"Ввод данных",{"$f":"INDEX($D$22:$E$35,MATCH(E300,$E$22:$E$35,0),1)","v":{"$error":"#N/A"}},{"$f":"INDEX('Пр. №2'!$1:$1048576,MATCH('Пр. №3'!$F300,'Пр. №2'!$D:$D,0),COLUMN('Пр. №2'!$C$5))","v":{"$error":"#N/A"}},null,null,null,null,null,null,null,null,null,null,null,null,null,null,null,null,null,null,null,null,null,null,null,null,null,null,null,null,null,null,null,null,null,null,null,null,null,null,null,null,null,null,null,null,null,null,null,null,null,null,null,null,null,null,null,null,null,null,null,null,null,null,null,{"$f":"SUM(H300:BP300)","v":0},null,{"$f":"IFERROR(INDEX(справочник!$G$1:$I$7,MATCH($BV300,справочник!$G$1:$G$7,0),3),\"---\")","v":"---"},{"$f":"IFERROR(INDEX('Пр. №1'!$B$11:$C$34,MATCH(BS300,'Пр. №1'!$B$11:$B$34,0),2),\"---\")","v":"---"},{"$f":"IFERROR(INDEX('Состав ВТК-ВРГ'!$1:$1048576,MATCH($G300,'Состав ВТК-ВРГ'!$B:$B,0),MATCH(BU$6,'Состав ВТК-ВРГ'!$3:$3,0)),\"---\")","v":"---"},{"$f":"IFERROR(INDEX('Состав ВТК-ВРГ'!$1:$1048576,MATCH($G300,'Состав ВТК-ВРГ'!$B:$B,0),MATCH(BV$6,'Состав ВТК-ВРГ'!$3:$3,0)),\"---\")","v":"---"},{"$f":"IFERROR(INDEX(справочник!$G$1:$I$7,MATCH($BV300,справочник!$G$1:$G$7,0),2),\"---\")","v":"---"},{"$f":"IFERROR(INDEX('Состав ВТК-ВРГ'!$1:$1048576,MATCH($G300,'Состав ВТК-ВРГ'!$B:$B,0),MATCH(BX$6,'Состав ВТК-ВРГ'!$3:$3,0)),\"---\")","v":"---"},{"$f":"IFERROR(INDEX('Пр. №4'!$1:$1048576,MATCH(BX300,'Пр. №4'!$C:$C,0),MATCH('Пр. №3'!$D$5,'Пр. №4'!$9:$9,0)),\"---\")","v":"---"},{"$f":"SUMIFS('Пр. №1.2.'!$L:$L,'Пр. №1.2.'!$B:$B,'Пр. №3'!$D300,'Пр. №1.2.'!$E:$E,'Пр. №3'!$G300)","v":0},{"$f":"BY300*BZ300","v":{"$error":"#VALUE!"}},{"$f":"BQ300*BZ300*BY300","v":{"$error":"#VALUE!"}}]
[{"$f":"ROW()","v":301},245,"Ввод данных",{"$error":"#N/A"},{"$f":"INDEX('Пр. №2'!$1:$1048576,MATCH('Пр. №3'!$F301,'Пр. №2'!$D:$D,0),COLUMN('Пр. №2'!$C$5))","v":{"$error":"#N/A"}},null,null,null,null,null,null,null,null,null,null,null,null,null,null,null,null,null,null,null,null,null,null,null,null,null,null,null,null,null,null,null,null,null,null,null,null,null,null,null,null,null,null,null,null,null,null,null,null,null,null,null,null,null,null,null,null,null,null,null,null,null,null,null,0,null,{"$f":"IFERROR(INDEX(справочник!$G$1:$I$7,MATCH($BV301,справочник!$G$1:$G$7,0),3),\"---\")","v":"---"},{"$f":"IFERROR(INDEX('Пр. №1'!$B$11:$C$34,MATCH(BS301,'Пр. №1'!$B$11:$B$34,0),2),\"---\")","v":"---"},{"$f":"IFERROR(INDEX('Состав ВТК-ВРГ'!$1:$1048576,MATCH($G301,'Состав ВТК-ВРГ'!$B:$B,0),MATCH(BU$6,'Состав ВТК-ВРГ'!$3:$3,0)),\"---\")","v":"---"},{"$f":"IFERROR(INDEX('Состав ВТК-ВРГ'!$1:$1048576,MATCH($G301,'Состав ВТК-ВРГ'!$B:$B,0),MATCH(BV$6,'Состав ВТК-ВРГ'!$3:$3,0)),\"---\")","v":"---"},{"$f":"IFERROR(INDEX(справочник!$G$1:$I$7,MATCH($BV301,справочник!$G$1:$G$7,0),2),\"---\")","v":"---"},{"$f":"IFERROR(INDEX('Состав ВТК-ВРГ'!$1:$1048576,MATCH($G301,'Состав ВТК-ВРГ'!$B:$B,0),MATCH(BX$6,'Состав ВТК-ВРГ'!$3:$3,0)),\"---\")","v":"---"},{"$f":"IFERROR(INDEX('Пр. №4'!$1:$1048576,MATCH(BX301,'Пр. №4'!$C:$C,0),MATCH('Пр. №3'!$D$5,'Пр. №4'!$9:$9,0)),\"---\")","v":"---"},{"$f":"SUMIFS('Пр. №1.2.'!$L:$L,'Пр. №1.2.'!$B:$B,'Пр. №3'!$D301,'Пр. №1.2.'!$E:$E,'Пр. №3'!$G301)","v":0},{"$error":"#VALUE!"},{"$error":"#VALUE!"}]
[{"$f":"ROW()","v":302},246,"Ввод данных",{"$error":"#N/A"},{"$f":"INDEX('Пр. №2'!$1:$1048576,MATCH('Пр. №3'!$F302,'Пр. №2'!$D:$D,0),COLUMN('Пр. №2'!$C$5))","v":{"$error":"#N/A"}},null,null,null,null,null,null,null,null,null,null,null,null,null,null,null,null,null,null,null,null,null,null,null,null,null,null,null,null,null,null,null,null,null,null,null,null,null,null,null,null,null,null,null,null,null,null,null,null,null,null,null,null,null,null,null,null,null,null,null,null,null,null,null,0,null,{"$f":"IFERROR(INDEX(справочник!$G$1:$I$7,MATCH($BV302,справочник!$G$1:$G$7,0),3),\"---\")","v":"---"},{"$f":"IFERROR(INDEX('Пр. №1'!$B$11:$C$34,MATCH(BS302,'Пр. №1'!$B$11:$B$34,0),2),\"---\")","v":"---"},{"$f":"IFERROR(INDEX('Состав ВТК-ВРГ'!$1:$1048576,MATCH($G302,'Состав ВТК-ВРГ'!$B:$B,0),MATCH(BU$6,'Состав ВТК-ВРГ'!$3:$3,0)),\"---\")","v":"---"},{"$f":"IFERROR(INDEX('Состав ВТК-ВРГ'!$1:$1048576,MATCH($G302,'Состав ВТК-ВРГ'!$B:$B,0),MATCH(BV$6,'Состав ВТК-ВРГ'!$3:$3,0)),\"---\")","v":"---"},{"$f":"IFERROR(INDEX(справочник!$G$1:$I$7,MATCH($BV302,справочник!$G$1:$G$7,0),2),\"---\")","v":"---"},{"$f":"IFERROR(INDEX('Состав ВТК-ВРГ'!$1:$1048576,MATCH($G302,'Состав ВТК-ВРГ'!$B:$B,0),MATCH(BX$6,'Состав ВТК-ВРГ'!$3:$3,0)),\"---\")","v":"---"},{"$f":"IFERROR(INDEX('Пр. №4'!$1:$1048576,MATCH(BX302,'Пр. №4'!$C:$C,0),MATCH('Пр. №3'!$D$5,'Пр. №4'!$9:$9,0)),\"---\")","v":"---"},{"$f":"SUMIFS('Пр. №1.2.'!$L:$L,'Пр. №1.2.'!$B:$B,'Пр. №3'!$D302,'Пр. №1.2.'!$E:$E,'Пр. №3'!$G302)","v":0},{"$error":"#VALUE!"},{"$error":"#VALUE!"}]
[{"$f":"ROW()","v":303},247,"Ввод данных",{"$error":"#N/A"},{"$f":"INDEX('Пр. №2'!$1:$1048576,MATCH('Пр. №3'!$F303,'Пр. №2'!$D:$D,0),COLUMN('Пр. №2'!$C$5))","v":{"$error":"#N/A"}},null,null,null,null,null,null,null,null,null,null,null,null,null,null,null,null,null,null,null,null,null,null,null,null,null,null,null,null,null,null,null,null,null,null,null,null,null,null,null,null,null,null,null,null,null,null,null,null,null,null,null,null,null,null,null,null,null,null,null,null,null,null,null,0,null,{"$f":"IFERROR(INDEX(справочник!$G$1:$I$7,MATCH($BV303,справочник!$G$1:$G$7,0),3),\"---\")","v":"---"},{"$f":"IFERROR(INDEX('Пр. №1'!$B$11:$C$34,MATCH(BS303,'Пр. №1'!$B$11:$B$34,0),2),\"---\")","v":"---"},{"$f":"IFERROR(INDEX('Состав ВТК-ВРГ'!$1:$1048576,MATCH($G303,'Состав ВТК-ВРГ'!$B:$B,0),MATCH(BU$6,'Состав ВТК-ВРГ'!$3:$3,0)),\"---\")","v":"---"},{"$f":"IFERROR(INDEX('Состав ВТК-ВРГ'!$1:$1048576,MATCH($G303,'Состав ВТК-ВРГ'!$B:$B,0),MATCH(BV$6,'Состав ВТК-ВРГ'!$3:$3,0)),\"---\")","v":"---"},{"$f":"IFERROR(INDEX(справочник!$G$1:$I$7,MATCH($BV303,справочник!$G$1:$G$7,0),2),\"---\")","v":"---"},{"$f":"IFERROR(INDEX('Состав ВТК-ВРГ'!$1:$1048576,MATCH($G303,'Состав ВТК-ВРГ'!$B:$B,0),MATCH(BX$6,'Состав ВТК-ВРГ'!$3:$3,0)),\"---\")","v":"---"},{"$f":"IFERROR(INDEX('Пр. №4'!$1:$1048576,MATCH(BX303,'Пр. №4'!$C:$C,0),MATCH('Пр. №3'!$D$5,'Пр. №4'!$9:$9,0)),\"---\")","v":"---"},{"$f":"SUMIFS('Пр. №1.2.'!$L:$L,'Пр. №1.2.'!$B:$B,'Пр. №3'!$D303,'Пр. №1.2.'!$E:$E,'Пр. №3'!$G303)","v":0},{"$error":"#VALUE!"},{"$error":"#VALUE!"}]
[{"$f":"ROW()","v":304},248,"Ввод данных",{"$error":"#N/A"},{"$f":"INDEX('Пр. №2'!$1:$1048576,MATCH('Пр. №3'!$F304,'Пр. №2'!$D:$D,0),COLUMN('Пр. №2'!$C$5))","v":{"$error":"#N/A"}},null,null,null,null,null,null,null,null,null,null,null,null,null,null,null,null,null,null,null,null,null,null,null,null,null,null,null,null,null,null,null,null,null,null,null,null,null,null,null,null,null,null,null,null,null,null,null,null,null,null,null,null,null,null,null,null,null,null,null,null,null,null,null,0,null,{"$f":"IFERROR(INDEX(справочник!$G$1:$I$7,MATCH($BV304,справочник!$G$1:$G$7,0),3),\"---\")","v":"---"},{"$f":"IFERROR(INDEX('Пр. №1'!$B$11:$C$34,MATCH(BS304,'Пр. №1'!$B$11:$B$34,0),2),\"---\")","v":"---"},{"$f":"IFERROR(INDEX('Состав ВТК-ВРГ'!$1:$1048576,MATCH($G304,'Состав ВТК-ВРГ'!$B:$B,0),MATCH(BU$6,'Состав ВТК-ВРГ'!$3:$3,0)),\"---\")","v":"---"},{"$f":"IFERROR(INDEX('Состав ВТК-ВРГ'!$1:$1048576,MATCH($G304,'Состав ВТК-ВРГ'!$B:$B,0),MATCH(BV$6,'Состав ВТК-ВРГ'!$3:$3,0)),\"---\")","v":"---"},{"$f":"IFERROR(INDEX(справочник!$G$1:$I$7,MATCH($BV304,справочник!$G$1:$G$7,0),2),\"---\")","v":"---"},{"$f":"IFERROR(INDEX('Состав ВТК-ВРГ'!$1:$1048576,MATCH($G304,'Состав ВТК-ВРГ'!$B:$B,0),MATCH(BX$6,'Состав ВТК-ВРГ'!$3:$3,0)),\"---\")","v":"---"},{"$f":"IFERROR(INDEX('Пр. №4'!$1:$1048576,MATCH(BX304,'Пр. №4'!$C:$C,0),MATCH('Пр. №3'!$D$5,'Пр. №4'!$9:$9,0)),\"---\")","v":"---"},{"$f":"SUMIFS('Пр. №1.2.'!$L:$L,'Пр. №1.2.'!$B:$B,'Пр. №3'!$D304,'Пр. №1.2.'!$E:$E,'Пр. №3'!$G304)","v":0},{"$error":"#VALUE!"},{"$error":"#VALUE!"}]
[{"$f":"ROW()","v":305},249,"Ввод данных",{"$error":"#N/A"},{"$f":"INDEX('Пр. №2'!$1:$1048576,MATCH('Пр. №3'!$F305,'Пр. №2'!$D:$D,0),COLUMN('Пр. №2'!$C$5))","v":{"$error":"#N/A"}},null,null,null,null,null,null,null,null,null,null,null,null,null,null,null,null,null,null,null,null,null,null,null,null,null,null,null,null,null,null,null,null,null,null,null,null,null,null,null,null,null,null,null,null,null,null,null,null,null,null,null,null,null,null,null,null,null,null,null,null,null,null,null,0,null,{"$f":"IFERROR(INDEX(справочник!$G$1:$I$7,MATCH($BV305,справочник!$G$1:$G$7,0),3),\"---\")","v":"---"},{"$f":"IFERROR(INDEX('Пр. №1'!$B$11:$C$34,MATCH(BS305,'Пр. №1'!$B$11:$B$34,0),2),\"---\")","v":"---"},{"$f":"IFERROR(INDEX('Состав ВТК-ВРГ'!$1:$1048576,MATCH($G305,'Состав ВТК-ВРГ'!$B:$B,0),MATCH(BU$6,'Состав ВТК-ВРГ'!$3:$3,0)),\"---\")","v":"---"},{"$f":"IFERROR(INDEX('Состав ВТК-ВРГ'!$1:$1048576,MATCH($G305,'Состав ВТК-ВРГ'!$B:$B,0),MATCH(BV$6,'Состав ВТК-ВРГ'!$3:$3,0)),\"---\")","v":"---"},{"$f":"IFERROR(INDEX(справочник!$G$1:$I$7,MATCH($BV305,справочник!$G$1:$G$7,0),2),\"---\")","v":"---"},{"$f":"IFERROR(INDEX('Состав ВТК-ВРГ'!$1:$1048576,MATCH($G305,'Состав ВТК-ВРГ'!$B:$B,0),MATCH(BX$6,'Состав ВТК-ВРГ'!$3:$3,0)),\"---\")","v":"---"},{"$f":"IFERROR(INDEX('Пр. №4'!$1:$1048576,MATCH(BX305,'Пр. №4'!$C:$C,0),MATCH('Пр. №3'!$D$5,'Пр. №4'!$9:$9,0)),\"---\")","v":"---"},{"$f":"SUMIFS('Пр. №1.2.'!$L:$L,'Пр. №1.2.'!$B:$B,'Пр. №3'!$D305,'Пр. №1.2.'!$E:$E,'Пр. №3'!$G305)","v":0},{"$error":"#VALUE!"},{"$error":"#VALUE!"}]

{"sheet":"Пр. №4","index":9,"n_rows":97,"n_cols":5,"rows_kept":97,"cut":false,"hidden":false,"merged":[[1,0,1,4],[3,0,3,4],[4,0,4,4],[5,0,5,4],[7,3,7,4],[7,2,8,2]]}
[null,null,null,null,"Приложение 4"]
["ОБРАЗЕЦ"]
[]
["Расценка трудозатрат"]
["по соответствующим должностям в Финансовом университете"]
["по состоянию на 15.05.2023"]
[]
[null,null,"Должность по ОСНОВНОМУ месту работы","Стоимость трудозатрат, руб"]
[null,null,null,"В днях","В часах"]
[null,null,"Декан факультета ППС",8631.2800000000007,1078.9100000000001]
[null,null,"Декан факультета доктор наук ППС",10549.28,1318.66]
[null,null,"Декан факультета кандидат наук ППС",9590.24,1198.78]
[null,null,"Заведующий кафедрой ППС",8631.2800000000007,1078.9100000000001]
[null,null,"Заведующий кафедрой доктор наук ППС",10549.28,1318.66]
[null,null,"Заведующий кафедрой кандидат наук ППС",9590.24,1198.78]
[null,null,"Профессор ППС",10549.28,1318.66]
[null,null,"Доцент ППС",9590.24,1198.78]
[null,null,"Старший преподаватель ППС",8631.2800000000007,1078.9100000000001]
[null,null,"Преподаватель ППС",8631.2800000000007,1078.9100000000001]
[null,null,"Ассистент ППС",8631.2800000000007,1078.9100000000001]
[]
[null,null,"Директор института НР",8631.2800000000007,1078.9100000000001]
[null,null,"Директор института доктор наук НР",10549.28,1318.66]
[null,null,"Директор института кандидат наук НР",9590.24,1198.78]
[null,null,"Научный руководитель НР",10549.28,1318.66]
[null,null,"Директор центра НР",8631.2800000000007,1078.9100000000001]
[null,null,"Директор центра доктор наук НР",10549.28,1318.66]
[null,null,"Директор центра кандидат наук НР",9590.24,1198.78]
[null,null,"Заведующий лабораторией НС",8631.2800000000007,1078.9100000000001]
[null,null,"Заведующий лабораторией доктор наук НС",10549.28,1318.66]
[null,null,"Заведующий лабораторией кандидат наук НС",9590.24,1198.78]
[null,null,"Заместитель директора центраНР",8631.2800000000007,1078.9100000000001]
[null,null,"Заместитель директора центра доктор наук НР",10549.28,1318.66]
[null,null,"Заместитель директора центра кандидат наук НР",9590.24,1198.78]
[null,null,"Главный научный сотрудник НС",10549.28,1318.66]
[null,null,"Ведущий научный сотрудник НС",9590.24,1198.78]
[null,null,"Старший научный сотрудник НС",8631.2800000000007,1078.9100000000001]
[null,null,"Научный сотрудник НС",8631.2800000000007,1078.9100000000001]
[null,null,"Младший научный сотрудник НС",8631.2800000000007,1078.9100000000001]
[]
[null,null,"Президент доктор наук АУП",10549.28,1318.66]
[null,null,"Директор института АУП",8631.2800000000007,1078.9100000000001]
[null,null,"Директор института доктор наук АУП",10549.28,1318.66]
[null,null,"Директор института кандидат наук АУП",9590.24,1198.78]
[null,null,"Заместитель директора института АУП",8631.2800000000007,1078.9100000000001]
[null,null,"Заместитель директора института доктор наук АУП",10549.28,1318.66]
[null,null,"Заместитель директора института кандидат наук АУП",9590.24,1198.78]
[null,null,"Директор центра АУП",8631.2800000000007,1078.9100000000001]
[null,null,"Директор центра доктор наук АУП",10549.28,1318.66]
[null,null,"Директор центра кандидат наук АУП",9590.24,1198.78]
[null,null,"Руководитель Департамента АУП",8631.2800000000007,1078.9100000000001]
[null,null,"Руководитель департамента доктор наук АУП",10549.28,1318.66]
[null,null,"Руководитель департамента кандидат наук АУП",9590.24,1198.78]
[null,null,"Профессор-консультант АУП",8631.2800000000007,1078.9100000000001]
[null,null,"Профессор-исследователь АУП",8631.2800000000007,1078.9100000000001]
[null,null,"Начальник управления АУП",8631.2800000000007,1078.9100000000001]
[null,null,"Руководитель службы АУП",8631.2800000000007,1078.9100000000001]
[null,null,"Первый заместитель декана Доктор наук АУП",10549.28,1318.66]
[null,null,"Первый заместитель декана кандидат наук АУП",9590.24,1198.78]
[null,null,"Первый заместитель декана без степени АУП",8631.2800000000007,1078.9100000000001]
[null,null,"Заместитель декана (по направлениям) доктор наук АУП",10549.28,1318.66]
[null,null,"Заместитель декана (по направлениям) кандидат наук АУП",9590.24,1198.78]
[null,null,"Заместитель декана (по направлениям) без степени АУП",8631.2800000000007,1078.9100000000001]
[null,null,"Заместитель научного руководителя доктор наук АУП",10549.28,1318.66]
[null,null,"Заместитель научного руководителя кандидат наук АУП",9590.24,1198.78]
[null,null,"Заместитель научного руководителя без степени АУП",8631.2800000000007,1078.9100000000001]
[null,null,"Первый заместитель руководителя департамента Доктор наук АУП",10549.28,1318.66]
[null,null,"Первый заместитель руководителя департамента кандидат наук АУП",9590.24,1198.78]
[null,null,"Первый заместитель руководителя департамента без степени АУП",8631.2800000000007,1078.9100000000001]
[null,null,"Заместитель руководителя департамента доктор наук АУП",10549.28,1318.66]
[null,null,"Заместитель руководителя департамента кандидат наук АУП",9590.24,1198.78]
[null,null,"Заместитель руководителя департамента без степени АУП",8631.2800000000007,1078.9100000000001]
[null,null,"Заместитель заведующего кафедрой доктор наук АУП",10549.28,1318.66]
[null,null,"Заместитель заведующего кафедрой кандидат наук АУП",9590.24,1198.78]
[null,null,"Заместитель заведующего кафедрой без степени АУП",8631.2800000000007,1078.9100000000001]
[null,null,"Заместитель начальника управления АУП",8631.2800000000007,1078.9100000000001]
[null,null,"Заместитель директора центра АУП",8631.2800000000007,1078.9100000000001]
[null,null,"Заместитель директора центра доктор наук АУП",10549.28,1318.66]
[null,null,"Заместитель директора центра кандидат наук АУП",9590.24,1198.78]
[null,null,"Заместитель руководителя службы АУП",8631.2800000000007,1078.9100000000001]
[null,null,"Заместитель заведующего лабораторией АУП",8631.2800000000007,1078.9100000000001]
[null,null,"Начальник отдел АУП",8631.2800000000007,1078.9100000000001]
[null,null,"Заместитель начальника отдела АУП",8631.2800000000007,1078.9100000000001]
[null,null,"Помощник (по направлениям) АУП",8631.2800000000007,1078.9100000000001]
[null,null,"Главный специалист АУП",8631.2800000000007,1078.9100000000001]
[null,null,"Главный консультант АУП",8631.2800000000007,1078.9100000000001]
[null,null,"Ведущий специалист АУП",8631.2800000000007,1078.9100000000001]
[null,null,"Ведущий консультант АУП",8631.2800000000007,1078.9100000000001]
[null,null,"Специалист АУП",8631.2800000000007,1078.9100000000001]
[null,null,"Консультант АУП",8631.2800000000007,1078.9100000000001]
[null,null,"Советник АУП",8631.2800000000007,1078.9100000000001]
[]
[null,null,"Внешний эксперт (не подпадающий под квалификацию НПР) ИНЫЕ",8631.2800000000007,1078.9100000000001]
[null,null,"Внешний эксперт кандидат наук ИНЫЕ",9590.24,1198.78]
[null,null,"Студент, аспирант ИНЫЕ",2397.6,299.7]
[null,null,"Стажер-исследователь ИНЫЕ",2397.6,299.7]
[null,null,"Лаборант-исследователь ИНЫЕ",2397.6,299.7]

{"sheet":"Пр. №5","index":10,"n_rows":22,"n_cols":4,"rows_kept":22,"cut":false,"hidden":false,"merged":[[16,1,21,1],[1,0,1,3],[4,0,7,0],[4,1,7,1],[8,0,11,0],[8,1,11,1],[12,0,15,0],[12,1,15,1],[16,0,21,0]]}
[null,null,null,"Приложение №5"]
["Шкала применения коэффициента"]
[]
["№","Повышающий коэффициент","Критерий оценки исполнителя","Документы, подтверждающие соответствие исполнителя критерию"]
["1.                   ",2,"- наличие ученой степени и/или наличие опыта работы по направлению научного исследования не менее 3 (трех) лет","-     наличие ученой степени – копия диплома "]
[null,null,"- участие в выполнении 2 (двух) аналогичных научно-исследовательских работ и/или оказании услуг в научной сфере за последние 5 (пять) лет ","- наличие практического опыта работы по направлению научного исследования – копия трудовой книжки или справка из Управления кадрового обеспечения Финуниверситета"]
[null,null,"- наличие не менее 3 (трех) научных публикаций в рецензируемых научных изданиях по тематике исследования за последние 5 (пять) лет","- участие в выполнении аналогичных научно-исследовательских работ и/или оказании услуг в научной сфере – копии приказа о формировании ВТК/ВРГ для выполнения НИР и акта-сдачи приемки НИР, подписанного Заказчиком"]
[null,null,null,"- наличие научных публикаций в рецензируемых научных изданиях по тематике исследования за последние 5 (пять) лет – скриншот страниц личного кабинета в реферативных базах (РИНЦ, Scopus, Web of Science) с перечнем публикаций, скан научной публикации с выходными данными – в случае, если публикация еще не проиндексирована"]
["2.                   ",3,"- наличие ученой степени и/или ","-     наличие ученой степени – копия диплома "]
[null,null,"- наличие опыта работы по направлению научного исследования не менее 5 (пяти) лет","- наличие практического опыта работы по направлению научного исследования – копия трудовой книжки или справка из Управления кадрового обеспечения Финуниверситета"]
[null,null,"- участие в выполнении 3 (трех) аналогичных научно-исследовательских работ и/или оказании услуг в научной сфере за последние 5 (пять) лет","- участие в выполнении аналогичных научно-исследовательских работ и/или оказании услуг в научной сфере – копии приказа о формировании ВТК/ВРГ для выполнения НИР и акта-сдачи приемки НИР, подписанного Заказчиком"]
[null,null,"- наличие не менее 5 (пяти) научных публикаций в рецензируемых научных изданиях по тематике исследования за последние 5 (пять) лет","- наличие научных публикаций в рецензируемых научных изданиях по тематике исследования за последние 5 (пять) лет – скриншот страниц личного кабинета в реферативных базах (РИНЦ, Scopus, Web of Science) с перечнем публикаций, скан научной публикации с выходными данными – в случае, если публикация еще не проиндексирована"]
["3.                   ",4,"- наличие ученой степени ","-     наличие ученой степени – копия диплома "]
[null,null,"- наличие опыта работы по направлению научного исследования не менее 5 (пяти) лет","- наличие практического опыта работы по направлению научного исследования – копия трудовой книжки или справка из Управления кадрового обеспечения Финуниверситета"]
[null,null,"- участие в выполнении 5 (пяти) аналогичных научно-исследовательских работ и/или оказании услуг в научной сфере за последние 5 (пять) лет ","- участие в выполнении аналогичных научно-исследовательских работ и/или оказании услуг в научной сфере – копии приказа о формировании ВТК/ВРГ для выполнения НИР и акта-сдачи приемки НИР, подписанного Заказчиком"]
[null,null,"- наличие не менее 10 (десяти) научных публикаций в рецензируемых научных изданиях по тематике исследования за последние 5 (пять) лет","- наличие научных публикаций в рецензируемых научных изданиях по тематике исследования за последние 5 (пять) лет – скриншот страниц личного кабинета в реферативных базах (РИНЦ, Scopus, Web of Science) с перечнем публикаций, скан научной публикации с выходными данными – в случае, если публикация еще не проиндексирована"]
["4.                   ",5,"- наличие ученой степени ","-     наличие ученой степени – копия диплома "]
[null,null,"- наличие практического опыта работы по направлению научного исследования не менее 10 (десяти) лет","- наличие практического опыта работы по направлению научного исследования – копия трудовой книжки или справка из Управления кадрового обеспечения Финуниверситета"]
[null,null,"- участие в выполнении 10 (десяти) аналогичных научно-исследовательских работ и/или оказании услуг в научной сфере за последние 5 (пять) лет ","- участие в выполнении аналогичных научно-исследовательских работ и/или оказании услуг в научной сфере – копии приказа о формировании ВТК/ВРГ для выполнения НИР и акта-сдачи приемки НИР, подписанного Заказчиком"]
[null,null,"- наличие не менее 15 (пятнадцати) научных публикаций в рецензируемых научных изданиях по тематике исследования за последние 5 (пять) лет ","- наличие научных публикаций в рецензируемых научных изданиях по тематике исследования за последние 5 (пять) лет – скриншот страниц личного кабинета в реферативных базах (РИНЦ, Scopus, Web of Science) с перечнем публикаций, скан научной публикации с выходными данными – в случае, если публикация еще не проиндексирована"]
[null,null,"- участие в подготовке экспертно-аналитических материалов по запросу органов государственной власти, профильных профессиональных объединений, деятельность которых связана с направлениями научного исследования","- участие в подготовке экспертно-аналитических материалов по запросу органов государственной власти, профильных профессиональных объединений, деятельность которых связана с направлениями научного исследования – справка, подписанная проректором по научной работе Финансового университета; ссылка на официальную страницу органа власти, где размещены материалы; копия официального письма с материалами с номером и датой регистрации"]
[null,null,"- членство в профессиональных саморегулируемых организациях, общественных или экспертных советах, рабочих группах органов государственной власти, профильных профессиональных объединениях, деятельность которых связана с направлениями научного исследования","- членство в профессиональных саморегулируемых организациях, общественных или экспертных советах, рабочих группах органов государственной  власти, профильных профессиональных объединениях, деятельность которых связана с направлениями научного исследования – копии приказов о формировании советов, рабочих групп; ссылки на официальные страницы, где эксперт (специалист) указан в качестве эксперта или члена; сканы документов, подтверждающих членство в профессиональных саморегулируемых организациях и объединениях"]

{"sheet":"Пр. №6","index":11,"n_rows":20,"n_cols":3,"rows_kept":20,"cut":false,"hidden":false,"merged":[[8,1,8,2],[9,1,9,2],[10,1,10,2],[11,0,11,1],[2,0,2,2],[3,0,3,2],[5,0,5,2],[4,0,4,2],[7,1,7,2]]}
[null,null,"Приложение №6"]
[]
["Обоснования начальной (максимальной) цены контракта, цены контракта, заключаемого с единственным поставщиком (подрядчиком, исполнителем)"]
["затратным методом"]
[]
["(указывается предмет контракта)"]
[]
["Основные характеристики объекта закупки"]
["Используемый метод определения НМЦК с обоснованием:"]
["НМЦК/ЦК",{"$f":"'Пр. №6.1'!E57","v":0}]
["Расчет НМЦК* "]
["Дата подготовки обоснования НМЦК:"]
[]
["Работник контрактной службы/"]
["Ответственный работник Финансового университета:"]
[null,"(должность)","(подпись/расшифровка подписи)"]
["Ф.И.О. исполнителя/контактный телефон"]
[null,null,"\"__\" ______________ 20__ г."]
[]
["* К обоснованию прикладывается расчет НМЦК/ЦК."]

{"sheet":"Пр. №6.1","index":12,"n_rows":57,"n_cols":5,"rows_kept":57,"cut":false,"hidden":false,"merged":[[52,1,52,3],[53,1,53,3],[54,1,54,3],[55,1,55,3],[56,1,56,3],[48,1,48,3],[49,1,49,3],[50,1,50,3],[51,1,51,3],[2,1,2,4],[3,1,3,4],[4,1,4,4],[5,1,5,4],[47,1,47,3]]}
[null,"Член ВТК/ВРГ",null,null,"Приложение №6.1"]
[null,null,{"$f":"INDEX('Состав ВТК-ВРГ'!$1:$1048576,MATCH('Пр. №6.1'!$B$2,'Состав ВТК-ВРГ'!$B:$B,0),COLUMN('Состав ВТК-ВРГ'!$D$3))","v":{"$error":"#N/A"}}]
[null,"Расчета НМЦК/ЦК затратным методом"]
[null,"(примерная форма)*"]
[]
[null,"Характеристика работ"]
[null,"Содержание работ",{"$f":"CONCATENATE(\"Трудозатраты, \",INDEX(справочник!$M$1:$N$3,MATCH('Пр. №3'!$D$5,справочник!$M$1:$M$3,0),2))","v":"Трудозатраты, Часов"},{"$f":"CONCATENATE(\"Стоимость единицы рабочего времени специалистов, руб./ \",INDEX(справочник!$M$1:$O$3,MATCH('Пр. №3'!$D$5,справочник!$M$1:$M$3,0),3))","v":"Стоимость единицы рабочего времени специалистов, руб./ час"},"Стоимость работ, руб."]
[1,null,{"$f":"SUMIFS('Пр. №3'!BQ:BQ,'Пр. №3'!$F:$F,'Пр. №6.1'!$B8,'Пр. №3'!$G:$G,'Пр. №6.1'!$B$2)","v":0},{"$f":"SUMIFS('Пр. №3'!$CA:$CA,'Пр. №3'!$F:$F,'Пр. №6.1'!$B8,'Пр. №3'!$G:$G,'Пр. №6.1'!$B$2)","v":0},{"$f":"C8*D8","v":0}]
[2,null,{"$f":"SUMIFS('Пр. №3'!BQ:BQ,'Пр. №3'!$F:$F,'Пр. №6.1'!$B9,'Пр. №3'!$G:$G,'Пр. №6.1'!$B$2)","v":0},{"$f":"SUMIFS('Пр. №3'!$CA:$CA,'Пр. №3'!$F:$F,'Пр. №6.1'!$B9,'Пр. №3'!$G:$G,'Пр. №6.1'!$B$2)","v":0},{"$f":"C9*D9","v":0}]
[3,null,{"$f":"SUMIFS('Пр. №3'!BQ:BQ,'Пр. №3'!$F:$F,'Пр. №6.1'!$B10,'Пр. №3'!$G:$G,'Пр. №6.1'!$B$2)","v":0},{"$f":"SUMIFS('Пр. №3'!$CA:$CA,'Пр. №3'!$F:$F,'Пр. №6.1'!$B10,'Пр. №3'!$G:$G,'Пр. №6.1'!$B$2)","v":0},{"$f":"C10*D10","v":0}]
[4,null,{"$f":"SUMIFS('Пр. №3'!BQ:BQ,'Пр. №3'!$F:$F,'Пр. №6.1'!$B11,'Пр. №3'!$G:$G,'Пр. №6.1'!$B$2)","v":0},{"$f":"SUMIFS('Пр. №3'!$CA:$CA,'Пр. №3'!$F:$F,'Пр. №6.1'!$B11,'Пр. №3'!$G:$G,'Пр. №6.1'!$B$2)","v":0},0]
[5,null,{"$f":"SUMIFS('Пр. №3'!BQ:BQ,'Пр. №3'!$F:$F,'Пр. №6.1'!$B12,'Пр. №3'!$G:$G,'Пр. №6.1'!$B$2)","v":0},{"$f":"SUMIFS('Пр. №3'!$CA:$CA,'Пр. №3'!$F:$F,'Пр. №6.1'!$B12,'Пр. №3'!$G:$G,'Пр. №6.1'!$B$2)","v":0},0]
[6,null,{"$f":"SUMIFS('Пр. №3'!BQ:BQ,'Пр. №3'!$F:$F,'Пр. №6.1'!$B13,'Пр. №3'!$G:$G,'Пр. №6.1'!$B$2)","v":0},{"$f":"SUMIFS('Пр. №3'!$CA:$CA,'Пр. №3'!$F:$F,'Пр. №6.1'!$B13,'Пр. №3'!$G:$G,'Пр. №6.1'!$B$2)","v":0},0]
[7,null,{"$f":"SUMIFS('Пр. №3'!BQ:BQ,'Пр. №3'!$F:$F,'Пр. №6.1'!$B14,'Пр. №3'!$G:$G,'Пр. №6.1'!$B$2)","v":0},{"$f":"SUMIFS('Пр. №3'!$CA:$CA,'Пр. №3'!$F:$F,'Пр. №6.1'!$B14,'Пр. №3'!$G:$G,'Пр. №6.1'!$B$2)","v":0},0]
[8,null,{"$f":"SUMIFS('Пр. №3'!BQ:BQ,'Пр. №3'!$F:$F,'Пр. №6.1'!$B15,'Пр. №3'!$G:$G,'Пр. №6.1'!$B$2)","v":0},{"$f":"SUMIFS('Пр. №3'!$CA:$CA,'Пр. №3'!$F:$F,'Пр. №6.1'!$B15,'Пр. №3'!$G:$G,'Пр. №6.1'!$B$2)","v":0},0]
[9,null,{"$f":"SUMIFS('Пр. №3'!BQ:BQ,'Пр. №3'!$F:$F,'Пр. №6.1'!$B16,'Пр. №3'!$G:$G,'Пр. №6.1'!$B$2)","v":0},{"$f":"SUMIFS('Пр. №3'!$CA:$CA,'Пр. №3'!$F:$F,'Пр. №6.1'!$B16,'Пр. №3'!$G:$G,'Пр. №6.1'!$B$2)","v":0},{"$f":"C16*D16","v":0}]
[10,null,{"$f":"SUMIFS('Пр. №3'!BQ:BQ,'Пр. №3'!$F:$F,'Пр. №6.1'!$B17,'Пр. №3'!$G:$G,'Пр. №6.1'!$B$2)","v":0},{"$f":"SUMIFS('Пр. №3'!$CA:$CA,'Пр. №3'!$F:$F,'Пр. №6.1'!$B17,'Пр. №3'!$G:$G,'Пр. №6.1'!$B$2)","v":0},{"$f":"C17*D17","v":0}]
[null,null,{"$f":"SUMIFS('Пр. №3'!BQ:BQ,'Пр. №3'!$F:$F,'Пр. №6.1'!$B18,'Пр. №3'!$G:$G,'Пр. №6.1'!$B$2)","v":0},{"$f":"SUMIFS('Пр. №3'!$CA:$CA,'Пр. №3'!$F:$F,'Пр. №6.1'!$B18,'Пр. №3'!$G:$G,'Пр. №6.1'!$B$2)","v":0},{"$f":"C18*D18","v":0}]
[null,null,{"$f":"SUMIFS('Пр. №3'!BQ:BQ,'Пр. №3'!$F:$F,'Пр. №6.1'!$B19,'Пр. №3'!$G:$G,'Пр. №6.1'!$B$2)","v":0},{"$f":"SUMIFS('Пр. №3'!$CA:$CA,'Пр. №3'!$F:$F,'Пр. №6.1'!$B19,'Пр. №3'!$G:$G,'Пр. №6.1'!$B$2)","v":0},{"$f":"C19*D19","v":0}]
[null,null,{"$f":"SUMIFS('Пр. №3'!BQ:BQ,'Пр. №3'!$F:$F,'Пр. №6.1'!$B20,'Пр. №3'!$G:$G,'Пр. №6.1'!$B$2)","v":0},{"$f":"SUMIFS('Пр. №3'!$CA:$CA,'Пр. №3'!$F:$F,'Пр. №6.1'!$B20,'Пр. №3'!$G:$G,'Пр. №6.1'!$B$2)","v":0},0]
[null,null,{"$f":"SUMIFS('Пр. №3'!BQ:BQ,'Пр. №3'!$F:$F,'Пр. №6.1'!$B21,'Пр. №3'!$G:$G,'Пр. №6.1'!$B$2)","v":0},{"$f":"SUMIFS('Пр. №3'!$CA:$CA,'Пр. №3'!$F:$F,'Пр. №6.1'!$B21,'Пр. №3'!$G:$G,'Пр. №6.1'!$B$2)","v":0},0]
[null,null,{"$f":"SUMIFS('Пр. №3'!BQ:BQ,'Пр. №3'!$F:$F,'Пр. №6.1'!$B22,'Пр. №3'!$G:$G,'Пр. №6.1'!$B$2)","v":0},{"$f":"SUMIFS('Пр. №3'!$CA:$CA,'Пр. №3'!$F:$F,'Пр. №6.1'!$B22,'Пр. №3'!$G:$G,'Пр. №6.1'!$B$2)","v":0},0]
[null,null,{"$f":"SUMIFS('Пр. №3'!BQ:BQ,'Пр. №3'!$F:$F,'Пр. №6.1'!$B23,'Пр. №3'!$G:$G,'Пр. №6.1'!$B$2)","v":0},{"$f":"SUMIFS('Пр. №3'!$CA:$CA,'Пр. №3'!$F:$F,'Пр. №6.1'!$B23,'Пр. №3'!$G:$G,'Пр. №6.1'!$B$2)","v":0},0]
[null,null,{"$f":"SUMIFS('Пр. №3'!BQ:BQ,'Пр. №3'!$F:$F,'Пр. №6.1'!$B24,'Пр. №3'!$G:$G,'Пр. №6.1'!$B$2)","v":0},{"$f":"SUMIFS('Пр. №3'!$CA:$CA,'Пр. №3'!$F:$F,'Пр. №6.1'!$B24,'Пр. №3'!$G:$G,'Пр. №6.1'!$B$2)","v":0},0]
[null,null,{"$f":"SUMIFS('Пр. №3'!BQ:BQ,'Пр. №3'!$F:$F,'Пр. №6.1'!$B25,'Пр. №3'!$G:$G,'Пр. №6.1'!$B$2)","v":0},{"$f":"SUMIFS('Пр. №3'!$CA:$CA,'Пр. №3'!$F:$F,'Пр. №6.1'!$B25,'Пр. №3'!$G:$G,'Пр. №6.1'!$B$2)","v":0},0]
[null,null,{"$f":"SUMIFS('Пр. №3'!BQ:BQ,'Пр. №3'!$F:$F,'Пр. №6.1'!$B26,'Пр. №3'!$G:$G,'Пр. №6.1'!$B$2)","v":0},{"$f":"SUMIFS('Пр. №3'!$CA:$CA,'Пр. №3'!$F:$F,'Пр. №6.1'!$B26,'Пр. №3'!$G:$G,'Пр. №6.1'!$B$2)","v":0},0]
[null,null,{"$f":"SUMIFS('Пр. №3'!BQ:BQ,'Пр. №3'!$F:$F,'Пр. №6.1'!$B27,'Пр. №3'!$G:$G,'Пр. №6.1'!$B$2)","v":0},{"$f":"SUMIFS('Пр. №3'!$CA:$CA,'Пр. №3'!$F:$F,'Пр. №6.1'!$B27,'Пр. №3'!$G:$G,'Пр. №6.1'!$B$2)","v":0},0]
[null,null,{"$f":"SUMIFS('Пр. №3'!BQ:BQ,'Пр. №3'!$F:$F,'Пр. №6.1'!$B28,'Пр. №3'!$G:$G,'Пр. №6.1'!$B$2)","v":0},{"$f":"SUMIFS('Пр. №3'!$CA:$CA,'Пр. №3'!$F:$F,'Пр. №6.1'!$B28,'Пр. №3'!$G:$G,'Пр. №6.1'!$B$2)","v":0},0]
[null,null,{"$f":"SUMIFS('Пр. №3'!BQ:BQ,'Пр. №3'!$F:$F,'Пр. №6.1'!$B29,'Пр. №3'!$G:$G,'Пр. №6.1'!$B$2)","v":0},{"$f":"SUMIFS('Пр. №3'!$CA:$CA,'Пр. №3'!$F:$F,'Пр. №6.1'!$B29,'Пр. №3'!$G:$G,'Пр. №6.1'!$B$2)","v":0},0]
[null,null,{"$f":"SUMIFS('Пр. №3'!BQ:BQ,'Пр. №3'!$F:$F,'Пр. №6.1'!$B30,'Пр. №3'!$G:$G,'Пр. №6.1'!$B$2)","v":0},{"$f":"SUMIFS('Пр. №3'!$CA:$CA,'Пр. №3'!$F:$F,'Пр. №6.1'!$B30,'Пр. №3'!$G:$G,'Пр. №6.1'!$B$2)","v":0},0]
[null,null,{"$f":"SUMIFS('Пр. №3'!BQ:BQ,'Пр. №3'!$F:$F,'Пр. №6.1'!$B31,'Пр. №3'!$G:$G,'Пр. №6.1'!$B$2)","v":0},{"$f":"SUMIFS('Пр. №3'!$CA:$CA,'Пр. №3'!$F:$F,'Пр. №6.1'!$B31,'Пр. №3'!$G:$G,'Пр. №6.1'!$B$2)","v":0},0]
[null,null,{"$f":"SUMIFS('Пр. №3'!BQ:BQ,'Пр. №3'!$F:$F,'Пр. №6.1'!$B32,'Пр. №3'!$G:$G,'Пр. №6.1'!$B$2)","v":0},{"$f":"SUMIFS('Пр. №3'!$CA:$CA,'Пр. №3'!$F:$F,'Пр. №6.1'!$B32,'Пр. №3'!$G:$G,'Пр. №6.1'!$B$2)","v":0},0]
[null,null,{"$f":"SUMIFS('Пр. №3'!BQ:BQ,'Пр. №3'!$F:$F,'Пр. №6.1'!$B33,'Пр. №3'!$G:$G,'Пр. №6.1'!$B$2)","v":0},{"$f":"SUMIFS('Пр. №3'!$CA:$CA,'Пр. №3'!$F:$F,'Пр. №6.1'!$B33,'Пр. №3'!$G:$G,'Пр. №6.1'!$B$2)","v":0},0]
[null,null,{"$f":"SUMIFS('Пр. №3'!BQ:BQ,'Пр. №3'!$F:$F,'Пр. №6.1'!$B34,'Пр. №3'!$G:$G,'Пр. №6.1'!$B$2)","v":0},{"$f":"SUMIFS('Пр. №3'!$CA:$CA,'Пр. №3'!$F:$F,'Пр. №6.1'!$B34,'Пр. №3'!$G:$G,'Пр. №6.1'!$B$2)","v":0},0]
[null,null,{"$f":"SUMIFS('Пр. №3'!BQ:BQ,'Пр. №3'!$F:$F,'Пр. №6.1'!$B35,'Пр. №3'!$G:$G,'Пр. №6.1'!$B$2)","v":0},{"$f":"SUMIFS('Пр. №3'!$CA:$CA,'Пр. №3'!$F:$F,'Пр. №6.1'!$B35,'Пр. №3'!$G:$G,'Пр. №6.1'!$B$2)","v":0},0]
[null,null,{"$f":"SUMIFS('Пр. №3'!BQ:BQ,'Пр. №3'!$F:$F,'Пр. №6.1'!$B36,'Пр. №3'!$G:$G,'Пр. №6.1'!$B$2)","v":0},{"$f":"SUMIFS('Пр. №3'!$CA:$CA,'Пр. №3'!$F:$F,'Пр. №6.1'!$B36,'Пр. №3'!$G:$G,'Пр. №6.1'!$B$2)","v":0},0]
[null,null,{"$f":"SUMIFS('Пр. №3'!BQ:BQ,'Пр. №3'!$F:$F,'Пр. №6.1'!$B37,'Пр. №3'!$G:$G,'Пр. №6.1'!$B$2)","v":0},{"$f":"SUMIFS('Пр. №3'!$CA:$CA,'Пр. №3'!$F:$F,'Пр. №6.1'!$B37,'Пр. №3'!$G:$G,'Пр. №6.1'!$B$2)","v":0},0]
[null,null,{"$f":"SUMIFS('Пр. №3'!BQ:BQ,'Пр. №3'!$F:$F,'Пр. №6.1'!$B38,'Пр. №3'!$G:$G,'Пр. №6.1'!$B$2)","v":0},{"$f":"SUMIFS('Пр. №3'!$CA:$CA,'Пр. №3'!$F:$F,'Пр. №6.1'!$B38,'Пр. №3'!$G:$G,'Пр. №6.1'!$B$2)","v":0},0]
[null,null,{"$f":"SUMIFS('Пр. №3'!BQ:BQ,'Пр. №3'!$F:$F,'Пр. №6.1'!$B39,'Пр. №3'!$G:$G,'Пр. №6.1'!$B$2)","v":0},{"$f":"SUMIFS('Пр. №3'!$CA:$CA,'Пр. №3'!$F:$F,'Пр. №6.1'!$B39,'Пр. №3'!$G:$G,'Пр. №6.1'!$B$2)","v":0},0]
[null,null,{"$f":"SUMIFS('Пр. №3'!BQ:BQ,'Пр. №3'!$F:$F,'Пр. №6.1'!$B40,'Пр. №3'!$G:$G,'Пр. №6.1'!$B$2)","v":0},{"$f":"SUMIFS('Пр. №3'!$CA:$CA,'Пр. №3'!$F:$F,'Пр. №6.1'!$B40,'Пр. №3'!$G:$G,'Пр. №6.1'!$B$2)","v":0},0]
[null,null,{"$f":"SUMIFS('Пр. №3'!BQ:BQ,'Пр. №3'!$F:$F,'Пр. №6.1'!$B41,'Пр. №3'!$G:$G,'Пр. №6.1'!$B$2)","v":0},{"$f":"SUMIFS('Пр. №3'!$CA:$CA,'Пр. №3'!$F:$F,'Пр. №6.1'!$B41,'Пр. №3'!$G:$G,'Пр. №6.1'!$B$2)","v":0},0]
[null,null,{"$f":"SUMIFS('Пр. №3'!BQ:BQ,'Пр. №3'!$F:$F,'Пр. №6.1'!$B42,'Пр. №3'!$G:$G,'Пр. №6.1'!$B$2)","v":0},{"$f":"SUMIFS('Пр. №3'!$CA:$CA,'Пр. №3'!$F:$F,'Пр. №6.1'!$B42,'Пр. №3'!$G:$G,'Пр. №6.1'!$B$2)","v":0},0]
[null,null,{"$f":"SUMIFS('Пр. №3'!BQ:BQ,'Пр. №3'!$F:$F,'Пр. №6.1'!$B43,'Пр. №3'!$G:$G,'Пр. №6.1'!$B$2)","v":0},{"$f":"SUMIFS('Пр. №3'!$CA:$CA,'Пр. №3'!$F:$F,'Пр. №6.1'!$B43,'Пр. №3'!$G:$G,'Пр. №6.1'!$B$2)","v":0},0]
[null,null,{"$f":"SUMIFS('Пр. №3'!BQ:BQ,'Пр. №3'!$F:$F,'Пр. №6.1'!$B44,'Пр. №3'!$G:$G,'Пр. №6.1'!$B$2)","v":0},{"$f":"SUMIFS('Пр. №3'!$CA:$CA,'Пр. №3'!$F:$F,'Пр. №6.1'!$B44,'Пр. №3'!$G:$G,'Пр. №6.1'!$B$2)","v":0},0]
[null,null,{"$f":"SUMIFS('Пр. №3'!BQ:BQ,'Пр. №3'!$F:$F,'Пр. №6.1'!$B45,'Пр. №3'!$G:$G,'Пр. №6.1'!$B$2)","v":0},{"$f":"SUMIFS('Пр. №3'!$CA:$CA,'Пр. №3'!$F:$F,'Пр. №6.1'!$B45,'Пр. №3'!$G:$G,'Пр. №6.1'!$B$2)","v":0},0]
[null,null,{"$f":"SUMIFS('Пр. №3'!BQ:BQ,'Пр. №3'!$F:$F,'Пр. №6.1'!$B46,'Пр. №3'!$G:$G,'Пр. №6.1'!$B$2)","v":0},{"$f":"SUMIFS('Пр. №3'!$CA:$CA,'Пр. №3'!$F:$F,'Пр. №6.1'!$B46,'Пр. №3'!$G:$G,'Пр. №6.1'!$B$2)","v":0},0]
[]
[null,"Затраты на оплату труда работников, непосредственно занятых созданием научно-технической продукции (фонд оплаты труда), руб.",null,null,{"$f":"SUM(E8:E15)","v":0}]
[null,"Отчисления на социальные нужды, руб.",null,null,{"$f":"IF($A$2=\"ЗП\",E48*0.302,E48*0.271)","v":0}]
[null,"Материалы, руб."]
[null,"Спецоборудование для научных (экспериментальных) работ, руб."]
[null,"Прочие прямые расходы (__%), руб."]
[null,"Накладные расходы (__%), руб."]
[null,"Себестоимость работ, руб."]
[null,"Прибыль (__%), руб."]
[null,"и т.д."]
[null,"НМЦК, руб.",null,null,{"$f":"SUM(E48)","v":0}]

{"sheet":"План-задание","index":13,"n_rows":47,"n_cols":10,"rows_kept":47,"cut":false,"hidden":false,"merged":[[3,8,3,9],[4,8,4,9],[6,8,6,9],[8,8,8,9],[14,2,14,3],[12,4,12,9],[13,4,13,9],[14,4,14,9],[13,2,13,3],[10,2,10,9],[12,2,12,3]]}
[null,null,null,"ФИО","Виды работ и период их выполнения","Способ оплаты труда","Сумма, в руб."]
[]
[]
[null,null,null,null,null,null,null,null,"УТВЕРЖДАЮ"]
[null,null,null,null,null,null,null,null,"Заместитель проректора по научной работе"]
[]
[null,null,null,null,null,null,null,null,"______________________________ Д.А. Лавров"]
[]
[null,null,null,null,null,null,null,null,"«___» __________ 20___ г."]
[]
[null,null,"ПЛАН-ЗАДАНИЕ"]
[]
[null,null,"Контракт/Договор",null,{"$f":"'Пр. №1'!D4","v":0}]
[null,null,"Наименование заказчика",null,{"$f":"'Пр. №1'!D5","v":" "}]
[null,null,"Тема выполнения работ/услуг",null,{"$f":"'Пр. №1'!D6","v":0}]
[]
[null,null,"№ п/п","Фамилия и инициалы исполнителя","Вид работ \n(планируемое индивидуальное задание)","Способ оплаты","Сумма к выплате за планируемый объем работ (руб.)","Роспись за полученное задание","Фактическое выполнение","Подписи руководителя и исполнителей, дата"]
[null,null,1,2,3,4,5,6,7,8]
[null,null,1,1,null,null,{"$f":"SUMIFS($G$28:$G$42,$D$28:$D$42,$D19)","v":0}]
[null,null,2,2,null,null,{"$f":"SUMIFS($G$28:$G$42,$D$28:$D$42,$D20)","v":0}]
[null,null,3,3,null,null,{"$f":"SUMIFS($G$28:$G$42,$D$28:$D$42,$D21)","v":0}]
[null,null,4,4,null,null,0]
[null,null,5,5,null,null,0]
[null,null,6,6,null,null,0]
[null,null,7,7,null,null,0]
[null,null,8,8,null,null,0]
[]
[null,null,1,{"$f":"INDEX('Пр. №3'!$1:$1048576,'План-задание'!$A28,MATCH('План-задание'!D$1,'Пр. №3'!$6:$6,0))","v":0},{"$f":"INDEX('Пр. №3'!$1:$1048576,'План-задание'!$A28,MATCH('План-задание'!E$1,'Пр. №3'!$6:$6,0))","v":0},{"$f":"INDEX('Пр. №3'!$1:$1048576,'План-задание'!$A28,MATCH('План-задание'!F$1,'Пр. №3'!$6:$6,0))","v":0},{"$f":"INDEX('Пр. №3'!$1:$1048576,'План-задание'!$A28,MATCH('План-задание'!G$1,'Пр. №3'!$6:$6,0))","v":0}]
[null,null,2,{"$f":"INDEX('Пр. №3'!$1:$1048576,'План-задание'!$A29,MATCH('План-задание'!D$1,'Пр. №3'!$6:$6,0))","v":0},{"$f":"INDEX('Пр. №3'!$1:$1048576,'План-задание'!$A29,MATCH('План-задание'!E$1,'Пр. №3'!$6:$6,0))","v":0},{"$f":"INDEX('Пр. №3'!$1:$1048576,'План-задание'!$A29,MATCH('План-задание'!F$1,'Пр. №3'!$6:$6,0))","v":0},{"$f":"INDEX('Пр. №3'!$1:$1048576,'План-задание'!$A29,MATCH('План-задание'!G$1,'Пр. №3'!$6:$6,0))","v":0}]
[null,null,3,{"$f":"INDEX('Пр. №3'!$1:$1048576,'План-задание'!$A30,MATCH('План-задание'!D$1,'Пр. №3'!$6:$6,0))","v":0},{"$f":"INDEX('Пр. №3'!$1:$1048576,'План-задание'!$A30,MATCH('План-задание'!E$1,'Пр. №3'!$6:$6,0))","v":0},{"$f":"INDEX('Пр. №3'!$1:$1048576,'План-задание'!$A30,MATCH('План-задание'!F$1,'Пр. №3'!$6:$6,0))","v":0},{"$f":"INDEX('Пр. №3'!$1:$1048576,'План-задание'!$A30,MATCH('План-задание'!G$1,'Пр. №3'!$6:$6,0))","v":0}]
[null,null,4,{"$f":"INDEX('Пр. №3'!$1:$1048576,'План-задание'!$A31,MATCH('План-задание'!D$1,'Пр. №3'!$6:$6,0))","v":0},{"$f":"INDEX('Пр. №3'!$1:$1048576,'План-задание'!$A31,MATCH('План-задание'!E$1,'Пр. №3'!$6:$6,0))","v":0},{"$f":"INDEX('Пр. №3'!$1:$1048576,'План-задание'!$A31,MATCH('План-задание'!F$1,'Пр. №3'!$6:$6,0))","v":0},{"$f":"INDEX('Пр. №3'!$1:$1048576,'План-задание'!$A31,MATCH('План-задание'!G$1,'Пр. №3'!$6:$6,0))","v":0}]
[null,null,5,{"$f":"INDEX('Пр. №3'!$1:$1048576,'План-задание'!$A32,MATCH('План-задание'!D$1,'Пр. №3'!$6:$6,0))","v":0},{"$f":"INDEX('Пр. №3'!$1:$1048576,'План-задание'!$A32,MATCH('План-задание'!E$1,'Пр. №3'!$6:$6,0))","v":0},{"$f":"INDEX('Пр. №3'!$1:$1048576,'План-задание'!$A32,MATCH('План-задание'!F$1,'Пр. №3'!$6:$6,0))","v":0},{"$f":"INDEX('Пр. №3'!$1:$1048576,'План-задание'!$A32,MATCH('План-задание'!G$1,'Пр. №3'!$6:$6,0))","v":0}]
[null,null,6,{"$f":"INDEX('Пр. №3'!$1:$1048576,'План-задание'!$A33,MATCH('План-задание'!D$1,'Пр. №3'!$6:$6,0))","v":0},{"$f":"INDEX('Пр. №3'!$1:$1048576,'План-задание'!$A33,MATCH('План-задание'!E$1,'Пр. №3'!$6:$6,0))","v":0},{"$f":"INDEX('Пр. №3'!$1:$1048576,'План-задание'!$A33,MATCH('План-задание'!F$1,'Пр. №3'!$6:$6,0))","v":0},{"$f":"INDEX('Пр. №3'!$1:$1048576,'План-задание'!$A33,MATCH('План-задание'!G$1,'Пр. №3'!$6:$6,0))","v":0}]
[null,null,7,{"$f":"INDEX('Пр. №3'!$1:$1048576,'План-задание'!$A34,MATCH('План-задание'!D$1,'Пр. №3'!$6:$6,0))","v":0},{"$f":"INDEX('Пр. №3'!$1:$1048576,'План-задание'!$A34,MATCH('План-задание'!E$1,'Пр. №3'!$6:$6,0))","v":0},{"$f":"INDEX('Пр. №3'!$1:$1048576,'План-задание'!$A34,MATCH('План-задание'!F$1,'Пр. №3'!$6:$6,0))","v":0},{"$f":"INDEX('Пр. №3'!$1:$1048576,'План-задание'!$A34,MATCH('План-задание'!G$1,'Пр. №3'!$6:$6,0))","v":0}]
[null,null,8,{"$f":"INDEX('Пр. №3'!$1:$1048576,'План-задание'!$A35,MATCH('План-задание'!D$1,'Пр. №3'!$6:$6,0))","v":0},{"$f":"INDEX('Пр. №3'!$1:$1048576,'План-задание'!$A35,MATCH('План-задание'!E$1,'Пр. №3'!$6:$6,0))","v":0},{"$f":"INDEX('Пр. №3'!$1:$1048576,'План-задание'!$A35,MATCH('План-задание'!F$1,'Пр. №3'!$6:$6,0))","v":0},{"$f":"INDEX('Пр. №3'!$1:$1048576,'План-задание'!$A35,MATCH('План-задание'!G$1,'Пр. №3'!$6:$6,0))","v":0}]
[null,null,9,{"$f":"INDEX('Пр. №3'!$1:$1048576,'План-задание'!$A36,MATCH('План-задание'!D$1,'Пр. №3'!$6:$6,0))","v":0},{"$f":"INDEX('Пр. №3'!$1:$1048576,'План-задание'!$A36,MATCH('План-задание'!E$1,'Пр. №3'!$6:$6,0))","v":0},{"$f":"INDEX('Пр. №3'!$1:$1048576,'План-задание'!$A36,MATCH('План-задание'!F$1,'Пр. №3'!$6:$6,0))","v":0},{"$f":"INDEX('Пр. №3'!$1:$1048576,'План-задание'!$A36,MATCH('План-задание'!G$1,'Пр. №3'!$6:$6,0))","v":0}]
[null,null,10,{"$f":"INDEX('Пр. №3'!$1:$1048576,'План-задание'!$A37,MATCH('План-задание'!D$1,'Пр. №3'!$6:$6,0))","v":0},{"$f":"INDEX('Пр. №3'!$1:$1048576,'План-задание'!$A37,MATCH('План-задание'!E$1,'Пр. №3'!$6:$6,0))","v":0},{"$f":"INDEX('Пр. №3'!$1:$1048576,'План-задание'!$A37,MATCH('План-задание'!F$1,'Пр. №3'!$6:$6,0))","v":0},{"$f":"INDEX('Пр. №3'!$1:$1048576,'План-задание'!$A37,MATCH('План-задание'!G$1,'Пр. №3'!$6:$6,0))","v":0}]
[null,null,11,{"$f":"INDEX('Пр. №3'!$1:$1048576,'План-задание'!$A38,MATCH('План-задание'!D$1,'Пр. №3'!$6:$6,0))","v":0},{"$f":"INDEX('Пр. №3'!$1:$1048576,'План-задание'!$A38,MATCH('План-задание'!E$1,'Пр. №3'!$6:$6,0))","v":0},{"$f":"INDEX('Пр. №3'!$1:$1048576,'План-задание'!$A38,MATCH('План-задание'!F$1,'Пр. №3'!$6:$6,0))","v":0},{"$f":"INDEX('Пр. №3'!$1:$1048576,'План-задание'!$A38,MATCH('План-задание'!G$1,'Пр. №3'!$6:$6,0))","v":0}]
[null,null,12,{"$f":"INDEX('Пр. №3'!$1:$1048576,'План-задание'!$A39,MATCH('План-задание'!D$1,'Пр. №3'!$6:$6,0))","v":0},{"$f":"INDEX('Пр. №3'!$1:$1048576,'План-задание'!$A39,MATCH('План-задание'!E$1,'Пр. №3'!$6:$6,0))","v":0},{"$f":"INDEX('Пр. №3'!$1:$1048576,'План-задание'!$A39,MATCH('План-задание'!F$1,'Пр. №3'!$6:$6,0))","v":0},{"$f":"INDEX('Пр. №3'!$1:$1048576,'План-задание'!$A39,MATCH('План-задание'!G$1,'Пр. №3'!$6:$6,0))","v":0}]
[null,null,13,{"$f":"INDEX('Пр. №3'!$1:$1048576,'План-задание'!$A40,MATCH('План-задание'!D$1,'Пр. №3'!$6:$6,0))","v":0},{"$f":"INDEX('Пр. №3'!$1:$1048576,'План-задание'!$A40,MATCH('План-задание'!E$1,'Пр. №3'!$6:$6,0))","v":0},{"$f":"INDEX('Пр. №3'!$1:$1048576,'План-задание'!$A40,MATCH('План-задание'!F$1,'Пр. №3'!$6:$6,0))","v":0},{"$f":"INDEX('Пр. №3'!$1:$1048576,'План-задание'!$A40,MATCH('План-задание'!G$1,'Пр. №3'!$6:$6,0))","v":0}]
[null,null,14,{"$f":"INDEX('Пр. №3'!$1:$1048576,'План-задание'!$A41,MATCH('План-задание'!D$1,'Пр. №3'!$6:$6,0))","v":0},{"$f":"INDEX('Пр. №3'!$1:$1048576,'План-задание'!$A41,MATCH('План-задание'!E$1,'Пр. №3'!$6:$6,0))","v":0},{"$f":"INDEX('Пр. №3'!$1:$1048576,'План-задание'!$A41,MATCH('План-задание'!F$1,'Пр. №3'!$6:$6,0))","v":0},{"$f":"INDEX('Пр. №3'!$1:$1048576,'План-задание'!$A41,MATCH('План-задание'!G$1,'Пр. №3'!$6:$6,0))","v":0}]
[]
[]
[]
[null,null,null,"Руководитель НИР",null,"                                __________________",null,null,"Ф.И.О."]
[]
[null,null,null,"Руководитель структурного подразделения",null,"                                __________________",null,null,"Ф.И.О."]

{"sheet":"План-задание по этапу","index":14,"n_rows":47,"n_cols":10,"rows_kept":47,"cut":false,"hidden":false,"merged":[[13,2,13,3],[13,4,13,9],[14,2,14,3],[14,4,14,9],[15,2,15,3],[12,2,12,3],[12,4,12,9],[3,8,3,9],[4,8,4,9],[6,8,6,9],[8,8,8,9],[10,2,10,9]]}
[null,null,null,"ФИО","Виды работ и период их выполнения","Способ оплаты труда","Сумма, в руб."]
[]
[]
[null,null,null,null,null,null,null,null,"УТВЕРЖДАЮ"]
[null,null,null,null,null,null,null,null,"Заместитель проректора по научной работе"]
[]
[null,null,null,null,null,null,null,null,"______________________________ Д.А. Лавров"]
[]
[null,null,null,null,null,null,null,null,"«___» __________ 20___ г."]
[]
[null,null,"ПЛАН-ЗАДАНИЕ"]
[]
[null,null,"Контракт/Договор",null,{"$f":"'Пр. №1'!D4","v":0}]
[null,null,"Наименование заказчика",null,{"$f":"'Пр. №1'!D5","v":" "}]
[null,null,"Тема выполнения работ/услуг",null,{"$f":"'Пр. №1'!D6","v":0}]
[null,null,"Название этапа",null,"Этап 1"]
[]
[null,null,"№ п/п","Фамилия и инициалы исполнителя","Вид работ \n(планируемое индивидуальное задание)","Способ оплаты","Сумма к выплате за планируемый объем работ (руб.)","Роспись за полученное задание","Фактическое выполнение","Подписи руководителя и исполнителей, дата"]
[null,null,1,2,3,4,5,6,7,8]
[null,null,1,null,null,null,{"$f":"SUMIFS($G$29:$G$42,$D$29:$D$42,$D20)","v":0}]
[null,null,2,null,null,null,0]
[null,null,3,null,null,null,0]
[null,null,4,null,null,null,0]
[null,null,5,null,null,null,0]
[null,null,6,null,null,null,0]
[null,null,7,null,null,null,0]
[null,null,8,null,null,null,0]
[]
[null,null,1,{"$f":"INDEX('Пр. №3'!$1:$1048576,'План-задание по этапу'!$A29,MATCH('План-задание по этапу'!D$1,'Пр. №3'!$6:$6,0))","v":0},{"$f":"INDEX('Пр. №3'!$1:$1048576,'План-задание по этапу'!$A29,MATCH('План-задание по этапу'!E$1,'Пр. №3'!$6:$6,0))","v":0},{"$f":"INDEX('Пр. №3'!$1:$1048576,'План-задание по этапу'!$A29,MATCH('План-задание по этапу'!F$1,'Пр. №3'!$6:$6,0))","v":0},{"$f":"INDEX('Пр. №3'!$1:$1048576,'План-задание по этапу'!$A29,MATCH('План-задание по этапу'!G$1,'Пр. №3'!$6:$6,0))","v":0}]
[null,null,2,{"$f":"INDEX('Пр. №3'!$1:$1048576,'План-задание по этапу'!$A30,MATCH('План-задание по этапу'!D$1,'Пр. №3'!$6:$6,0))","v":0},{"$f":"INDEX('Пр. №3'!$1:$1048576,'План-задание по этапу'!$A30,MATCH('План-задание по этапу'!E$1,'Пр. №3'!$6:$6,0))","v":0},{"$f":"INDEX('Пр. №3'!$1:$1048576,'План-задание по этапу'!$A30,MATCH('План-задание по этапу'!F$1,'Пр. №3'!$6:$6,0))","v":0},{"$f":"INDEX('Пр. №3'!$1:$1048576,'План-задание по этапу'!$A30,MATCH('План-задание по этапу'!G$1,'Пр. №3'!$6:$6,0))","v":0}]
[null,null,3,{"$f":"INDEX('Пр. №3'!$1:$1048576,'План-задание по этапу'!$A31,MATCH('План-задание по этапу'!D$1,'Пр. №3'!$6:$6,0))","v":0},{"$f":"INDEX('Пр. №3'!$1:$1048576,'План-задание по этапу'!$A31,MATCH('План-задание по этапу'!E$1,'Пр. №3'!$6:$6,0))","v":0},{"$f":"INDEX('Пр. №3'!$1:$1048576,'План-задание по этапу'!$A31,MATCH('План-задание по этапу'!F$1,'Пр. №3'!$6:$6,0))","v":0},{"$f":"INDEX('Пр. №3'!$1:$1048576,'План-задание по этапу'!$A31,MATCH('План-задание по этапу'!G$1,'Пр. №3'!$6:$6,0))","v":0}]
[null,null,4,{"$f":"INDEX('Пр. №3'!$1:$1048576,'План-задание по этапу'!$A32,MATCH('План-задание по этапу'!D$1,'Пр. №3'!$6:$6,0))","v":0},{"$f":"INDEX('Пр. №3'!$1:$1048576,'План-задание по этапу'!$A32,MATCH('План-задание по этапу'!E$1,'Пр. №3'!$6:$6,0))","v":0},{"$f":"INDEX('Пр. №3'!$1:$1048576,'План-задание по этапу'!$A32,MATCH('План-задание по этапу'!F$1,'Пр. №3'!$6:$6,0))","v":0},{"$f":"INDEX('Пр. №3'!$1:$1048576,'План-задание по этапу'!$A32,MATCH('План-задание по этапу'!G$1,'Пр. №3'!$6:$6,0))","v":0}]
[null,null,5,{"$f":"INDEX('Пр. №3'!$1:$1048576,'План-задание по этапу'!$A33,MATCH('План-задание по этапу'!D$1,'Пр. №3'!$6:$6,0))","v":0},{"$f":"INDEX('Пр. №3'!$1:$1048576,'План-задание по этапу'!$A33,MATCH('План-задание по этапу'!E$1,'Пр. №3'!$6:$6,0))","v":0},{"$f":"INDEX('Пр. №3'!$1:$1048576,'План-задание по этапу'!$A33,MATCH('План-задание по этапу'!F$1,'Пр. №3'!$6:$6,0))","v":0},{"$f":"INDEX('Пр. №3'!$1:$1048576,'План-задание по этапу'!$A33,MATCH('План-задание по этапу'!G$1,'Пр. №3'!$6:$6,0))","v":0}]
[null,null,6,{"$f":"INDEX('Пр. №3'!$1:$1048576,'План-задание по этапу'!$A34,MATCH('План-задание по этапу'!D$1,'Пр. №3'!$6:$6,0))","v":0},{"$f":"INDEX('Пр. №3'!$1:$1048576,'План-задание по этапу'!$A34,MATCH('План-задание по этапу'!E$1,'Пр. №3'!$6:$6,0))","v":0},{"$f":"INDEX('Пр. №3'!$1:$1048576,'План-задание по этапу'!$A34,MATCH('План-задание по этапу'!F$1,'Пр. №3'!$6:$6,0))","v":0},{"$f":"INDEX('Пр. №3'!$1:$1048576,'План-задание по этапу'!$A34,MATCH('План-задание по этапу'!G$1,'Пр. №3'!$6:$6,0))","v":0}]
[null,null,7,{"$f":"INDEX('Пр. №3'!$1:$1048576,'План-задание по этапу'!$A35,MATCH('План-задание по этапу'!D$1,'Пр. №3'!$6:$6,0))","v":0},{"$f":"INDEX('Пр. №3'!$1:$1048576,'План-задание по этапу'!$A35,MATCH('План-задание по этапу'!E$1,'Пр. №3'!$6:$6,0))","v":0},{"$f":"INDEX('Пр. №3'!$1:$1048576,'План-задание по этапу'!$A35,MATCH('План-задание по этапу'!F$1,'Пр. №3'!$6:$6,0))","v":0},{"$f":"INDEX('Пр. №3'!$1:$1048576,'План-задание по этапу'!$A35,MATCH('План-задание по этапу'!G$1,'Пр. №3'!$6:$6,0))","v":0}]
[null,null,8,{"$f":"INDEX('Пр. №3'!$1:$1048576,'План-задание по этапу'!$A36,MATCH('План-задание по этапу'!D$1,'Пр. №3'!$6:$6,0))","v":0},{"$f":"INDEX('Пр. №3'!$1:$1048576,'План-задание по этапу'!$A36,MATCH('План-задание по этапу'!E$1,'Пр. №3'!$6:$6,0))","v":0},{"$f":"INDEX('Пр. №3'!$1:$1048576,'План-задание по этапу'!$A36,MATCH('План-задание по этапу'!F$1,'Пр. №3'!$6:$6,0))","v":0},{"$f":"INDEX('Пр. №3'!$1:$1048576,'План-задание по этапу'!$A36,MATCH('План-задание по этапу'!G$1,'Пр. №3'!$6:$6,0))","v":0}]
[null,null,9,{"$f":"INDEX('Пр. №3'!$1:$1048576,'План-задание по этапу'!$A37,MATCH('План-задание по этапу'!D$1,'Пр. №3'!$6:$6,0))","v":0},{"$f":"INDEX('Пр. №3'!$1:$1048576,'План-задание по этапу'!$A37,MATCH('План-задание по этапу'!E$1,'Пр. №3'!$6:$6,0))","v":0},{"$f":"INDEX('Пр. №3'!$1:$1048576,'План-задание по этапу'!$A37,MATCH('План-задание по этапу'!F$1,'Пр. №3'!$6:$6,0))","v":0},{"$f":"INDEX('Пр. №3'!$1:$1048576,'План-задание по этапу'!$A37,MATCH('План-задание по этапу'!G$1,'Пр. №3'!$6:$6,0))","v":0}]
[null,null,10,{"$f":"INDEX('Пр. №3'!$1:$1048576,'План-задание по этапу'!$A38,MATCH('План-задание по этапу'!D$1,'Пр. №3'!$6:$6,0))","v":0},{"$f":"INDEX('Пр. №3'!$1:$1048576,'План-задание по этапу'!$A38,MATCH('План-задание по этапу'!E$1,'Пр. №3'!$6:$6,0))","v":0},{"$f":"INDEX('Пр. №3'!$1:$1048576,'План-задание по этапу'!$A38,MATCH('План-задание по этапу'!F$1,'Пр. №3'!$6:$6,0))","v":0},{"$f":"INDEX('Пр. №3'!$1:$1048576,'План-задание по этапу'!$A38,MATCH('План-задание по этапу'!G$1,'Пр. №3'!$6:$6,0))","v":0}]
[null,null,11,{"$f":"INDEX('Пр. №3'!$1:$1048576,'План-задание по этапу'!$A39,MATCH('План-задание по этапу'!D$1,'Пр. №3'!$6:$6,0))","v":0},{"$f":"INDEX('Пр. №3'!$1:$1048576,'План-задание по этапу'!$A39,MATCH('План-задание по этапу'!E$1,'Пр. №3'!$6:$6,0))","v":0},{"$f":"INDEX('Пр. №3'!$1:$1048576,'План-задание по этапу'!$A39,MATCH('План-задание по этапу'!F$1,'Пр. №3'!$6:$6,0))","v":0},{"$f":"INDEX('Пр. №3'!$1:$1048576,'План-задание по этапу'!$A39,MATCH('План-задание по этапу'!G$1,'Пр. №3'!$6:$6,0))","v":0}]
[null,null,12,{"$f":"INDEX('Пр. №3'!$1:$1048576,'План-задание по этапу'!$A40,MATCH('План-задание по этапу'!D$1,'Пр. №3'!$6:$6,0))","v":0},{"$f":"INDEX('Пр. №3'!$1:$1048576,'План-задание по этапу'!$A40,MATCH('План-задание по этапу'!E$1,'Пр. №3'!$6:$6,0))","v":0},{"$f":"INDEX('Пр. №3'!$1:$1048576,'План-задание по этапу'!$A40,MATCH('План-задание по этапу'!F$1,'Пр. №3'!$6:$6,0))","v":0},{"$f":"INDEX('Пр. №3'!$1:$1048576,'План-задание по этапу'!$A40,MATCH('План-задание по этапу'!G$1,'Пр. №3'!$6:$6,0))","v":0}]
[null,null,13,{"$f":"INDEX('Пр. №3'!$1:$1048576,'План-задание по этапу'!$A41,MATCH('План-задание по этапу'!D$1,'Пр. №3'!$6:$6,0))","v":0},{"$f":"INDEX('Пр. №3'!$1:$1048576,'План-задание по этапу'!$A41,MATCH('План-задание по этапу'!E$1,'Пр. №3'!$6:$6,0))","v":0},{"$f":"INDEX('Пр. №3'!$1:$1048576,'План-задание по этапу'!$A41,MATCH('План-задание по этапу'!F$1,'Пр. №3'!$6:$6,0))","v":0},{"$f":"INDEX('Пр. №3'!$1:$1048576,'План-задание по этапу'!$A41,MATCH('План-задание по этапу'!G$1,'Пр. №3'!$6:$6,0))","v":0}]
[]
[]
[]
[null,null,null,"Руководитель НИР",null,"                                __________________",null,null,"Ф.И.О."]
[]
[null,null,null,"Руководитель структурного подразделения",null,"                                __________________",null,null,"Ф.И.О."]

{"sheet":"справочник","index":15,"n_rows":108,"n_cols":15,"rows_kept":108,"cut":false,"hidden":true,"merged":[[0,0,0,2]]}
["Коэффициент применяется на основании решения Руководителя НИР",null,null,null,"Коэффициент применяется на основании решения Ректора",null,"Способ оплаты","Вид оплаты","Статья Прил. №1",null,"Роли",null,"Единица планирования","Единица планирования","Единица планирования"]
["Применяется для:","Коэффициент","Роль",null,2,null,"ГПХ","Договор ГПХ","3.3.",null,"Руководитель ВТК",null,"В днях","Дней","день"]
["Заработная плата",1.1499999999999999,"Руководитель НИР",null,3,null,"Юр.лицо","Соисполнитель","2.",null,"Руководитель ВРГ",null,"В часах","Часов","час"]
["Заработная плата",1.1000000000000001,"Ответственный исполнитель НИР",null,4,null,"Премии обучающимся","Премии обучающимся","3.5.",null,"Ответственный исполнитель ВТК"]
["ГПХ",1,"-",null,5,null,"ЗП","Заработная плата","3.1.1.",null,"Ответственный исполнитель ВРГ"]
["ГПХ",1.01,"-",null,null,null,null,"Заработная плата","3.1.2.",null,"Член ВТК"]
["ГПХ",1.02,"-",null,null,null,null,"Заработная плата","3.1.3.",null,"Член ВРГ"]
["ГПХ",1.03,"-",null,null,null,null,null,null,null,"Соисполнитель"]
["ГПХ",1.04,"-"]
["ГПХ",1.05,"-"]
["ГПХ",1.06,"-"]
["ГПХ",1.07,"-"]
["ГПХ",1.08,"-"]
["ГПХ",1.0900000000000001,"-"]
["ГПХ",1.1000000000000001,"-"]
["ГПХ",1.1100000000000001,"-"]
["ГПХ",1.1200000000000001,"-"]
["ГПХ",1.1299999999999999,"-"]
["ГПХ",1.1399999999999999,"-"]
["ГПХ",1.1499999999999999,"-"]
["ГПХ",1.1599999999999999,"-"]
["ГПХ",1.17,"-"]
["ГПХ",1.18,"-"]
["ГПХ",1.19,"-"]
["ГПХ",1.2,"-"]
["ГПХ",1.21,"-"]
["ГПХ",1.22,"-"]
["ГПХ",1.23,"-"]
["ГПХ",1.24,"-"]
["ГПХ",1.25,"-"]
["ГПХ",1.26,"-"]
["ГПХ",1.27,"-"]
["ГПХ",1.28,"-"]
["ГПХ",1.29,"-"]
["ГПХ",1.3,"-"]
["ГПХ",1.31,"-"]
["ГПХ",1.32,"-"]
["ГПХ",1.33,"-"]
["ГПХ",1.34,"-"]
["ГПХ",1.35,"-"]
["ГПХ",1.36,"-"]
["ГПХ",1.37,"-"]
["ГПХ",1.38,"-"]
["ГПХ",1.39,"-"]
["ГПХ",1.4,"-"]
["ГПХ",1.41,"-"]
["ГПХ",1.42,"-"]
["ГПХ",1.43,"-"]
["ГПХ",1.44,"-"]
["ГПХ",1.45,"-"]
["ГПХ",1.46,"-"]
["ГПХ",1.47,"-"]
["ГПХ",1.48,"-"]
["ГПХ",1.49,"-"]
["ГПХ",1.5,"-"]
["ГПХ",1.51,"-"]
["ГПХ",1.52,"-"]
["ГПХ",1.53,"-"]
["ГПХ",1.54,"-"]
["ГПХ",1.55,"-"]
["ГПХ",1.56,"-"]
["ГПХ",1.57,"-"]
["ГПХ",1.58,"-"]
["ГПХ",1.59,"-"]
["ГПХ",1.6,"-"]
["ГПХ",1.61,"-"]
["ГПХ",1.62,"-"]
["ГПХ",1.63,"-"]
["ГПХ",1.64,"-"]
["ГПХ",1.65,"-"]
["ГПХ",1.66,"-"]
["ГПХ",1.67,"-"]
["ГПХ",1.68,"-"]
["ГПХ",1.69,"-"]
["ГПХ",1.7,"-"]
["ГПХ",1.71,"-"]
["ГПХ",1.72,"-"]
["ГПХ",1.73,"-"]
["ГПХ",1.74,"-"]
["ГПХ",1.75,"-"]
["ГПХ",1.76,"-"]
["ГПХ",1.77,"-"]
["ГПХ",1.78,"-"]
["ГПХ",1.79,"-"]
["ГПХ",1.8,"-"]
["ГПХ",1.81,"-"]
["ГПХ",1.82,"-"]
["ГПХ",1.83,"-"]
["ГПХ",1.84,"-"]
["ГПХ",1.85,"-"]
["ГПХ",1.86,"-"]
["ГПХ",1.87,"-"]
["ГПХ",1.88,"-"]
["ГПХ",1.89,"-"]
["ГПХ",1.9,"-"]
["ГПХ",1.91,"-"]
["ГПХ",1.92,"-"]
["ГПХ",1.93,"-"]
["ГПХ",1.94,"-"]
["ГПХ",1.95,"-"]
["ГПХ",1.96,"-"]
["ГПХ",1.97,"-"]
["ГПХ",1.98,"-"]
["ГПХ",1.99,"-"]
["ГПХ",2,"-"]
["ГПХ",3,"-"]
["ГПХ",4,"-"]
["ГПХ",5,"-"]